{"text_format":"1","workbook":"xlsx","n_sheets":5,"sheets":["Cash-Flow-DATA","OTCHET-agregirani pokazateli","OTCHET","list","INF"],"not_rendered":{"charts":0,"images":0,"macros":1,"external_links":0,"defined_names":12,"comments":5,"pivot_tables":0},"unopened":[],"bounds":{"document_bytes":16777216,"sheet_cells":100000,"rows_first":2000,"rows_last":500,"rows_between":2000,"halvings":0,"cell_chars":16384,"cell_head_chars":4096},"cells_cut":0,"cells_raw":0,"read":"whole","date_system":"1900"}

{"sheet":"Cash-Flow-DATA","index":0,"n_rows":141,"n_cols":20,"rows_kept":141,"cut":false,"hidden":false,"merged":[[131,18,131,20],[132,1,132,3],[133,5,133,6],[133,11,133,13],[133,15,133,16],[130,18,130,20],[113,18,113,20],[115,18,115,20],[116,18,116,20],[117,18,117,20],[119,18,119,20],[121,18,121,20],[123,18,123,20],[125,18,125,20],[126,18,126,20],[128,18,128,20],[129,18,129,20],[112,18,112,20],[96,18,96,20],[97,18,97,20],[98,18,98,20],[100,18,100,20],[103,18,103,20],[104,18,104,20],[105,18,105,20],[107,18,107,20],[108,18,108,20],[109,18,109,20],[111,18,111,20],[94,18,94,20],[78,18,78,20],[79,18,79,20],[80,18,80,20],[81,1,81,3],[86,18,86,20],[87,18,87,20],[88,18,88,20],[90,18,90,20],[91,18,91,20],[92,18,92,20],[93,18,93,20],[76,18,76,20],[60,18,60,20],[62,18,62,20],[64,18,64,20],[65,18,65,20],[66,18,66,20],[68,18,68,20],[69,18,69,20],[70,18,70,20],[72,18,72,20],[73,18,73,20],[74,18,74,20],[59,18,59,20],[44,18,44,20],[45,18,45,20],[47,18,47,20],[50,18,50,20],[51,18,51,20],[52,18,52,20],[53,18,53,20],[54,18,54,20],[55,18,55,20],[57,18,57,20],[58,18,58,20],[43,18,43,20],[24,18,24,20],[25,18,25,20],[26,18,26,20],[27,18,27,20],[34,18,34,20],[35,18,35,20],[36,18,36,20],[37,18,37,20],[39,18,39,20],[41,18,41,20],[42,18,42,20],[22,18,22,20],[7,18,7,20],[8,18,8,20],[12,18,12,20],[13,18,13,20],[15,18,15,20],[16,18,16,20],[14,18,14,20],[17,18,17,20],[18,18,18,20],[19,18,19,20],[20,18,20,20],[21,18,21,20],[5,18,5,20],[1,1,1,3],[1,8,1,9],[1,11,1,13],[1,19,1,20],[3,18,3,20]]}
[null," (бюджетна организация, предприятие по чл. 165, ал. 1 от ЗПФ, поделение)",null,null,null,"ЕИК/БУЛСТАТ","код по ЕБК",null,"                    Web-адрес",null,null,"e-mail",null,null,null,"      финансово-правна форма"]
[null,{"$f":"+OTCHET!B9","v":"ОУ Г.С.РАКОВСКИ-С.ГЪЛЪБЕЦ"},null,null,null,{"$f":"+OTCHET!H9","v":0},{"$f":"+OTCHET!F12","v":"5207"},null,{"$f":"+OTCHET!H607","v":0},null,null,{"$f":"OTCHET!H605","v":"ruskova_72@abv.bg"},null,null,null,{"$f":"OTCHET!E15","v":0},{"$f":"OTCHET!F15","v":"БЮДЖЕТ"},null,"                           код от регистъра на бюджетните организации в СЕБРА",{"$f":"+OTCHET!I9","v":0}]
[]
[null,"                                                               ИНФОРМАЦИЯ ЗА ИЗГОТВЯНЕ НА  ОТЧЕТ ЗА КАСОВОТО ИЗПЪЛНЕНИЕ ",null,null,null,null,null,null,null,"ГОДИНА",null,{"$f":"+Q4","v":2020},null,null,null,"ГОДИНА",{"$f":"+OTCHET!C3","v":2020},null,"ОТЧЕТ ЗА КАСОВОТО ИЗПЪЛНЕНИЕ НА БЮДЖЕТА, СМЕТКИТЕ ЗА СЕС И ЧУЖДИТЕ СРЕДСТВА"]
[]
[null,"                       НА БЮДЖЕТА, СМЕТКИТЕ ЗА СРЕДСТВАТА ОТ ЕВРОПЕЙСКИЯ СЪЮЗ И СМЕТКИТЕ ЗА ЧУЖДИ СРЕДСТВА КЪМ",null,null,null,null,null,null,null,null,null,{"$f":"OTCHET!F9","v":"2020-03-31"},null,"(В ЛЕВОВЕ)",null,{"$f":"OTCHET!F9","v":"2020-03-31"},"(В ЛЕВОВЕ)",null,{"$f":"+Q4","v":2020}]
[]
[null,null,null,null,null,"БЮДЖЕТ Годишен         уточнен план                           ","БЮДЖЕТ -ОТЧЕТ  ",null,"Сметки за сред-ства от Европей-ския съюз-инди-кативни разчети                      ","Сметки за сред-ства от Евро-пейския съюз - ОТЧЕТ",null,"Сметки за чуж-ди средства - ОТЧЕТ                ",null,"ОБЩО КАСОВ ОТЧЕТ  ",null,"таблица            'OTCHET'         Год. уточнен план                           ","таблица 'OTCHET'  ОТЧЕТ",null,"§§ от ЕБК, които се включват в съответния показател"]
[null,"                                  П О К А З А Т Е Л И",null,null,null,{"$f":"+L4","v":2020},{"$f":"+L6","v":"2020-03-31"},null,{"$f":"+L4","v":2020},{"$f":"+L6","v":"2020-03-31"},null,{"$f":"+L6","v":"2020-03-31"},null,{"$f":"+L6","v":"2020-03-31"},null,{"$f":"+L4","v":2020},{"$f":"+L6","v":"2020-03-31"},null,"П О К А З А Т Е Л И"]
[null,"                                                                (а)",null,null,null,"(1)","(2)",null,"(3)","(4)",null,"(5)",null,"(6)=(2)+(4)+(5)",null,"(1)","(2)"]
[null," А. ПРИХОДИ, ПОМОЩИ И ДАРЕНИЯ",null,null,null,null,null,null,null,null,null,null,null,null,null,null,null,null," А. ПРИХОДИ, ПОМОЩИ И ДАРЕНИЯ"]
[null," I. Постъпления от текущи приходи",null,null,null,null,null,null,null,null,null,null,null,null,null,null,null,null," I. Постъпления от текущи приходи"]
[null," 1. Приходи от данъци и осигурителни вноски",null,null,null,{"$f":"+IF($P$2=0,$P13,0)","v":0},{"$f":"+IF($P$2=0,$Q13,0)","v":0},null,{"$f":"+IF(OR($P$2=98,$P$2=42,$P$2=96,$P$2=97),$P13,0)","v":0},{"$f":"+IF(OR($P$2=98,$P$2=42,$P$2=96,$P$2=97),$Q13,0)","v":0},null,{"$f":"+IF($P$2=33,$Q13,0)","v":0},null,{"$f":"+ROUND(+G13+J13+L13,0)","v":0},null,{"$f":"+ROUND(OTCHET!E22+OTCHET!E28+OTCHET!E33+OTCHET!E39+OTCHET!E47+OTCHET!E52+OTCHET!E58+OTCHET!E61+OTCHET!E64+OTCHET!E65+OTCHET!E72+OTCHET!E73,0)","v":0},{"$f":"+ROUND(OTCHET!L22+OTCHET!L28+OTCHET!L33+OTCHET!L39+OTCHET!L47+OTCHET!L52+OTCHET!L58+OTCHET!L61+OTCHET!L64+OTCHET!L65+OTCHET!L72+OTCHET!L73,0)","v":0},null,"приходни §§ 01-00 ÷ 20-00"]
[null," 2. Приходи от такси и вноски",null,null,null,{"$f":"+IF($P$2=0,$P14,0)","v":0},{"$f":"+IF($P$2=0,$Q14,0)","v":0},null,{"$f":"+IF(OR($P$2=98,$P$2=42,$P$2=96,$P$2=97),$P14,0)","v":0},{"$f":"+IF(OR($P$2=98,$P$2=42,$P$2=96,$P$2=97),$Q14,0)","v":0},null,{"$f":"+IF($P$2=33,$Q14,0)","v":0},null,{"$f":"+ROUND(+G14+J14+L14,0)","v":0},null,{"$f":"+ROUND(+OTCHET!E90+OTCHET!E93+OTCHET!E94+OTCHET!E115+OTCHET!E116,0)","v":0},{"$f":"+ROUND(+OTCHET!L90+OTCHET!L93+OTCHET!L94+OTCHET!L115+OTCHET!L116,0)","v":0},null,"приходни §§ 25-00, 26-00, 27-00, 36-08 и 36-10"]
[null,"    в т.ч.  приходи от вноски",null,null,null,{"$f":"+IF($P$2=0,$P15,0)","v":0},{"$f":"+IF($P$2=0,$Q15,0)","v":0},null,{"$f":"+IF(OR($P$2=98,$P$2=42,$P$2=96,$P$2=97),$P15,0)","v":0},{"$f":"+IF(OR($P$2=98,$P$2=42,$P$2=96,$P$2=97),$Q15,0)","v":0},null,{"$f":"+IF($P$2=33,$Q15,0)","v":0},null,{"$f":"+ROUND(+G15+J15+L15,0)","v":0},null,{"$f":"+ROUND(+OTCHET!E115+OTCHET!E116,0)","v":0},{"$f":"+OTCHET!L115+OTCHET!L116","v":0},null,"приходни §§ 36-08 и 36-10"]
[null," 3. Приходи от административни глоби, санкции и наказателни лихви",null,null,null,0,0,null,0,0,null,0,null,0,null,{"$f":"+ROUND(+OTCHET!E110+OTCHET!E111,0)","v":0},{"$f":"+ROUND(+OTCHET!L110+OTCHET!L111,0)","v":0},null,"приходни §§ 28-02 и 28-09"]
[null," 4. Нетни приходи от продажби на услуги, стоки и продукция",null,null,null,0,0,null,0,0,null,0,null,0,null,{"$f":"+ROUND(OTCHET!E77,0)","v":0},{"$f":"+ROUND(OTCHET!L77,0)","v":0},null,"приходeн § 24-04"]
[null," 5. Приходи от наеми",null,null,null,0,0,null,0,0,null,0,null,0,null,{"$f":"+ROUND(OTCHET!E78+OTCHET!E79,0)","v":0},{"$f":"+ROUND(OTCHET!L78+OTCHET!L79,0)","v":0},null,"приходни §§ 24-05 и 24-06"]
[null," 6. Приходи от концесии и лицензии за ползване на публични активи",null,null,null,0,0,null,0,0,null,0,null,0,null,{"$f":"+ROUND(OTCHET!E137++OTCHET!E138,0)","v":0},{"$f":"+ROUND(OTCHET!L137++OTCHET!L138,0)","v":0},null,"приходни §§ 41-00 и 42-00"]
[null," 7. Приходи от лихви",null,null,null,0,0,null,0,0,null,0,null,0,null,{"$f":"+ROUND(+SUM(OTCHET!E81:E89),0)","v":0},{"$f":"+ROUND(+SUM(OTCHET!L81:L89),0)","v":0},null,"приходни §§ 24-08 ÷ 24-19"]
[null," 8. Приходи от дивиденти и дялово участие ",null,null,null,0,0,null,0,0,null,0,null,0,null,{"$f":"+ROUND(OTCHET!E75+OTCHET!E76+OTCHET!E80,0)","v":0},{"$f":"+ROUND(OTCHET!L75+OTCHET!L76+OTCHET!L80,0)","v":0},null,"приходни §§ 24-01, 24-03 и 24-07"]
[null," 9. Други текущи приходи и реализирани курсови разлики",null,null,null,0,0,null,0,0,null,0,null,0,null,{"$f":"+ROUND(OTCHET!E113+OTCHET!E114+OTCHET!E120,0)","v":0},{"$f":"+ROUND(OTCHET!L113+OTCHET!L114+OTCHET!L120,0)","v":0},null,"приходни §§ 36-01, 36-05 и 36-19"]
[null," Общо за група І. Постъпления от текущи приходи",null,null,null,{"$f":"+ROUND(+SUM(F13,F14,F16,F17,F18,F19,F20,F21,F22),0)","v":0},{"$f":"+ROUND(+SUM(G13,G14,G16,G17,G18,G19,G20,G21,G22),0)","v":0},null,{"$f":"+ROUND(+SUM(I13,I14,I16,I17,I18,I19,I20,I21,I22),0)","v":0},{"$f":"+ROUND(+SUM(J13,J14,J16,J17,J18,J19,J20,J21,J22),0)","v":0},null,{"$f":"+ROUND(+SUM(L13,L14,L16,L17,L18,L19,L20,L21,L22),0)","v":0},null,{"$f":"+ROUND(+SUM(N13,N14,N16,N17,N18,N19,N20,N21,N22),0)","v":0},null,{"$f":"+ROUND(+SUM(P13,P14,P16,P17,P18,P19,P20,P21,P22),0)","v":0},{"$f":"+ROUND(+SUM(Q13,Q14,Q16,Q17,Q18,Q19,Q20,Q21,Q22),0)","v":0},null,"сборен ред за група І. Постъпления от текущи приходи"]
[null," IІ. Реализация на нефинансови активи и конфискувани средства",null,null,null,null,null,null,null,null,null,null,null,null,null,null,null,null," IІ. Реализация на нефинансови активи и конфискувани средства"]
[null," 1. Продажба на земя",null,null,null,{"$f":"+IF($P$2=0,$P25,0)","v":0},{"$f":"+IF($P$2=0,$Q25,0)","v":0},null,{"$f":"+IF(OR($P$2=98,$P$2=42,$P$2=96,$P$2=97),$P25,0)","v":0},{"$f":"+IF(OR($P$2=98,$P$2=42,$P$2=96,$P$2=97),$Q25,0)","v":0},null,{"$f":"+IF($P$2=33,$Q25,0)","v":0},null,{"$f":"+ROUND(+G25+J25+L25,0)","v":0},null,{"$f":"+ROUND(OTCHET!E135,0)","v":0},{"$f":"+ROUND(OTCHET!L135,0)","v":0},null,"приходeн § 40-40"]
[null," 2. Продажба на други нефинансови дълготрайни активи",null,null,null,{"$f":"+IF($P$2=0,$P26,0)","v":0},{"$f":"+IF($P$2=0,$Q26,0)","v":0},null,{"$f":"+IF(OR($P$2=98,$P$2=42,$P$2=96,$P$2=97),$P26,0)","v":0},{"$f":"+IF(OR($P$2=98,$P$2=42,$P$2=96,$P$2=97),$Q26,0)","v":0},null,{"$f":"+IF($P$2=33,$Q26,0)","v":0},null,{"$f":"+ROUND(+G26+J26+L26,0)","v":0},null,{"$f":"+ROUND(+SUM(OTCHET!E126:E134)+OTCHET!E136,0)","v":0},{"$f":"+ROUND(+SUM(OTCHET!L126:L134)+OTCHET!L136,0)","v":0},null,"приходeн § 40-00 без §§ 40-40 и 40-71"]
[null," 3. Конфиск. средства и продажби на конфискувани и от залог нефин. активи ",null,null,null,{"$f":"+IF($P$2=0,$P27,0)","v":0},{"$f":"+IF($P$2=0,$Q27,0)","v":0},null,{"$f":"+IF(OR($P$2=98,$P$2=42,$P$2=96,$P$2=97),$P27,0)","v":0},{"$f":"+IF(OR($P$2=98,$P$2=42,$P$2=96,$P$2=97),$Q27,0)","v":0},null,{"$f":"+IF($P$2=33,$Q27,0)","v":0},null,{"$f":"+ROUND(+G27+J27+L27,0)","v":0},null,{"$f":"+ROUND(+OTCHET!E109,0)","v":0},{"$f":"+ROUND(+OTCHET!L109,0)","v":0},null,"приходeн § 28-01"]
[null," Общо за група ІІ. Постъпления от продажби на нефинансови активи",null,null,null,{"$f":"+ROUND(+SUM(F25:F27),0)","v":0},{"$f":"+ROUND(+SUM(G25:G27),0)","v":0},null,{"$f":"+ROUND(+SUM(I25:I27),0)","v":0},{"$f":"+ROUND(+SUM(J25:J27),0)","v":0},null,{"$f":"+ROUND(+SUM(L25:L27),0)","v":0},null,{"$f":"+ROUND(+SUM(N25:N27),0)","v":0},null,{"$f":"+ROUND(+SUM(P25:P27),0)","v":0},{"$f":"+ROUND(+SUM(Q25:Q27),0)","v":0},null,"сборен ред за група ІІ. Постъпления от продажби на нефинансови активи"]
[]
[null," IІI. Внесен ДДС, др. данъци в/у продажбите и коректив за постъпления "]
[null," 1. Внесен ДДС"]
[null," 2. Внесен данък върху приходите от стопанска дейност"]
[null," 3. Внесени други данъци върху продажбите"]
[null," 4. Коректив за касови постъпления"]
[null," ІІІ. Внесен ДДС и др. данъци в/у продажбите и коректив за постъпления",null,null,null,{"$f":"+IF($P$2=0,$P35,0)","v":0},{"$f":"+IF($P$2=0,$Q35,0)","v":0},null,{"$f":"+IF(OR($P$2=98,$P$2=42,$P$2=96,$P$2=97),$P35,0)","v":0},{"$f":"+IF(OR($P$2=98,$P$2=42,$P$2=96,$P$2=97),$Q35,0)","v":0},null,{"$f":"+IF($P$2=33,$Q35,0)","v":0},null,{"$f":"+ROUND(+G35+J35+L35,0)","v":0},null,{"$f":"+ROUND(+OTCHET!E121+OTCHET!E119,0)","v":0},{"$f":"+ROUND(+OTCHET!L121+OTCHET!L119,0)","v":0},null,"ІІІ. Внесен ДДС и др. д-ци в/у продажбите и коректив - приходни § 36-18 и 37-00"]
[null,"     в т. ч. внесен ДДС",null,null,null,{"$f":"+IF($P$2=0,$P36,0)","v":0},{"$f":"+IF($P$2=0,$Q36,0)","v":0},null,{"$f":"+IF(OR($P$2=98,$P$2=42,$P$2=96,$P$2=97),$P36,0)","v":0},{"$f":"+IF(OR($P$2=98,$P$2=42,$P$2=96,$P$2=97),$Q36,0)","v":0},null,{"$f":"+IF($P$2=33,$Q36,0)","v":0},null,0,null,{"$f":"+ROUND(OTCHET!E122,0)","v":0},{"$f":"+ROUND(OTCHET!L122,0)","v":0},null,"приходен § 37-01"]
[null,"                внесен данък в/у приходите от стопанска дейност",null,null,null,{"$f":"+IF($P$2=0,$P37,0)","v":0},{"$f":"+IF($P$2=0,$Q37,0)","v":0},null,{"$f":"+IF(OR($P$2=98,$P$2=42,$P$2=96,$P$2=97),$P37,0)","v":0},{"$f":"+IF(OR($P$2=98,$P$2=42,$P$2=96,$P$2=97),$Q37,0)","v":0},null,{"$f":"+IF($P$2=33,$Q37,0)","v":0},null,0,null,{"$f":"+ROUND(OTCHET!E123,0)","v":0},{"$f":"+ROUND(OTCHET!L123,0)","v":0},null,"приходен § 37-02"]
[null,"                внесени други данъци, такси и вноски в/у продажбите",null,null,null,{"$f":"+IF($P$2=0,$P38,0)","v":0},{"$f":"+IF($P$2=0,$Q38,0)","v":0},null,{"$f":"+IF(OR($P$2=98,$P$2=42,$P$2=96,$P$2=97),$P38,0)","v":0},{"$f":"+IF(OR($P$2=98,$P$2=42,$P$2=96,$P$2=97),$Q38,0)","v":0},null,{"$f":"+IF($P$2=33,$Q38,0)","v":0},null,0,null,{"$f":"+ROUND(OTCHET!E124,0)","v":0},{"$f":"+ROUND(OTCHET!L124,0)","v":0},null,"приходен § 37-09"]
[]
[null," IV. Постъпления от застрахователни обезщетения",null,null,null,{"$f":"+IF($P$2=0,$P40,0)","v":0},{"$f":"+IF($P$2=0,$Q40,0)","v":0},null,{"$f":"+IF(OR($P$2=98,$P$2=42,$P$2=96,$P$2=97),$P40,0)","v":0},{"$f":"+IF(OR($P$2=98,$P$2=42,$P$2=96,$P$2=97),$Q40,0)","v":0},null,{"$f":"+IF($P$2=33,$Q40,0)","v":0},null,0,null,{"$f":"+ROUND(OTCHET!E117+OTCHET!E118,0)","v":0},{"$f":"+ROUND(OTCHET!L117+OTCHET!L118,0)","v":0},null,"IV. Постъпления от застрахователни обезщетения - приходни § 36-11 и 36-12"]
[null," V. Приходи от помощи и дарения",null,null,null,null,null,null,null,null,null,null,null,null,null,null,null,null," V. Приходи от помощи и дарения"]
[null," 1. Помощи и дарения от Европейския съюз",null,null,null,{"$f":"+IF($P$2=0,$P42,0)","v":0},{"$f":"+IF($P$2=0,$Q42,0)","v":0},null,{"$f":"+IF(OR($P$2=98,$P$2=42,$P$2=96,$P$2=97),$P42,0)","v":0},{"$f":"+IF(OR($P$2=98,$P$2=42,$P$2=96,$P$2=97),$Q42,0)","v":0},null,{"$f":"+IF($P$2=33,$Q42,0)","v":0},null,{"$f":"+ROUND(+G42+J42+L42,0)","v":0},null,{"$f":"+ROUND(OTCHET!E143+OTCHET!E144+OTCHET!E161+OTCHET!E162,0)","v":0},{"$f":"+ROUND(OTCHET!L143+OTCHET!L144+OTCHET!L161+OTCHET!L162,0)","v":0},null,"приходни §§ 46-10, 46-20, 48-10 и 48-20"]
[null," 2. Други помощи и дарения от чужбина",null,null,null,{"$f":"+IF($P$2=0,$P43,0)","v":0},{"$f":"+IF($P$2=0,$Q43,0)","v":0},null,{"$f":"+IF(OR($P$2=98,$P$2=42,$P$2=96,$P$2=97),$P43,0)","v":0},{"$f":"+IF(OR($P$2=98,$P$2=42,$P$2=96,$P$2=97),$Q43,0)","v":0},null,{"$f":"+IF($P$2=33,$Q43,0)","v":0},null,{"$f":"+ROUND(+G43+J43+L43,0)","v":0},null,{"$f":"+ROUND(+SUM(OTCHET!E145:E150)+SUM(OTCHET!E163:E168),0)","v":0},{"$f":"+ROUND(+SUM(OTCHET!L145:L150)+SUM(OTCHET!L163:L168),0)","v":0},null,"приходни §§ 46-30 ÷ 46-80 и §§ 48-30 ÷ 48-80"]
[null," 3. Други безвъзмездно получени средства по международни и други програми",null,null,null,{"$f":"+IF($P$2=0,$P44,0)","v":0},{"$f":"+IF($P$2=0,$Q44,0)","v":0},null,{"$f":"+IF(OR($P$2=98,$P$2=42,$P$2=96,$P$2=97),$P44,0)","v":0},{"$f":"+IF(OR($P$2=98,$P$2=42,$P$2=96,$P$2=97),$Q44,0)","v":0},null,{"$f":"+IF($P$2=33,$Q44,0)","v":0},null,{"$f":"+ROUND(+G44+J44+L44,0)","v":0},null,{"$f":"+ROUND(OTCHET!E151,0)","v":0},{"$f":"+ROUND(OTCHET!L151,0)","v":0},null,"приходeн § 47-00"]
[null," 4. Помощи и дарения от страната",null,null,null,{"$f":"+IF($P$2=0,$P45,0)","v":0},{"$f":"+IF($P$2=0,$Q45,0)","v":0},null,{"$f":"+IF(OR($P$2=98,$P$2=42,$P$2=96,$P$2=97),$P45,0)","v":0},{"$f":"+IF(OR($P$2=98,$P$2=42,$P$2=96,$P$2=97),$Q45,0)","v":0},null,{"$f":"+IF($P$2=33,$Q45,0)","v":0},null,{"$f":"+ROUND(+G45+J45+L45,0)","v":0},null,{"$f":"+ROUND(OTCHET!E139,0)","v":0},{"$f":"+ROUND(OTCHET!L139,0)","v":0},null,"приходeн § 45-00"]
[null," Общо за група V. Приходи от помощи и дарения",null,null,null,{"$f":"+ROUND(+SUM(F42:F45),0)","v":0},{"$f":"+ROUND(+SUM(G42:G45),0)","v":0},null,{"$f":"+ROUND(+SUM(I42:I45),0)","v":0},{"$f":"+ROUND(+SUM(J42:J45),0)","v":0},null,{"$f":"+ROUND(+SUM(L42:L45),0)","v":0},null,{"$f":"+ROUND(+SUM(N42:N45),0)","v":0},null,{"$f":"+ROUND(+SUM(P42:P45),0)","v":0},{"$f":"+ROUND(+SUM(Q42:Q45),0)","v":0},null,"сборен ред за група V. Приходи от помощи и дарения"]
[]
[null," А. ОБЩО ПРИХОДИ, ПОМОЩИ И ДАРЕНИЯ",null,null,null,{"$f":"+ROUND(F23+F28+F35+F40+F46,0)","v":0},{"$f":"+ROUND(G23+G28+G35+G40+G46,0)","v":0},null,{"$f":"+ROUND(I23+I28+I35+I40+I46,0)","v":0},{"$f":"+ROUND(J23+J28+J35+J40+J46,0)","v":0},null,{"$f":"+ROUND(L23+L28+L35+L40+L46,0)","v":0},null,{"$f":"+ROUND(N23+N28+N35+N40+N46,0)","v":0},null,{"$f":"+ROUND(P23+P28+P35+P40+P46,0)","v":0},{"$f":"+ROUND(Q23+Q28+Q35+Q40+Q46,0)","v":0},null," сборен ред за А. ОБЩО ПРИХОДИ, ПОМОЩИ И ДАРЕНИЯ"]
[null," Б. РАЗХОДИ И ПРИДОБИВАНЕ НА НЕФИНАНСОВИ АКТИВИ",null,null,null,null,null,null,null,null,null,null,null,null,null,null,null,null," Б. РАЗХОДИ И ПРИДОБИВАНЕ НА НЕФИНАНСОВИ АКТИВИ"]
[null," I. Плащания за текущи нелихвени разходи",null,null,null,null,null,null,null,null,null,null,null,null,null,null,null,null," I. Плащания за текущи нелихвени разходи"]
[null," 1. Разходи за издръжка - нефинансови позиции",null,null,null,{"$f":"+IF($P$2=0,$P51,0)","v":53089},{"$f":"+IF($P$2=0,$Q51,0)","v":11828},null,{"$f":"+IF(OR($P$2=98,$P$2=42,$P$2=96,$P$2=97),$P51,0)","v":0},{"$f":"+IF(OR($P$2=98,$P$2=42,$P$2=96,$P$2=97),$Q51,0)","v":0},null,{"$f":"+IF($P$2=33,$Q51,0)","v":0},null,{"$f":"+ROUND(+G51+J51+L51,0)","v":11828},null,{"$f":"+ROUND(OTCHET!E205-SUM(OTCHET!E217:E219)+OTCHET!E271+IF(+OR(OTCHET!$F$12=5500,OTCHET!$F$12=5600),0,+OTCHET!E297),0)","v":53089},{"$f":"+ROUND(OTCHET!L205-SUM(OTCHET!L217:L219)+OTCHET!L271+IF(+OR(OTCHET!$F$12=5500,OTCHET!$F$12=5600),0,+OTCHET!L297),0)","v":11828},null,"разходни §§ 10-00 (без §§ 10-62, 10-63 и 10-69), 46-00 и § 00-98 (без НОИ и НЗОК)"]
[null," 2. Разходи за застраховане и други финансови услуги",null,null,null,{"$f":"+IF($P$2=0,$P52,0)","v":0},{"$f":"+IF($P$2=0,$Q52,0)","v":0},null,{"$f":"+IF(OR($P$2=98,$P$2=42,$P$2=96,$P$2=97),$P52,0)","v":0},{"$f":"+IF(OR($P$2=98,$P$2=42,$P$2=96,$P$2=97),$Q52,0)","v":0},null,{"$f":"+IF($P$2=33,$Q52,0)","v":0},null,{"$f":"+ROUND(+G52+J52+L52,0)","v":0},null,{"$f":"+ROUND(+SUM(OTCHET!E217:E219),0)","v":0},{"$f":"+ROUND(+SUM(OTCHET!L217:L219),0)","v":0},null,"разходни §§ 10-62, 10-63 и 10-69"]
[null," 3. Платени данъци, такси и административни санкции",null,null,null,{"$f":"+IF($P$2=0,$P53,0)","v":0},{"$f":"+IF($P$2=0,$Q53,0)","v":0},null,{"$f":"+IF(OR($P$2=98,$P$2=42,$P$2=96,$P$2=97),$P53,0)","v":0},{"$f":"+IF(OR($P$2=98,$P$2=42,$P$2=96,$P$2=97),$Q53,0)","v":0},null,{"$f":"+IF($P$2=33,$Q53,0)","v":0},null,{"$f":"+ROUND(+G53+J53+L53,0)","v":0},null,{"$f":"+ROUND(OTCHET!E223,0)","v":0},{"$f":"+ROUND(OTCHET!L223,0)","v":0},null,"разходен § 19-00"]
[null," 4. Разходи за възнаграждения на персонал",null,null,null,{"$f":"+IF($P$2=0,$P54,0)","v":308989},{"$f":"+IF($P$2=0,$Q54,0)","v":67333},null,{"$f":"+IF(OR($P$2=98,$P$2=42,$P$2=96,$P$2=97),$P54,0)","v":0},{"$f":"+IF(OR($P$2=98,$P$2=42,$P$2=96,$P$2=97),$Q54,0)","v":0},null,{"$f":"+IF($P$2=33,$Q54,0)","v":0},null,{"$f":"+ROUND(+G54+J54+L54,0)","v":67333},null,{"$f":"+ROUND(OTCHET!E187+OTCHET!E190,0)","v":308989},{"$f":"+ROUND(OTCHET!L187+OTCHET!L190,0)","v":67333},null,"разходни §§ 01-00 и 02-00"]
[null," 5. Разходи за осигурителни вноски",null,null,null,{"$f":"+IF($P$2=0,$P55,0)","v":68000},{"$f":"+IF($P$2=0,$Q55,0)","v":14985},null,{"$f":"+IF(OR($P$2=98,$P$2=42,$P$2=96,$P$2=97),$P55,0)","v":0},{"$f":"+IF(OR($P$2=98,$P$2=42,$P$2=96,$P$2=97),$Q55,0)","v":0},null,{"$f":"+IF($P$2=33,$Q55,0)","v":0},null,{"$f":"+ROUND(+G55+J55+L55,0)","v":14985},null,{"$f":"+ROUND(OTCHET!E196+OTCHET!E204,0)","v":68000},{"$f":"+ROUND(OTCHET!L196+OTCHET!L204,0)","v":14985},null,"разходни §§ 05-00 и 08-00"]
[null," Общо за група І. Плащания за текущи нелихвени разходи",null,null,null,{"$f":"+ROUND(+SUM(F51:F55),0)","v":430078},{"$f":"+ROUND(+SUM(G51:G55),0)","v":94146},null,{"$f":"+ROUND(+SUM(I51:I55),0)","v":0},{"$f":"+ROUND(+SUM(J51:J55),0)","v":0},null,{"$f":"+ROUND(+SUM(L51:L55),0)","v":0},null,{"$f":"+ROUND(+SUM(N51:N55),0)","v":94146},null,{"$f":"+ROUND(+SUM(P51:P55),0)","v":430078},{"$f":"+ROUND(+SUM(Q51:Q55),0)","v":94146},null,"сборен ред за група І. Плащания за текущи нелихвени разходи"]
[null," IІ. Плащания за придобиване на нефинансови дълготрайни активи",null,null,null,null,null,null,null,null,null,null,null,null,null,null,null,null," IІ. Плащания за придобиване на нефинансови дълготрайни активи"]
[null," 1. Придобиване на земя",null,null,null,{"$f":"+IF($P$2=0,$P58,0)","v":0},{"$f":"+IF($P$2=0,$Q58,0)","v":0},null,{"$f":"+IF(OR($P$2=98,$P$2=42,$P$2=96,$P$2=97),$P58,0)","v":0},{"$f":"+IF(OR($P$2=98,$P$2=42,$P$2=96,$P$2=97),$Q58,0)","v":0},null,{"$f":"+IF($P$2=33,$Q58,0)","v":0},null,{"$f":"+ROUND(+G58+J58+L58,0)","v":0},null,{"$f":"+ROUND(OTCHET!E287,0)","v":0},{"$f":"+ROUND(OTCHET!L287,0)","v":0},null,"разходен § 54-00"]
[null," 2. Придобиване на други дълготрайни материални активи",null,null,null,{"$f":"+IF($P$2=0,$P59,0)","v":0},{"$f":"+IF($P$2=0,$Q59,0)","v":0},null,{"$f":"+IF(OR($P$2=98,$P$2=42,$P$2=96,$P$2=97),$P59,0)","v":0},{"$f":"+IF(OR($P$2=98,$P$2=42,$P$2=96,$P$2=97),$Q59,0)","v":0},null,{"$f":"+IF($P$2=33,$Q59,0)","v":0},null,{"$f":"+ROUND(+G59+J59+L59,0)","v":0},null,{"$f":"+ROUND(+OTCHET!E275+OTCHET!E276,0)","v":0},{"$f":"+ROUND(+OTCHET!L275+OTCHET!L276,0)","v":0},null,"разходни §§ 51-00 и 52-00"]
[null," 3. Придобиване на нематериални дълготрайни активи",null,null,null,{"$f":"+IF($P$2=0,$P60,0)","v":0},{"$f":"+IF($P$2=0,$Q60,0)","v":0},null,{"$f":"+IF(OR($P$2=98,$P$2=42,$P$2=96,$P$2=97),$P60,0)","v":0},{"$f":"+IF(OR($P$2=98,$P$2=42,$P$2=96,$P$2=97),$Q60,0)","v":0},null,{"$f":"+IF($P$2=33,$Q60,0)","v":0},null,{"$f":"+ROUND(+G60+J60+L60,0)","v":0},null,{"$f":"+ROUND(OTCHET!E284,0)","v":0},{"$f":"+ROUND(OTCHET!L284,0)","v":0},null,"разходен § 53-00"]
[null," 4. Нето-прираст на държавния резерв и изкупуване на земеделска продукция ",null,null,null,{"$f":"+IF($P$2=0,$P61,0)","v":0},{"$f":"+IF($P$2=0,$Q61,0)","v":0},null,{"$f":"+IF(OR($P$2=98,$P$2=42,$P$2=96,$P$2=97),$P61,0)","v":0},{"$f":"+IF(OR($P$2=98,$P$2=42,$P$2=96,$P$2=97),$Q61,0)","v":0},null,{"$f":"+IF($P$2=33,$Q61,0)","v":0},null,{"$f":"+ROUND(+G61+J61+L61,0)","v":0},null,{"$f":"+ROUND(OTCHET!E293,0)","v":0},{"$f":"+ROUND(OTCHET!L293,0)","v":0},null,"разходен § 57-00 и приходeн § 40-71 (-)"]
[null,"     в т. ч. постъпления от реализация на държавния резерв (-)",null,null,null,{"$f":"+IF($P$2=0,$P62,0)","v":0},{"$f":"+IF($P$2=0,$Q62,0)","v":0},null,{"$f":"+IF(OR($P$2=98,$P$2=42,$P$2=96,$P$2=97),$P62,0)","v":0},{"$f":"+IF(OR($P$2=98,$P$2=42,$P$2=96,$P$2=97),$Q62,0)","v":0},null,{"$f":"+IF($P$2=33,$Q62,0)","v":0},null,{"$f":"+ROUND(+G62+J62+L62,0)","v":0},null,{"$f":"+ROUND(OTCHET!E296,0)","v":0},{"$f":"+ROUND(OTCHET!L296,0)","v":0},null,"приходeн § 40-71 (-)"]
[null," Общо за група ІІ. Плащания за на нефинансови дълготрайни активи",null,null,null,{"$f":"+ROUND(+SUM(F58:F61),0)","v":0},{"$f":"+ROUND(+SUM(G58:G61),0)","v":0},null,{"$f":"+ROUND(+SUM(I58:I61),0)","v":0},{"$f":"+ROUND(+SUM(J58:J61),0)","v":0},null,{"$f":"+ROUND(+SUM(L58:L61),0)","v":0},null,{"$f":"+ROUND(+SUM(N58:N61),0)","v":0},null,{"$f":"+ROUND(+SUM(P58:P61),0)","v":0},{"$f":"+ROUND(+SUM(Q58:Q61),0)","v":0},null,"сборен ред за група ІІ. Плащания за на нефинансови дълготрайни активи"]
[null," III. Плащания за разходи за лихви",null,null,null,null,null,null,null,null,null,null,null,null,null,null,null,null," III. Плащания за разходи за лихви"]
[null," 1. Разходи за лихви по банкови заеми и държавни (общински) ценни книжа",null,null,null,{"$f":"+IF($P$2=0,$P65,0)","v":0},{"$f":"+IF($P$2=0,$Q65,0)","v":0},null,{"$f":"+IF(OR($P$2=98,$P$2=42,$P$2=96,$P$2=97),$P65,0)","v":0},{"$f":"+IF(OR($P$2=98,$P$2=42,$P$2=96,$P$2=97),$Q65,0)","v":0},null,{"$f":"+IF($P$2=33,$Q65,0)","v":0},null,{"$f":"+ROUND(+G65+J65+L65,0)","v":0},null,{"$f":"+ROUND(OTCHET!E227+OTCHET!E233+SUM(OTCHET!E236:E239),0)","v":0},{"$f":"+ROUND(OTCHET!L227+OTCHET!L233+SUM(OTCHET!L236:L239),0)","v":0},null,"разходни §§ 21-00 ÷ 28-00"]
[null," 2. Разходи за лихви по други заеми и дългове",null,null,null,{"$f":"+IF($P$2=0,$P66,0)","v":0},{"$f":"+IF($P$2=0,$Q66,0)","v":0},null,{"$f":"+IF(OR($P$2=98,$P$2=42,$P$2=96,$P$2=97),$P66,0)","v":0},{"$f":"+IF(OR($P$2=98,$P$2=42,$P$2=96,$P$2=97),$Q66,0)","v":0},null,{"$f":"+IF($P$2=33,$Q66,0)","v":0},null,{"$f":"+ROUND(+G66+J66+L66,0)","v":0},null,{"$f":"+ROUND(OTCHET!E240,0)","v":0},{"$f":"+ROUND(OTCHET!L240,0)","v":0},null,"разходен § 29-00"]
[null," Общо за група ІІІ. Плащания за разходи за лихви",null,null,null,{"$f":"+ROUND(+SUM(F65:F66),0)","v":0},{"$f":"+ROUND(+SUM(G65:G66),0)","v":0},null,{"$f":"+ROUND(+SUM(I65:I66),0)","v":0},{"$f":"+ROUND(+SUM(J65:J66),0)","v":0},null,{"$f":"+ROUND(+SUM(L65:L66),0)","v":0},null,{"$f":"+ROUND(+SUM(N65:N66),0)","v":0},null,{"$f":"+ROUND(+SUM(P65:P66),0)","v":0},{"$f":"+ROUND(+SUM(Q65:Q66),0)","v":0},null,"сборен ред за група ІІІ. Плащания за разходи за лихви"]
[null," IV. Трансфери към домакинства",null,null,null,null,null,null,null,null,null,null,null,null,null,null,null,null," IV. Трансфери към домакинства"]
[null," 1. Осигурителни плащания и други текущи трансфери",null,null,null,{"$f":"+IF($P$2=0,$P69,0)","v":0},{"$f":"+IF($P$2=0,$Q69,0)","v":0},null,{"$f":"+IF(OR($P$2=98,$P$2=42,$P$2=96,$P$2=97),$P69,0)","v":0},{"$f":"+IF(OR($P$2=98,$P$2=42,$P$2=96,$P$2=97),$Q69,0)","v":0},null,{"$f":"+IF($P$2=33,$Q69,0)","v":0},null,{"$f":"+ROUND(+G69+J69+L69,0)","v":0},null,{"$f":"+ROUND(+SUM(OTCHET!E255:E258)+IF(+OR(OTCHET!$F$12=5500,OTCHET!$F$12=5600),+OTCHET!E297,0),0)","v":0},{"$f":"+ROUND(+SUM(OTCHET!L255:L258)+IF(+OR(OTCHET!$F$12=5500,OTCHET!$F$12=5600),+OTCHET!L297,0),0)","v":0},null,"разходни §§ 39-00 ÷ 42-00 (за НОИ и НЗОК - и разходен § 00-98) "]
[null," 2. Капиталови трансфери към домакинства",null,null,null,{"$f":"+IF($P$2=0,$P70,0)","v":0},{"$f":"+IF($P$2=0,$Q70,0)","v":0},null,{"$f":"+IF(OR($P$2=98,$P$2=42,$P$2=96,$P$2=97),$P70,0)","v":0},{"$f":"+IF(OR($P$2=98,$P$2=42,$P$2=96,$P$2=97),$Q70,0)","v":0},null,{"$f":"+IF($P$2=33,$Q70,0)","v":0},null,{"$f":"+ROUND(+G70+J70+L70,0)","v":0},null,{"$f":"+ROUND(+OTCHET!E292,0)","v":0},{"$f":"+ROUND(+OTCHET!L292,0)","v":0},null,"разходен § 55-04"]
[null," Общо за група ІV. Трансфери към домакинства",null,null,null,{"$f":"+ROUND(+SUM(F69:F70),0)","v":0},{"$f":"+ROUND(+SUM(G69:G70),0)","v":0},null,{"$f":"+ROUND(+SUM(I69:I70),0)","v":0},{"$f":"+ROUND(+SUM(J69:J70),0)","v":0},null,{"$f":"+ROUND(+SUM(L69:L70),0)","v":0},null,{"$f":"+ROUND(+SUM(N69:N70),0)","v":0},null,{"$f":"+ROUND(+SUM(P69:P70),0)","v":0},{"$f":"+ROUND(+SUM(Q69:Q70),0)","v":0},null,"сборен ред за група ІV. Трансфери към домакинства"]
[null," V. Субсидии и капиталови трансфери",null,null,null,null,null,null,null,null,null,null,null,null,null,null,null,null," V. Субсидии и капиталови трансфери"]
[null," 1. Текущи субсидии и трансфери към други лица",null,null,null,{"$f":"+IF($P$2=0,$P73,0)","v":0},{"$f":"+IF($P$2=0,$Q73,0)","v":0},null,{"$f":"+IF(OR($P$2=98,$P$2=42,$P$2=96,$P$2=97),$P73,0)","v":0},{"$f":"+IF(OR($P$2=98,$P$2=42,$P$2=96,$P$2=97),$Q73,0)","v":0},null,{"$f":"+IF($P$2=33,$Q73,0)","v":0},null,{"$f":"+ROUND(+G73+J73+L73,0)","v":0},null,{"$f":"+ROUND(+OTCHET!E249+OTCHET!E265+OTCHET!E269+OTCHET!E270+OTCHET!E273,0)","v":0},{"$f":"+ROUND(+OTCHET!L249+OTCHET!L265+OTCHET!L269+OTCHET!L270+OTCHET!L273,0)","v":0},null,"разходни §§ 33-00, 43-00, 44-00, 45-00 и 49-01"]
[null," 2. Капиталови трансфери към други лица",null,null,null,{"$f":"+IF($P$2=0,$P74,0)","v":0},{"$f":"+IF($P$2=0,$Q74,0)","v":0},null,{"$f":"+IF(OR($P$2=98,$P$2=42,$P$2=96,$P$2=97),$P74,0)","v":0},{"$f":"+IF(OR($P$2=98,$P$2=42,$P$2=96,$P$2=97),$Q74,0)","v":0},null,{"$f":"+IF($P$2=33,$Q74,0)","v":0},null,{"$f":"+ROUND(+G74+J74+L74,0)","v":0},null,{"$f":"+ROUND(OTCHET!E274+OTCHET!E288-OTCHET!E292,0)","v":0},{"$f":"+ROUND(OTCHET!L274+OTCHET!L288-OTCHET!L292,0)","v":0},null,"разходни §§ 49-02 и 55-00 (без § 55-04)"]
[null," Общо за група V. Субсидии и капиталови трансфери",null,null,null,{"$f":"+ROUND(+SUM(F73:F74),0)","v":0},{"$f":"+ROUND(+SUM(G73:G74),0)","v":0},null,{"$f":"+ROUND(+SUM(I73:I74),0)","v":0},{"$f":"+ROUND(+SUM(J73:J74),0)","v":0},null,{"$f":"+ROUND(+SUM(L73:L74),0)","v":0},null,{"$f":"+ROUND(+SUM(N73:N74),0)","v":0},null,{"$f":"+ROUND(+SUM(P73:P74),0)","v":0},{"$f":"+ROUND(+SUM(Q73:Q74),0)","v":0},null,"сборен ред за група V. Субсидии и капиталови трансфери"]
[]
[null," Б. ОБЩО РАЗХОДИ И ПРИДОБИВАНЕ НА НЕФИНАНСОВИ АКТИВИ",null,null,null,{"$f":"+ROUND(F56+F63+F67+F71+F75,0)","v":430078},{"$f":"+ROUND(G56+G63+G67+G71+G75,0)","v":94146},null,{"$f":"+ROUND(I56+I63+I67+I71+I75,0)","v":0},{"$f":"+ROUND(J56+J63+J67+J71+J75,0)","v":0},null,{"$f":"+ROUND(L56+L63+L67+L71+L75,0)","v":0},null,{"$f":"+ROUND(N56+N63+N67+N71+N75,0)","v":94146},null,{"$f":"+ROUND(P56+P63+P67+P71+P75,0)","v":430078},{"$f":"+ROUND(Q56+Q63+Q67+Q71+Q75,0)","v":94146},null," сборен за ред Б. ОБЩО РАЗХОДИ И ПРИДОБИВАНЕ НА НЕФИН. АКТИВИ"]
[null," В. ТРАНСФЕРИ И БЕЗЛИХВЕНИ ЗАЕМИ М/У БЮДЖ. ОРГАНИЗАЦИИ",null,null,null,null,null,null,null,null,null,null,null,null,null,null,null,null," В. ТРАНСФЕРИ И БЕЗЛИХВЕНИ ЗАЕМИ М/У БЮДЖ. ОРГАНИЗАЦИИ"]
[null," 1. Трансфери между бюджетни организации (нето)",null,null,null,{"$f":"+IF($P$2=0,$P79,0)","v":430078},{"$f":"+IF($P$2=0,$Q79,0)","v":138839},null,{"$f":"+IF(OR($P$2=98,$P$2=42,$P$2=96,$P$2=97),$P79,0)","v":0},{"$f":"+IF(OR($P$2=98,$P$2=42,$P$2=96,$P$2=97),$Q79,0)","v":0},null,{"$f":"+IF($P$2=33,$Q79,0)","v":0},null,{"$f":"+ROUND(+G79+J79+L79,0)","v":138839},null,{"$f":"+ROUND(OTCHET!E419,0)","v":430078},{"$f":"+ROUND(OTCHET!L419,0)","v":138839},null,"трансферни параграфи §§ 30-00 ÷ 32-00 и 60-00 ÷ 69-00"]
[null," 2. Временни безлихвени заеми между бюджетни организации (нето)",null,null,null,{"$f":"+IF($P$2=0,$P80,0)","v":0},{"$f":"+IF($P$2=0,$Q80,0)","v":0},null,{"$f":"+IF(OR($P$2=98,$P$2=42,$P$2=96,$P$2=97),$P80,0)","v":0},{"$f":"+IF(OR($P$2=98,$P$2=42,$P$2=96,$P$2=97),$Q80,0)","v":0},null,{"$f":"+IF($P$2=33,$Q80,0)","v":0},null,{"$f":"+ROUND(+G80+J80+L80,0)","v":0},null,{"$f":"+ROUND(OTCHET!E429,0)","v":0},{"$f":"+ROUND(OTCHET!L429,0)","v":0},null,"трансферни параграфи §§ 74-00 ÷ 78-00"]
[null," В. ОБЩО ТРАНСФЕРИ И  ЗАЕМИ М/У БЮДЖЕТНИ ОРГАНИЗАЦИИ",null,null,null,{"$f":"+ROUND(F79+F80,0)","v":430078},{"$f":"+ROUND(G79+G80,0)","v":138839},null,{"$f":"+ROUND(I79+I80,0)","v":0},{"$f":"+ROUND(J79+J80,0)","v":0},null,{"$f":"+ROUND(L79+L80,0)","v":0},null,{"$f":"+ROUND(N79+N80,0)","v":138839},null,{"$f":"+ROUND(P79+P80,0)","v":430078},{"$f":"+ROUND(Q79+Q80,0)","v":138839},null," сборен ред за  В. ОБЩО ТРАНСФЕРИ И  ЗАЕМИ М/У БЮДЖ. ОРГАНИЗАЦИИ"]
[null,{"$f":"+IF(+SUM(F82:N82)=0,0,\"Контрола: дефицит/излишък = финансиране с обратен знак (Г. + Д. = 0)\")","v":"Контрола: дефицит/излишък = финансиране с обратен знак (Г. + Д. = 0)"},null,null,null,{"$f":"+ROUND(F83,0)+ROUND(F84,0)","v":0},{"$f":"+ROUND(G83,0)+ROUND(G84,0)","v":-1},null,{"$f":"+ROUND(I83,0)+ROUND(I84,0)","v":0},{"$f":"+ROUND(J83,0)+ROUND(J84,0)","v":0},null,{"$f":"+ROUND(L83,0)+ROUND(L84,0)","v":0},null,{"$f":"+ROUND(N83,0)+ROUND(N84,0)","v":-1},null,{"$f":"+ROUND(P83,0)+ROUND(P84,0)","v":0},{"$f":"+ROUND(Q83,0)+ROUND(Q84,0)","v":-1}]
[null,"Г. Бюджетно салдо: Дефицит (-) / излишък (+) = (А. - Б. + В. )",null,null,null,{"$f":"+ROUND(F48,0)-ROUND(F77,0)+ROUND(F81,0)","v":0},{"$f":"+ROUND(G48,0)-ROUND(G77,0)+ROUND(G81,0)","v":44693},null,{"$f":"+ROUND(I48,0)-ROUND(I77,0)+ROUND(I81,0)","v":0},{"$f":"+ROUND(J48,0)-ROUND(J77,0)+ROUND(J81,0)","v":0},null,{"$f":"+ROUND(L48,0)-ROUND(L77,0)+ROUND(L81,0)","v":0},null,{"$f":"+ROUND(N48,0)-ROUND(N77,0)+ROUND(N81,0)","v":44693},null,{"$f":"+ROUND(P48,0)-ROUND(P77,0)+ROUND(P81,0)","v":0},{"$f":"+ROUND(Q48,0)-ROUND(Q77,0)+ROUND(Q81,0)","v":44693},null,"Г. Бюджетно салдо: Дефицит (-) / излишък (+) = (А. - Б. + В. )"]
[null,"Д. Финансиране на бюджетното салдо (Е. + Ж. + З. - И.)",null,null,null,{"$f":"+ROUND(F101,0)+ROUND(F120,0)+ROUND(F127,0)-ROUND(F132,0)","v":0},{"$f":"+ROUND(G101,0)+ROUND(G120,0)+ROUND(G127,0)-ROUND(G132,0)","v":-44694},null,{"$f":"+ROUND(I101,0)+ROUND(I120,0)+ROUND(I127,0)-ROUND(I132,0)","v":0},{"$f":"+ROUND(J101,0)+ROUND(J120,0)+ROUND(J127,0)-ROUND(J132,0)","v":0},null,{"$f":"+ROUND(L101,0)+ROUND(L120,0)+ROUND(L127,0)-ROUND(L132,0)","v":0},null,{"$f":"+ROUND(N101,0)+ROUND(N120,0)+ROUND(N127,0)-ROUND(N132,0)","v":-44694},null,{"$f":"+ROUND(P101,0)+ROUND(P120,0)+ROUND(P127,0)-ROUND(P132,0)","v":0},{"$f":"+ROUND(Q101,0)+ROUND(Q120,0)+ROUND(Q127,0)-ROUND(Q132,0)","v":-44694},null,"Д. Финансиране на бюджетното салдо (Е. + Ж. + З. - И.)"]
[null," Е. ОПЕРАЦИИ С ФИНАНСОВИ АКТИВИ",null,null,null,null,null,null,null,null,null,null,null,null,null,null,null,null," Е. ОПЕРАЦИИ С ФИНАНСОВИ АКТИВИ"]
[null," I. Придобиване и реализиране на дялове, акции и участия",null,null,null,null,null,null,null,null,null,null,null,null,null,null,null,null," I. Придобиване и реализиране на дялове, акции и участия"]
[null," 1. Придобиване на дялове, акции и участия в предприятия (-)",null,null,null,{"$f":"+IF($P$2=0,$P87,0)","v":0},{"$f":"+IF($P$2=0,$Q87,0)","v":0},null,{"$f":"+IF(OR($P$2=98,$P$2=42,$P$2=96,$P$2=97),$P87,0)","v":0},{"$f":"+IF(OR($P$2=98,$P$2=42,$P$2=96,$P$2=97),$Q87,0)","v":0},null,{"$f":"+IF($P$2=33,$Q87,0)","v":0},null,{"$f":"+ROUND(+G87+J87+L87,0)","v":0},null,{"$f":"+ROUND(+OTCHET!E462+OTCHET!E463,0)","v":0},{"$f":"+ROUND(+OTCHET!L462+OTCHET!L463,0)","v":0},null,"финансиращи §§ 70-01 и 70-03"]
[null," 2. Постъпления от реализация и приватизация на дялове, акциии и участия",null,null,null,{"$f":"+IF($P$2=0,$P88,0)","v":0},{"$f":"+IF($P$2=0,$Q88,0)","v":0},null,{"$f":"+IF(OR($P$2=98,$P$2=42,$P$2=96,$P$2=97),$P88,0)","v":0},{"$f":"+IF(OR($P$2=98,$P$2=42,$P$2=96,$P$2=97),$Q88,0)","v":0},null,{"$f":"+IF($P$2=33,$Q88,0)","v":0},null,{"$f":"+ROUND(+G88+J88+L88,0)","v":0},null,{"$f":"+ROUND(OTCHET!E464+OTCHET!E535,0)","v":0},{"$f":"+ROUND(OTCHET!L464+OTCHET!L535,0)","v":0},null,"финансиращи §§ 70-10 и 90-00"]
[null," Общо за група І. Придобиване и реализиране на дялове, акции и участия",null,null,null,{"$f":"+ROUND(+SUM(F87:F88),0)","v":0},{"$f":"+ROUND(+SUM(G87:G88),0)","v":0},null,{"$f":"+ROUND(+SUM(I87:I88),0)","v":0},{"$f":"+ROUND(+SUM(J87:J88),0)","v":0},null,{"$f":"+ROUND(+SUM(L87:L88),0)","v":0},null,{"$f":"+ROUND(+SUM(N87:N88),0)","v":0},null,{"$f":"+ROUND(+SUM(P87:P88),0)","v":0},{"$f":"+ROUND(+SUM(Q87:Q88),0)","v":0},null," Сборен ред за група І. Придобиване и реализиране на дялове, акции и участия"]
[null," IІ. Предоставени заеми, възмездна фин. помощ и активирани гаранции",null,null,null,null,null,null,null,null,null,null,null,null,null,null,null,null," IІ. Предоставени заеми, възмездна фин. помощ и активирани гаранции"]
[null," 1. Предоставени заеми и възмездна финансова помощ (-)",null,null,null,{"$f":"+IF($P$2=0,$P91,0)","v":0},{"$f":"+IF($P$2=0,$Q91,0)","v":0},null,{"$f":"+IF(OR($P$2=98,$P$2=42,$P$2=96,$P$2=97),$P91,0)","v":0},{"$f":"+IF(OR($P$2=98,$P$2=42,$P$2=96,$P$2=97),$Q91,0)","v":0},null,{"$f":"+IF($P$2=33,$Q91,0)","v":0},null,{"$f":"+ROUND(+G91+J91+L91,0)","v":0},null,{"$f":"+ROUND(OTCHET!E466+OTCHET!E469+OTCHET!E479,0)","v":0},{"$f":"+ROUND(OTCHET!L466+OTCHET!L469+OTCHET!L479,0)","v":0},null,"финансиращи §§ 71-01, 72-01 и 79-01"]
[null," 2. Получени погашения по предоставени заеми и възмездна фин. помощ (+)",null,null,null,{"$f":"+IF($P$2=0,$P92,0)","v":0},{"$f":"+IF($P$2=0,$Q92,0)","v":0},null,{"$f":"+IF(OR($P$2=98,$P$2=42,$P$2=96,$P$2=97),$P92,0)","v":0},{"$f":"+IF(OR($P$2=98,$P$2=42,$P$2=96,$P$2=97),$Q92,0)","v":0},null,{"$f":"+IF($P$2=33,$Q92,0)","v":0},null,{"$f":"+ROUND(+G92+J92+L92,0)","v":0},null,{"$f":"+ROUND(OTCHET!E467+OTCHET!E470+OTCHET!E480+OTCHET!E502+IF(+OTCHET!E494>0,+OTCHET!E494,0),0)","v":0},{"$f":"+ROUND(OTCHET!L467+OTCHET!L470+OTCHET!L480+OTCHET!L502+IF(+OTCHET!L494>0,+OTCHET!L494,0),0)","v":0},null,"финансиращи §§ 71-02, 72-02, 79-02 и 82-00 и § 80-80 (ако е \"плюс\")"]
[null," 3. Плащания по активирани гаранции  - главници по гарантирани заеми",null,null,null,{"$f":"+IF($P$2=0,$P93,0)","v":0},{"$f":"+IF($P$2=0,$Q93,0)","v":0},null,{"$f":"+IF(OR($P$2=98,$P$2=42,$P$2=96,$P$2=97),$P93,0)","v":0},{"$f":"+IF(OR($P$2=98,$P$2=42,$P$2=96,$P$2=97),$Q93,0)","v":0},null,{"$f":"+IF($P$2=33,$Q93,0)","v":0},null,{"$f":"+ROUND(+G93+J93+L93,0)","v":0},null,{"$f":"+ROUND(+SUM(OTCHET!E472:E474),0)","v":0},{"$f":"+ROUND(+SUM(OTCHET!L472:L474),0)","v":0},null,"финансиращи §§ 73-20, 73-69 и 73-70"]
[null," 4. Възстановени суми по активирани гаранции - главници",null,null,null,{"$f":"+IF($P$2=0,$P94,0)","v":0},{"$f":"+IF($P$2=0,$Q94,0)","v":0},null,{"$f":"+IF(OR($P$2=98,$P$2=42,$P$2=96,$P$2=97),$P94,0)","v":0},{"$f":"+IF(OR($P$2=98,$P$2=42,$P$2=96,$P$2=97),$Q94,0)","v":0},null,{"$f":"+IF($P$2=33,$Q94,0)","v":0},null,{"$f":"+ROUND(+G94+J94+L94,0)","v":0},null,{"$f":"+ROUND(+SUM(OTCHET!E475:E476),0)","v":0},{"$f":"+ROUND(+SUM(OTCHET!L475:L476),0)","v":0},null,"финансиращи §§ 73-91 и 73-92"]
[null," Общо за група ІІ. Предоставени заеми, възмездна фин. помощ и гаранции",null,null,null,{"$f":"+ROUND(+SUM(F91:F94),0)","v":0},{"$f":"+ROUND(+SUM(G91:G94),0)","v":0},null,{"$f":"+ROUND(+SUM(I91:I94),0)","v":0},{"$f":"+ROUND(+SUM(J91:J94),0)","v":0},null,{"$f":"+ROUND(+SUM(L91:L94),0)","v":0},null,{"$f":"+ROUND(+SUM(N91:N94),0)","v":0},null,{"$f":"+ROUND(+SUM(P91:P94),0)","v":0},{"$f":"+ROUND(+SUM(Q91:Q94),0)","v":0},null," Сборен ред за група ІІ. Предоставени заеми, възмездна фин. помощ и гаранции"]
[null," IІI. Други операции с финансови активи",null,null,null,null,null,null,null,null,null,null,null,null,null,null,null,null," IІI. Други операции с финансови активи"]
[null," 1. Нето-операции с други ценни книжа  и фин. активи (кеш-мениджмънт)",null,null,null,{"$f":"+IF($P$2=0,$P97,0)","v":0},{"$f":"+IF($P$2=0,$Q97,0)","v":0},null,{"$f":"+IF(OR($P$2=98,$P$2=42,$P$2=96,$P$2=97),$P97,0)","v":0},{"$f":"+IF(OR($P$2=98,$P$2=42,$P$2=96,$P$2=97),$Q97,0)","v":0},null,{"$f":"+IF($P$2=33,$Q97,0)","v":0},null,{"$f":"+ROUND(+G97+J97+L97,0)","v":0},null,{"$f":"+ROUND(OTCHET!E536+OTCHET!E541,0)","v":0},{"$f":"+ROUND(OTCHET!L536+OTCHET!L541,0)","v":0},null,"финансиращи §§ 91-01 и 92-00"]
[null," 2. Други операции с финансови активи (нето)",null,null,null,{"$f":"+IF($P$2=0,$P98,0)","v":0},{"$f":"+IF($P$2=0,$Q98,0)","v":0},null,{"$f":"+IF(OR($P$2=98,$P$2=42,$P$2=96,$P$2=97),$P98,0)","v":0},{"$f":"+IF(OR($P$2=98,$P$2=42,$P$2=96,$P$2=97),$Q98,0)","v":0},null,{"$f":"+IF($P$2=33,$Q98,0)","v":0},null,{"$f":"+ROUND(+G98+J98+L98,0)","v":0},null,{"$f":"+ROUND(+OTCHET!E477+OTCHET!E558+OTCHET!E560,0)","v":0},{"$f":"+ROUND(+OTCHET!L477+OTCHET!L558+OTCHET!L560,0)","v":0},null,"финансиращи §§ 73-93, 93-36, 93-38"]
[null," Общо за група ІІІ. Други операции с финансови активи",null,null,null,{"$f":"+ROUND(+SUM(F97:F98),0)","v":0},{"$f":"+ROUND(+SUM(G97:G98),0)","v":0},null,{"$f":"+ROUND(+SUM(I97:I98),0)","v":0},{"$f":"+ROUND(+SUM(J97:J98),0)","v":0},null,{"$f":"+ROUND(+SUM(L97:L98),0)","v":0},null,{"$f":"+ROUND(+SUM(N97:N98),0)","v":0},null,{"$f":"+ROUND(+SUM(P97:P98),0)","v":0},{"$f":"+ROUND(+SUM(Q97:Q98),0)","v":0},null,"  Сборен ред за група ІІІ. Други операции с финансови активи"]
[]
[null," Е. ОБЩО ОПЕРАЦИИ С ФИНАНСОВИ АКТИВИ",null,null,null,{"$f":"+ROUND(F89+F95+F99,0)","v":0},{"$f":"+ROUND(G89+G95+G99,0)","v":0},null,{"$f":"+ROUND(I89+I95+I99,0)","v":0},{"$f":"+ROUND(J89+J95+J99,0)","v":0},null,{"$f":"+ROUND(L89+L95+L99,0)","v":0},null,{"$f":"+ROUND(N89+N95+N99,0)","v":0},null,{"$f":"+ROUND(P89+P95+P99,0)","v":0},{"$f":"+ROUND(Q89+Q95+Q99,0)","v":0},null," Сборен ред за Е. ОБЩО ОПЕРАЦИИ С ФИНАНСОВИ АКТИВИ"]
[null," Ж. ОПЕРАЦИИ С ФИНАНСОВИ ПАСИВИ",null,null,null,null,null,null,null,null,null,null,null,null,null,null,null,null," Ж. ОПЕРАЦИИ С ФИНАНСОВИ ПАСИВИ"]
[null," I. Емитирани държавни (общински) ценни книжа",null,null,null,null,null,null,null,null,null,null,null,null,null,null,null,null," I. Емитирани държавни (общински) ценни книжа"]
[null," 1. Постъпления от емисии на държавни (общински) ценни книжа (+)",null,null,null,{"$f":"+IF($P$2=0,$P104,0)","v":0},{"$f":"+IF($P$2=0,$Q104,0)","v":0},null,{"$f":"+IF(OR($P$2=98,$P$2=42,$P$2=96,$P$2=97),$P104,0)","v":0},{"$f":"+IF(OR($P$2=98,$P$2=42,$P$2=96,$P$2=97),$Q104,0)","v":0},null,{"$f":"+IF($P$2=33,$Q104,0)","v":0},null,{"$f":"+ROUND(+G104+J104+L104,0)","v":0},null,{"$f":"+ROUND(OTCHET!E498+OTCHET!E499+OTCHET!E512,0)","v":0},{"$f":"+ROUND(OTCHET!L498+OTCHET!L499+OTCHET!L512,0)","v":0},null,"финансиращи §§ 81-11, 81-12 и 85-00"]
[null," 2. Погашения по емисии на държавни (общински) ценни книжа) (-)",null,null,null,{"$f":"+IF($P$2=0,$P105,0)","v":0},{"$f":"+IF($P$2=0,$Q105,0)","v":0},null,{"$f":"+IF(OR($P$2=98,$P$2=42,$P$2=96,$P$2=97),$P105,0)","v":0},{"$f":"+IF(OR($P$2=98,$P$2=42,$P$2=96,$P$2=97),$Q105,0)","v":0},null,{"$f":"+IF($P$2=33,$Q105,0)","v":0},null,{"$f":"+ROUND(+G105+J105+L105,0)","v":0},null,{"$f":"+ROUND(OTCHET!E500+OTCHET!E501+OTCHET!E516,0)","v":0},{"$f":"+ROUND(OTCHET!L500+OTCHET!L501+OTCHET!L516,0)","v":0},null,"финансиращи §§ 81-21, 81-22 и 86-00"]
[null," Общо за група І. Емитирани държавни (общински) ценни книжа",null,null,null,{"$f":"+ROUND(+SUM(F104:F105),0)","v":0},{"$f":"+ROUND(+SUM(G104:G105),0)","v":0},null,{"$f":"+ROUND(+SUM(I104:I105),0)","v":0},{"$f":"+ROUND(+SUM(J104:J105),0)","v":0},null,{"$f":"+ROUND(+SUM(L104:L105),0)","v":0},null,{"$f":"+ROUND(+SUM(N104:N105),0)","v":0},null,{"$f":"+ROUND(+SUM(P104:P105),0)","v":0},{"$f":"+ROUND(+SUM(Q104:Q105),0)","v":0},null," Сборен ред за група І. Емитирани държавни (общински) ценни книжа"]
[null," IІ. Заеми от банки и други лица",null,null,null,null,null,null,null,null,null,null,null,null,null,null,null,null," IІ. Заеми от банки и други лица"]
[null," 1. Получени банкови и други заеми (+)",null,null,null,{"$f":"+IF($P$2=0,$P108,0)","v":0},{"$f":"+IF($P$2=0,$Q108,0)","v":0},null,{"$f":"+IF(OR($P$2=98,$P$2=42,$P$2=96,$P$2=97),$P108,0)","v":0},{"$f":"+IF(OR($P$2=98,$P$2=42,$P$2=96,$P$2=97),$Q108,0)","v":0},null,{"$f":"+IF($P$2=33,$Q108,0)","v":0},null,{"$f":"+ROUND(+G108+J108+L108,0)","v":0},null,{"$f":"+ROUND(OTCHET!E482+OTCHET!E483+OTCHET!E486+OTCHET!E487+OTCHET!E490+OTCHET!E491+OTCHET!E495+OTCHET!E504+OTCHET!E505+OTCHET!E508+OTCHET!E509,0)","v":0},{"$f":"+ROUND(OTCHET!L482+OTCHET!L483+OTCHET!L486+OTCHET!L487+OTCHET!L490+OTCHET!L491+OTCHET!L495+OTCHET!L504+OTCHET!L505+OTCHET!L508+OTCHET!L509,0)","v":0},null,"финансиращи §§ 80-11, 80-12, 80-31, 80-32, 80-51, 80-52, 80-97, 83-11, 83-12, 83-71, 83-72 "]
[null," 2. Погашения по получени банкови и други заеми (-)",null,null,null,{"$f":"+IF($P$2=0,$P109,0)","v":0},{"$f":"+IF($P$2=0,$Q109,0)","v":0},null,{"$f":"+IF(OR($P$2=98,$P$2=42,$P$2=96,$P$2=97),$P109,0)","v":0},{"$f":"+IF(OR($P$2=98,$P$2=42,$P$2=96,$P$2=97),$Q109,0)","v":0},null,{"$f":"+IF($P$2=33,$Q109,0)","v":0},null,{"$f":"+ROUND(+G109+J109+L109,0)","v":0},null,{"$f":"+ROUND(OTCHET!E484+OTCHET!E485+OTCHET!E488+OTCHET!E489+OTCHET!E492+OTCHET!E493+OTCHET!E496+OTCHET!E506+OTCHET!E507+OTCHET!E510+OTCHET!E511+IF(+OTCHET!E494<0,+OTCHET!E494,0),0)","v":0},{"$f":"+ROUND(OTCHET!L484+OTCHET!L485+OTCHET!L488+OTCHET!L489+OTCHET!L492+OTCHET!L493+OTCHET!L496+OTCHET!L506+OTCHET!L507+OTCHET!L510+OTCHET!L511+IF(+OTCHET!L494<0,+OTCHET!L494,0),0)","v":0},null,"§§ 80-17, 80-18, 80-37, 80-38, 80-57, 80-58, 80-98, 83-21, 83-22, 83-81, 83-82 и § 80-80 (ако е \"минус\")"]
[null," Общо за група ІІ. Заеми от банки и други лица",null,null,null,{"$f":"+ROUND(+SUM(F108:F109),0)","v":0},{"$f":"+ROUND(+SUM(G108:G109),0)","v":0},null,{"$f":"+ROUND(+SUM(I108:I109),0)","v":0},{"$f":"+ROUND(+SUM(J108:J109),0)","v":0},null,{"$f":"+ROUND(+SUM(L108:L109),0)","v":0},null,{"$f":"+ROUND(+SUM(N108:N109),0)","v":0},null,{"$f":"+ROUND(+SUM(P108:P109),0)","v":0},{"$f":"+ROUND(+SUM(Q108:Q109),0)","v":0},null,"Сборен ред за група ІІ. Заеми от банки и други лица"]
[null," IІI. Финансиране чрез финансов лизинг и търговски кредит",null,null,null,null,null,null,null,null,null,null,null,null,null,null,null,null," IІI. Финансиране чрез финансов лизинг и търговски кредит"]
[null," 1. Получено финансиране по финансов лизинг и търговски кредит (+)",null,null,null,{"$f":"+IF($P$2=0,$P112,0)","v":0},{"$f":"+IF($P$2=0,$Q112,0)","v":0},null,{"$f":"+IF(OR($P$2=98,$P$2=42,$P$2=96,$P$2=97),$P112,0)","v":0},{"$f":"+IF(OR($P$2=98,$P$2=42,$P$2=96,$P$2=97),$Q112,0)","v":0},null,{"$f":"+IF($P$2=33,$Q112,0)","v":0},null,{"$f":"+ROUND(+G112+J112+L112,0)","v":0},null,{"$f":"+ROUND(OTCHET!E547,0)","v":0},{"$f":"+ROUND(OTCHET!L547,0)","v":0},null,"финансиращ § 93-17"]
[null," 2. Погашения по финансов лизинг и търговски кредит (-)",null,null,null,{"$f":"+IF($P$2=0,$P113,0)","v":0},{"$f":"+IF($P$2=0,$Q113,0)","v":0},null,{"$f":"+IF(OR($P$2=98,$P$2=42,$P$2=96,$P$2=97),$P113,0)","v":0},{"$f":"+IF(OR($P$2=98,$P$2=42,$P$2=96,$P$2=97),$Q113,0)","v":0},null,{"$f":"+IF($P$2=33,$Q113,0)","v":0},null,{"$f":"+ROUND(+G113+J113+L113,0)","v":0},null,{"$f":"+ROUND(OTCHET!E548,0)","v":0},{"$f":"+ROUND(OTCHET!L548,0)","v":0},null,"финансиращ § 93-18"]
[null," Общо за група ІІІ. Финансиране чрез фин. лизинг и търговски кредит",null,null,null,{"$f":"+ROUND(+SUM(F112:F113),0)","v":0},{"$f":"+ROUND(+SUM(G112:G113),0)","v":0},null,{"$f":"+ROUND(+SUM(I112:I113),0)","v":0},{"$f":"+ROUND(+SUM(J112:J113),0)","v":0},null,{"$f":"+ROUND(+SUM(L112:L113),0)","v":0},null,{"$f":"+ROUND(+SUM(N112:N113),0)","v":0},null,{"$f":"+ROUND(+SUM(P112:P113),0)","v":0},{"$f":"+ROUND(+SUM(Q112:Q113),0)","v":0},null,"Сборен ред за група ІІІ. Финансиране чрез фин. лизинг и търговски кредит"]
[null,"ІV. Други операции с финансови пасиви",null,null,null,null,null,null,null,null,null,null,null,null,null,null,null,null,"ІV. Други операции с финансови пасиви"]
[null," 1. Операции с чужди средства (нето)",null,null,null,{"$f":"+IF($P$2=0,$P116,0)","v":0},{"$f":"+IF($P$2=0,$Q116,0)","v":0},null,{"$f":"+IF(OR($P$2=98,$P$2=42,$P$2=96,$P$2=97),$P116,0)","v":0},{"$f":"+IF(OR($P$2=98,$P$2=42,$P$2=96,$P$2=97),$Q116,0)","v":0},null,{"$f":"+IF($P$2=33,$Q116,0)","v":0},null,{"$f":"+ROUND(+G116+J116+L116,0)","v":0},null,{"$f":"+ROUND(OTCHET!E545+OTCHET!E546+OTCHET!E562+OTCHET!E563,0)","v":0},{"$f":"+ROUND(OTCHET!L545+OTCHET!L546+OTCHET!L562+OTCHET!L563,0)","v":0},null,"финансиращи §§ 93-01, 93-10, 93-55 и 93-56"]
[null," 2. Друго финансиране - операции с пасиви (нето)",null,null,null,{"$f":"+IF($P$2=0,$P117,0)","v":0},{"$f":"+IF($P$2=0,$Q117,0)","v":0},null,{"$f":"+IF(OR($P$2=98,$P$2=42,$P$2=96,$P$2=97),$P117,0)","v":0},{"$f":"+IF(OR($P$2=98,$P$2=42,$P$2=96,$P$2=97),$Q117,0)","v":0},null,{"$f":"+IF($P$2=33,$Q117,0)","v":0},null,{"$f":"+ROUND(+G117+J117+L117,0)","v":0},null,{"$f":"+ROUND(OTCHET!E559+OTCHET!E561,0)","v":0},{"$f":"+ROUND(OTCHET!L559+OTCHET!L561,0)","v":0},null,"финансиращи §§ 93-37 и 93-39"]
[null," Общо за група ІV. Други операции с финансови пасиви",null,null,null,{"$f":"+ROUND(+SUM(F116:F117),0)","v":0},{"$f":"+ROUND(+SUM(G116:G117),0)","v":0},null,{"$f":"+ROUND(+SUM(I116:I117),0)","v":0},{"$f":"+ROUND(+SUM(J116:J117),0)","v":0},null,{"$f":"+ROUND(+SUM(L116:L117),0)","v":0},null,{"$f":"+ROUND(+SUM(N116:N117),0)","v":0},null,{"$f":"+ROUND(+SUM(P116:P117),0)","v":0},{"$f":"+ROUND(+SUM(Q116:Q117),0)","v":0},null,"Сборен ред за група ІV. Други операции с финансови пасиви"]
[]
[null," Ж. ОБЩО ОПЕРАЦИИ С ФИНАНСОВИ ПАСИВИ",null,null,null,{"$f":"+ROUND(F106+F110+F114+F118,0)","v":0},{"$f":"+ROUND(G106+G110+G114+G118,0)","v":0},null,{"$f":"+ROUND(I106+I110+I114+I118,0)","v":0},{"$f":"+ROUND(J106+J110+J114+J118,0)","v":0},null,{"$f":"+ROUND(L106+L110+L114+L118,0)","v":0},null,{"$f":"+ROUND(N106+N110+N114+N118,0)","v":0},null,{"$f":"+ROUND(P106+P110+P114+P118,0)","v":0},{"$f":"+ROUND(Q106+Q110+Q114+Q118,0)","v":0},null," Сборен ред за Ж. ОБЩО ОПЕРАЦИИ С ФИНАНСОВИ ПАСИВИ"]
[null," З. НЕТО-РАЗЧЕТИ И ОПЕРАЦИИ",null,null,null,null,null,null,null,null,null,null,null,null,null,null,null,null," З. НЕТО-РАЗЧЕТИ И ОПЕРАЦИИ"]
[null," 1. Нето-операции за сметка на средства от Европейския съюз",null,null,null,{"$f":"+IF($P$2=0,$P122,0)","v":0},{"$f":"+IF($P$2=0,$Q122,0)","v":0},null,{"$f":"+IF(OR($P$2=98,$P$2=42,$P$2=96,$P$2=97),$P122,0)","v":0},{"$f":"+IF(OR($P$2=98,$P$2=42,$P$2=96,$P$2=97),$Q122,0)","v":0},null,{"$f":"+IF($P$2=33,$Q122,0)","v":0},null,{"$f":"+ROUND(+G122+J122+L122,0)","v":0},null,{"$f":"+ROUND(+SUM(OTCHET!E549:E556),0)","v":0},{"$f":"+ROUND(+SUM(OTCHET!L549:L556),0)","v":0},null,"финансиращи §§ 93-21 ÷ 93-28"]
[null," 2. Операции за сметка на други бюджети, сметки и фондове",null,null,null,{"$f":"+IF($P$2=0,$P123,0)","v":0},{"$f":"+IF($P$2=0,$Q123,0)","v":2304},null,{"$f":"+IF(OR($P$2=98,$P$2=42,$P$2=96,$P$2=97),$P123,0)","v":0},{"$f":"+IF(OR($P$2=98,$P$2=42,$P$2=96,$P$2=97),$Q123,0)","v":0},null,{"$f":"+IF($P$2=33,$Q123,0)","v":0},null,{"$f":"+ROUND(+G123+J123+L123,0)","v":2304},null,{"$f":"+ROUND(OTCHET!E524,0)","v":0},{"$f":"+ROUND(OTCHET!L524,0)","v":2304},null,"финансиращ § 88-00"]
[null," 3. Други нето-разчети и операции на бюджетни организации",null,null,null,{"$f":"+IF($P$2=0,$P124,0)","v":0},{"$f":"+IF($P$2=0,$Q124,0)","v":0},null,{"$f":"+IF(OR($P$2=98,$P$2=42,$P$2=96,$P$2=97),$P124,0)","v":0},{"$f":"+IF(OR($P$2=98,$P$2=42,$P$2=96,$P$2=97),$Q124,0)","v":0},null,{"$f":"+IF($P$2=33,$Q124,0)","v":0},null,{"$f":"+ROUND(+G124+J124+L124,0)","v":0},null,{"$f":"+ROUND(+OTCHET!E521+OTCHET!E531+OTCHET!E557+OTCHET!E564+OTCHET!E565+OTCHET!E579+OTCHET!E591+IF(AND(OTCHET!$F$12=9900,+OTCHET!$E$15=0),+OTCHET!E586,0),0)","v":0},{"$f":"+ROUND(+OTCHET!L521+OTCHET!L531+OTCHET!L557+OTCHET!L564+OTCHET!L565+OTCHET!L579+OTCHET!L591+IF(AND(OTCHET!$F$12=9900,+OTCHET!$E$15=0),+OTCHET!L586,0),0)","v":0},null,"финансиращи §§ 87-00, 89-00, 93-30, 93-95, 93-96, 95-13 и 98-00 (за ЦБ - и § 96-01 и 96-02)"]
[null,"     в т.ч. изменение на средства по сметки, включени в единната сметка",null,null,null,{"$f":"+IF($P$2=0,$P125,0)","v":0},{"$f":"+IF($P$2=0,$Q125,0)","v":0},null,null,null,null,null,null,{"$f":"+ROUND(+G125+J125+L125,0)","v":0},null,{"$f":"+ROUND(+IF(AND(OTCHET!$F$12=\"9900\",+OTCHET!$E$15=0,+(OTCHET!E589+OTCHET!E590)>0,+(OTCHET!E587+OTCHET!E588)<0),+OTCHET!E586,0),0)","v":0},{"$f":"+ROUND(+IF(AND(OTCHET!$F$12=\"9900\",+OTCHET!$E$15=0,+(OTCHET!L589+OTCHET!L590)>=0,+(OTCHET!L587+OTCHET!L588)<=0),+OTCHET!L586,0),0)","v":0},null,"финансиращ § 96-00"]
[null," 4. Разлики от закръгления в хил. лв. (+/-)",null,null,null,null,null,null,null,null,null,null,null,{"$f":"+ROUND(+G126+J126+L126,0)","v":0},null,null,null,null,"прилага се само за отчета в хил. лв."]
[null," З. ОБЩО НЕТО-РАЗЧЕТИ И ДРУГИ ОПЕРАЦИИ",null,null,null,{"$f":"+ROUND(+SUM(F122:F126),0)","v":0},{"$f":"+ROUND(+SUM(G122:G126),0)","v":2304},null,{"$f":"+ROUND(+SUM(I122:I126),0)","v":0},{"$f":"+ROUND(+SUM(J122:J126),0)","v":0},null,{"$f":"+ROUND(+SUM(L122:L126),0)","v":0},null,{"$f":"+ROUND(+SUM(N122:N126),0)","v":2304},null,{"$f":"+ROUND(+SUM(P122:P126),0)","v":0},{"$f":"+ROUND(+SUM(Q122:Q126),0)","v":2304},null," Сборен ред за З. ОБЩО НЕТО-РАЗЧЕТИ И ДРУГИ НЕТНИ ПОЗИЦИИ"]
[null," И. ИЗМЕНЕНИЕ НА ПАРИЧНИТЕ СРЕДСТВА",null,null,null,null,null,null,null,null,null,null,null,null,null,null,null,null," И. ИЗМЕНЕНИЕ НА ПАРИЧНИТЕ СРЕДСТВА"]
[null," 1. Наличности на парични средства в началото на отчетния период",null,null,null,{"$f":"+IF($P$2=0,$P129,0)","v":0},{"$f":"+IF($P$2=0,$Q129,0)","v":0},null,{"$f":"+IF(OR($P$2=98,$P$2=42,$P$2=96,$P$2=97),$P129,0)","v":0},{"$f":"+IF(OR($P$2=98,$P$2=42,$P$2=96,$P$2=97),$Q129,0)","v":0},null,{"$f":"+IF($P$2=33,$Q129,0)","v":0},null,{"$f":"+ROUND(+G129+J129+L129,0)","v":0},null,{"$f":"+ROUND(+SUM(OTCHET!E567:E572)+SUM(OTCHET!E581:E582)+IF(AND(OTCHET!$F$12=9900,+OTCHET!$E$15=0),0,SUM(OTCHET!E587:E588)),0)","v":0},{"$f":"+ROUND(+SUM(OTCHET!L567:L572)+SUM(OTCHET!L581:L582)+IF(AND(OTCHET!$F$12=9900,+OTCHET!$E$15=0),0,SUM(OTCHET!L587:L588)),0)","v":0},null,"финансиращи §§ 95-01 ÷ 95-06, 95-21, 95-22, 96-01 и 96-03 (за ЦБ -  без § 96-01 и 96-03)"]
[null," 2. Преоценка на наличности в чудестранна валута в края на отчетния период",null,null,null,{"$f":"+IF($P$2=0,$P130,0)","v":0},{"$f":"+IF($P$2=0,$Q130,0)","v":0},null,{"$f":"+IF(OR($P$2=98,$P$2=42,$P$2=96,$P$2=97),$P130,0)","v":0},{"$f":"+IF(OR($P$2=98,$P$2=42,$P$2=96,$P$2=97),$Q130,0)","v":0},null,{"$f":"+IF($P$2=33,$Q130,0)","v":0},null,{"$f":"+ROUND(+G130+J130+L130,0)","v":0},null,{"$f":"+ROUND(OTCHET!E580+OTCHET!E585,0)","v":0},{"$f":"+ROUND(OTCHET!L580+OTCHET!L585,0)","v":0},null,"финансиращи §§ 95-14 и 95-49"]
[null," 3. Наличности на парични средства в края на отчетния период",null,null,null,{"$f":"+IF($P$2=0,$P131,0)","v":0},{"$f":"+IF($P$2=0,$Q131,0)","v":46998},null,{"$f":"+IF(OR($P$2=98,$P$2=42,$P$2=96,$P$2=97),$P131,0)","v":0},{"$f":"+IF(OR($P$2=98,$P$2=42,$P$2=96,$P$2=97),$Q131,0)","v":0},null,{"$f":"+IF($P$2=33,$Q131,0)","v":0},null,{"$f":"+ROUND(+G131+J131+L131,0)","v":46998},null,{"$f":"+ROUND(-SUM(OTCHET!E573:E578)-SUM(OTCHET!E583:E584)-IF(AND(OTCHET!$F$12=9900,+OTCHET!$E$15=0),0,SUM(OTCHET!E589:E590)),0)","v":0},{"$f":"+ROUND(-SUM(OTCHET!L573:L578)-SUM(OTCHET!L583:L584)-IF(AND(OTCHET!$F$12=9900,+OTCHET!$E$15=0),0,SUM(OTCHET!L589:L590)),0)","v":46998},null,"(-) §§ 95-07 ÷ 95-12, 95-28, 95-29, 96-07 и 96-09 (за ЦБ - § без 96-07 и 96-09)"]
[null," И. ИЗМЕНЕНИЕ НА ПАРИЧНИТЕ СРЕДСТВА (3. - 1. - 2.)",null,null,null,{"$f":"+ROUND(+F131-F129-F130,0)","v":0},{"$f":"+ROUND(+G131-G129-G130,0)","v":46998},null,{"$f":"+ROUND(+I131-I129-I130,0)","v":0},{"$f":"+ROUND(+J131-J129-J130,0)","v":0},null,{"$f":"+ROUND(+L131-L129-L130,0)","v":0},null,{"$f":"+ROUND(+N131-N129-N130,0)","v":46998},null,{"$f":"+ROUND(+P131-P129-P130,0)","v":0},{"$f":"+ROUND(+Q131-Q129-Q130,0)","v":46998},null," Сборен ред за И. ИЗМЕНЕНИЕ НА ПАРИЧНИТЕ СРЕДСТВА (3. - 1. - 2.)"]
[null,{"$f":"+IF(+SUM(F133:N133)=0,0,\"Контрола: дефицит/излишък = финансиране с обратен знак (Г. + Д. = 0)\")","v":"Контрола: дефицит/излишък = финансиране с обратен знак (Г. + Д. = 0)"},null,null,null,{"$f":"+ROUND(F83,0)+ROUND(F84,0)","v":0},{"$f":"+ROUND(G83,0)+ROUND(G84,0)","v":-1},null,{"$f":"+ROUND(I83,0)+ROUND(I84,0)","v":0},{"$f":"+ROUND(J83,0)+ROUND(J84,0)","v":0},null,{"$f":"+ROUND(L83,0)+ROUND(L84,0)","v":0},null,{"$f":"+ROUND(N83,0)+ROUND(N84,0)","v":-1},null,{"$f":"+ROUND(P83,0)+ROUND(P84,0)","v":0},{"$f":"+ROUND(Q83,0)+ROUND(Q84,0)","v":-1}]
[null,"                                                              Дата:",{"$f":"+OTCHET!B605","v":43935},"              ГЛ. СЧЕТОВОДИТЕЛ:",null,null,null,null,"                          РЪКОВОДИТЕЛ:"]
[]
[]
[null,"КОНТРОЛА - РАВНЕНИЕ МЕЖДУ БЮДЖЕТНО САЛДО И ФИНАНСИРАНЕ",null,null,null,{"$f":"+IF(+ROUND(F140,2)=0,\"O K\",\"НЕРАВНЕНИЕ!\")","v":"O K"},{"$f":"+IF(+ROUND(G140,2)=0,\"O K\",\"НЕРАВНЕНИЕ!\")","v":"НЕРАВНЕНИЕ!"},null,{"$f":"+IF(+ROUND(I140,2)=0,\"O K\",\"НЕРАВНЕНИЕ!\")","v":"O K"},{"$f":"+IF(+ROUND(J140,2)=0,\"O K\",\"НЕРАВНЕНИЕ!\")","v":"O K"},null,{"$f":"+IF(+ROUND(L140,2)=0,\"O K\",\"НЕРАВНЕНИЕ!\")","v":"O K"},null,{"$f":"+IF(+ROUND(N140,2)=0,\"O K\",\"НЕРАВНЕНИЕ!\")","v":"НЕРАВНЕНИЕ!"},null,{"$f":"+IF(+ROUND(P140,2)=0,\"O K\",\"НЕРАВНЕНИЕ!\")","v":"O K"},{"$f":"+IF(+ROUND(Q140,2)=0,\"O K\",\"НЕРАВНЕНИЕ!\")","v":"НЕРАВНЕНИЕ!"}]
[null,"КОНТРОЛА - РАВНЕНИЕ НА КАСОВИ ПОТОЦИ С НАЛИЧНОСТ",null,null,null,{"$f":"+IF(+ROUND(F141,0)=0,\"O K\",\"НЕРАВНЕНИЕ!\")","v":"O K"},{"$f":"+IF(+ROUND(G141,0)=0,\"O K\",\"НЕРАВНЕНИЕ!\")","v":"НЕРАВНЕНИЕ!"},null,{"$f":"+IF(+ROUND(I141,0)=0,\"O K\",\"НЕРАВНЕНИЕ!\")","v":"O K"},{"$f":"+IF(+ROUND(J141,0)=0,\"O K\",\"НЕРАВНЕНИЕ!\")","v":"O K"},null,{"$f":"+IF(+ROUND(L141,0)=0,\"O K\",\"НЕРАВНЕНИЕ!\")","v":"O K"},null,{"$f":"+IF(+ROUND(N141,0)=0,\"O K\",\"НЕРАВНЕНИЕ!\")","v":"НЕРАВНЕНИЕ!"},null,{"$f":"+IF(+ROUND(P141,0)=0,\"O K\",\"НЕРАВНЕНИЕ!\")","v":"O K"},{"$f":"+IF(+ROUND(Q141,0)=0,\"O K\",\"НЕРАВНЕНИЕ!\")","v":"НЕРАВНЕНИЕ!"}]
[]
[null,"КОНТРОЛА - РАВНЕНИЕ НА БЮДЖ. САЛДО И ФИНАНСИРАНЕ - неравнение в левове",null,null,null,{"$f":"+ROUND(F83,0)+ROUND(F84,0)","v":0},{"$f":"+ROUND(G83,0)+ROUND(G84,0)","v":-1},null,{"$f":"+ROUND(I83,0)+ROUND(I84,0)","v":0},{"$f":"+ROUND(J83,0)+ROUND(J84,0)","v":0},null,{"$f":"+ROUND(L83,0)+ROUND(L84,0)","v":0},null,{"$f":"+ROUND(N83,0)+ROUND(N84,0)","v":-1},null,{"$f":"+ROUND(P83,0)+ROUND(P84,0)","v":0},{"$f":"+ROUND(Q83,0)+ROUND(Q84,0)","v":-1}]
[null,"КОНТРОЛА - РАВНЕНИЕ НА КАСОВИ ПОТОЦИ С НАЛИЧНОСТ - неравнение в левове",null,null,null,{"$f":"SUM(+ROUND(F83,0)+ROUND(F101,0)+ROUND(F120,0)+ROUND(F127,0)+ROUND(F129,0)+ROUND(F130,0))-ROUND(F131,0)","v":0},{"$f":"SUM(+ROUND(G83,0)+ROUND(G101,0)+ROUND(G120,0)+ROUND(G127,0)+ROUND(G129,0)+ROUND(G130,0))-ROUND(G131,0)","v":-1},null,{"$f":"SUM(+ROUND(I83,0)+ROUND(I101,0)+ROUND(I120,0)+ROUND(I127,0)+ROUND(I129,0)+ROUND(I130,0))-ROUND(I131,0)","v":0},{"$f":"SUM(+ROUND(J83,0)+ROUND(J101,0)+ROUND(J120,0)+ROUND(J127,0)+ROUND(J129,0)+ROUND(J130,0))-ROUND(J131,0)","v":0},null,{"$f":"SUM(+ROUND(L83,0)+ROUND(L101,0)+ROUND(L120,0)+ROUND(L127,0)+ROUND(L129,0)+ROUND(L130,0))-ROUND(L131,0)","v":0},null,{"$f":"SUM(+ROUND(N83,0)+ROUND(N101,0)+ROUND(N120,0)+ROUND(N127,0)+ROUND(N129,0)+ROUND(N130,0))-ROUND(N131,0)","v":-1},null,{"$f":"SUM(+ROUND(P83,0)+ROUND(P101,0)+ROUND(P120,0)+ROUND(P127,0)+ROUND(P129,0)+ROUND(P130,0))-ROUND(P131,0)","v":0},{"$f":"SUM(+ROUND(Q83,0)+ROUND(Q101,0)+ROUND(Q120,0)+ROUND(Q127,0)+ROUND(Q129,0)+ROUND(Q130,0))-ROUND(Q131,0)","v":-1}]

{"sheet":"OTCHET-agregirani pokazateli","index":1,"n_rows":114,"n_cols":11,"rows_kept":114,"cut":false,"hidden":false,"merged":[[113,4,113,5],[11,8,13,8],[16,4,17,4],[16,5,17,5],[107,6,107,7],[109,4,109,5]]}
[]
[]
[]
[]
[]
[]
[]
[null,{"$f":"VLOOKUP(E15,SMETKA,3,FALSE)","v":"                                  ОТЧЕТ ЗА КАСОВОТО ИЗПЪЛНЕНИЕ НА БЮДЖЕТА"}]
[]
[]
[null,{"$f":"+OTCHET!B9","v":"ОУ Г.С.РАКОВСКИ-С.ГЪЛЪБЕЦ"},null,null,"към",{"$f":"OTCHET!F9","v":"2020-03-31"},"ЕИК/БУЛСТАТ",{"$f":"OTCHET!H9","v":0},{"$f":"OTCHET!I9","v":0}]
[null,"                                  (наименование на разпоредителя с бюджет)",null,null,null,null,null,null,"код от регистъра на бюджетните организации в СЕБРА"]
[null,{"$f":"+OTCHET!B12","v":"Поморие"},null,null,{"$f":"+OTCHET!E12","v":"код по ЕБК:"},{"$f":"+OTCHET!F12","v":"5207"}]
[null,"               (наименование на първостепенния разпоредител с бюджет)"]
[null,"финансово-правна форма",null,null,{"$f":"OTCHET!E15","v":0},{"$f":"OTCHET!F15","v":"БЮДЖЕТ"}]
[]
[null,null,"§§",null,"Годишен         уточнен план                           2020 г.","ОТЧЕТ               2020 г.","                        ОТЧЕТНИ ДАННИ ЗА:",null,null,null,"§§ от ЕБК, които се включват в съответния показател"]
[null,"П О К А З А Т Е Л И",null,null,null,null,"държавни дейности","местни дейности","дофинансиране"]
[]
[null,"(а)",null,null,"(1)","(2)","(3)","(4)","(5)"]
[]
[10,"I. ПРИХОДИ, ПОМОЩИ И ДАРЕНИЯ ","§§ 01 - 48",null,{"$f":"+E23+E25+E36+E37","v":0},{"$f":"+F23+F25+F36+F37","v":0},{"$f":"+G23+G25+G36+G37","v":0},{"$f":"+H23+H25+H36+H37","v":0},{"$f":"+I23+I25+I36+I37","v":0},null,"§§ 01 - 48"]
[15,"1. Данъчни приходи","§§ 01 - 20  ",null,{"$f":"OTCHET!E22+OTCHET!E28+OTCHET!E33+OTCHET!E39+OTCHET!E47+OTCHET!E52+OTCHET!E58+OTCHET!E61+OTCHET!E64+OTCHET!E65+OTCHET!E72+OTCHET!E73","v":0},{"$f":"+G23+H23+I23","v":0},{"$f":"OTCHET!I22+OTCHET!I28+OTCHET!I33+OTCHET!I39+OTCHET!I47+OTCHET!I52+OTCHET!I58+OTCHET!I61+OTCHET!I64+OTCHET!I65+OTCHET!I72+OTCHET!I73","v":0},{"$f":"OTCHET!J22+OTCHET!J28+OTCHET!J33+OTCHET!J39+OTCHET!J47+OTCHET!J52+OTCHET!J58+OTCHET!J61+OTCHET!J64+OTCHET!J65+OTCHET!J72+OTCHET!J73","v":0},{"$f":"OTCHET!K22+OTCHET!K28+OTCHET!K33+OTCHET!K39+OTCHET!K47+OTCHET!K52+OTCHET!K58+OTCHET!K61+OTCHET!K64+OTCHET!K65+OTCHET!K72+OTCHET!K73","v":0},null,"§§ 01 - 20  "]
[null,"в т. ч. трансфери за отчислени приходи","§ 65",null,null,{"$f":"+G24+H24+I24","v":0},null,null,null,null,"§ 65"]
[20,"2. Други приходи","§§ 24 - 42",null,{"$f":"+E26+E30+E31+E32+E33","v":0},{"$f":"+F26+F30+F31+F32+F33","v":0},{"$f":"+G26+G30+G31+G32+G33","v":0},{"$f":"+H26+H30+H31+H32+H33","v":0},{"$f":"+I26+I30+I31+I32+I33","v":0},null,"§§ 24 - 42"]
[25,"2.1 Приходи и доходи от собственост ","§24",null,{"$f":"OTCHET!E74","v":0},{"$f":"+G26+H26+I26","v":0},{"$f":"OTCHET!I74","v":0},{"$f":"OTCHET!J74","v":0},{"$f":"OTCHET!K74","v":0},null,"§24"]
[26,"в т. ч.   вноски от приходи на държавни и общински предприятия и институции","под.§ 24-01",null,{"$f":"OTCHET!E75","v":0},0,{"$f":"OTCHET!I75","v":0},{"$f":"OTCHET!J75","v":0},{"$f":"OTCHET!K75","v":0},null,"под.§ 24-01"]
[30,"             нетни приходи от продажба на услуги, стоки и продукция","под.§ 24-04",null,{"$f":"OTCHET!E77","v":0},0,{"$f":"OTCHET!I77","v":0},{"$f":"OTCHET!J77","v":0},{"$f":"OTCHET!K77","v":0},null,"под.§ 24-04"]
[35,"             приходи от наеми на имущество и земя ","под.§§ 24-05 и 24-06",null,{"$f":"+OTCHET!E78+OTCHET!E79","v":0},0,{"$f":"+OTCHET!I78+OTCHET!I79","v":0},{"$f":"+OTCHET!J78+OTCHET!J79","v":0},{"$f":"+OTCHET!K78+OTCHET!K79","v":0},null,"под.§§ 24-05 и 24-06"]
[40,"2.2 Приходи от такси","§§ 25 - 27",null,{"$f":"OTCHET!E90+OTCHET!E93+OTCHET!E94","v":0},0,{"$f":"OTCHET!I90+OTCHET!I93+OTCHET!I94","v":0},{"$f":"OTCHET!J90+OTCHET!J93+OTCHET!J94","v":0},{"$f":"OTCHET!K90+OTCHET!K93+OTCHET!K94","v":0},null,"§§ 25 - 27"]
[45,"2.3 Глоби, санкции и наказателни лихви ","§28",null,{"$f":"OTCHET!E108","v":0},0,{"$f":"OTCHET!I108","v":0},{"$f":"OTCHET!J108","v":0},{"$f":"OTCHET!K108","v":0},null,"§28"]
[50,"2.4  Други неданъчни приходи ","§§ 36 - 37 и §§ 41 - 42",null,{"$f":"OTCHET!E112+OTCHET!E121+OTCHET!E137+OTCHET!E138","v":0},0,{"$f":"OTCHET!I112+OTCHET!I121+OTCHET!I137+OTCHET!I138","v":0},{"$f":"OTCHET!J112+OTCHET!J121+OTCHET!J137+OTCHET!J138","v":0},{"$f":"OTCHET!K112+OTCHET!K121+OTCHET!K137+OTCHET!K138","v":0},null,"§§ 36 - 37 и §§ 41 - 42"]
[51,"2.5  Постъпления от продажба на нефинансови активи","§ 40 с изключение на под.§ 40-71",null,{"$f":"OTCHET!E125","v":0},0,{"$f":"OTCHET!I125","v":0},{"$f":"OTCHET!J125","v":0},{"$f":"OTCHET!K125","v":0},null,"§ 40 с изключение на под.§ 40-71"]
[52,null,null,null,null,0]
[null,null,null,null,null,0]
[60,"3. Помощи и  дарения от страната","§ 45 ",null,{"$f":"+OTCHET!E139","v":0},0,{"$f":"+OTCHET!I139","v":0},{"$f":"+OTCHET!J139","v":0},{"$f":"+OTCHET!K139","v":0},null,"§ 45 "]
[65,"4. Помощи и дарения от чужбина","§§ 46 - 48  ",null,{"$f":"OTCHET!E142+OTCHET!E151+OTCHET!E160","v":0},0,{"$f":"OTCHET!I142+OTCHET!I151+OTCHET!I160","v":0},{"$f":"OTCHET!J142+OTCHET!J151+OTCHET!J160","v":0},{"$f":"OTCHET!K142+OTCHET!K151+OTCHET!K160","v":0},null,"§§ 46 - 48  "]
[70,"II. РАЗХОДИ ","§§ 01 - 57",null,{"$f":"E39+E43+E44+E46+SUM(E48:E52)+E55","v":430078},{"$f":"F39+F43+F44+F46+SUM(F48:F52)+F55","v":94145.689999999988},{"$f":"G39+G43+G44+G46+SUM(G48:G52)+G55","v":94145.689999999988},{"$f":"H39+H43+H44+H46+SUM(H48:H52)+H55","v":0},{"$f":"I39+I43+I44+I46+SUM(I48:I52)+I55","v":0},null,"§§ 01 - 57"]
[null,"1. Персонал",null,null,{"$f":"SUM(E40:E42)","v":376989},{"$f":"SUM(F40:F42)","v":82317.87999999999},{"$f":"SUM(G40:G42)","v":82317.87999999999},{"$f":"SUM(H40:H42)","v":0},{"$f":"SUM(I40:I42)","v":0},null,"§§ 1 - 8"]
[75,"1.1. Заплати и възнаграждения за персонала, нает по трудови и служебни прав. ","§ 01",null,{"$f":"OTCHET!E187","v":289769},{"$f":"+G40+H40+I40","v":59656.959999999999},{"$f":"OTCHET!I187","v":59656.959999999999},{"$f":"OTCHET!J187","v":0},{"$f":"OTCHET!K187","v":0},null,"§ 01"]
[80,"1.2. Други възнаграждения и плащания за персонала ","§ 02",null,{"$f":"OTCHET!E190","v":19220},7675.77,{"$f":"OTCHET!I190","v":7675.77},{"$f":"OTCHET!J190","v":0},{"$f":"OTCHET!K190","v":0},null,"§ 02"]
[85,"1.3. Осигурителни вноски","§§ 05 и 08",null,{"$f":"+OTCHET!E196+OTCHET!E204","v":68000},14985.15,{"$f":"+OTCHET!I196+OTCHET!I204","v":14985.15},{"$f":"+OTCHET!J196+OTCHET!J204","v":0},{"$f":"+OTCHET!K196+OTCHET!K204","v":0},null,"§§ 05 и 08"]
[90,"2. Издръжка ","§§ 10; 19; 46",null,{"$f":"+OTCHET!E205+OTCHET!E223+OTCHET!E271","v":53089},11827.810000000001,{"$f":"+OTCHET!I205+OTCHET!I223+OTCHET!I271","v":11827.810000000001},{"$f":"+OTCHET!J205+OTCHET!J223+OTCHET!J271","v":0},{"$f":"+OTCHET!K205+OTCHET!K223+OTCHET!K271","v":0},null,"§§ 10; 19; 46"]
[95,"3. Лихви ","§§ 21 - 29",null,{"$f":"+OTCHET!E227+OTCHET!E233+OTCHET!E236+OTCHET!E237+OTCHET!E238+OTCHET!E239+OTCHET!E240","v":0},0,{"$f":"+OTCHET!I227+OTCHET!I233+OTCHET!I236+OTCHET!I237+OTCHET!I238+OTCHET!I239+OTCHET!I240","v":0},{"$f":"+OTCHET!J227+OTCHET!J233+OTCHET!J236+OTCHET!J237+OTCHET!J238+OTCHET!J239+OTCHET!J240","v":0},{"$f":"+OTCHET!K227+OTCHET!K233+OTCHET!K236+OTCHET!K237+OTCHET!K238+OTCHET!K239+OTCHET!K240","v":0},null,"§§ 21 - 29"]
[100,"в т. ч. външни ","§§ 25 - 28; 29-69/29-70 и 29-92 ",null,{"$f":"+OTCHET!E236+OTCHET!E237+OTCHET!E238+OTCHET!E239+OTCHET!E243+OTCHET!E244+OTCHET!E248","v":0},0,{"$f":"+OTCHET!I236+OTCHET!I237+OTCHET!I238+OTCHET!I239+OTCHET!I243+OTCHET!I244+OTCHET!I248","v":0},{"$f":"+OTCHET!J236+OTCHET!J237+OTCHET!J238+OTCHET!J239+OTCHET!J243+OTCHET!J244+OTCHET!J248","v":0},{"$f":"+OTCHET!K236+OTCHET!K237+OTCHET!K238+OTCHET!K239+OTCHET!K243+OTCHET!K244+OTCHET!K248","v":0},null,"§§ 25 - 28; 29-69/29-70 и 29-92 "]
[105,"4. Социални разходи, стипендии","§§ 39 - 42",null,{"$f":"+OTCHET!E255+OTCHET!E256+OTCHET!E257+OTCHET!E258","v":0},0,{"$f":"+OTCHET!I255+OTCHET!I256+OTCHET!I257+OTCHET!I258","v":0},{"$f":"+OTCHET!J255+OTCHET!J256+OTCHET!J257+OTCHET!J258","v":0},{"$f":"+OTCHET!K255+OTCHET!K256+OTCHET!K257+OTCHET!K258","v":0},null,"§§ 39 - 42"]
[106,"в т. ч. стипендии","§ 40",null,{"$f":"+OTCHET!E256","v":0},0,{"$f":"+OTCHET!I256","v":0},{"$f":"+OTCHET!J256","v":0},{"$f":"+OTCHET!K256","v":0},null,"§ 40"]
[107,"5.Субсидии ","§§ 43 - 45; 49",null,{"$f":"+OTCHET!E265+OTCHET!E269+OTCHET!E270","v":0},0,{"$f":"+OTCHET!I265+OTCHET!I269+OTCHET!I270","v":0},{"$f":"+OTCHET!J265+OTCHET!J269+OTCHET!J270","v":0},{"$f":"+OTCHET!K265+OTCHET!K269+OTCHET!K270","v":0},null,"§§ 43 - 45"]
[108,"6. Придобиване на нeфинансови актииви","§§ 51 - 54",null,{"$f":"OTCHET!E275+OTCHET!E276+OTCHET!E284+OTCHET!E287","v":0},0,{"$f":"OTCHET!I275+OTCHET!I276+OTCHET!I284+OTCHET!I287","v":0},{"$f":"OTCHET!J275+OTCHET!J276+OTCHET!J284+OTCHET!J287","v":0},{"$f":"OTCHET!K275+OTCHET!K276+OTCHET!K284+OTCHET!K287","v":0},null,"§§ 51 - 54"]
[110,"7. Капиталови трансфери","§ 55",null,{"$f":"+OTCHET!E288","v":0},0,{"$f":"+OTCHET!I288","v":0},{"$f":"+OTCHET!J288","v":0},{"$f":"+OTCHET!K288","v":0},null,"§ 55"]
[null,"8. Предоставени текущи и капиталови трансфери за чужбина",null,null,{"$f":"+OTCHET!E272","v":0},{"$f":"+G51+H51+I51","v":0},{"$f":"+OTCHET!I272","v":0},{"$f":"+OTCHET!J272","v":0},{"$f":"+OTCHET!K272","v":0},null,"§ 49"]
[115,"9. Прираст на държавния резерв и изкупуване на земеделска продукция ","(+ § 57 - под.§ 40-71)",null,{"$f":"+OTCHET!E293","v":0},0,{"$f":"+OTCHET!I293","v":0},{"$f":"+OTCHET!J293","v":0},{"$f":"+OTCHET!K293","v":0},null,"(+ § 57 - под.§ 40-71)"]
[120,"в т. ч. плащания за попълване на държавния резерв","под.§;57-01",null,{"$f":"OTCHET!E294","v":0},0,{"$f":"OTCHET!I294","v":0},{"$f":"OTCHET!J294","v":0},{"$f":"OTCHET!K294","v":0},null,"под.§;57-01"]
[125,"          постъпления от продажби на държавния резерв (-)","(-)под.§ 40-71",null,{"$f":"OTCHET!E296","v":0},0,{"$f":"OTCHET!I296","v":0},{"$f":"OTCHET!J296","v":0},{"$f":"OTCHET!K296","v":0},null,"(-)под.§ 40-71"]
[127,"10. Резерв за непредвидини и неотложни разходи","§;00-98",null,{"$f":"+OTCHET!E297","v":0},0,{"$f":"+OTCHET!I297","v":0},{"$f":"+OTCHET!J297","v":0},{"$f":"+OTCHET!K297","v":0},null,"§;00-98"]
[130,"III. Трансфери","§§ 30 - 31; 32; 60 - 67; 69; 74 - 78 ",null,{"$f":"+E57+E58+E62","v":430078},{"$f":"+F57+F58+F62","v":138838.89000000001},{"$f":"+G57+G58+G62","v":138838.89000000001},{"$f":"+H57+H58+H62","v":0},{"$f":"+I57+I58+I62","v":0},null,"§§ 30 - 31; 32; 60 - 67; 69; 74 - 78 "]
[135,"1. Трансфери от/за ЦБ за/от други бюджети ","§§ 30 - 31; 60",null,{"$f":"+OTCHET!E361+OTCHET!E375+OTCHET!E388","v":0},{"$f":"+G57+H57+I57","v":0},{"$f":"+OTCHET!I361+OTCHET!I375+OTCHET!I388","v":0},{"$f":"+OTCHET!J361+OTCHET!J375+OTCHET!J388","v":0},{"$f":"+OTCHET!K361+OTCHET!K375+OTCHET!K388","v":0},null,"§§ 30 - 31; 60"]
[140,"2. Други трансфери ","§§ 32; 61- 67;  74 - 78",null,{"$f":"+OTCHET!E383+OTCHET!E391+OTCHET!E396+OTCHET!E399+OTCHET!E402+OTCHET!E405+OTCHET!E406+OTCHET!E409+OTCHET!E422+OTCHET!E423+OTCHET!E424+OTCHET!E425+OTCHET!E426","v":430078},138838.89000000001,{"$f":"+OTCHET!I383+OTCHET!I391+OTCHET!I396+OTCHET!I399+OTCHET!I402+OTCHET!I405+OTCHET!I406+OTCHET!I409+OTCHET!I422+OTCHET!I423+OTCHET!I424+OTCHET!I425+OTCHET!I426","v":138838.89000000001},{"$f":"+OTCHET!J383+OTCHET!J391+OTCHET!J396+OTCHET!J399+OTCHET!J402+OTCHET!J405+OTCHET!J406+OTCHET!J409+OTCHET!J422+OTCHET!J423+OTCHET!J424+OTCHET!J425+OTCHET!J426","v":0},{"$f":"+OTCHET!K383+OTCHET!K391+OTCHET!K396+OTCHET!K399+OTCHET!K402+OTCHET!K405+OTCHET!K406+OTCHET!K409+OTCHET!K422+OTCHET!K423+OTCHET!K424+OTCHET!K425+OTCHET!K426","v":0},null,"§§ 32; 61- 67;  74 - 78"]
[145,"в т. ч. временни безлихвени заеми","§§ 74 - 78",null,{"$f":"+OTCHET!E422+OTCHET!E423+OTCHET!E424+OTCHET!E425+OTCHET!E426","v":0},0,{"$f":"+OTCHET!I422+OTCHET!I423+OTCHET!I424+OTCHET!I425+OTCHET!I426","v":0},{"$f":"+OTCHET!J422+OTCHET!J423+OTCHET!J424+OTCHET!J425+OTCHET!J426","v":0},{"$f":"+OTCHET!K422+OTCHET!K423+OTCHET!K424+OTCHET!K425+OTCHET!K426","v":0},null,"§§ 74 - 78"]
[150,"         трансфери за отчислени постъпления","§ 65",null,{"$f":"OTCHET!E405","v":0},0,{"$f":"OTCHET!I405","v":0},{"$f":"OTCHET!J405","v":0},{"$f":"OTCHET!K405","v":0},null,"§ 65"]
[160,null,null,null,null,0]
[162,"3. Трансфери за поети осигурителни вноски и данъци","§ 69",null,{"$f":"OTCHET!E412","v":0},0,{"$f":"OTCHET!I412","v":0},{"$f":"OTCHET!J412","v":0},{"$f":"OTCHET!K412","v":0},null,"§ 69"]
[165,"IV. Вноска в общия бюджет на ЕС","§ 33",null,{"$f":"+OTCHET!E249","v":0},0,{"$f":"+OTCHET!I249","v":0},{"$f":"+OTCHET!J249","v":0},{"$f":"+OTCHET!K249","v":0},null,"§ 33"]
[175,"V. Дефицит / излишък = I - II +III - IV ",null,null,{"$f":"+E22-E38+E56-E63","v":0},{"$f":"+F22-F38+F56-F63","v":44693.200000000026},{"$f":"+G22-G38+G56-G63","v":44693.200000000026},{"$f":"+H22-H38+H56-H63","v":0},{"$f":"+I22-I38+I56-I63","v":0}]
[180,{"$f":"+IF(+SUM(E$65:I$65)=0,0,\"Контрола: дефицит/излишък = финансиране с обратен знак (V. + VІ. = 0)\")","v":0},null,null,{"$f":"+E$64+E$66","v":0},{"$f":"+F$64+F$66","v":0},{"$f":"+G$64+G$66","v":0},{"$f":"+H$64+H$66","v":0},{"$f":"+I$64+I$66","v":0}]
[185,"VI. Финансиране ","§§ 70 - 98",null,{"$f":"SUM(+E68+E76+E77+E84+E85+E86+E89+E90+E91+E92+E93+E94+E95)","v":0},{"$f":"SUM(+F68+F76+F77+F84+F85+F86+F89+F90+F91+F92+F93+F94+F95)","v":-44693.2},{"$f":"SUM(+G68+G76+G77+G84+G85+G86+G89+G90+G91+G92+G93+G94+G95)","v":-44693.2},{"$f":"SUM(+H68+H76+H77+H84+H85+H86+H89+H90+H91+H92+H93+H94+H95)","v":0},{"$f":"SUM(+I68+I76+I77+I84+I85+I86+I89+I90+I91+I92+I93+I94+I95)","v":0},null,"§§ 70 - 98"]
[190,null,null,null,null,{"$f":"+G67+H67+I67","v":0}]
[195,"1. Външно финансиране","§§ 80 - 82; 92-01; 95-21/95-22; 95-28/95-29 и 95-49",null,{"$f":"SUM(E69:E75)","v":0},{"$f":"SUM(F69:F75)","v":0},{"$f":"SUM(G69:G75)","v":0},{"$f":"SUM(H69:H75)","v":0},{"$f":"SUM(I69:I75)","v":0},null,"§§ 80 - 82; 92-01; 95-21/95-22; 95-28/95-29 и 95-49"]
[200,"            получени външни заеми ","под.§§ 80-11/80-12; 80-31/80-32; 80-51/80-52 и 80-97",null,{"$f":"+OTCHET!E482+OTCHET!E483+OTCHET!E486+OTCHET!E487+OTCHET!E490+OTCHET!E491+OTCHET!E495","v":0},{"$f":"+G69+H69+I69","v":0},{"$f":"+OTCHET!I482+OTCHET!I483+OTCHET!I486+OTCHET!I487+OTCHET!I490+OTCHET!I491+OTCHET!I495","v":0},{"$f":"+OTCHET!J482+OTCHET!J483+OTCHET!J486+OTCHET!J487+OTCHET!J490+OTCHET!J491+OTCHET!J495","v":0},{"$f":"+OTCHET!K482+OTCHET!K483+OTCHET!K486+OTCHET!K487+OTCHET!K490+OTCHET!K491+OTCHET!K495","v":0},null,"под.§§ 80-11/80-12; 80-31/80-32; 80-51/80-52 и 80-97"]
[205,"            погашения по външни заеми ","под.§§ 80-17/80-18; 80-37/80-38; 80-57/80-58; 80-80 и 80-98;",null,{"$f":"+OTCHET!E484+OTCHET!E485+OTCHET!E488+OTCHET!E489+OTCHET!E492+OTCHET!E493+OTCHET!E494+OTCHET!E496","v":0},0,{"$f":"+OTCHET!I484+OTCHET!I485+OTCHET!I488+OTCHET!I489+OTCHET!I492+OTCHET!I493+OTCHET!I494+OTCHET!I496","v":0},{"$f":"+OTCHET!J484+OTCHET!J485+OTCHET!J488+OTCHET!J489+OTCHET!J492+OTCHET!J493+OTCHET!J494+OTCHET!J496","v":0},{"$f":"+OTCHET!K484+OTCHET!K485+OTCHET!K488+OTCHET!K489+OTCHET!K492+OTCHET!K493+OTCHET!K494+OTCHET!K496","v":0},null,"под.§§ 80-17/80-18; 80-37/80-38; 80-57/80-58; 80-80 и 80-98;"]
[210,"            държавни /общински/ ЦК емитирани на м/нар. капиталови пазари ","§ 81",null,{"$f":"+OTCHET!E497","v":0},0,{"$f":"+OTCHET!I497","v":0},{"$f":"+OTCHET!J497","v":0},{"$f":"+OTCHET!K497","v":0},null,"§ 81"]
[215,"            получени погашения по предоставени кредити от други държави ","§ 82",null,{"$f":"+OTCHET!E502","v":0},0,{"$f":"+OTCHET!I502","v":0},{"$f":"+OTCHET!J502","v":0},{"$f":"+OTCHET!K502","v":0},null,"§ 82"]
[220,"            операции с др. ЦК и финансови активи ","под. § 92-01",null,{"$f":"+OTCHET!E542","v":0},0,{"$f":"+OTCHET!I542","v":0},{"$f":"+OTCHET!J542","v":0},{"$f":"+OTCHET!K542","v":0},null,"под. § 92-01"]
[230,"            остатък в лв.равн. по валутни сметки и каса в чужбина от предх. период ","под. §§ 95-21и 95-22",null,{"$f":"+OTCHET!E581+OTCHET!E582","v":0},0,{"$f":"+OTCHET!I581+OTCHET!I582","v":0},{"$f":"+OTCHET!J581+OTCHET!J582","v":0},{"$f":"+OTCHET!K581+OTCHET!K582","v":0},null,"под. §§ 95-21и 95-22"]
[235,"            наличности  в лв. равн.по валутни сметки и каса в чужб. в кр.на периода ","под. §§ 95-28/95-29 и 95-49",null,{"$f":"+OTCHET!E583+OTCHET!E584+OTCHET!E585","v":0},0,{"$f":"+OTCHET!I583+OTCHET!I584+OTCHET!I585","v":0},{"$f":"+OTCHET!J583+OTCHET!J584+OTCHET!J585","v":0},{"$f":"+OTCHET!K583+OTCHET!K584+OTCHET!K585","v":0},null,"под. §§ 95-28/95-29 и 95-49"]
[240,"2. Придобиване на дялове, акции, съучастия и др, финансови активи ","§ 70",null,{"$f":"OTCHET!E461","v":0},0,{"$f":"OTCHET!I461","v":0},{"$f":"OTCHET!J461","v":0},{"$f":"OTCHET!K461","v":0},null,"§ 70"]
[245,"3. Възмездни средства","§§ 71 - 73 и 79",null,{"$f":"SUM(E78:E83)","v":0},{"$f":"SUM(F78:F83)","v":0},{"$f":"SUM(G78:G83)","v":0},{"$f":"SUM(H78:H83)","v":0},{"$f":"SUM(I78:I83)","v":0},null,"§§ 71 - 73 и 79"]
[250,"            предоставени ","под. § 71-01 и § 72-01",null,{"$f":"+OTCHET!E466+OTCHET!E469","v":0},{"$f":"+G78+H78+I78","v":0},{"$f":"+OTCHET!I466+OTCHET!I469","v":0},{"$f":"+OTCHET!J466+OTCHET!J469","v":0},{"$f":"+OTCHET!K466+OTCHET!K469","v":0},null,"под. § 71-01 и § 72-01"]
[260,"            възстановени","под. § 71-02 и § 72-02 ",null,{"$f":"+OTCHET!E467+OTCHET!E470","v":0},0,{"$f":"+OTCHET!I467+OTCHET!I470","v":0},{"$f":"+OTCHET!J467+OTCHET!J470","v":0},{"$f":"+OTCHET!K467+OTCHET!K470","v":0},null,"под. § 71-02 и § 72-02 "]
[265,"            нето плащания по активирани гаранции, поръчителства и преоформен дълг "," § 73",null,{"$f":"OTCHET!E471","v":0},0,{"$f":"OTCHET!I471","v":0},{"$f":"OTCHET!J471","v":0},{"$f":"OTCHET!K471","v":0},null," § 73"]
[null,null,null,null,null,0]
[270,"            предоставени заеми към крайни бенифициенти","под. § 79-01",null,{"$f":"+OTCHET!E479","v":0},0,{"$f":"+OTCHET!I479","v":0},{"$f":"+OTCHET!J479","v":0},{"$f":"+OTCHET!K479","v":0},null,"под. § 79-01"]
[275,"            възстановени суми по заеми от крайни бенифициенти","под. § 79-02",null,{"$f":"+OTCHET!E480","v":0},0,{"$f":"+OTCHET!I480","v":0},{"$f":"+OTCHET!J480","v":0},{"$f":"+OTCHET!K480","v":0},null,"под. § 79-02"]
[280,"4. Приватизация на дялове, акции и участия","§ 90",null,{"$f":"OTCHET!E535","v":0},0,{"$f":"OTCHET!I535","v":0},{"$f":"OTCHET!J535","v":0},{"$f":"OTCHET!K535","v":0},null,"§ 90"]
[285,"5. Покупко-продажба на държавни/общински/ ценни книжа от бюдж. предприятия ","§ 91",null,{"$f":"OTCHET!E536","v":0},0,{"$f":"OTCHET!I536","v":0},{"$f":"OTCHET!J536","v":0},{"$f":"OTCHET!K536","v":0},null,"§ 91"]
[290,"6. Друго вътрешно финансиране ","§§ 83; 85 - 88; 92-02; 93",null,{"$f":"+E87+E88","v":0},{"$f":"+F87+F88","v":2304.41},{"$f":"+G87+G88","v":2304.41},{"$f":"+H87+H88","v":0},{"$f":"+I87+I88","v":0},null,"§§ 83; 85 - 88; 92-02; 93"]
[295,"            операции по вътрешен дълг и финан. активи- нето ","§§ 83; 85 - 86 и 92-02",null,{"$f":"+OTCHET!E503+OTCHET!E512+OTCHET!E516+OTCHET!E543","v":0},{"$f":"+G87+H87+I87","v":0},{"$f":"+OTCHET!I503+OTCHET!I512+OTCHET!I516+OTCHET!I543","v":0},{"$f":"+OTCHET!J503+OTCHET!J512+OTCHET!J516+OTCHET!J543","v":0},{"$f":"+OTCHET!K503+OTCHET!K512+OTCHET!K516+OTCHET!K543","v":0},null,"§§ 83; 85 - 86 и 92-02"]
[300,"            друго финансиране ","§§ 87; 88 и 93",null,{"$f":"+OTCHET!E521+OTCHET!E524+OTCHET!E544","v":0},2304.41,{"$f":"+OTCHET!I521+OTCHET!I524+OTCHET!I544","v":2304.41},{"$f":"+OTCHET!J521+OTCHET!J524+OTCHET!J544","v":0},{"$f":"+OTCHET!K521+OTCHET!K524+OTCHET!K544","v":0},null,"§§ 87; 88 и 93"]
[310,"7.Суми по разчети за поети осигур, вноски и данъци","§89",null,{"$f":"OTCHET!E531","v":0},0,{"$f":"OTCHET!I531","v":0},{"$f":"OTCHET!J531","v":0},{"$f":"OTCHET!K531","v":0},null,"§89"]
[320,"8. Наличности в началото на периода ","под. §§ 95-01 до 95-06",null,{"$f":"+OTCHET!E567+OTCHET!E568+OTCHET!E569+OTCHET!E570+OTCHET!E571+OTCHET!E572","v":0},0,{"$f":"+OTCHET!I567+OTCHET!I568+OTCHET!I569+OTCHET!I570+OTCHET!I571+OTCHET!I572","v":0},{"$f":"+OTCHET!J567+OTCHET!J568+OTCHET!J569+OTCHET!J570+OTCHET!J571+OTCHET!J572","v":0},{"$f":"+OTCHET!K567+OTCHET!K568+OTCHET!K569+OTCHET!K570+OTCHET!K571+OTCHET!K572","v":0},null,"под. §§ 95-01 до 95-06"]
[330,"9 Наличности в края на периода ","под. §§ 95-07 до 95-13",null,{"$f":"+OTCHET!E573+OTCHET!E574+OTCHET!E575+OTCHET!E576+OTCHET!E577+OTCHET!E578+OTCHET!E579","v":0},-46997.61,{"$f":"+OTCHET!I573+OTCHET!I574+OTCHET!I575+OTCHET!I576+OTCHET!I577+OTCHET!I578+OTCHET!I579","v":-46997.61},{"$f":"+OTCHET!J573+OTCHET!J574+OTCHET!J575+OTCHET!J576+OTCHET!J577+OTCHET!J578+OTCHET!J579","v":0},{"$f":"+OTCHET!K573+OTCHET!K574+OTCHET!K575+OTCHET!K576+OTCHET!K577+OTCHET!K578+OTCHET!K579","v":0},null,"под. §§ 95-07 до 95-13"]
[335,"10. Преоценка на валутни наличности ","под. § 95-14",null,{"$f":"+OTCHET!E580","v":0},0,{"$f":"+OTCHET!I580","v":0},{"$f":"+OTCHET!J580","v":0},{"$f":"+OTCHET!K580","v":0},null,"под. § 95-14"]
[340,"11. Депозити и сметки консолидирани в \"Единната сметка\" от предх. период ","под. §§ 96-01 до 96-03",null,{"$f":"+OTCHET!E587+OTCHET!E588","v":0},0,{"$f":"+OTCHET!I587+OTCHET!I588","v":0},{"$f":"+OTCHET!J587+OTCHET!J588","v":0},{"$f":"+OTCHET!K587+OTCHET!K588","v":0},null,"под. §§ 96-01 до 96-03"]
[345,"12. Депозити и сметки консолидирани в \"Единната сметка\" в края на периода","под. §§ 96-07 до 96-09",null,{"$f":"+OTCHET!E589+OTCHET!E590","v":0},0,{"$f":"+OTCHET!I589+OTCHET!I590","v":0},{"$f":"+OTCHET!J589+OTCHET!J590","v":0},{"$f":"+OTCHET!K589+OTCHET!K590","v":0},null,"под. §§ 96-07 до 96-09"]
[350,"13. Касови операции, депозити, покупко-продажба на валута и сетълмент ","§ 98",null,{"$f":"OTCHET!E591","v":0},0,{"$f":"OTCHET!I591","v":0},{"$f":"OTCHET!J591","v":0},{"$f":"OTCHET!K591","v":0},null,"§ 98"]
[355,"            в т. ч. покупко-продажба на валута (+/-) ","под. § 98-30",null,{"$f":"+OTCHET!E594","v":0},0,{"$f":"+OTCHET!I594","v":0},{"$f":"+OTCHET!J594","v":0},{"$f":"+OTCHET!K594","v":0},null,"под. § 98-30"]
[null,"ЧИСЛЕНОСТ НА ПЕРСОНАЛА"]
[null,"Щатни бройки "]
[null,"по трудови правоотношения"]
[null,"по служебни правоотношения"]
[]
[null,"Средногодишни щатни бройки "]
[null,"по трудови правоотношения"]
[null,"по служебни правоотношения"]
[null,{"$f":"+IF(+SUM(E$65:I$65)=0,0,\"Контрола: дефицит/излишък = финансиране с обратен знак (V. + VІ. = 0)\")","v":0},null,null,{"$f":"+E$64+E$66","v":0},{"$f":"+F$64+F$66","v":0},{"$f":"+G$64+G$66","v":0},{"$f":"+H$64+H$66","v":0},{"$f":"+I$64+I$66","v":0}]
[]
[null,{"$f":"+OTCHET!H605","v":"ruskova_72@abv.bg"},null,null,null,null,{"$f":"+OTCHET!E605","v":596},{"$f":"+OTCHET!F605","v":22077}]
[null,"(e-mail)",null,null,null,null,"(служебни телефони) "]
[null,"ИЗГОТВИЛ:"]
[null,null,null,null,{"$f":"+OTCHET!D603","v":"Десислава Дионисова"}]
[]
[]
[null,"ГЛ. СЧЕТОВОДИТЕЛ:",null,null,null,null,null,"РЪКОВОДИТЕЛ:"]
[null,null,null,null,{"$f":"+OTCHET!G600","v":"Дойка Рускова"},null,null,null,{"$f":"+OTCHET!G603","v":"Маргарита Цонева-Радева"}]

{"sheet":"OTCHET","index":2,"n_rows":9410,"n_cols":14,"rows_kept":4500,"cut":true,"hidden":false,"merged":[[9369,2,9369,3],[9370,2,9370,3],[9347,2,9347,3],[9348,2,9348,3],[9356,2,9356,3],[9359,2,9359,3],[9360,2,9360,3],[9365,2,9365,3],[9330,2,9330,3],[9337,2,9337,3],[9341,2,9341,3],[9342,2,9342,3],[9343,2,9343,3],[9344,2,9344,3],[9310,2,9310,3],[9311,2,9311,3],[9312,2,9312,3],[9327,2,9327,3],[9328,2,9328,3],[9329,2,9329,3],[9277,2,9277,3],[9295,2,9295,3],[9299,2,9299,3],[9305,2,9305,3],[9308,2,9308,3],[9309,2,9309,3],[9252,4,9252,7],[9252,8,9252,11],[9259,2,9259,3],[9262,2,9262,3],[9268,2,9268,3],[9276,2,9276,3],[9228,2,9228,3],[9232,2,9232,3],[9233,2,9233,3],[9243,1,9243,3],[9245,1,9245,3],[9248,1,9248,3],[9207,2,9207,3],[9210,2,9210,3],[9211,2,9211,3],[9219,2,9219,3],[9222,2,9222,3],[9223,2,9223,3],[9192,2,9192,3],[9193,2,9193,3],[9200,2,9200,3],[9204,2,9204,3],[9205,2,9205,3],[9206,2,9206,3],[9172,2,9172,3],[9173,2,9173,3],[9174,2,9174,3],[9175,2,9175,3],[9190,2,9190,3],[9191,2,9191,3],[9139,2,9139,3],[9140,2,9140,3],[9158,2,9158,3],[9162,2,9162,3],[9168,2,9168,3],[9171,2,9171,3],[9111,1,9111,3],[9115,4,9115,7],[9115,8,9115,11],[9122,2,9122,3],[9125,2,9125,3],[9131,2,9131,3],[9086,2,9086,3],[9091,2,9091,3],[9095,2,9095,3],[9096,2,9096,3],[9106,1,9106,3],[9108,1,9108,3],[9069,2,9069,3],[9070,2,9070,3],[9073,2,9073,3],[9074,2,9074,3],[9082,2,9082,3],[9085,2,9085,3],[9054,2,9054,3],[9055,2,9055,3],[9056,2,9056,3],[9063,2,9063,3],[9067,2,9067,3],[9068,2,9068,3],[9034,2,9034,3],[9035,2,9035,3],[9036,2,9036,3],[9037,2,9037,3],[9038,2,9038,3],[9053,2,9053,3],[8994,2,8994,3],[9002,2,9002,3],[9003,2,9003,3],[9021,2,9021,3],[9025,2,9025,3],[9031,2,9031,3],[8971,1,8971,3],[8974,1,8974,3],[8978,4,8978,7],[8978,8,8978,11],[8985,2,8985,3],[8988,2,8988,3],[8948,2,8948,3],[8949,2,8949,3],[8954,2,8954,3],[8958,2,8958,3],[8959,2,8959,3],[8969,1,8969,3],[8931,2,8931,3],[8932,2,8932,3],[8933,2,8933,3],[8936,2,8936,3],[8937,2,8937,3],[8945,2,8945,3],[8916,2,8916,3],[8917,2,8917,3],[8918,2,8918,3],[8919,2,8919,3],[8926,2,8926,3],[8930,2,8930,3],[8894,2,8894,3],[8897,2,8897,3],[8898,2,8898,3],[8899,2,8899,3],[8900,2,8900,3],[8901,2,8901,3],[8851,2,8851,3],[8857,2,8857,3],[8865,2,8865,3],[8866,2,8866,3],[8884,2,8884,3],[8888,2,8888,3],[8832,1,8832,3],[8834,1,8834,3],[8837,1,8837,3],[8841,4,8841,7],[8841,8,8841,11],[8848,2,8848,3],[8808,2,8808,3],[8811,2,8811,3],[8812,2,8812,3],[8817,2,8817,3],[8821,2,8821,3],[8822,2,8822,3],[8793,2,8793,3],[8794,2,8794,3],[8795,2,8795,3],[8796,2,8796,3],[8799,2,8799,3],[8800,2,8800,3],[8764,2,8764,3],[8779,2,8779,3],[8780,2,8780,3],[8781,2,8781,3],[8782,2,8782,3],[8789,2,8789,3],[8751,2,8751,3],[8757,2,8757,3],[8760,2,8760,3],[8761,2,8761,3],[8762,2,8762,3],[8763,2,8763,3],[8711,2,8711,3],[8714,2,8714,3],[8720,2,8720,3],[8728,2,8728,3],[8729,2,8729,3],[8747,2,8747,3],[8685,2,8685,3],[8695,1,8695,3],[8697,1,8697,3],[8700,1,8700,3],[8704,4,8704,7],[8704,8,8704,11],[8663,2,8663,3],[8671,2,8671,3],[8674,2,8674,3],[8675,2,8675,3],[8680,2,8680,3],[8684,2,8684,3],[8652,2,8652,3],[8656,2,8656,3],[8657,2,8657,3],[8658,2,8658,3],[8659,2,8659,3],[8662,2,8662,3],[8626,2,8626,3],[8627,2,8627,3],[8642,2,8642,3],[8643,2,8643,3],[8644,2,8644,3],[8645,2,8645,3],[8610,2,8610,3],[8614,2,8614,3],[8620,2,8620,3],[8623,2,8623,3],[8624,2,8624,3],[8625,2,8625,3],[8567,8,8567,11],[8574,2,8574,3],[8577,2,8577,3],[8583,2,8583,3],[8591,2,8591,3],[8592,2,8592,3],[8547,2,8547,3],[8548,2,8548,3],[8558,1,8558,3],[8560,1,8560,3],[8563,1,8563,3],[8567,4,8567,7],[8525,2,8525,3],[8526,2,8526,3],[8534,2,8534,3],[8537,2,8537,3],[8538,2,8538,3],[8543,2,8543,3],[8508,2,8508,3],[8515,2,8515,3],[8519,2,8519,3],[8520,2,8520,3],[8521,2,8521,3],[8522,2,8522,3],[8488,2,8488,3],[8489,2,8489,3],[8490,2,8490,3],[8505,2,8505,3],[8506,2,8506,3],[8507,2,8507,3],[8455,2,8455,3],[8473,2,8473,3],[8477,2,8477,3],[8483,2,8483,3],[8486,2,8486,3],[8487,2,8487,3],[8430,4,8430,7],[8430,8,8430,11],[8437,2,8437,3],[8440,2,8440,3],[8446,2,8446,3],[8454,2,8454,3],[8406,2,8406,3],[8410,2,8410,3],[8411,2,8411,3],[8421,1,8421,3],[8423,1,8423,3],[8426,1,8426,3],[8385,2,8385,3],[8388,2,8388,3],[8389,2,8389,3],[8397,2,8397,3],[8400,2,8400,3],[8401,2,8401,3],[8370,2,8370,3],[8371,2,8371,3],[8378,2,8378,3],[8382,2,8382,3],[8383,2,8383,3],[8384,2,8384,3],[8350,2,8350,3],[8351,2,8351,3],[8352,2,8352,3],[8353,2,8353,3],[8368,2,8368,3],[8369,2,8369,3],[8317,2,8317,3],[8318,2,8318,3],[8336,2,8336,3],[8340,2,8340,3],[8346,2,8346,3],[8349,2,8349,3],[8289,1,8289,3],[8293,4,8293,7],[8293,8,8293,11],[8300,2,8300,3],[8303,2,8303,3],[8309,2,8309,3],[8264,2,8264,3],[8269,2,8269,3],[8273,2,8273,3],[8274,2,8274,3],[8284,1,8284,3],[8286,1,8286,3],[8247,2,8247,3],[8248,2,8248,3],[8251,2,8251,3],[8252,2,8252,3],[8260,2,8260,3],[8263,2,8263,3],[8232,2,8232,3],[8233,2,8233,3],[8234,2,8234,3],[8241,2,8241,3],[8245,2,8245,3],[8246,2,8246,3],[8212,2,8212,3],[8213,2,8213,3],[8214,2,8214,3],[8215,2,8215,3],[8216,2,8216,3],[8231,2,8231,3],[8172,2,8172,3],[8180,2,8180,3],[8181,2,8181,3],[8199,2,8199,3],[8203,2,8203,3],[8209,2,8209,3],[8149,1,8149,3],[8152,1,8152,3],[8156,4,8156,7],[8156,8,8156,11],[8163,2,8163,3],[8166,2,8166,3],[8126,2,8126,3],[8127,2,8127,3],[8132,2,8132,3],[8136,2,8136,3],[8137,2,8137,3],[8147,1,8147,3],[8109,2,8109,3],[8110,2,8110,3],[8111,2,8111,3],[8114,2,8114,3],[8115,2,8115,3],[8123,2,8123,3],[8094,2,8094,3],[8095,2,8095,3],[8096,2,8096,3],[8097,2,8097,3],[8104,2,8104,3],[8108,2,8108,3],[8072,2,8072,3],[8075,2,8075,3],[8076,2,8076,3],[8077,2,8077,3],[8078,2,8078,3],[8079,2,8079,3],[8029,2,8029,3],[8035,2,8035,3],[8043,2,8043,3],[8044,2,8044,3],[8062,2,8062,3],[8066,2,8066,3],[8010,1,8010,3],[8012,1,8012,3],[8015,1,8015,3],[8019,4,8019,7],[8019,8,8019,11],[8026,2,8026,3],[7986,2,7986,3],[7989,2,7989,3],[7990,2,7990,3],[7995,2,7995,3],[7999,2,7999,3],[8000,2,8000,3],[7971,2,7971,3],[7972,2,7972,3],[7973,2,7973,3],[7974,2,7974,3],[7977,2,7977,3],[7978,2,7978,3],[7942,2,7942,3],[7957,2,7957,3],[7958,2,7958,3],[7959,2,7959,3],[7960,2,7960,3],[7967,2,7967,3],[7929,2,7929,3],[7935,2,7935,3],[7938,2,7938,3],[7939,2,7939,3],[7940,2,7940,3],[7941,2,7941,3],[7889,2,7889,3],[7892,2,7892,3],[7898,2,7898,3],[7906,2,7906,3],[7907,2,7907,3],[7925,2,7925,3],[7863,2,7863,3],[7873,1,7873,3],[7875,1,7875,3],[7878,1,7878,3],[7882,4,7882,7],[7882,8,7882,11],[7841,2,7841,3],[7849,2,7849,3],[7852,2,7852,3],[7853,2,7853,3],[7858,2,7858,3],[7862,2,7862,3],[7830,2,7830,3],[7834,2,7834,3],[7835,2,7835,3],[7836,2,7836,3],[7837,2,7837,3],[7840,2,7840,3],[7804,2,7804,3],[7805,2,7805,3],[7820,2,7820,3],[7821,2,7821,3],[7822,2,7822,3],[7823,2,7823,3],[7788,2,7788,3],[7792,2,7792,3],[7798,2,7798,3],[7801,2,7801,3],[7802,2,7802,3],[7803,2,7803,3],[7745,8,7745,11],[7752,2,7752,3],[7755,2,7755,3],[7761,2,7761,3],[7769,2,7769,3],[7770,2,7770,3],[7725,2,7725,3],[7726,2,7726,3],[7736,1,7736,3],[7738,1,7738,3],[7741,1,7741,3],[7745,4,7745,7],[7703,2,7703,3],[7704,2,7704,3],[7712,2,7712,3],[7715,2,7715,3],[7716,2,7716,3],[7721,2,7721,3],[7686,2,7686,3],[7693,2,7693,3],[7697,2,7697,3],[7698,2,7698,3],[7699,2,7699,3],[7700,2,7700,3],[7666,2,7666,3],[7667,2,7667,3],[7668,2,7668,3],[7683,2,7683,3],[7684,2,7684,3],[7685,2,7685,3],[7633,2,7633,3],[7651,2,7651,3],[7655,2,7655,3],[7661,2,7661,3],[7664,2,7664,3],[7665,2,7665,3],[7608,4,7608,7],[7608,8,7608,11],[7615,2,7615,3],[7618,2,7618,3],[7624,2,7624,3],[7632,2,7632,3],[7584,2,7584,3],[7588,2,7588,3],[7589,2,7589,3],[7599,1,7599,3],[7601,1,7601,3],[7604,1,7604,3],[7563,2,7563,3],[7566,2,7566,3],[7567,2,7567,3],[7575,2,7575,3],[7578,2,7578,3],[7579,2,7579,3],[7548,2,7548,3],[7549,2,7549,3],[7556,2,7556,3],[7560,2,7560,3],[7561,2,7561,3],[7562,2,7562,3],[7528,2,7528,3],[7529,2,7529,3],[7530,2,7530,3],[7531,2,7531,3],[7546,2,7546,3],[7547,2,7547,3],[7495,2,7495,3],[7496,2,7496,3],[7514,2,7514,3],[7518,2,7518,3],[7524,2,7524,3],[7527,2,7527,3],[7467,1,7467,3],[7471,4,7471,7],[7471,8,7471,11],[7478,2,7478,3],[7481,2,7481,3],[7487,2,7487,3],[7442,2,7442,3],[7447,2,7447,3],[7451,2,7451,3],[7452,2,7452,3],[7462,1,7462,3],[7464,1,7464,3],[7425,2,7425,3],[7426,2,7426,3],[7429,2,7429,3],[7430,2,7430,3],[7438,2,7438,3],[7441,2,7441,3],[7410,2,7410,3],[7411,2,7411,3],[7412,2,7412,3],[7419,2,7419,3],[7423,2,7423,3],[7424,2,7424,3],[7390,2,7390,3],[7391,2,7391,3],[7392,2,7392,3],[7393,2,7393,3],[7394,2,7394,3],[7409,2,7409,3],[7350,2,7350,3],[7358,2,7358,3],[7359,2,7359,3],[7377,2,7377,3],[7381,2,7381,3],[7387,2,7387,3],[7327,1,7327,3],[7330,1,7330,3],[7334,4,7334,7],[7334,8,7334,11],[7341,2,7341,3],[7344,2,7344,3],[7304,2,7304,3],[7305,2,7305,3],[7310,2,7310,3],[7314,2,7314,3],[7315,2,7315,3],[7325,1,7325,3],[7287,2,7287,3],[7288,2,7288,3],[7289,2,7289,3],[7292,2,7292,3],[7293,2,7293,3],[7301,2,7301,3],[7272,2,7272,3],[7273,2,7273,3],[7274,2,7274,3],[7275,2,7275,3],[7282,2,7282,3],[7286,2,7286,3],[7250,2,7250,3],[7253,2,7253,3],[7254,2,7254,3],[7255,2,7255,3],[7256,2,7256,3],[7257,2,7257,3],[7207,2,7207,3],[7213,2,7213,3],[7221,2,7221,3],[7222,2,7222,3],[7240,2,7240,3],[7244,2,7244,3],[7188,1,7188,3],[7190,1,7190,3],[7193,1,7193,3],[7197,4,7197,7],[7197,8,7197,11],[7204,2,7204,3],[7164,2,7164,3],[7167,2,7167,3],[7168,2,7168,3],[7173,2,7173,3],[7177,2,7177,3],[7178,2,7178,3],[7149,2,7149,3],[7150,2,7150,3],[7151,2,7151,3],[7152,2,7152,3],[7155,2,7155,3],[7156,2,7156,3],[7120,2,7120,3],[7135,2,7135,3],[7136,2,7136,3],[7137,2,7137,3],[7138,2,7138,3],[7145,2,7145,3],[7107,2,7107,3],[7113,2,7113,3],[7116,2,7116,3],[7117,2,7117,3],[7118,2,7118,3],[7119,2,7119,3],[7067,2,7067,3],[7070,2,7070,3],[7076,2,7076,3],[7084,2,7084,3],[7085,2,7085,3],[7103,2,7103,3],[7041,2,7041,3],[7051,1,7051,3],[7053,1,7053,3],[7056,1,7056,3],[7060,4,7060,7],[7060,8,7060,11],[7019,2,7019,3],[7027,2,7027,3],[7030,2,7030,3],[7031,2,7031,3],[7036,2,7036,3],[7040,2,7040,3],[7008,2,7008,3],[7012,2,7012,3],[7013,2,7013,3],[7014,2,7014,3],[7015,2,7015,3],[7018,2,7018,3],[6982,2,6982,3],[6983,2,6983,3],[6998,2,6998,3],[6999,2,6999,3],[7000,2,7000,3],[7001,2,7001,3],[6966,2,6966,3],[6970,2,6970,3],[6976,2,6976,3],[6979,2,6979,3],[6980,2,6980,3],[6981,2,6981,3],[6923,8,6923,11],[6930,2,6930,3],[6933,2,6933,3],[6939,2,6939,3],[6947,2,6947,3],[6948,2,6948,3],[6903,2,6903,3],[6904,2,6904,3],[6914,1,6914,3],[6916,1,6916,3],[6919,1,6919,3],[6923,4,6923,7],[6881,2,6881,3],[6882,2,6882,3],[6890,2,6890,3],[6893,2,6893,3],[6894,2,6894,3],[6899,2,6899,3],[6864,2,6864,3],[6871,2,6871,3],[6875,2,6875,3],[6876,2,6876,3],[6877,2,6877,3],[6878,2,6878,3],[6844,2,6844,3],[6845,2,6845,3],[6846,2,6846,3],[6861,2,6861,3],[6862,2,6862,3],[6863,2,6863,3],[6811,2,6811,3],[6829,2,6829,3],[6833,2,6833,3],[6839,2,6839,3],[6842,2,6842,3],[6843,2,6843,3],[6786,4,6786,7],[6786,8,6786,11],[6793,2,6793,3],[6796,2,6796,3],[6802,2,6802,3],[6810,2,6810,3],[6762,2,6762,3],[6766,2,6766,3],[6767,2,6767,3],[6777,1,6777,3],[6779,1,6779,3],[6782,1,6782,3],[6741,2,6741,3],[6744,2,6744,3],[6745,2,6745,3],[6753,2,6753,3],[6756,2,6756,3],[6757,2,6757,3],[6726,2,6726,3],[6727,2,6727,3],[6734,2,6734,3],[6738,2,6738,3],[6739,2,6739,3],[6740,2,6740,3],[6706,2,6706,3],[6707,2,6707,3],[6708,2,6708,3],[6709,2,6709,3],[6724,2,6724,3],[6725,2,6725,3],[6673,2,6673,3],[6674,2,6674,3],[6692,2,6692,3],[6696,2,6696,3],[6702,2,6702,3],[6705,2,6705,3],[6645,1,6645,3],[6649,4,6649,7],[6649,8,6649,11],[6656,2,6656,3],[6659,2,6659,3],[6665,2,6665,3],[6620,2,6620,3],[6625,2,6625,3],[6629,2,6629,3],[6630,2,6630,3],[6640,1,6640,3],[6642,1,6642,3],[6603,2,6603,3],[6604,2,6604,3],[6607,2,6607,3],[6608,2,6608,3],[6616,2,6616,3],[6619,2,6619,3],[6588,2,6588,3],[6589,2,6589,3],[6590,2,6590,3],[6597,2,6597,3],[6601,2,6601,3],[6602,2,6602,3],[6568,2,6568,3],[6569,2,6569,3],[6570,2,6570,3],[6571,2,6571,3],[6572,2,6572,3],[6587,2,6587,3],[6528,2,6528,3],[6536,2,6536,3],[6537,2,6537,3],[6555,2,6555,3],[6559,2,6559,3],[6565,2,6565,3],[6505,1,6505,3],[6508,1,6508,3],[6512,4,6512,7],[6512,8,6512,11],[6519,2,6519,3],[6522,2,6522,3],[6482,2,6482,3],[6483,2,6483,3],[6488,2,6488,3],[6492,2,6492,3],[6493,2,6493,3],[6503,1,6503,3],[6465,2,6465,3],[6466,2,6466,3],[6467,2,6467,3],[6470,2,6470,3],[6471,2,6471,3],[6479,2,6479,3],[6450,2,6450,3],[6451,2,6451,3],[6452,2,6452,3],[6453,2,6453,3],[6460,2,6460,3],[6464,2,6464,3],[6428,2,6428,3],[6431,2,6431,3],[6432,2,6432,3],[6433,2,6433,3],[6434,2,6434,3],[6435,2,6435,3],[6385,2,6385,3],[6391,2,6391,3],[6399,2,6399,3],[6400,2,6400,3],[6418,2,6418,3],[6422,2,6422,3],[6366,1,6366,3],[6368,1,6368,3],[6371,1,6371,3],[6375,4,6375,7],[6375,8,6375,11],[6382,2,6382,3],[6342,2,6342,3],[6345,2,6345,3],[6346,2,6346,3],[6351,2,6351,3],[6355,2,6355,3],[6356,2,6356,3],[6327,2,6327,3],[6328,2,6328,3],[6329,2,6329,3],[6330,2,6330,3],[6333,2,6333,3],[6334,2,6334,3],[6298,2,6298,3],[6313,2,6313,3],[6314,2,6314,3],[6315,2,6315,3],[6316,2,6316,3],[6323,2,6323,3],[6285,2,6285,3],[6291,2,6291,3],[6294,2,6294,3],[6295,2,6295,3],[6296,2,6296,3],[6297,2,6297,3],[6245,2,6245,3],[6248,2,6248,3],[6254,2,6254,3],[6262,2,6262,3],[6263,2,6263,3],[6281,2,6281,3],[6219,2,6219,3],[6229,1,6229,3],[6231,1,6231,3],[6234,1,6234,3],[6238,4,6238,7],[6238,8,6238,11],[6197,2,6197,3],[6205,2,6205,3],[6208,2,6208,3],[6209,2,6209,3],[6214,2,6214,3],[6218,2,6218,3],[6186,2,6186,3],[6190,2,6190,3],[6191,2,6191,3],[6192,2,6192,3],[6193,2,6193,3],[6196,2,6196,3],[6160,2,6160,3],[6161,2,6161,3],[6176,2,6176,3],[6177,2,6177,3],[6178,2,6178,3],[6179,2,6179,3],[6144,2,6144,3],[6148,2,6148,3],[6154,2,6154,3],[6157,2,6157,3],[6158,2,6158,3],[6159,2,6159,3],[6101,8,6101,11],[6108,2,6108,3],[6111,2,6111,3],[6117,2,6117,3],[6125,2,6125,3],[6126,2,6126,3],[6081,2,6081,3],[6082,2,6082,3],[6092,1,6092,3],[6094,1,6094,3],[6097,1,6097,3],[6101,4,6101,7],[6059,2,6059,3],[6060,2,6060,3],[6068,2,6068,3],[6071,2,6071,3],[6072,2,6072,3],[6077,2,6077,3],[6042,2,6042,3],[6049,2,6049,3],[6053,2,6053,3],[6054,2,6054,3],[6055,2,6055,3],[6056,2,6056,3],[6022,2,6022,3],[6023,2,6023,3],[6024,2,6024,3],[6039,2,6039,3],[6040,2,6040,3],[6041,2,6041,3],[5989,2,5989,3],[6007,2,6007,3],[6011,2,6011,3],[6017,2,6017,3],[6020,2,6020,3],[6021,2,6021,3],[5964,4,5964,7],[5964,8,5964,11],[5971,2,5971,3],[5974,2,5974,3],[5980,2,5980,3],[5988,2,5988,3],[5940,2,5940,3],[5944,2,5944,3],[5945,2,5945,3],[5955,1,5955,3],[5957,1,5957,3],[5960,1,5960,3],[5919,2,5919,3],[5922,2,5922,3],[5923,2,5923,3],[5931,2,5931,3],[5934,2,5934,3],[5935,2,5935,3],[5904,2,5904,3],[5905,2,5905,3],[5912,2,5912,3],[5916,2,5916,3],[5917,2,5917,3],[5918,2,5918,3],[5884,2,5884,3],[5885,2,5885,3],[5886,2,5886,3],[5887,2,5887,3],[5902,2,5902,3],[5903,2,5903,3],[5851,2,5851,3],[5852,2,5852,3],[5870,2,5870,3],[5874,2,5874,3],[5880,2,5880,3],[5883,2,5883,3],[5823,1,5823,3],[5827,4,5827,7],[5827,8,5827,11],[5834,2,5834,3],[5837,2,5837,3],[5843,2,5843,3],[5798,2,5798,3],[5803,2,5803,3],[5807,2,5807,3],[5808,2,5808,3],[5818,1,5818,3],[5820,1,5820,3],[5781,2,5781,3],[5782,2,5782,3],[5785,2,5785,3],[5786,2,5786,3],[5794,2,5794,3],[5797,2,5797,3],[5766,2,5766,3],[5767,2,5767,3],[5768,2,5768,3],[5775,2,5775,3],[5779,2,5779,3],[5780,2,5780,3],[5746,2,5746,3],[5747,2,5747,3],[5748,2,5748,3],[5749,2,5749,3],[5750,2,5750,3],[5765,2,5765,3],[5706,2,5706,3],[5714,2,5714,3],[5715,2,5715,3],[5733,2,5733,3],[5737,2,5737,3],[5743,2,5743,3],[5683,1,5683,3],[5686,1,5686,3],[5690,4,5690,7],[5690,8,5690,11],[5697,2,5697,3],[5700,2,5700,3],[5660,2,5660,3],[5661,2,5661,3],[5666,2,5666,3],[5670,2,5670,3],[5671,2,5671,3],[5681,1,5681,3],[5643,2,5643,3],[5644,2,5644,3],[5645,2,5645,3],[5648,2,5648,3],[5649,2,5649,3],[5657,2,5657,3],[5628,2,5628,3],[5629,2,5629,3],[5630,2,5630,3],[5631,2,5631,3],[5638,2,5638,3],[5642,2,5642,3],[5606,2,5606,3],[5609,2,5609,3],[5610,2,5610,3],[5611,2,5611,3],[5612,2,5612,3],[5613,2,5613,3],[5563,2,5563,3],[5569,2,5569,3],[5577,2,5577,3],[5578,2,5578,3],[5596,2,5596,3],[5600,2,5600,3],[5544,1,5544,3],[5546,1,5546,3],[5549,1,5549,3],[5553,4,5553,7],[5553,8,5553,11],[5560,2,5560,3],[5520,2,5520,3],[5523,2,5523,3],[5524,2,5524,3],[5529,2,5529,3],[5533,2,5533,3],[5534,2,5534,3],[5505,2,5505,3],[5506,2,5506,3],[5507,2,5507,3],[5508,2,5508,3],[5511,2,5511,3],[5512,2,5512,3],[5476,2,5476,3],[5491,2,5491,3],[5492,2,5492,3],[5493,2,5493,3],[5494,2,5494,3],[5501,2,5501,3],[5463,2,5463,3],[5469,2,5469,3]],"bounds":{"rows_first":2000,"rows_last":500,"rows_between":2000,"halvings":0},"merged_total":2347,"flags":["merged_cut"]}
["a","b","c","d","e","f","f","f","f","f","f","f","endprint"]
[1,null,null,null,null,null,null,null,null,null,null,null,1]
[null,"година",2020,null,null,null,null,null,null,null,null,null,1]
[null,null,null,null,null,null,null,null,null,null,null,null,1]
[null,null,null,null," "," "," "," "," "," "," "," ",1]
[null,null,null,null,null," "," "," "," "," "," "," ",1]
[null,{"$f":"VLOOKUP(E15,SMETKA,2,FALSE)","v":"ОТЧЕТНИ ДАННИ ПО ЕБК ЗА ИЗПЪЛНЕНИЕТО НА БЮДЖЕТА"},null,null,null,null,null,null,null,null,null,null,1]
[null,null,null,null,"за периода от ","до",null,null,null,null,null,null,1]
[null,"ОУ Г.С.РАКОВСКИ-С.ГЪЛЪБЕЦ",null,null,"2020-01-01","2020-03-31",null,null,null,null,null,null,1]
[null,"(наименование на разпоредителя с бюджет)",null,null,null,{"$f":"VLOOKUP(F9,DateName,2,FALSE)","v":"март"},null,null,"код от регистъра на бюджетните организации в СЕБРА",null,null,null,1]
[null,null,null,null,null,null,null,null,null,null,null,null,1]
[null,{"$f":"VLOOKUP(F12,PRBK,2,FALSE)","v":"Поморие"},null,null,"код по ЕБК:","5207",null,null,null,null,null,null,1]
[null,"(наименование на първостепенния разпоредител с бюджет)",null,null,null,null," ",null,null,null," "," ",1]
[null,null,null,null,null,null,null,null,null,null,null,null,1]
[null,null,null,"ФИНАНСОВО-ПРАВНА ФОРМА",0,{"$f":"+IF(+E15=0,\"БЮДЖЕТ\",+IF(+E15=98,\"СЕС - КСФ\",+IF(+E15=42,\"СЕС - РА\",+IF(+E15=96,\"СЕС - ДЕС\",+IF(+E15=97,\"СЕС - ДМП\",+IF(+E15=33,\"Чужди средства\"))))))","v":"БЮДЖЕТ"},null,null,null,null,null,null,1]
[null,"Бланка версия 1.01 от 2020г.",null,null,null,null,null,null,null,null,null,null,1]
[null,null,null,null,null,null,null,null,null,null,null,null,1]
[null,null,null,null,null,null,null,null,null,null,null,"(в лева)",1]
[null,null,null,"I. П Р И Х О Д И,  П О М О Щ И   И   Д А Р Е Н И Я","Уточнен план 2020 - ПРИХОДИ",null,null,null,"Отчет 2020 - ПРИХОДИ",null,null,null,1]
[null,"§§","под-§§","Н А И М Е Н О В А Н И Е","Уточнен план                Общо","държавни дейности","местни дейности","дофинансиране","държавни дейности -ОТЧЕТ","местни дейности - ОТЧЕТ","дофинансиране - ОТЧЕТ","ОТЧЕТ                                    ОБЩО",1]
[null,null,null," 0 1 ¦","(1)","(2)","(3)","(4)","(5)","(6)","(7)","(8)",1]
[5,100,"Данък върху доходите на физически лица:",null,{"$f":"SUM(E23:E25,E26:E27)","v":0},0,0,0,0,0,0,0,{"$f":"(IF($E22<>0,$M$2,IF($L22<>0,$M$2,\"\")))","v":""}]
[10,null,101,"от доходи по трудови, служебни и приравнени на тях правоотношения",{"$f":"F23+G23+H23","v":0},0,0,0,0,0,0,{"$f":"I23+J23+K23","v":0},{"$f":"(IF($E23<>0,$M$2,IF($L23<>0,$M$2,\"\")))","v":""}]
[15,null,102,"от еднолични търговци, свободни професии, извънтрудови правоотношения и др.",{"$f":"F24+G24+H24","v":0},0,0,0,0,0,0,{"$f":"I24+J24+K24","v":0},""]
[20,null,103,"окончателен годишен (патентен) данък и данък върху таксиметров превоз на пътници",{"$f":"F25+G25+H25","v":0},0,0,0,0,0,0,{"$f":"I25+J25+K25","v":0},""]
[20,null,108,"окончателен данък върху приходите от лихви по банкови сметки на физическите лица",{"$f":"F26+G26+H26","v":0},0,0,0,0,0,0,{"$f":"I26+J26+K26","v":0},""]
[21,null,109,"окончателен данък  на местни и чуждестранни физически лица по чл. 37 и 38 от ЗДДФЛ",{"$f":"F27+G27+H27","v":0},0,0,0,0,0,0,{"$f":"I27+J27+K27","v":0},""]
[25,200,"Корпоративен данък:",null,{"$f":"SUM(E29:E32)","v":0},0,0,{"$f":"SUM(H29:H32)","v":0},0,0,{"$f":"SUM(K29:K32)","v":0},0,""]
[30,null,201,"корпоративен данък от нефинансови предприятия",{"$f":"F29+G29+H29","v":0},0,0,0,0,0,0,{"$f":"I29+J29+K29","v":0},""]
[35,null,202,"корпоративен данък от финансови институции",0,0,0,0,0,0,0,{"$f":"I30+J30+K30","v":0},""]
[40,null,203,"корпоративен данък от юридически лица с нестопанска цел",0,0,0,0,0,0,0,{"$f":"I31+J31+K31","v":0},""]
[45,null,204,"корпоративен данък от застрахователни дружества",0,0,0,0,0,0,0,{"$f":"I32+J32+K32","v":0},""]
[50,400,"Данъци върху дивидентите, ликвидационните дялове и доходите на местни и чуждестранни лица:",null,{"$f":"SUM(E34:E38)","v":0},0,0,{"$f":"SUM(H34:H38)","v":0},0,0,{"$f":"SUM(K34:K38)","v":0},0,""]
[55,null,401,"данък върху дивидентите и ликвидационните дялове на местни юридически лица",0,0,0,0,0,0,0,{"$f":"I34+J34+K34","v":0},""]
[56,null,402,"данък върху дивидентите и ликвидационните дялове на бюджетни предприятия",0,0,0,0,0,0,0,{"$f":"I35+J35+K35","v":0},""]
[57,null,403,"данък върху дивидентите и ликвидационните дялове на чуждестрани юридически лица",0,0,0,0,0,0,0,{"$f":"I36+J36+K36","v":0},""]
[58,null,404,"данък върху доходите на чуждестранни юридически лица",0,0,0,0,0,0,0,{"$f":"I37+J37+K37","v":0},""]
[59,null,411,"данък върху дивидентите и ликвидационните дялове на физически лица",0,0,0,0,0,0,0,{"$f":"I38+J38+K38","v":0},""]
[65,800,"Осигурителни вноски",null,{"$f":"SUM(E40:E46)","v":0},0,0,{"$f":"SUM(H40:H46)","v":0},0,0,{"$f":"SUM(K40:K46)","v":0},0,""]
[70,null,801,"вноски за работници и служители от работодатели",0,0,0,0,0,0,0,{"$f":"I40+J40+K40","v":0},""]
[75,null,802,"вноски от работници и служители (лична вноска) ",0,0,0,0,0,0,0,0,""]
[80,null,804,"вноски от самонаети лица (самоосигуряващи се лица) ",0,0,0,0,0,0,0,0,""]
[85,null,809,"вноски  за други категории осигурени лица",{"$f":"F43+G43+H43","v":0},0,0,0,0,0,0,0,""]
[85,null,811,"вноски по чл. 4б и 4в от КСО за сметка на осигурителя",{"$f":"F44+G44+H44","v":0},0,0,0,0,0,0,0,""]
[85,null,812,"вноски по чл. 4б от КСО за сметка на осигурените лица",{"$f":"F45+G45+H45","v":0},0,0,0,0,0,0,0,""]
[85,null,814,"вноски по чл. 4б от КСО от самонаети лица (самоосигуряващи се лица) ",0,0,0,0,0,0,0,0,""]
[95,1000,"Здравно-осигурителни вноски",null,{"$f":"SUM(E48:E51)","v":0},0,0,{"$f":"SUM(H48:H51)","v":0},0,0,{"$f":"SUM(K48:K51)","v":0},0,""]
[100,null,1001,"здравно-осигурителни вноски за работници и служители от работодатели",0,0,0,0,0,0,0,{"$f":"I48+J48+K48","v":0},""]
[105,null,1002,"здравно-осигурителни вноски от работници и служители (лична вноска) ",0,0,0,0,0,0,0,{"$f":"I49+J49+K49","v":0},""]
[110,null,1004,"здравно-осигурителни вноски от самонаети (самоосигуряващи се лица) ",0,0,0,0,0,0,0,{"$f":"I50+J50+K50","v":0},""]
[125,null,1007,"здравно-осигур.вноски  за други категории осигурени лица",0,0,0,0,0,0,0,{"$f":"I51+J51+K51","v":0},""]
[130,1300,"Имуществени и други местни данъци :",null,{"$f":"SUM(E53:E57)","v":0},0,0,{"$f":"SUM(H53:H57)","v":0},0,0,{"$f":"SUM(K53:K57)","v":0},0,""]
[135,null,1301,"данък върху недвижими имоти",0,0,0,0,0,0,0,{"$f":"I53+J53+K53","v":0},""]
[140,null,1302,"данък върху наследствата",0,0,0,0,0,0,0,{"$f":"I54+J54+K54","v":0},""]
[145,null,1303,"данък върху превозните средства",0,0,0,0,0,0,0,{"$f":"I55+J55+K55","v":0},""]
[null,null,1304,"данък при придобиване на имущество по дарения и възмезден начин",0,0,0,0,0,0,0,{"$f":"I56+J56+K56","v":0},""]
[150,null,1308,"туристически данък",0,0,0,0,0,0,0,{"$f":"I57+J57+K57","v":0},""]
[160,1400,"Данък върху добавената стойност",null,{"$f":"SUM(E59:E60)","v":0},0,0,{"$f":"SUM(H59:H60)","v":0},0,0,{"$f":"SUM(K59:K60)","v":0},0,""]
[165,null,1401,"данък върху добавената стойност при сделки в страната",0,0,0,0,0,0,0,{"$f":"I59+J59+K59","v":0},""]
[170,null,1402,"данък върху добавената стойност при внос",0,0,0,0,0,0,0,{"$f":"I60+J60+K60","v":0},""]
[175,1500,"Акцизи ",null,{"$f":"SUM(E62:E63)","v":0},0,0,{"$f":"SUM(H62:H63)","v":0},0,0,{"$f":"SUM(K62:K63)","v":0},0,""]
[180,null,1501,"акциз при сделки в страната",0,0,0,0,0,0,0,{"$f":"I62+J62+K62","v":0},""]
[185,null,1502,"акциз при внос",0,0,0,0,0,0,0,{"$f":"I63+J63+K63","v":0},""]
[null,1600,"Данък върху застрахователните премии",null,0,0,0,0,0,0,0,{"$f":"I64+J64+K64","v":0},""]
[200,1700,"Други данъци по Закона за корпоративното подоходно облагане:",null,{"$f":"SUM(E66:E71)","v":0},0,0,{"$f":"SUM(H66:H71)","v":0},0,0,{"$f":"SUM(K66:K71)","v":0},0,""]
[205,null,1701,"данък върху представителните разходи",0,0,0,0,0,0,0,{"$f":"I66+J66+K66","v":0},""]
[210,null,1702,"данък върху разходи, предоставяни в натура",0,0,0,0,0,0,0,0,""]
[215,null,1703,"данък върху разходите за превозни средства",0,0,0,0,0,0,0,0,""]
[225,null,1706,"окончателни данъци върху залози за хазартни игри и хазартни съоръжения",0,0,0,0,0,0,0,0,""]
[226,null,1707,"данък върху дейността от опериране на кораби",0,0,0,0,0,0,0,0,""]
[227,null,1709,"данък върху приходите на бюджетните предприятия",0,0,0,0,0,0,0,0,""]
[235,1900,"Мита и митнически такси",null,0,0,0,0,0,0,0,0,""]
[255,2000,"Други данъци",null,0,0,0,0,0,0,0,0,""]
[265,2400,"Приходи и доходи от собственост",null,{"$f":"SUM(E75:E89)","v":0},0,0,{"$f":"SUM(H75:H89)","v":0},0,0,{"$f":"SUM(K75:K89)","v":0},0,""]
[270,null,2401,"вноски от приходи на държавни (общински) предприятия и институции",0,0,null,0,0,null,0,{"$f":"I75+J75+K75","v":0},""]
[280,null,2403,"превишение на приходите над разходите на БНБ",0,0,0,0,0,0,0,{"$f":"I76+J76+K76","v":0},""]
[285,null,2404,"нетни приходи от продажби на услуги, стоки и продукция",0,0,0,0,0,0,0,0,""]
[290,null,2405,"приходи от наеми на имущество",0,0,0,0,0,0,0,0,""]
[295,null,2406,"приходи от наеми на земя",0,0,0,0,0,0,0,0,""]
[300,null,2407,"приходи от дивиденти",0,0,0,0,0,0,0,0,""]
[305,null,2408,"приходи от лихви по текущи банкови сметки",0,0,0,0,0,0,0,0,""]
[310,null,2409,"приходи от лихви по срочни депозити",0,0,0,0,0,0,0,0,""]
[315,null,2410,"приходи от лихви по предоставени заеми в страната и чужбина",0,null,null,0,null,null,0,0,""]
[325,null,2412,"приходи от лихви от предприятия по преоформен държавен дълг",0,0,0,0,0,0,0,0,""]
[330,null,2413,"приходи от лихви и отстъпки от държавни и общински ценни книжа",0,0,null,0,0,null,0,0,""]
[335,null,2415,"приходи от лихви и отстъпки от дългови ценни книжа на местни и чуждестранни лица",0,0,null,0,0,null,0,0,""]
[null,null,2417,"приходи от лихви по заеми, предоставени на бюджетни организации",0,0,null,0,0,null,0,{"$f":"I87+J87+K87","v":0},""]
[340,null,2418,"лихви по срочни депозити за сметка на централния бюджет (+/-)",0,0,null,0,0,null,0,0,""]
[345,null,2419,"приходи от други лихви",0,0,0,0,0,0,0,0,""]
[350,2500,"Държавни такси",null,{"$f":"SUM(E91:E92)","v":0},0,0,{"$f":"SUM(H91:H92)","v":0},0,0,{"$f":"SUM(K91:K92)","v":0},0,{"$f":"(IF($E90<>0,$M$2,IF($L90<>0,$M$2,\"\")))","v":""}]
[355,null,2501,"такси за административни и други услуги и дейности",0,null,null,0,null,null,0,{"$f":"I91+J91+K91","v":0},""]
[356,null,2502,"такси и лицензии с данъчен характер",0,null,0,0,null,0,0,{"$f":"I92+J92+K92","v":0},""]
[360,2600,"Съдебни такси",null,0,0,0,0,0,0,0,{"$f":"I93+J93+K93","v":0},""]
[370,2700,"Общински такси",null,{"$f":"SUM(E95:E107)","v":0},0,0,{"$f":"SUM(H95:H107)","v":0},0,0,{"$f":"SUM(K95:K107)","v":0},0,""]
[375,null,2701,"за ползване на детски градини",0,0,0,0,0,0,0,{"$f":"I95+J95+K95","v":0},""]
[380,null,2702,"за ползване на детски ясли и други по здравеопазването",{"$f":"F96+G96+H96","v":0},0,0,0,0,0,0,0,""]
[385,null,2703,"за ползване на лагери и други по социалния отдих",0,0,0,0,0,0,0,0,""]
[390,null,2704,"за ползване на домашен социален патронаж и други общински социални услуги",0,0,0,0,0,0,0,0,""]
[395,null,2705,"за ползване на пазари, тържища, панаири, тротоари, улични платна и др.",0,0,0,0,0,0,0,0,""]
[400,null,2706,"за ползване на полудневни детски градини",0,0,0,0,0,0,0,0,""]
[405,null,2707,"за битови отпадъци",0,0,0,0,0,0,0,0,""]
[410,null,2708,"за ползване на общежития и други по образованието",0,0,0,0,0,0,0,0,""]
[420,null,2710,"за технически услуги",0,0,0,0,0,0,0,0,""]
[425,null,2711,"за административни услуги",0,0,0,0,0,0,0,0,""]
[430,null,2715,"за откупуване на гробни места",0,0,0,0,0,0,0,0,""]
[436,null,2717,"за притежаване на куче",0,0,0,0,0,0,0,0,""]
[440,null,2729,"други общински такси",0,0,0,0,0,0,0,0,""]
[445,2800,"Глоби, санкции и наказателни лихви",null,{"$f":"+E109+E110+E111","v":0},0,0,{"$f":"+H109+H110+H111","v":0},0,0,{"$f":"+K109+K110+K111","v":0},{"$f":"SUM(L109:L111)","v":0},""]
[450,null,2801,"конфискувани средства и приходи от продажби на конфискувани и придобити от залог вещи",{"$f":"F109+G109+H109","v":0},0,0,0,0,0,0,{"$f":"I109+J109+K109","v":0},""]
[455,null,2802,"глоби, санкции, неустойки, наказателни лихви, обезщетения и начети",{"$f":"F110+G110+H110","v":0},0,0,0,0,0,0,{"$f":"I110+J110+K110","v":0},""]
[455,null,2809,"наказателни лихви за данъци, мита и осигурителни вноски",{"$f":"F111+G111+H111","v":0},0,0,0,0,0,0,{"$f":"I111+J111+K111","v":0},""]
[470,3600,"Други приходи",null,{"$f":"SUM(E113:E120)","v":0},0,0,{"$f":"SUM(H113:H120)","v":0},0,0,{"$f":"SUM(K113:K120)","v":0},0,""]
[475,null,3601,"реализирани курсови разлики от валутни операции (нето) (+/-)",{"$f":"F113+G113+H113","v":0},0,0,0,0,0,0,{"$f":"I113+J113+K113","v":0},""]
[null,null,3605,"прехвърлени/възстановени акумулирани средства от осигурителни вноски",{"$f":"F114+G114+H114","v":0},0,0,0,0,0,0,{"$f":"I114+J114+K114","v":0},""]
[null,null,3608,"вноски за фонд \"ИЕЯС\" и фонд \"РАО\"",{"$f":"F115+G115+H115","v":0},0,0,0,0,0,0,{"$f":"I115+J115+K115","v":0},""]
[null,null,3610,"приходи от други вноски",0,null,null,0,null,null,0,0,""]
[480,null,3611,"получени застрахователни обезщетения за ДМА",0,0,0,0,0,0,0,0,""]
[485,null,3612,"получени други застрахователни обезщетения",0,0,0,0,0,0,0,0,""]
[null,null,3618,"коректив за касови постъпления (-/+) ",0,0,0,0,0,0,0,0,""]
[490,null,3619,"други неданъчни приходи",0,0,0,0,0,0,0,0,""]
[495,3700,"Внесени ДДС и други данъци върху продажбите ",null,{"$f":"SUM(E122:E124)","v":0},0,0,{"$f":"SUM(H122:H124)","v":0},0,0,{"$f":"SUM(K122:K124)","v":0},0,""]
[500,null,3701,"внесен ДДС (-)",{"$f":"F122+G122+H122","v":0},0,0,0,0,0,0,{"$f":"I122+J122+K122","v":0},""]
[505,null,3702,"внесен данък върху приходите от стопанска дейност на бюджетните предприятия (-)",{"$f":"F123+G123+H123","v":0},0,0,0,0,0,0,{"$f":"I123+J123+K123","v":0},""]
[510,null,3709,"внесени други данъци,такси и вноски върху продажбите (-)",{"$f":"F124+G124+H124","v":0},0,0,0,0,0,0,{"$f":"I124+J124+K124","v":0},""]
[515,4000,"Постъпления от продажба на нефинансови активи (без § 40-71)",null,{"$f":"SUM(E126:E136)","v":0},0,0,{"$f":"SUM(H126:H136)","v":0},0,0,{"$f":"SUM(K126:K136)","v":0},0,""]
[516,null,4021,"постъпления от продажба на компютри и хардуер",{"$f":"F126+G126+H126","v":0},null,null,0,null,null,0,{"$f":"I126+J126+K126","v":0},""]
[517,null,4022,"постъпления от продажба на сгради",0,0,0,0,0,0,0,0,""]
[518,null,4023,"постъпления от продажба на друго оборудване, машини и съоръжения",0,null,null,0,null,null,0,0,""]
[519,null,4024,"постъпления от продажба на транспортни средства",0,0,0,0,0,0,0,0,""]
[520,null,4025,"постъпления от продажба на стопански инвентар",0,null,null,0,null,null,0,0,""]
[521,null,4026,"постъпления от продажба на инфраструктурни обекти",0,null,null,0,null,null,0,0,""]
[522,null,4029,"постъпления от продажба на други ДМА",0,null,null,0,null,null,0,0,""]
[523,null,4030,"постъпления от продажба на нематериални дълготрайни активи",0,0,0,0,0,0,0,0,""]
[523,null,4039,"постъпления от продажба на квоти за емисии на парникови газове",0,null,null,0,null,null,0,0,""]
[524,null,4040,"постъпления от продажба на земя",0,0,0,0,0,0,0,0,""]
[526,null,4072,"постъпления от продажба на земеделска продукция",0,null,null,0,null,null,0,0,""]
[540,4100,"Приходи от концесии",null,0,0,0,0,0,0,0,0,""]
[550,4200,"Приходи от лицензии за ползване на държавни/общински активи",null,0,0,0,0,0,0,0,0,""]
[560,4500,"Помощи и дарения от страната",null,{"$f":"SUM(E140:E141)","v":0},0,0,{"$f":"SUM(H140:H141)","v":0},0,0,{"$f":"SUM(K140:K141)","v":0},0,""]
[565,null,4501,"текущи помощи и дарения от страната",{"$f":"F140+G140+H140","v":0},0,0,0,0,0,0,{"$f":"I140+J140+K140","v":0},""]
[570,null,4503,"капиталови помощи и дарения от страната",{"$f":"F141+G141+H141","v":0},null,null,0,null,null,0,{"$f":"I141+J141+K141","v":0},""]
[575,4600,"Помощи и дарения от чужбина",null,{"$f":"SUM(E143:E150)","v":0},0,0,{"$f":"SUM(H143:H150)","v":0},0,0,{"$f":"SUM(K143:K150)","v":0},0,""]
[580,null,4610,"текущи помощи и дарения от Европейския съюз",{"$f":"F143+G143+H143","v":0},null,null,0,null,null,0,{"$f":"I143+J143+K143","v":0},""]
[585,null,4620,"капиталови помощи и дарения от Европейския съюз",0,null,null,0,null,null,0,0,""]
[590,null,4630,"текущи помощи и дарения от други държави",0,null,0,0,null,null,0,0,""]
[595,null,4640,"капиталови помощи и дарения от други държави",0,null,null,0,null,null,0,0,""]
[600,null,4650,"текущи помощи и дарения от други международни организации",0,null,null,0,null,null,0,0,""]
[605,null,4660,"капиталови помощи и дарения от други международни организации",0,null,null,0,null,null,0,0,""]
[610,null,4670,"други текущи помощи и дарения от чужбина",0,null,null,0,null,null,0,0,""]
[615,null,4680,"други капиталови помощи и дарения  от чужбина",0,null,null,0,null,null,0,0,""]
[575,4700,"Получени чрез небюджетни предприятия средства от КФП по международни и други програми",null,{"$f":"SUM(E152:E159)","v":0},0,0,{"$f":"SUM(H152:H159)","v":0},0,0,{"$f":"SUM(K152:K159)","v":0},0,""]
[580,null,4743,"получени чрез нефинансови предприятия текущи трансфери от КФП по международни и други  програми ",{"$f":"F152+G152+H152","v":0},null,null,0,null,null,0,{"$f":"I152+J152+K152","v":0},""]
[585,null,4744,"получени чрез финансови институции текущи трансфери от КФП по международни и други  програми",0,null,null,0,null,null,0,0,""]
[590,null,4745,"получени чрез нестопански организации текущи трансфери от КФП по международни и други  програми ",0,null,null,0,null,null,0,0,""]
[595,null,4749,"получени чрез предприятия от чужбина текущи трансфери от КФП по международни и други  програми",0,null,null,0,null,null,0,0,""]
[600,null,4751,"получени чрез нефинансови предприятия капиталови трансфери от КФП по международни и други  програми ",0,null,null,0,null,null,0,0,""]
[605,null,4752,"получени чрез финансови институции капиталови трансфери от КФП по международни и други  програми ",0,null,null,0,null,null,0,0,{"$f":"(IF($E157<>0,$M$2,IF($L157<>0,$M$2,\"\")))","v":""}]
[610,null,4753,"получени чрез нестопански организации капиталови трансфери от КФП по международни и други  програми",0,null,null,0,null,null,0,0,""]
[615,null,4759,"получени чрез предприятия от чужбина капиталови трансфери от КФП по международни и други  програми",0,null,null,0,null,null,0,0,""]
[575,4800,"Разпределени към администратори от чужбина средства по международни програми и договори (-)",null,{"$f":"SUM(E161:E168)","v":0},0,0,{"$f":"SUM(H161:H168)","v":0},0,0,{"$f":"SUM(K161:K168)","v":0},0,""]
[580,null,4810,"разпределени към чужбина текущи трансфери по програми на Европейския съюз (-)",{"$f":"F161+G161+H161","v":0},null,null,0,null,null,0,{"$f":"I161+J161+K161","v":0},""]
[585,null,4820,"разпределени към чужбина капиталови трансфери по програми на Европейския съюз ",0,null,null,0,null,null,0,0,""]
[590,null,4830,"разпределени към чужбина текущи трансфери по програми на други държави (-)",0,null,null,0,null,null,0,0,""]
[595,null,4840,"разпределени към чужбина капиталови трансфери по програми на други държави (-)",0,null,null,0,null,null,0,0,""]
[600,null,4850,"разпределени към чужбина текущи трансфери по програми на други международни организации (-)",0,null,null,0,null,null,0,0,""]
[605,null,4860,"разпределени към чужбина капиталови трансфери по програми на други международни организации  (-)",0,null,null,0,null,null,0,0,""]
[610,null,4870,"разпределени към чужбина текущи трансфери по други чуждестранни дарения и помощи (-)",0,null,null,0,null,null,0,0,""]
[615,null,4880,"разпределени към чужбина капиталови трансфери по други чуждестранни дарения и помощи (-)",0,null,null,0,null,null,0,0,""]
[620,"ВСИЧКО","99-99","I. В С И Ч К О   П Р И Х О Д И,  П О М О Щ И   И   Д А Р Е Н И Я",{"$f":"SUM(E22,E28,E33,E39,E47,E52,E58,E61,E64,E65,E72,E73,E74,E90,E93,E94,E108,E112,E121,E125,E137,E138,E139,E142,E151,E160)","v":0},0,0,0,0,0,0,0,1]
[113,null,null,"      в т.ч. данък върху таксиметров превоз на пътници",0,0,null,0,0,null,0,0,1]
[null,null,null,null,null,null,null,null,null,null,null,null,1]
[null,null,null,null,null,null,null,null,null,null,null,null,1]
[null,null,null,null,null,null,null,null,null,null,null,null,1]
[null,{"$f":"$B$7","v":"ОТЧЕТНИ ДАННИ ПО ЕБК ЗА ИЗПЪЛНЕНИЕТО НА БЮДЖЕТА"},null,null,null,null,null,null,null,null,null,null,1]
[null,null,null,null,"за периода от ","до",null,null,null,null,null,null,1]
[null,{"$f":"$B$9","v":"ОУ Г.С.РАКОВСКИ-С.ГЪЛЪБЕЦ"},null,null,{"$f":"$E$9","v":"2020-01-01"},{"$f":"$F$9","v":"2020-03-31"},null,null,null,null,null,null,1]
[null,{"$f":"$B$10","v":"(наименование на разпоредителя с бюджет)"},null,null,null,null,null,null,null,null,null,null,1]
[null,null,null,null,null,null,null,null,null,null,null,null,1]
[null,{"$f":"$B$12","v":"Поморие"},null,null,"       код по ЕБК:",{"$f":"$F$12","v":"5207"},null,null,null,null,null,null,1]
[null,{"$f":"$B$13","v":"(наименование на първостепенния разпоредител с бюджет)"},null,null,null,null,null,null,null,null,null,null,1]
[null,null,null,"ФИНАНСОВО-ПРАВНА ФОРМА",{"$f":"$E$15","v":0},{"$f":"$F$15","v":"БЮДЖЕТ"},null,null,null,null,null,null,1]
[null,null,null,null,null,null,null,"(в лева)",null,null,null,"(в лева)",1]
[null,null,null,"II. РАЗХОДИ - РЕКАПИТУЛАЦИЯ ПО ПАРАГРАФИ И ПОДПАРАГРАФИ","Уточнен план 2020 - РАЗХОДИ - рекапитулация",null,null,null,"Отчет 2020 - РАЗХОДИ - рекапитулация",null,null,null,1]
[null,"§§","под-§§","НАИМЕНОВАНИЕ НА ПАРАГРАФИТЕ И ПОДПАРАГРАФИТЕ",{"$f":"E20","v":"Уточнен план                Общо"},"държавни дейности","местни дейности","дофинансиране","държавни дейности -ОТЧЕТ","местни дейности - ОТЧЕТ","дофинансиране - ОТЧЕТ","ОТЧЕТ                                    ОБЩО",1]
[null,null,null," 02 ¦","(1)","(2)","(3)","(4)","(5)","(6)","(7)","(8)",1]
[null,null,null,null,null,null,null,null,null,null,null,null,1]
[5,100,"Заплати и възнаграждения за персонала, нает по трудови и служебни правоотношения",null,{"$f":"SUMIF($B$607:$B$12313,$B187,E$607:E$12313)","v":289769},289769,0,0,59656.959999999999,0,0,59656.959999999999,{"$f":"(IF($E187<>0,$M$2,IF($L187<>0,$M$2,\"\")))","v":1}]
[10,null,101,"заплати и възнаграждения на персонала нает по трудови правоотношения",{"$f":"SUMIF($C$607:$C$12313,$C188,E$607:E$12313)","v":289769},289769,0,0,59656.959999999999,0,0,59656.959999999999,1]
[15,null,102,"заплати и възнаграждения на персонала нает по служебни правоотношения",0,0,0,0,0,0,0,0,""]
[35,200,"Други възнаграждения и плащания за персонала",null,{"$f":"SUMIF($B$607:$B$12313,$B190,E$607:E$12313)","v":19220},19220,0,0,7675.77,0,0,7675.77,1]
[40,null,201,"за нещатен персонал нает по трудови правоотношения ",{"$f":"SUMIF($C$607:$C$12313,$C191,E$607:E$12313)","v":0},0,0,0,0,0,0,0,""]
[45,null,202,"за персонала по извънтрудови правоотношения",9500,9500,0,0,0,0,0,0,1]
[50,null,205,"изплатени суми от СБКО за облекло и други на персонала, с характер на възнаграждение",9000,9000,0,0,7500,0,0,7500,1]
[55,null,208,"обезщетения за персонала, с характер на възнаграждение",0,0,0,0,0,0,0,0,""]
[60,null,209,"другиплащания и възнаграждения",720,720,0,0,175.77,0,0,175.77,1]
[65,500,"Задължителни осигурителни вноски от работодатели",null,{"$f":"SUMIF($B$607:$B$12313,$B196,E$607:E$12313)","v":68000},68000,0,0,14985.15,0,0,14985.15,1]
[70,null,551,"осигурителни вноски от работодатели за Държавното обществено осигуряване (ДОО)",{"$f":"SUMIF($C$607:$C$12313,$C197,E$607:E$12313)","v":29000},29000,0,0,7750.95,0,0,7750.95,1]
[75,null,552,"осигурителни вноски от работодатели за Учителския пенсионен фонд (УчПФ)",14000,14000,0,0,2288.21,0,0,2288.21,1]
[80,null,558,"вноски по чл. 4б и 4в от КСО за сметка на осигурителя",0,0,0,0,0,0,0,0,""]
[80,null,560,"здравно-осигурителни вноски от работодатели",17000,17000,0,0,3191.51,0,0,3191.51,1]
[85,null,580,"вноски за допълнително задължително осигуряване от работодатели",8000,8000,0,0,1754.48,0,0,1754.48,1]
[90,null,588,"коректив на вноски за ДЗПО за сумите по чл. 4б и 4в от КСО за сметка на осигурителя",0,0,0,0,0,0,0,0,""]
[90,null,590,"задължителни вноски за чуждестранни пенсионни фондове и  схеми за сметка на осигурителя",0,0,0,0,0,0,0,0,""]
[115,800,"Вноски за доброволно осигуряване  ",null,{"$f":"SUMIF($B$607:$B$12313,$B204,E$607:E$12313)","v":0},0,0,0,0,0,0,0,""]
[125,1000,"Издръжка",null,53089,52106,0,983,11827.810000000001,0,0,11827.810000000001,1]
[130,null,1011,"Храна",{"$f":"SUMIF($C$607:$C$12313,$C206,E$607:E$12313)","v":5220},5220,0,0,549.49,0,0,549.49,1]
[135,null,1012,"Медикаменти",0,0,0,0,0,0,0,0,""]
[140,null,1013,"Постелен инвентар и облекло",840,840,0,0,840,0,0,840,1]
[145,null,1014,"Учебни и научно-изследователски разходи и книги за библиотеките",0,0,0,0,0,0,0,0,""]
[150,null,1015,"материали",12927,12927,0,0,1193.45,0,0,1193.45,1]
[155,null,1016,"вода, горива и енергия",5883,4900,0,983,1054.94,0,0,1054.94,1]
[160,null,1020,"разходи за външни услуги",28164,28164,0,0,8189.93,0,0,8189.93,1]
[165,null,1030,"Текущ ремонт",0,0,0,0,0,0,0,0,""]
[175,null,1051,"командировки в страната",55,55,0,0,0,0,0,0,1]
[180,null,1052,"краткосрочни командировки в чужбина",0,0,0,0,0,0,0,0,""]
[185,null,1053,"дългосрочни командировки в чужбина",{"$f":"SUMIF($C$607:$C$12313,$C216,E$607:E$12313)","v":0},0,0,0,0,0,0,0,""]
[190,null,1062,"разходи за застраховки",0,0,0,0,0,0,0,0,""]
[200,null,1063,"такса ангажимент по заеми",0,0,0,0,0,0,0,0,""]
[200,null,1069,"други финансови услуги",0,0,0,0,0,0,0,0,""]
[205,null,1091,"други разходи за СБКО",0,0,0,0,0,0,0,0,""]
[210,null,1092,"разходи за договорни санкции и неустойки, съдебни обезщетения и разноски",0,0,0,0,0,0,0,0,""]
[215,null,1098,"други разходи, некласифицирани в другите параграфи и подпараграфи",0,0,0,0,0,0,0,0,""]
[220,1900,"Платени данъци, такси и административни санкции",null,{"$f":"SUMIF($B$607:$B$12313,$B223,E$607:E$12313)","v":0},0,0,0,0,0,0,0,""]
[225,null,1901,"платени държавни данъци, такси, наказателни лихви и административни санкции",{"$f":"SUMIF($C$607:$C$12313,$C224,E$607:E$12313)","v":0},0,0,0,0,0,0,0,""]
[230,null,1981,"платени общински данъци, такси, наказателни лихви и административни санкции",0,0,0,0,0,0,0,0,""]
[245,null,1991,"платени данъци, такси, наказателни лихви и административни санкции в чужбина",0,0,0,0,0,0,0,0,""]
[220,2100,"Разходи за лихви по емисии на държавни (общински) ценни книжа",null,{"$f":"SUMIF($B$607:$B$12313,$B227,E$607:E$12313)","v":0},0,0,0,0,0,0,0,""]
[225,null,2110,"лихви по държавни (общински) ценни книжа",{"$f":"SUMIF($C$607:$C$12313,$C228,E$607:E$12313)","v":0},0,0,0,0,0,0,0,""]
[230,null,2120,"отстъпки по държавни (общински) ценни книжа",0,0,0,0,0,0,0,0,""]
[235,null,2125,"лихви и отстъпки по целеви емисии на държавни ценни книжа",0,0,0,0,0,0,0,0,""]
[240,null,2140,"лихви по държавни ценни книжа, емитирани за структурната реформа ",0,0,0,0,0,0,0,0,""]
[245,null,2190,"премии над номинала от емисии на държавни (общински) ценни книжа (-)",0,0,0,0,0,0,0,0,""]
[250,2200,"Разходи за лихви по заеми от страната",null,{"$f":"SUMIF($B$607:$B$12313,$B233,E$607:E$12313)","v":0},0,0,0,0,0,0,0,""]
[255,null,2221,"Разходи за лихви по заеми от банки в страната",{"$f":"SUMIF($C$607:$C$12313,$C234,E$607:E$12313)","v":0},0,0,0,0,0,0,0,""]
[265,null,2224,"Разходи за лихви по други заеми от страната",0,0,0,0,0,0,0,0,""]
[270,2500,"Разходи за лихви по заеми от други държави",null,{"$f":"SUMIF($B$607:$B$12313,$B236,E$607:E$12313)","v":0},0,0,0,0,0,0,0,""]
[290,2600,"Разходи за лихви по заеми от международни организации и институции",null,0,0,0,0,0,0,0,0,""]
[320,2700,"Разходи за лихви по заеми от банки и други финансови институции от чужбина",null,0,0,0,0,0,0,0,0,""]
[330,2800,"Разходи за лихви и отстъпки по облигации емитирани и търгувани на международните капиталови пазари",null,0,0,0,0,0,0,0,0,""]
[350,2900,"Други разходи за лихви",null,0,0,0,0,0,0,0,0,""]
[355,null,2910,"Платени лихви по финансов лизинг и търговски кредит",{"$f":"SUMIF($C$607:$C$12313,$C241,E$607:E$12313)","v":0},0,0,0,0,0,0,0,""]
[355,null,2920,"Платени лихви по активирани гаранции по заеми от  банки в страната",0,0,0,0,0,0,0,0,""]
[375,null,2969,"Платени лихви по активирани гаранции по заеми от международни организации и институции",0,0,0,0,0,0,0,0,""]
[380,null,2970,"Платени лихви по активирани гаранции по заеми от банки и финансови институции от чужбина",0,0,0,0,0,0,0,0,""]
[385,null,2989,"Възстановени суми по платени лихви по активирани гаранции (-)",0,0,0,0,0,0,0,0,""]
[390,null,2990,"Платени лихви по заеми, предоставени от централния бюджет и бюджетни организации",0,0,0,0,0,0,0,0,""]
[390,null,2991,"Други разходи за лихви към  местни лица",0,0,0,0,0,0,0,0,""]
[395,null,2992,"Други разходи за лихви към чуждестранни лица",0,0,0,0,0,0,0,0,""]
[397,3300,"Вноска в общия бюджет на Европейския съюз",null,{"$f":"SUMIF($B$607:$B$12313,$B249,E$607:E$12313)","v":0},0,0,0,0,0,0,0,""]
[398,null,3301,"ресурс на база брутен национален доход",{"$f":"SUMIF($C$607:$C$12313,$C250,E$607:E$12313)","v":0},0,0,0,0,0,0,0,""]
[399,null,3302,"ресурс на база данък върху добавената стойност",0,0,0,0,0,0,0,0,""]
[400,null,3303,"корекция за Обединеното кралство",0,0,0,0,0,0,0,0,""]
[401,null,3304,"традиционни собствени ресурси - мита",0,0,0,0,0,0,0,0,""]
[404,null,3306,"участие във финансирането на брутното намаление за Нидерландия, Швеция, Дания и Австрия",0,0,0,0,0,0,0,0,{"$f":"(IF($E254<>0,$M$2,IF($L254<>0,$M$2,\"\")))","v":""}]
[404,3900,"Здравно-осигурителни плащания",null,{"$f":"SUMIF($B$607:$B$12313,$B255,E$607:E$12313)","v":0},0,0,0,0,0,0,0,""]
[440,4000,"Стипендии",null,0,0,0,0,0,0,0,0,""]
[450,4100,"Пенсии",null,0,0,0,0,0,0,0,0,""]
[495,4200,"Текущи трансфери, обезщетения и помощи за домакинствата",null,0,0,0,0,0,0,0,0,""]
[500,null,4201,"обезщетения и помощи по социалното осигуряване",{"$f":"SUMIF($C$607:$C$12313,$C259,E$607:E$12313)","v":0},0,0,0,0,0,0,0,""]
[505,null,4202,"обезщетения и помощи по социалното подпомагане",0,0,0,0,0,0,0,0,""]
[510,null,4214,"обезщетения и помощи по решение на общинския съвет",0,0,0,0,0,0,0,0,""]
[515,null,4217,"текущи трансфери за домакинства от средства на Европейския съюз",0,0,0,0,0,0,0,0,""]
[520,null,4218,"текущи трансфери за домакинства по други международни програми и споразумения",0,0,0,0,0,0,0,0,""]
[525,null,4219,"други текущи трансфери за домакинствата",0,0,0,0,0,0,0,0,""]
[635,4300,"Субсидии и други текущи трансфери за нефинансови предприятия",null,{"$f":"SUMIF($B$607:$B$12313,$B265,E$607:E$12313)","v":0},0,0,0,0,0,0,0,""]
[640,null,4301,"за текуща дейност",{"$f":"SUMIF($C$607:$C$12313,$C266,E$607:E$12313)","v":0},0,0,0,0,0,0,0,""]
[645,null,4302,"за осъществяване на болнична помощ ",0,0,0,0,0,0,0,0,""]
[650,null,4309,"други субсидии и плащания",0,0,0,0,0,0,0,0,""]
[655,4400,"Субсидии и други текущи трансфери за финансови институции",null,{"$f":"SUMIF($B$607:$B$12313,$B269,E$607:E$12313)","v":0},0,0,0,0,0,0,0,""]
[665,4500,"Субсидии и други текущи трансфери за юридически лица с нестопанска цел",null,0,0,0,0,0,0,0,0,""]
[675,4600,"Разходи за членски внос и участие в нетърговски организации и дейности",null,0,0,0,0,0,0,0,0,""]
[685,4900,"Предоставени текущи и капиталови трансфери за чужбина",null,0,0,0,0,0,0,0,0,""]
[690,null,4901,"текущи трансфери за чужбина",{"$f":"SUMIF($C$607:$C$12313,$C273,E$607:E$12313)","v":0},0,0,0,0,0,0,0,""]
[695,null,4902,"капиталови трансфери за чужбина",0,0,0,0,0,0,0,0,""]
[700,5100,"Основен ремонт на дълготрайни материални активи",null,{"$f":"SUMIF($B$607:$B$12313,$B275,E$607:E$12313)","v":0},0,0,0,0,0,0,0,""]
[710,5200,"Придобиване на дълготрайни материални активи",null,0,0,0,0,0,0,0,0,""]
[715,null,5201,"придобиване на компютри и хардуер",{"$f":"SUMIF($C$607:$C$12313,$C277,E$607:E$12313)","v":0},0,0,0,0,0,0,0,""]
[720,null,5202,"придобиване на сгради",0,0,0,0,0,0,0,0,""]
[725,null,5203,"придобиване на друго оборудване, машини и съоръжения",0,0,0,0,0,0,0,0,""]
[730,null,5204,"придобиване на транспортни средства",0,0,0,0,0,0,0,0,""]
[735,null,5205,"придобиване на стопански инвентар",0,0,0,0,0,0,0,0,""]
[740,null,5206,"изграждане на инфраструктурни обекти",0,0,0,0,0,0,0,0,""]
[745,null,5219,"придобиване на други ДМА",0,0,0,0,0,0,0,0,""]
[750,5300,"Придобиване на нематериални дълготрайни активи",null,{"$f":"SUMIF($B$607:$B$12313,$B284,E$607:E$12313)","v":0},0,0,0,0,0,0,0,""]
[755,null,5301,"придобиване на програмни продукти и лицензи за програмни продукти",{"$f":"SUMIF($C$607:$C$12313,$C285,E$607:E$12313)","v":0},0,0,0,0,0,0,0,""]
[760,null,5309,"придобиване на други нематериални дълготрайни активи",0,0,0,0,0,0,0,0,""]
[765,5400,"Придобиване на земя",null,{"$f":"SUMIF($B$607:$B$12313,$B287,E$607:E$12313)","v":0},0,0,0,0,0,0,0,""]
[775,5500,"Капиталови трансфери",null,0,0,0,0,0,0,0,0,""]
[780,null,5501,"капиталови трансфери за нефинансови предприятия",{"$f":"SUMIF($C$607:$C$12313,$C289,E$607:E$12313)","v":0},0,0,0,0,0,0,0,""]
[785,null,5502,"капиталови трансфери за финансови институции",0,0,0,0,0,0,0,0,""]
[790,null,5503,"капиталови трансфери за организации с нестопанска цел",0,0,0,0,0,0,0,0,""]
[795,null,5504,"капиталови трансфери за домакинствата",0,0,0,0,0,0,0,0,""]
[805,5700,"Прираст на държавния резерв и изкупуване на земеделска продукция (включва и § 40-71)",null,{"$f":"SUMIF($B$607:$B$12313,$B293,E$607:E$12313)","v":0},0,0,0,0,0,0,0,""]
[810,null,5701,"плащания за попълване на държавния резерв",{"$f":"SUMIF($C$607:$C$12313,$C294,E$607:E$12313)","v":0},0,0,0,0,0,0,0,""]
[815,null,5702,"плащания за изкупуване на земеделска продукция",0,0,0,0,0,0,0,0,""]
[525,null,4071,"постъпления от продажба на държавния резерв (-)",0,0,0,0,0,0,0,0,""]
[820,98,"Резерв за непредвидени и неотложни разходи",null,{"$f":"SUMIF($B$607:$B$12313,$B297,E$607:E$12313)","v":0},0,0,0,0,0,0,0,""]
[821,null,null,null,null,null,null,null,null,null,null,null,""]
[822,null,null,null,null,null,null,null,null,null,null,null,""]
[823,null,null,null,null,null,null,null,null,null,null,null,""]
[825,"ВСИЧКО","99-99","II. ВСИЧКО РАЗХОДИ - РЕКАПИТУЛАЦИЯ ПО ПАРАГРАФИ И ПОДПАРАГРАФИ",{"$f":"SUMIF($C$607:$C$12313,$C301,E$607:E$12313)","v":430078},429095,0,983,94145.689999999988,0,0,94145.689999999988,1]
[null,null,null,null,null,null,null,null,null,null,null,null,1]
[null,null,null,null,null,null,null,null,null,null,null,null,1]
[null,null,null,null,null,null,null,null,null,null,null,null,1]
[]
[]
[]
[]
[]
[]
[]
[]
[]
[]
[]
[]
[905]
[906]
[]
[907]
[]
[910]
[911]
[912]
[]
[]
[920]
[921]
[922]
[930]
[931]
[932]
[935]
[940]
[950]
[953]
[954]
[955]
[956]
[958]
[959]
[960]
[]
[]
[]
[]
[null,null,null,null,null,null,null,null,null,null,null,null,1]
[null,{"$f":"$B$7","v":"ОТЧЕТНИ ДАННИ ПО ЕБК ЗА ИЗПЪЛНЕНИЕТО НА БЮДЖЕТА"},null,null,null,null,null,null,null,null,null,null,1]
[null,null,null,null,"за периода        от ","до",null,null,null,null,null,null,1]
[null,{"$f":"$B$9","v":"ОУ Г.С.РАКОВСКИ-С.ГЪЛЪБЕЦ"},null,null,{"$f":"$E$9","v":"2020-01-01"},{"$f":"$F$9","v":"2020-03-31"},null,null,null,null,null,null,1]
[null,{"$f":"$B$10","v":"(наименование на разпоредителя с бюджет)"},null,null,null,null,null,null,null,null,null,null,1]
[null,null,null,null,null,null,null,null,null,null,null,null,1]
[null,{"$f":"$B$12","v":"Поморие"},null,null,"       код по ЕБК:",{"$f":"$F$12","v":"5207"},null,null,null,null,null,null,1]
[null,{"$f":"$B$13","v":"(наименование на първостепенния разпоредител с бюджет)"},null,null,null,null,null,null,null,null,null,null,1]
[null,null,null,null,{"$f":"$E$15","v":0},{"$f":"+$F$15","v":"БЮДЖЕТ"},null,null,null,null,null,null,1]
[null,null,null,null,null,null,null,"(в лева)",null,null,null,"(в лева)",1]
[null,null,null,"III-ІV. ТРАНСФЕРИ И ВРЕМЕННИ БЕЗЛИХВЕНИ ЗАЕМИ - РЕКАПИТУЛАЦИЯ","Уточнен план 2020 - ТРАНСФЕРИ и ВРЕМ. БЕЗЛ. ЗАЕМИ",null,null,null,"     Отчет 2020 - ТРАНСФЕРИ и ВРЕМ. БЕЗЛ. ЗАЕМИ",null,null,null,1]
[null,"§§","под-§§","НАИМЕНОВАНИЕ НА ПАРАГРАФИТЕ И ПОДПАРАГРАФИТЕ",{"$f":"E20","v":"Уточнен план                Общо"},"държавни дейности","местни дейности","дофинансиране","държавни дейности -ОТЧЕТ","местни дейности - ОТЧЕТ","дофинансиране - ОТЧЕТ","ОТЧЕТ                                    ОБЩО",1]
[1,"  ІІІ. ТРАНСФЕРИ",null," 03 ¦","(1)","(2)","(3)","(4)","(5)","(6)","(7)","(8)",1]
[2,null,null,null,null,null,null,null,null,null,null,null,1]
[5,3000,"Трансфери от ЦБ за други бюджети (нето)",null,{"$f":"SUM(E362:E374)","v":0},0,0,{"$f":"SUM(H362:H374)","v":0},0,0,{"$f":"SUM(K362:K374)","v":0},0,{"$f":"(IF($E361<>0,$M$2,IF($L361<>0,$M$2,\"\")))","v":""}]
[10,null,3020,"трансфери между ЦБ и бюджети по държавния бюджет",{"$f":"F362+G362+H362","v":0},0,0,0,0,0,0,{"$f":"I362+J362+K362","v":0},""]
[20,null,3040,"възстановени трансфери в ЦБ от бюджети на общини",0,0,0,0,0,0,0,{"$f":"I363+J363+K363","v":0},""]
[25,null,3041,"обща субсидия и други трансфери за държавни дейности от ЦБ за общини",0,0,0,0,0,0,0,0,""]
[30,null,3042,"обща изравнителна субсидия и други трансфери за местни дейности от ЦБ за общини",0,0,0,0,0,0,0,0,""]
[35,null,3043,"целеви субсидии от ЦБ за капиталови разходи за общини",0,0,0,0,0,0,0,0,""]
[36,null,3048,"други целеви трансфери от ЦБ за общини",0,0,0,0,0,0,0,0,""]
[45,null,3050,"трансфери между ЦБ и Държавното обществено осигуряване",0,0,0,0,0,0,0,0,""]
[50,null,3061,"трансфери между ЦБ и НЗОК",0,0,0,0,0,0,0,0,""]
[60,null,3081,"трансфери между ЦБ и БНТ",0,0,0,0,0,0,0,0,""]
[null,null,3082,"трансфери между ЦБ и БНР",0,0,0,0,0,0,0,0,""]
[65,null,3083,"трансфери между ЦБ и БТА",0,0,0,0,0,0,0,0,""]
[65,null,3089,"трансфери  между ЦБ и други бюджети",0,0,0,0,0,0,0,0,""]
[65,null,3090,"други възстановени в ЦБ трансфери от бюджети",0,0,0,0,0,0,0,0,""]
[70,3100,"Трансфери между бюджета на бюджетната организация и ЦБ (нето)",null,{"$f":"SUM(E376:E382)","v":0},0,0,{"$f":"SUM(H376:H382)","v":0},0,0,{"$f":"SUM(K376:K382)","v":0},0,""]
[75,null,3110,"трансфери от/за ЦБ (+/-)",0,0,0,0,0,0,0,{"$f":"I376+J376+K376","v":0},""]
[80,null,3111,"обща субсидия и други трансфери за държавни дейности от ЦБ за общини (+)",0,0,0,0,0,0,0,0,""]
[85,null,3112,"обща изравнителна субсидия и други трансфери за местни дейности от ЦБ за общини (+)",0,0,0,0,0,0,0,0,""]
[90,null,3113,"получени от общини целеви субсидии от ЦБ за капиталови разходи (+)",0,0,0,0,0,0,0,0,""]
[91,null,3118,"получени от общини трансфери за други целеви разходи от ЦБ чрез  кодовете в СЕБРА 488 001 ххх-х",0,0,0,0,0,0,0,0,""]
[null,null,3128,"получени от общини трансфери за други целеви разходи от ЦБ чрез кодове в СЕБРА 488 002 ххх-х",0,0,0,0,0,0,0,0,""]
[100,null,3120,"възстановени трансфери за ЦБ (-)",0,0,0,0,0,0,0,0,""]
[115,3200,"Предоставени субсидии от държавния бюджет за БАН и държавните висши училища (нето)",null,{"$f":"SUM(E384:E387)","v":0},0,0,{"$f":"SUM(H384:H387)","v":0},0,0,{"$f":"SUM(K384:K387)","v":0},0,""]
[120,null,3210,"предоставени трансфери от ДБ за държавните висши училища",0,0,0,0,0,0,0,{"$f":"I384+J384+K384","v":0},""]
[125,null,3220,"предоставени трансфери от ДБ за БАН",0,0,0,0,0,0,0,{"$f":"I385+J385+K385","v":0},""]
[130,null,3230,"получени от държавните висши училища  трансфери от ДБ (+)",0,0,0,0,0,0,0,{"$f":"I386+J386+K386","v":0},""]
[135,null,3240,"получени от БАН трансфери от ДБ (+)",0,0,0,0,0,0,0,{"$f":"I387+J387+K387","v":0},""]
[145,6000,"Трансфери между ЦБ и сметки за средствата от ЕС (нето)",null,{"$f":"SUM(E389:E390)","v":0},0,0,{"$f":"SUM(H389:H390)","v":0},0,0,{"$f":"SUM(K389:K390)","v":0},0,""]
[150,null,6001," - получени трансфери (+)",0,0,0,0,0,0,0,{"$f":"I389+J389+K389","v":0},""]
[155,null,6002," - предоставени трансфери (-)",0,0,0,0,0,0,0,{"$f":"I390+J390+K390","v":0},""]
[160,6100,"Трансфери между бюджети (нето)",null,{"$f":"SUM(E392:E395)","v":430078},429095,983,{"$f":"SUM(H392:H395)","v":0},138838.89000000001,0,{"$f":"SUM(K392:K395)","v":0},138838.89000000001,1]
[165,null,6101,"трансфери между бюджети - получени трансфери (+)",0,0,0,0,0,0,0,{"$f":"I392+J392+K392","v":0},""]
[170,null,6102,"трансфери между бюджети - предоставени трансфери (-)",0,0,0,0,0,0,0,{"$f":"I393+J393+K393","v":0},""]
[null,null,6105,"трансфери от МТСП по програми за осигуряване на заетост (+/-)",0,0,0,0,0,0,0,{"$f":"I394+J394+K394","v":0},""]
[180,null,6109,"вътрешни трансфери в системата на първостепенния разпоредител (+/-)",430078,429095,983,0,138838.89000000001,0,0,{"$f":"I395+J395+K395","v":138838.89000000001},1]
[185,6200,"Трансфери между бюджети и сметки за средствата от ЕС (нето)",null,{"$f":"SUM(E397:E398)","v":0},0,0,{"$f":"SUM(H397:H398)","v":0},0,0,{"$f":"SUM(K397:K398)","v":0},0,""]
[190,null,6201,"- получени трансфери (+/-)",0,0,0,0,0,0,0,{"$f":"I397+J397+K397","v":0},""]
[195,null,6202,"- предоставени трансфери (+/-)",0,0,0,0,0,0,0,{"$f":"I398+J398+K398","v":0},""]
[200,6300,"Трансфери между сметки за средствата от ЕС (нето)",null,{"$f":"SUM(E400:E401)","v":0},0,0,{"$f":"SUM(H400:H401)","v":0},0,0,{"$f":"SUM(K400:K401)","v":0},0,""]
[205,null,6301,"- получени трансфери (+/-)",0,0,0,0,0,0,0,{"$f":"I400+J400+K400","v":0},""]
[206,null,6302,"- предоставени трансфери (-)",0,0,0,0,0,0,0,{"$f":"I401+J401+K401","v":0},""]
[210,6400,"Трансфери от/за държавни предприятия и други лица, включени в КФП",null,{"$f":"SUM(E403:E404)","v":0},0,0,{"$f":"SUM(H403:H404)","v":0},0,0,{"$f":"SUM(K403:K404)","v":0},0,""]
[211,null,6401,"- получени трансфери (+)",0,0,0,0,0,0,0,{"$f":"I403+J403+K403","v":0},""]
[212,null,6402,"- предоставени трансфери (-)",0,0,0,0,0,0,0,{"$f":"I404+J404+K404","v":0},""]
[213,6500,"Трансфери на отчислени постъпления",null,0,null,null,0,null,null,0,{"$f":"I405+J405+K405","v":0},""]
[215,6600,"Разчети за извършени плащания в СЕБРА (+/-)",null,{"$f":"SUM(E407:E408)","v":0},0,0,{"$f":"SUM(H407:H408)","v":0},0,0,{"$f":"SUM(K407:K408)","v":0},0,""]
[220,null,6601,"Разчети с подведомствени разпоредители за плащания в СЕБРА  (-)",0,0,0,0,0,0,0,{"$f":"I407+J407+K407","v":0},""]
[225,null,6602,"Разчети с първостепенен разпоредител за плащания в СЕБРА  (+)",0,0,0,0,0,0,0,{"$f":"I408+J408+K408","v":0},""]
[215,6700,"Трансфери от/за сметки за чужди средства",null,{"$f":"SUM(E410:E411)","v":0},0,0,{"$f":"SUM(H410:H411)","v":0},0,0,{"$f":"SUM(K410:K411)","v":0},0,""]
[220,null,6701,"трансфери от/за сметки за чужди средства - получени трансфери (+)",0,null,null,0,0,0,0,{"$f":"I410+J410+K410","v":0},""]
[225,null,6702,"трансфери от/за сметки за чужди средства - предоставени трансфери (-)",0,null,null,0,0,0,0,{"$f":"I411+J411+K411","v":0},""]
[230,6900,"Трансфери за поети осигурителни вноски и данъци",null,{"$f":"SUM(E413:E418)","v":0},0,0,{"$f":"SUM(H413:H418)","v":0},0,0,{"$f":"SUM(K413:K418)","v":0},0,""]
[235,null,6901,"Трансфери за поети данъци върху доходите на физически лица",0,0,0,0,0,0,0,{"$f":"I413+J413+K413","v":0},""]
[240,null,6905,"Трансфери за поети осигурителни вноски за ДОО",0,0,0,0,0,0,0,0,""]
[240,null,6906,"Трансфери за поети осигурителни вноски за здравно осигуряване",0,0,0,0,0,0,0,0,""]
[245,null,6907,"Трансфери за поети осигурителни вноски за ДЗПО",0,0,0,0,0,0,0,0,""]
[250,null,6908,"Корективен трансфер за поети осигурителни вноски и данъци",0,0,0,0,0,0,0,0,""]
[255,null,6909,"Разпределени суми на трансфери за поети осигурителни вноски и данъци (-)",0,0,0,0,0,0,0,0,""]
[260,"ВСИЧКО","99-99","III. ВСИЧКО ТРАНСФЕРИ",{"$f":"SUM(E361,E375,E383,E388,E391,E396,E399,E402,E405,E406,E409,E412)","v":430078},429095,983,{"$f":"SUM(H361,H375,H383,H388,H391,H396,H399,H402,H405,H406,H409,H412)","v":0},138838.89000000001,0,{"$f":"SUM(K361,K375,K383,K388,K391,K396,K399,K402,K405,K406,K409,K412)","v":0},138838.89000000001,1]
[261,"ІV. ВР.БЕЗЛ.ЗАЕМИ",null," 04 ¦",null,null,null,null,null,null,null,null,""]
[262,null,null,null,null,null,null,null,null,null,null,null,""]
[265,7400,"Получени/предоставени временни безлихвени заеми от/за ЦБ (нето)",null,{"$f":"F422+G422+H422","v":0},null,null,0,null,null,0,{"$f":"I422+J422+K422","v":0},""]
[275,7500,"Временни безлихвени заеми между бюджети (нето)",null,{"$f":"F423+G423+H423","v":0},null,null,0,null,null,0,{"$f":"I423+J423+K423","v":0},""]
[285,7600,"Временни безлихвени заеми между бюджети и сметки за средствата от ЕС (нето)",null,{"$f":"F424+G424+H424","v":0},0,0,0,0,0,0,{"$f":"I424+J424+K424","v":0},""]
[295,7700,"Временни безлихвени заеми между сметки за средствата от ЕС (нето)",null,{"$f":"F425+G425+H425","v":0},0,0,0,0,0,0,{"$f":"I425+J425+K425","v":0},{"$f":"(IF($E425<>0,$M$2,IF($L425<>0,$M$2,\"\")))","v":""}]
[215,7800,"Временни безлихвени заеми от/за държавни предприятия и други сметки, включени в КФП ",null,{"$f":"SUM(E427:E428)","v":0},0,0,{"$f":"SUM(H427:H428)","v":0},0,0,0,0,{"$f":"(IF($E426<>0,$M$2,IF($L426<>0,$M$2,\"\")))","v":""}]
[220,null,7833,"Временни безлихвени заеми от/за сметки за чужди средства (нето) ",{"$f":"F427+G427+H427","v":0},0,0,0,0,0,0,{"$f":"I427+J427+K427","v":0},{"$f":"(IF($E427<>0,$M$2,IF($L427<>0,$M$2,\"\")))","v":""}]
[225,null,7888,"Временни безлихвени заеми от/за държавни предприятия, включени в КФП (нето) ",{"$f":"F428+G428+H428","v":0},0,0,0,0,0,0,{"$f":"I428+J428+K428","v":0},{"$f":"(IF($E428<>0,$M$2,IF($L428<>0,$M$2,\"\")))","v":""}]
[315,"ВСИЧКО","99-99","IV. ВСИЧКО ВРЕМЕННИ БЕЗЛИХВЕНИ ЗАЕМИ",{"$f":"SUM(E422,E423,E424,E425,E426)","v":0},0,0,{"$f":"SUM(H422,H423,H424,H425,H426)","v":0},0,0,0,0,1]
[null,null,null,null,null,null,null,null,null,null,null,null,1]
[null,null,null,null,null,null,null,null,null,null,null,null,1]
[null,null,null,null,null,null,null,null,null,null,null,null,1]
[null,{"$f":"$B$7","v":"ОТЧЕТНИ ДАННИ ПО ЕБК ЗА ИЗПЪЛНЕНИЕТО НА БЮДЖЕТА"},null,null,null,null,null,null,null,null,null,null,1]
[null,null,null,null,"за периода        от ","до",null,null,null,null,null,null,1]
[null,{"$f":"$B$9","v":"ОУ Г.С.РАКОВСКИ-С.ГЪЛЪБЕЦ"},null,null,{"$f":"$E$9","v":"2020-01-01"},{"$f":"$F$9","v":"2020-03-31"},null,null,null,null,null,null,1]
[null,{"$f":"$B$10","v":"(наименование на разпоредителя с бюджет)"},null,null,null,null,null,null,null,null,null,null,1]
[null,null,null,null,null,null,null,null,null,null,null,null,1]
[null,{"$f":"$B$12","v":"Поморие"},null,null,"       код по ЕБК:",{"$f":"$F$12","v":"5207"},null,null,null,null,null,null,1]
[null,{"$f":"$B$13","v":"(наименование на първостепенния разпоредител с бюджет)"},null,null,null,null,null,null,null,null,null,null,1]
[null,null,null,"ФИНАНСОВО-ПРАВНА ФОРМА",{"$f":"$E$15","v":0},{"$f":"+$F$15","v":"БЮДЖЕТ"},null,null,null,null,null,null,1]
[null,null,null,null,null,null,null,"(в лева)",null,null,null,"(в лева)",1]
[null,null,null,null,"Уточнен план 2020 - БЮДЖЕТНО САЛДО",null,null,null,"               Отчет 2020 - БЮДЖЕТНО САЛДО",null,null,null,1]
[null,null,null,"V.-VІ. БЮДЖЕТНО САЛДО и ФИНАНСИРАНЕ НА БЮДЖЕТНОТО САЛДО",{"$f":"E20","v":"Уточнен план                Общо"},"държавни дейности","местни дейности","дофинансиране","държавни дейности -ОТЧЕТ","местни дейности - ОТЧЕТ","дофинансиране - ОТЧЕТ","ОТЧЕТ                                    ОБЩО",1]
[null,null,null," 0 5  ¦","(1)","(2)","(3)","(4)","(5)","(6)","(7)","(8)",1]
[null,null,null,"V. БЮДЖЕТНО САЛДО - ДЕФИЦИТ (-) / ИЗЛИШЪК (+)      (V.=I.-II.+III.+ІV.)",{"$f":"+E169-E301+E419+E429","v":0},0,983,-983,44693.200000000026,0,0,44693.200000000026,1]
[null,null,null,"VІ. ФИНАНСИРАНЕ НА БЮДЖЕТНОТО САЛДО (VІ.=-V.)",{"$f":"+E597","v":0},0,0,0,-44693.2,0,0,{"$f":"+L597","v":-44693.2},1]
[null,null,null,{"$f":"+IF(+SUM(E447:J447)=0,0,\"Контрола: дефицит/излишък = финансиране с обратен знак (V. + VІ. = 0)\")","v":0},0,null,null,null,null,null,null,{"$f":"+L598","v":0},1]
[null,null,null,null,null,null,null,null,null,null,null,null,1]
[null,{"$f":"$B$7","v":"ОТЧЕТНИ ДАННИ ПО ЕБК ЗА ИЗПЪЛНЕНИЕТО НА БЮДЖЕТА"},null,null,null,null,null,null,null,null,null,null,1]
[null,null,null,null,"за периода        от ","до",null,null,null,null,null,null,1]
[null,{"$f":"$B$9","v":"ОУ Г.С.РАКОВСКИ-С.ГЪЛЪБЕЦ"},null,null,{"$f":"$E$9","v":"2020-01-01"},{"$f":"$F$9","v":"2020-03-31"},null,null,null,null,null,null,1]
[null,{"$f":"$B$10","v":"(наименование на разпоредителя с бюджет)"},null,null,null,null,null,null,null,null,null,null,1]
[null,null,null,null,null,null,null,null,null,null,null,null,1]
[null,{"$f":"$B$12","v":"Поморие"},null,null,"       код по ЕБК:",{"$f":"$F$12","v":"5207"},null,null,null,null,null,null,1]
[null,null,null,null,null,null,null,null,null,null,null,null,1]
[null,null,null,"ФИНАНСОВО-ПРАВНА ФОРМА",{"$f":"$E$15","v":0},{"$f":"+$F$15","v":"БЮДЖЕТ"},null,null,null,null,null,null,1]
[null,null,null,null,null,null,null,"(в лева)",null,null,null,"(в лева)",1]
[null,"       VI. ОПЕРАЦИИ С ФИНАНСОВИ АКТИВИ И ПАСИВИ (финансиране на бюдж. салдо)",null,null,"Уточнен план 2020 - ФИНАНСИРАНЕ НА БЮДЖЕТНО САЛДО",null,null,null,"Отчет 2020-ФИНАНСИРАНЕ НА БЮДЖЕТНО САЛДО",null,null,null,1]
[null,"§§","под-§§","НАИМЕНОВАНИЕ НА ПАРАГРАФИТЕ И ПОДПАРАГРАФИТЕ",{"$f":"E20","v":"Уточнен план                Общо"},"държавни дейности","местни дейности","дофинансиране","държавни дейности -ОТЧЕТ","местни дейности - ОТЧЕТ","дофинансиране - ОТЧЕТ","ОТЧЕТ                                    ОБЩО",1]
[1,null,null," 0 6 ¦","(1)","(2)","(3)","(4)","(5)","(6)","(7)","(8)",1]
[5,7000,"Придобиване на дялове, акции и съучастия (нето)",null,{"$f":"SUM(E462:E464)","v":0},0,0,{"$f":"SUM(H462:H464)","v":0},0,0,0,0,{"$f":"(IF($E461<>0,$M$2,IF($L461<>0,$M$2,\"\")))","v":""}]
[10,null,7001,"придобиване на дялове и акции и увеличение на капитала и капиталовите резерви (-)",{"$f":"F462+G462+H462","v":0},0,0,0,0,0,0,{"$f":"I462+J462+K462","v":0},""]
[20,null,7003,"участия в съвместни предприятия, активи и стопански дейности (-)",{"$f":"F463+G463+H463","v":0},null,null,0,null,null,0,{"$f":"I463+J463+K463","v":0},""]
[25,null,7010,"постъпления от продажби на дялове, акции, съучастия, и от ликвидационни дялове (+)",{"$f":"F464+G464+H464","v":0},null,null,0,null,null,0,{"$f":"I464+J464+K464","v":0},""]
[30,7100,"Предоставени кредити (нето)",null,{"$f":"+E466+E467","v":0},0,0,{"$f":"+H466+H467","v":0},0,0,0,0,""]
[35,null,7101,"предоставени средства по лихвени заеми (-)",{"$f":"F466+G466+H466","v":0},null,null,0,null,null,0,{"$f":"I466+J466+K466","v":0},""]
[40,null,7102,"възстановени главници по предоставени лихвени заеми (+)",{"$f":"F467+G467+H467","v":0},null,null,0,null,null,0,{"$f":"I467+J467+K467","v":0},""]
[45,7200,"Предоставена възмездна финансова помощ (нето)",null,{"$f":"+E469+E470","v":0},0,0,{"$f":"+H469+H470","v":0},0,0,0,0,""]
[50,null,7201,"предоставени средства по възмездна финансова помощ (-)",{"$f":"F469+G469+H469","v":0},0,0,0,0,0,0,{"$f":"I469+J469+K469","v":0},""]
[55,null,7202,"възстановени суми по възмездна финансова помощ (+)",{"$f":"F470+G470+H470","v":0},0,0,0,0,0,0,{"$f":"I470+J470+K470","v":0},""]
[60,7300,"Плащания по активирани гаранции, поръчителства и преоформен държавен дълг (нето)",null,{"$f":"SUM(E472:E477)","v":0},0,0,{"$f":"SUM(H472:H477)","v":0},0,0,0,0,""]
[65,null,7320,"Погашения по активирани гаранции по заеми от  банки в страната",{"$f":"F472+G472+H472","v":0},null,null,0,null,null,0,{"$f":"I472+J472+K472","v":0},""]
[85,null,7369,"Погашения по активирани гаранции по заеми от международни организации и институции",0,null,null,0,null,null,0,0,""]
[90,null,7370,"Погашения по активирани гаранции по заеми от банки и финансови институции от чужбина",0,null,null,0,null,null,0,0,""]
[95,null,7391,"възстановени средства по активирани гаранции и поръчителства (+)",0,null,null,0,null,null,0,0,""]
[100,null,7392,"вноски от предприятия по преоформен държавен дълг (+)",0,0,0,0,0,0,0,0,""]
[105,null,7393,"получени суми от банки в несъстоятелност (+)",0,null,null,0,null,null,0,0,""]
[110,7900,"Предоставени заеми към крайни бенефициенти по държавни инвестиционни заеми (нето)",null,{"$f":"+E479+E480","v":0},0,0,{"$f":"+H479+H480","v":0},0,0,0,0,""]
[115,null,7901,"предоставени заеми на крайни бенефициенти (-)",{"$f":"F479+G479+H479","v":0},0,0,0,0,0,0,{"$f":"I479+J479+K479","v":0},""]
[120,null,7902,"възстановени суми по предоставени заеми на крайни бенефиценти (+)",{"$f":"F480+G480+H480","v":0},0,0,0,0,0,0,{"$f":"I480+J480+K480","v":0},""]
[125,8000,"Заеми от чужбина - нето (+/-)",null,{"$f":"SUM(E482:E496)","v":0},0,0,{"$f":"SUM(H482:H496)","v":0},0,0,0,0,""]
[130,null,8011,"получени краткосрочни заеми от други държави (+)",{"$f":"F482+G482+H482","v":0},null,null,0,null,null,0,{"$f":"I482+J482+K482","v":0},""]
[135,null,8012,"получени дългосрочни заеми от други държави (+)",0,null,null,0,null,null,0,0,""]
[140,null,8017,"погашения по краткосрочни заеми от други държави (-)",0,null,null,0,null,null,0,0,""]
[145,null,8018,"погашения по дългосрочни заеми от други държави (-)",0,null,null,0,null,null,0,0,""]
[150,null,8031,"получени краткосрочни заеми от международни организации (+)",0,null,null,0,null,null,0,0,""]
[155,null,8032,"получени дългосрочни заеми от международни организации (+)",0,null,null,0,null,null,0,0,""]
[175,null,8037,"погашения по краткосрочни заеми от международни организации (-)",0,null,null,0,null,null,0,0,""]
[180,null,8038,"погашения по дългосрочнизаеми от международни организации (-)",0,null,null,0,null,null,0,0,""]
[185,null,8051,"получени краткосрочни заеми от банки и финансови институции от чужбина (+)",0,null,null,0,null,null,0,0,""]
[190,null,8052,"получени дългосрочни заеми от банки и финансови институции от чужбина (+)",0,null,null,0,null,null,0,0,""]
[195,null,8057,"погашения по краткосрочни заеми от банки и финансови институции от чужбина (-)",0,null,null,0,null,null,0,0,""]
[200,null,8058,"погашения по дългосрочни заеми от банки и финансови институции от чужбина (-)",0,null,null,0,null,null,0,0,""]
[205,null,8080,"клирингови разчети - пасивни и активни салда (-/+)",0,0,0,0,0,0,0,0,""]
[210,null,8097,"друго финансиране от чужбина (+)",0,0,0,0,0,0,0,0,""]
[215,null,8098,"други погашения и плащания по финансиране от чужбина (-)",0,0,0,0,0,0,0,0,""]
[220,8100,"Държавни (общински) ценни книжа емитирани на международните капиталови пазари",null,{"$f":"SUM(E498:E501)","v":0},0,0,{"$f":"SUM(H498:H501)","v":0},0,0,0,0,""]
[225,null,8111,"краткосрочни  ДЦК (ОбЦК) емитирани на международните капиталови пазари (+)",{"$f":"F498+G498+H498","v":0},0,0,0,0,0,0,{"$f":"I498+J498+K498","v":0},""]
[230,null,8112,"дългосрочни ДЦК (ОбЦК) емитирани на международните капиталови пазари (+)",{"$f":"F499+G499+H499","v":0},0,0,0,0,0,0,{"$f":"I499+J499+K499","v":0},""]
[235,null,8121,"погашения по  краткосрочни ДЦК (ОбЦК) емитирани на международните капиталови пазари (-)",{"$f":"F500+G500+H500","v":0},0,0,0,0,0,0,{"$f":"I500+J500+K500","v":0},""]
[240,null,8122,"погашения по дългосрочни ДЦК (ОбЦК) емитирани на международните капиталови пазари (-)",{"$f":"F501+G501+H501","v":0},0,0,0,0,0,0,{"$f":"I501+J501+K501","v":0},""]
[245,8200,"Получени погашения по предоставени кредити на други държави (+)",null,{"$f":"F502+G502+H502","v":0},0,0,0,0,0,0,{"$f":"I502+J502+K502","v":0},""]
[255,8300,"Заеми от банки и други лица в страната - нето (+/-)",null,{"$f":"SUM(E504:E511)","v":0},0,0,{"$f":"SUM(H504:H511)","v":0},0,0,0,0,""]
[260,null,8311,"получени краткосрочни заеми от банки в страната (+)",{"$f":"F504+G504+H504","v":0},0,0,0,0,0,0,{"$f":"I504+J504+K504","v":0},""]
[261,null,8312,"получени дългосрочни заеми от банки в страната (+)",0,0,0,0,0,0,0,0,""]
[262,null,8321,"погашения по краткосрочни заеми от банки в страната (-)",0,0,0,0,0,0,0,0,""]
[263,null,8322,"погашения по дългосрочни заеми от банки в страната (-)",0,0,0,0,0,0,0,0,""]
[264,null,8371,"получени краткосрочни заеми от други лица  в страната (+)",0,0,0,0,0,0,0,0,""]
[265,null,8372,"получени дългосрочни заеми от други лица в страната (+)",0,0,0,0,0,0,0,0,""]
[266,null,8381,"погашения по краткосрочни заеми от други лица в страната (-)",0,0,0,0,0,0,0,0,""]
[267,null,8382,"погашения по дългосрочни заеми от други лица в страната (-)",0,0,0,0,0,0,0,0,""]
[295,8500,"Емисии на държавни (общински) ценни книжа (+)",null,{"$f":"SUM(E513:E515)","v":0},0,0,{"$f":"SUM(H513:H515)","v":0},0,0,0,0,""]
[300,null,8501,"емисии на краткосрочни държавни (общински) ценни книжа (+)",{"$f":"F513+G513+H513","v":0},0,0,0,0,0,0,0,""]
[305,null,8502,"емисии на дългосрочни държавни (общински) ценни книжа (+)",{"$f":"F514+G514+H514","v":0},0,0,0,0,0,0,0,""]
[310,null,8504,"целеви емисии на дългосрочни държавни (общински) ценни книжа (+)",{"$f":"F515+G515+H515","v":0},null,null,0,null,null,0,0,""]
[315,8600,"Погашения на държавни (общински) ценни книжа (-)",null,{"$f":"SUM(E517:E520)","v":0},0,0,{"$f":"SUM(H517:H520)","v":0},0,0,0,0,""]
[320,null,8611,"погашения по краткосрочни държавни (общински) ценни книжа (-)",{"$f":"F517+G517+H517","v":0},null,null,0,null,null,0,0,""]
[325,null,8621,"погашения по дългосрочни държавни (общински) ценни книжа (-)",{"$f":"F518+G518+H518","v":0},null,null,0,null,null,0,0,""]
[330,null,8623,"погашения по целеви емисии на дългосрочни държавни (общински) ценни книжа (-)",{"$f":"F519+G519+H519","v":0},null,0,0,null,0,0,0,""]
[340,null,8640,"погашения по ДЦК, емитирани за структурната реформа (-)",{"$f":"F520+G520+H520","v":0},0,0,0,0,0,0,0,""]
[295,8700,"Разчети между първостепенни разпоредители  за централизация на средства и плащания в СЕБРА",null,{"$f":"SUM(E522:E523)","v":0},0,0,{"$f":"SUM(H522:H523)","v":0},0,0,0,0,""]
[300,null,8733,"разчети между първостепенни разпоредители за централизация на средства (+/-)",{"$f":"F522+G522+H522","v":0},0,0,0,0,0,0,0,""]
[310,null,8766,"разчети между първостепенни разпоредители за плащания в СЕБРА (+/-)",{"$f":"F523+G523+H523","v":0},0,0,0,0,0,0,0,""]
[355,8800,"Събрани средства и извършени плащания за сметка на други бюджети, сметки и фондове ",null,{"$f":"SUM(E525:E530)","v":0},0,0,{"$f":"SUM(H525:H530)","v":0},2304.41,0,0,2304.41,1]
[360,null,8801,"събрани средства и извършени плащания от/за ЦБ (+/-)",{"$f":"F525+G525+H525","v":0},0,0,0,0,0,0,0,{"$f":"(IF($E525<>0,$M$2,IF($L525<>0,$M$2,\"\")))","v":""}]
[365,null,8802,"събрани средства и извършени плащания от/за бюджети по държавния бюджет (+/-)",0,0,0,0,0,0,0,0,""]
[365,null,8803,"събрани средства и извършени плащания от/за сметки за средствата от Европейския съюз ",0,0,0,0,2304.41,0,0,2304.41,1]
[370,null,8804,"събрани средства и извършени плащания от/за общински бюджети (+/-)",0,null,null,0,0,0,0,0,""]
[365,null,8805,"събрани средства и извършени плащания от/за социалноосигурителни фондове (+/-)",0,null,null,0,null,null,0,0,""]
[370,null,8809,"събрани средства и извършени плащания от/за други бюджети (+/-)",0,null,null,0,null,null,0,0,""]
[375,8900,"Суми по разчети за поети осигурителни вноски и данъци",null,{"$f":"SUM(E532:E534)","v":0},0,0,{"$f":"SUM(H532:H534)","v":0},0,0,0,0,""]
[380,null,8901,"суми по разчети м/у ЦБ,НОИ, НЗОК и НАП за поети осигурителни вноски",{"$f":"F532+G532+H532","v":0},0,0,0,0,0,0,0,""]
[385,null,8902,"суми по разчети м/у ЦБ и бюджетните организации за поети осигурителни вноски и данъци",0,0,0,0,0,0,0,0,""]
[390,null,8903,"суми по разчети м/у бюджети, сметки и фондове за поети осигурителни вноски и данъци",0,0,0,0,0,0,0,0,""]
[395,9000,"Приватизация на дялове, акции и участия",null,0,0,0,0,0,0,0,0,""]
[405,9100,"Покупко-продажба на държавни (общински) ценни книжа от бюджетни организации - нето  (+/-)",null,{"$f":"SUM(E537:E540)","v":0},0,0,{"$f":"SUM(H537:H540)","v":0},0,0,0,0,""]
[410,null,9111,"покупка на държавни (общински) ценни книжа на първичния пазар (-)",0,null,null,0,null,null,0,0,""]
[415,null,9112,"покупка на държавни (общински) ценни книжа на вторичния пазар (-)",0,null,null,0,null,null,0,0,""]
[420,null,9121,"продажба на държавни (общински) ценни книжа (+)",0,null,null,0,null,null,0,0,""]
[425,null,9122,"получени погашения по държавни (общински) ценни книжа (+)",0,null,null,0,null,null,0,0,""]
[430,9200,"Операции с други ценни книжа и финансови активи за управление на ликвидността - нето (+/-)",null,{"$f":"+E542+E543","v":0},0,0,{"$f":"+H542+H543","v":0},0,0,0,0,""]
[435,null,9201,"с чуждестранни ценни книжа и финасови активи (+/-)",0,null,null,0,null,null,0,0,""]
[440,null,9202,"с ценни книжа и финансови активи на местни лица /резиденти/ (+/-)",0,null,null,0,null,null,0,0,""]
[445,9300,"Друго финансиране - нето(+/-)",null,{"$f":"SUM(E545:E565)","v":0},0,0,{"$f":"SUM(H545:H565)","v":0},0,0,0,0,""]
[450,null,9301,"чужди средства от държавни/общински предприятия (+/-)",0,null,null,0,null,null,0,0,""]
[450,null,9310,"чужди средства от други лица (небюджетни предприятия и физически лица) (+/-)",0,0,0,0,0,0,0,0,""]
[451,null,9317,"задължения по финансов лизинг и търговски кредит (+)",0,null,null,0,null,null,0,0,""]
[452,null,9318,"погашения по финансов лизинг и търговски кредит (-)",0,null,null,0,null,null,0,0,""]
[456,null,9321,"плащания за сметка на Европейския съюз - директни плащания на земеделски производители (-)",0,0,0,0,0,0,0,0,""]
[457,null,9322,"възстановени суми от Европейския съюз - директни плащания на земеделски производители (+)",0,0,0,0,0,0,0,0,""]
[458,null,9323,"плащания за сметка на Европейския съюз - средства от ЕЗФРСР, прехвърлени към директни плащания (-)",0,0,0,0,0,0,0,0,""]
[459,null,9324,"възстановени суми от Европейския съюз - средства от ЕЗФРСР, прехвърлени към директни плащания (+)",0,0,0,0,0,0,0,0,""]
[460,null,9325,"плащания за сметка на Европейския съюз - пазарни мерки  (-)",0,0,0,0,0,0,0,0,""]
[461,null,9326,"възстановени суми от Европейския съюз - пазарни мерки (+)",0,0,0,0,0,0,0,0,""]
[null,null,9327,"плащания за сметка на средства на Европейския съюз от суми за преструктуриране (-)",0,0,0,0,0,0,0,0,""]
[null,null,9328," постъпления от Европейския съюз - суми за преструктуриране (+)",0,0,0,0,0,0,0,0,""]
[462,null,9330,"суми по разчети с централния бюджет за финансиране на плащания при недостиг на средства по сметки (+/-)",0,null,null,0,null,null,0,0,""]
[null,null,9336,"друго финансиране - операции с активи - предоставени временни депозити и гаранции на други бюджетни организации (-/+)",0,0,0,0,0,0,0,0,""]
[462,null,9337,"друго финансиране - операции с пасиви - получени временни депозити и гаранции от други бюджетни организации (-/+)",0,null,null,0,null,null,0,0,""]
[null,null,9338,"друго финансиране - операции с активи (+/-)",0,null,null,0,null,null,0,0,""]
[462,null,9339,"друго финансиране - операции с пасиви (+/-)",0,0,0,0,0,0,0,0,""]
[null,null,9355,"събрани суми за допълнително задължително пенсионно осигуряване (+)",0,0,0,0,0,0,0,0,""]
[462,null,9356,"разпределени суми за допълнително задължително пенсионно осигуряване (-)",0,0,0,0,0,0,0,0,""]
[462,null,9395,"получени парични наличности при преобразуване на бюджетни организации (+)",0,null,null,0,null,null,0,0,""]
[465,null,9396,"прехвърлени парични наличности при преобразуване на бюджетни организации (-)",0,null,null,0,null,null,0,0,""]
[470,9500,"Депозити и средства по сметки - нето (+/-)   ",null,{"$f":"SUM(E567:E585)","v":0},0,0,{"$f":"SUM(H567:H585)","v":0},-46997.61,0,0,-46997.61,1]
[475,null,9501,"остатък в левове по сметки от предходния период (+)",0,0,0,0,0,0,0,0,""]
[480,null,9502,"остатък в левова равностойност по валутни сметки от предходния период (+)",0,0,0,0,0,0,0,{"$f":"I568+J568+K568","v":0},""]
[485,null,9503,"остатък в левове по депозити от предходния период (+)",0,0,0,0,0,0,0,0,""]
[490,null,9504,"остатък в левова равностойност по депозити във валута от предходния период (+)",0,null,null,0,null,null,0,0,""]
[495,null,9505,"остатък в касата в  левове от предходния период (+)",0,0,0,0,0,0,0,0,""]
[500,null,9506,"остътък  в касата във валута от предходния период (+)",0,null,null,0,null,null,0,0,""]
[505,null,9507,"наличност в левове по сметки в края на периода (-)",0,0,0,0,-46997.61,0,0,-46997.61,1]
[510,null,9508,"наличност в левова равностойност по валутни сметки в края на периода (-)",0,0,0,0,0,0,0,0,""]
[515,null,9509,"наличност в левове по депозити в края на периода (-)",0,0,0,0,0,0,0,0,""]
[520,null,9510,"наличност в левова равностойност по депозити във валута в края на периода (-)",0,null,null,0,null,null,0,0,""]
[525,null,9511,"наличност в касата в левове в края на периода (-)",0,0,0,0,0,0,0,0,""]
[530,null,9512,"наличност в касата във валута в края на периода (-)",0,null,null,0,null,null,0,0,""]
[535,null,9513,"преводи в процес на сетълмент (-/+)",{"$f":"F579+G579+H579","v":0},null,null,0,0,0,0,0,""]
[540,null,9514," преоценка на валутни наличности (нереализирани курсови разлики) по сметки и средства в страната  (+/-)",0,null,null,0,null,null,0,0,""]
[545,null,9521,"остатък в левова равностойност по валутни сметки  в чужбина от предходния период (+)",{"$f":"F581+G581+H581","v":0},null,null,0,null,null,0,0,""]
[550,null,9522,"остатък в касата във валута  в чужбина от предходния период (+)",0,null,null,0,null,null,0,0,""]
[555,null,9528,"наличност в касата във валута  в чужбина в края на периода (-)",0,null,null,0,null,null,0,0,""]
[560,null,9529,"наличност в левова равностойност по валутни сметки в чужбина в края на периода(-)",0,null,null,0,null,null,0,0,""]
[561,null,9549,"преоценка на валутни наличности (нереализирани курсови разлики) по сметки и средства в чужбина (+/-)",0,null,null,0,null,null,0,0,""]
[565,9600,"Депозити и сметки консолидирани в системата на \"Единната сметка\"-нето (+/-)",null,{"$f":"SUM(E587:E590)","v":0},0,0,{"$f":"SUM(H587:H590)","v":0},0,0,0,0,""]
[566,null,9601,"остатък по левови текущи сметки на бюджетните организации в БНБ от предходния период (+) ",0,0,0,0,0,0,0,{"$f":"I587+J587+K587","v":0},""]
[567,null,9603,"остатък по левови депозити на бюджетните организации в БНБ от предходния период (+)",0,0,0,0,0,0,0,{"$f":"I588+J588+K588","v":0},""]
[568,null,9607,"наличност по левови текущи сметки на бюджетните организации в БНБ в края на периода (-) ",0,0,0,0,0,0,0,{"$f":"I589+J589+K589","v":0},{"$f":"(IF($E589<>0,$M$2,IF($L589<>0,$M$2,\"\")))","v":""}]
[569,null,9609,"наличност по левови депозити на бюджетните организации в БНБ в края на периода (-)",0,0,0,0,0,0,0,{"$f":"I590+J590+K590","v":0},""]
[575,9800,"Касови операции, депозити, покупко-продажба на валута и сетълмент операции",null,{"$f":"SUM(E592:E596)","v":0},0,0,{"$f":"SUM(H592:H596)","v":0},0,0,0,0,""]
[580,null,9810,"операции в брой между банка и каса (+/-)",0,0,0,0,0,0,0,{"$f":"I592+J592+K592","v":0},""]
[585,null,9820,"предоставяне (възстановяване) на средства по срочни депозити (+/-)",0,null,null,0,null,null,0,{"$f":"I593+J593+K593","v":0},""]
[590,null,9830,"покупко-продажба на валута (+/-)",0,null,null,0,null,null,0,{"$f":"I594+J594+K594","v":0},""]
[600,null,9850,"операции СЕБРА - захранване на \"сметки за наличности\" (+/-)",0,null,null,0,null,null,0,{"$f":"I595+J595+K595","v":0},""]
[605,null,9890,"салдо по сметката на ЦБ за разпределение на преводи от системата за брутен сетълмент в реално време (+/-)",{"$f":"F596+G596+H596","v":0},0,0,0,0,0,0,{"$f":"I596+J596+K596","v":0},""]
[610,"ВСИЧКО","99-99","VI. ВСИЧКО ОПЕРАЦИИ С ФИНАНСОВИ АКТИВИ И ПАСИВИ",{"$f":"SUM(E461,E465,E468,E471,E481,E497,E502,E503,E512,E516,E521,E478,E524,E531,E535,E536,E541,E544,E566,E586,E591)","v":0},0,0,0,-44693.2,0,0,-44693.2,1]
[null,null,null,{"$f":"+IF(+SUM(E598:J598)=0,0,\"Контрола: дефицит/излишък = финансиране с обратен знак (V. + VІ. = 0)\")","v":0},{"$f":"E597+E445","v":0},null,null,null,null,null,null,{"$f":"L597+L445","v":0},1]
[null,null,null,null,null,null,null,null,null,null,null,null,1]
[null,null,null,null,null,"ГЛ. СЧЕТОВОДИТЕЛ:","Дойка Рускова",null,null,null,null,null,1]
[null,null,null,null,null,null,"( име и фамилия)",null,null,null,null,null,1]
[null,null,null,null,null,null,null,null,null,null,null,null,1]
[null,null,"ИЗГОТВИЛ:","Десислава Дионисова",null,"РЪКОВОДИТЕЛ:","Маргарита Цонева-Радева",null,null,null,null,null,1]
[null,"дата",null,"                                                                      ( име и фамилия)",null,null,"( име и фамилия)",null,null,null,null,null,1]
[null,"2020-04-14",null,"служебни телефони ",596,22077,"e-mail:","ruskova_72@abv.bg",null,null,null,null,1]
[null,null,null,null,null,null,null,null,null,null,null,null,1]
[null,null,null,null,null,null,"Web-адрес:",null,null,null,null,null,{"$f":"(IF(#REF!<>0,$M$2,IF(#REF!<>0,$M$2,\"\")))","v":{"$error":"#REF!"}}]
[]
[]
[]
[null,null,null,null,null,null,null,null,null,null,null,null,{"$f":"(IF($E744<>0,$M$2,IF($L744<>0,$M$2,\"\")))","v":""}]
[null,null,null,null,null,null,null,null,null,null,null,null,{"$f":"(IF($E744<>0,$M$2,IF($L744<>0,$M$2,\"\")))","v":""}]
[null,{"$f":"$B$7","v":"ОТЧЕТНИ ДАННИ ПО ЕБК ЗА ИЗПЪЛНЕНИЕТО НА БЮДЖЕТА"},null,null,null,null,null,null,null,null,null,null,{"$f":"(IF($E744<>0,$M$2,IF($L744<>0,$M$2,\"\")))","v":""}]
[null,null,null,null,"за периода от ","до",null,"        II.1. РАЗХОДИ ПО ДЕЙНОСТИ",null,null,null,null,{"$f":"(IF($E744<>0,$M$2,IF($L744<>0,$M$2,\"\")))","v":""}]
[null,{"$f":"$B$9","v":"ОУ Г.С.РАКОВСКИ-С.ГЪЛЪБЕЦ"},null,null,{"$f":"$E$9","v":"2020-01-01"},{"$f":"$F$9","v":"2020-03-31"},null,null,null,null,null,null,{"$f":"(IF($E744<>0,$M$2,IF($L744<>0,$M$2,\"\")))","v":""}]
[null,{"$f":"$B$10","v":"(наименование на разпоредителя с бюджет)"},null,null,null,null,null,null,null,null,null,null,{"$f":"(IF($E744<>0,$M$2,IF($L744<>0,$M$2,\"\")))","v":""}]
[null,null,null,null,null,null,null,null,null,null,null,null,{"$f":"(IF($E744<>0,$M$2,IF($L744<>0,$M$2,\"\")))","v":""}]
[null,{"$f":"$B$12","v":"Поморие"},null,null,"       код по ЕБК:",{"$f":"$F$12","v":"5207"},null,null,null,null,null,null,{"$f":"(IF($E744<>0,$M$2,IF($L744<>0,$M$2,\"\")))","v":""}]
[null,{"$f":"$B$13","v":"(наименование на първостепенния разпоредител с бюджет)"},null,null,null,null,null,null,null,null,null,null,{"$f":"(IF($E744<>0,$M$2,IF($L744<>0,$M$2,\"\")))","v":""}]
[null,null,null,"ФИНАНСОВО-ПРАВНА ФОРМА",{"$f":"$E$15","v":0},{"$f":"$F$15","v":"БЮДЖЕТ"},null,null,null,null,null,null,{"$f":"(IF($E744<>0,$M$2,IF($L744<>0,$M$2,\"\")))","v":""}]
[null,null,null,null,null,null,null,null,null,null,null,"(в лева)",{"$f":"(IF($E744<>0,$M$2,IF($L744<>0,$M$2,\"\")))","v":""}]
[null,null,null,"II.1. РАЗХОДИ ПО ДЕЙНОСТИ","Уточнен план 2020",null,null,null,"Отчет 2020",null,null,null,{"$f":"(IF($E744<>0,$M$2,IF($L744<>0,$M$2,\"\")))","v":""}]
[null,"§§","под-§§","НАИМЕНОВАНИЯ НА ПАРАГРАФИТЕ И ПОДПАРАГРАФИТЕ",{"$f":"$E$20","v":"Уточнен план                Общо"},{"$f":"$F$20","v":"държавни дейности"},{"$f":"$G$20","v":"местни дейности"},{"$f":"$H$20","v":"дофинансиране"},{"$f":"$I$20","v":"държавни дейности -ОТЧЕТ"},{"$f":"$J$20","v":"местни дейности - ОТЧЕТ"},{"$f":"$K$20","v":"дофинансиране - ОТЧЕТ"},{"$f":"$L$20","v":"ОТЧЕТ                                    ОБЩО"},{"$f":"(IF($E744<>0,$M$2,IF($L744<>0,$M$2,\"\")))","v":""}]
[null,null,null," 02 ¦",{"$f":"$E$21","v":"(1)"},{"$f":"$F$21","v":"(2)"},{"$f":"$G$21","v":"(3)"},{"$f":"$H$21","v":"(4)"},{"$f":"$I$21","v":"(5)"},{"$f":"$J$21","v":"(6)"},{"$f":"$K$21","v":"(7)"},{"$f":"$L$21","v":"(8)"},{"$f":"(IF($E744<>0,$M$2,IF($L744<>0,$M$2,\"\")))","v":""}]
[null,null,{"$f":"VLOOKUP(D625,OP_LIST2,2,FALSE)","v":{"$error":"#N/A"}},null,null,null,null,null,null,null,null,null,{"$f":"(IF($E744<>0,$M$2,IF($L744<>0,$M$2,\"\")))","v":""}]
[null,null,{"$f":"VLOOKUP(D627,EBK_DEIN2,2,FALSE)","v":1117},"<------          ДЕЙНОСТ    -  код  по  ЕБК",null,null,null,null,null,null,null,null,{"$f":"(IF($E744<>0,$M$2,IF($L744<>0,$M$2,\"\")))","v":""}]
[null,null,{"$f":"+C626","v":1117},"117 Държавни и общински служби и дейности по изборите",null,null,null,null,null,null,null,null,{"$f":"(IF($E744<>0,$M$2,IF($L744<>0,$M$2,\"\")))","v":""}]
[null,null,null,"(наименование на дейността)",null,null,null,null,null,null,null,null,{"$f":"(IF($E744<>0,$M$2,IF($L744<>0,$M$2,\"\")))","v":""}]
[null,100,"Заплати и възнаграждения за персонала, нает по трудови и служебни правоотношения",null,{"$f":"SUM(E630:E631)","v":0},0,0,{"$f":"SUM(H630:H631)","v":0},0,0,0,0,{"$f":"(IF($E629<>0,$M$2,IF($L629<>0,$M$2,\"\")))","v":""}]
[null,null,101,"заплати и възнаграждения на персонала нает по трудови правоотношения",{"$f":"F630+G630+H630","v":0},0,0,0,0,0,0,{"$f":"I630+J630+K630","v":0},{"$f":"(IF($E630<>0,$M$2,IF($L630<>0,$M$2,\"\")))","v":""}]
[null,null,102,"заплати и възнаграждения на персонала нает по служебни правоотношения",{"$f":"F631+G631+H631","v":0},0,0,0,0,0,0,{"$f":"I631+J631+K631","v":0},""]
[null,200,"Други възнаграждения и плащания за персонала",null,{"$f":"SUM(E633:E637)","v":0},0,0,{"$f":"SUM(H633:H637)","v":0},0,0,0,0,""]
[null,null,201,"за нещатен персонал нает по трудови правоотношения ",{"$f":"F633+G633+H633","v":0},0,0,0,0,0,0,{"$f":"I633+J633+K633","v":0},""]
[null,null,202,"за персонала по извънтрудови правоотношения",{"$f":"F634+G634+H634","v":0},0,0,0,0,0,0,{"$f":"I634+J634+K634","v":0},""]
[null,null,205,"изплатени суми от СБКО за облекло и други на персонала, с характер на възнаграждение",{"$f":"F635+G635+H635","v":0},0,0,0,0,0,0,{"$f":"I635+J635+K635","v":0},""]
[null,null,208,"обезщетения за персонала, с характер на възнаграждение",{"$f":"F636+G636+H636","v":0},0,0,0,0,0,0,{"$f":"I636+J636+K636","v":0},""]
[null,null,209,"другиплащания и възнаграждения",{"$f":"F637+G637+H637","v":0},0,0,0,0,0,0,{"$f":"I637+J637+K637","v":0},""]
[null,500,"Задължителни осигурителни вноски от работодатели",null,{"$f":"SUM(E639:E645)","v":0},0,0,{"$f":"SUM(H639:H645)","v":0},0,0,0,0,""]
[null,null,551,"осигурителни вноски от работодатели за Държавното обществено осигуряване (ДОО)",{"$f":"F639+G639+H639","v":0},0,0,0,0,0,0,{"$f":"I639+J639+K639","v":0},""]
[null,null,552,"осигурителни вноски от работодатели за Учителския пенсионен фонд (УчПФ)",0,0,0,0,0,0,0,0,""]
[null,null,558,"вноски по чл. 4б и 4в от КСО за сметка на осигурителя",{"$f":"F641+G641+H641","v":0},0,0,0,0,0,0,{"$f":"I641+J641+K641","v":0},""]
[null,null,560,"здравно-осигурителни вноски от работодатели",0,0,0,0,0,0,0,0,""]
[null,null,580,"вноски за допълнително задължително осигуряване от работодатели",0,0,0,0,0,0,0,0,""]
[null,null,588,"коректив на вноски за ДЗПО за сумите по чл. 4б и 4в от КСО за сметка на осигурителя",{"$f":"F644+G644+H644","v":0},0,0,0,0,0,0,{"$f":"I644+J644+K644","v":0},""]
[null,null,590,"задължителни вноски за чуждестранни пенсионни фондове и  схеми за сметка на осигурителя",0,null,null,null,null,null,null,0,""]
[5,800,"Вноски за доброволно осигуряване  ",null,0,null,null,null,null,null,null,0,""]
[10,1000,"Издръжка",null,{"$f":"SUM(E648:E664)","v":0},0,0,{"$f":"SUM(H648:H664)","v":0},0,0,0,0,""]
[15,null,1011,"Храна",{"$f":"F648+G648+H648","v":0},0,0,0,0,0,0,{"$f":"I648+J648+K648","v":0},""]
[35,null,1012,"Медикаменти",0,0,0,0,0,0,0,0,""]
[40,null,1013,"Постелен инвентар и облекло",0,0,0,0,0,0,0,0,""]
[45,null,1014,"Учебни и научно-изследователски разходи и книги за библиотеките",0,0,0,0,0,0,0,0,""]
[50,null,1015,"материали",0,0,0,0,0,0,0,0,""]
[55,null,1016,"вода, горива и енергия",0,0,0,0,0,0,0,0,""]
[60,null,1020,"разходи за външни услуги",0,0,0,0,0,0,0,0,""]
[65,null,1030,"Текущ ремонт",0,0,0,0,0,0,0,0,""]
[70,null,1051,"командировки в страната",0,0,0,0,0,0,0,0,""]
[75,null,1052,"краткосрочни командировки в чужбина",0,0,0,0,0,0,0,0,""]
[80,null,1053,"дългосрочни командировки в чужбина",0,0,0,0,0,0,0,0,""]
[80,null,1062,"разходи за застраховки",0,0,0,0,0,0,0,0,""]
[85,null,1063,"такса ангажимент по заеми",0,0,0,0,0,0,0,0,""]
[90,null,1069,"други финансови услуги",0,0,0,0,0,0,0,0,""]
[90,null,1091,"други разходи за СБКО",0,0,0,0,0,0,0,0,""]
[115,null,1092,"разходи за договорни санкции и неустойки, съдебни обезщетения и разноски",0,0,0,0,0,0,0,0,""]
[125,null,1098,"други разходи, некласифицирани в другите параграфи и подпараграфи",0,0,0,0,0,0,0,0,""]
[130,1900,"Платени данъци, такси и административни санкции",null,{"$f":"SUM(E666:E668)","v":0},0,0,{"$f":"SUM(H666:H668)","v":0},0,0,0,0,""]
[135,null,1901,"платени държавни данъци, такси, наказателни лихви и административни санкции",{"$f":"F666+G666+H666","v":0},0,0,0,0,0,0,{"$f":"I666+J666+K666","v":0},""]
[140,null,1981,"платени общински данъци, такси, наказателни лихви и административни санкции",{"$f":"F667+G667+H667","v":0},0,0,0,0,0,0,{"$f":"I667+J667+K667","v":0},""]
[145,null,1991,"платени данъци, такси, наказателни лихви и административни санкции в чужбина",{"$f":"F668+G668+H668","v":0},null,null,null,null,null,null,{"$f":"I668+J668+K668","v":0},""]
[150,2100,"Разходи за лихви по емисии на държавни (общински) ценни книжа",null,{"$f":"SUM(E670:E674)","v":0},0,0,{"$f":"SUM(H670:H674)","v":0},0,0,0,0,""]
[155,null,2110,"лихви по държавни (общински) ценни книжа",{"$f":"F670+G670+H670","v":0},null,null,null,null,null,null,{"$f":"I670+J670+K670","v":0},""]
[160,null,2120,"отстъпки по държавни (общински) ценни книжа",{"$f":"F671+G671+H671","v":0},null,null,null,null,null,null,{"$f":"I671+J671+K671","v":0},""]
[165,null,2125,"лихви и отстъпки по целеви емисии на държавни ценни книжа",{"$f":"F672+G672+H672","v":0},0,0,0,0,0,0,{"$f":"I672+J672+K672","v":0},""]
[175,null,2140,"лихви по държавни ценни книжа, емитирани за структурната реформа ",{"$f":"F673+G673+H673","v":0},0,0,0,0,0,0,{"$f":"I673+J673+K673","v":0},""]
[180,null,2190,"премии над номинала от емисии на държавни (общински) ценни книжа (-)",{"$f":"F674+G674+H674","v":0},null,null,null,null,null,null,{"$f":"I674+J674+K674","v":0},""]
[185,2200,"Разходи за лихви по заеми от страната",null,{"$f":"SUM(E676:E677)","v":0},0,0,{"$f":"SUM(H676:H677)","v":0},0,0,0,0,""]
[190,null,2221,"Разходи за лихви по заеми от банки в страната",{"$f":"F676+G676+H676","v":0},0,0,0,0,0,0,{"$f":"I676+J676+K676","v":0},""]
[200,null,2224,"Разходи за лихви по други заеми от страната",0,0,0,0,0,0,0,0,""]
[200,2500,"Разходи за лихви по заеми от други държави",null,0,null,null,null,null,null,null,0,""]
[205,2600,"Разходи за лихви по заеми от международни организации и институции",null,0,null,null,null,null,null,null,0,""]
[210,2700,"Разходи за лихви по заеми от банки и други финансови институции от чужбина",null,0,null,null,null,null,null,null,0,""]
[215,2800,"Разходи за лихви и отстъпки по облигации, емитирани и търгувани на международните капиталови пазари",null,0,null,null,null,null,null,null,0,""]
[220,2900,"Други разходи за лихви",null,{"$f":"SUM(E683:E690)","v":0},{"$f":"SUM(F683:F690)","v":0},{"$f":"SUM(G683:G690)","v":0},0,0,0,0,0,""]
[225,null,2910,"Платени лихви по финансов лизинг и търговски кредит",{"$f":"F683+G683+H683","v":0},0,null,null,0,null,null,{"$f":"I683+J683+K683","v":0},""]
[230,null,2920,"Платени лихви по активирани гаранции по заеми от  банки в страната",{"$f":"F684+G684+H684","v":0},null,null,null,null,null,null,{"$f":"I684+J684+K684","v":0},""]
[245,null,2969,"Платени лихви по активирани гаранции по заеми от международни организации и институции",0,null,null,null,null,null,null,0,""]
[220,null,2970,"Платени лихви по активирани гаранции по заеми от банки и финансови институции от чужбина",0,null,null,null,null,null,null,0,""]
[225,null,2989,"Възстановени суми по платени лихви по активирани гаранции (-)",0,null,null,null,null,null,null,0,""]
[230,null,2990,"Платени лихви по активирани гаранции по заеми от  банки в страната",{"$f":"F688+G688+H688","v":0},null,null,null,null,null,null,{"$f":"I688+J688+K688","v":0},""]
[235,null,2991,"Други разходи за лихви към  местни лица",0,null,null,null,null,null,null,0,""]
[240,null,2992,"Други разходи за лихви към чуждестранни лица",0,null,null,null,null,null,null,0,""]
[245,3300,"Вноска в общия бюджет на Европейския съюз",null,{"$f":"SUM(E692:E696)","v":0},0,0,0,0,0,0,0,""]
[250,null,3301,"ресурс на база брутен национален доход",{"$f":"F692+G692+H692","v":0},0,0,0,0,0,0,{"$f":"I692+J692+K692","v":0},""]
[255,null,3302,"ресурс на база данък върху добавената стойност",0,0,0,0,0,0,0,0,""]
[265,null,3303,"корекция за Обединеното кралство",0,0,0,0,0,0,0,0,""]
[270,null,3304,"традиционни собствени ресурси - мита",0,0,0,0,0,0,0,0,""]
[290,null,3306,"участие във финансирането на брутното намаление за Нидерландия, Швеция, Дания и Австрия",0,0,0,0,0,0,0,0,""]
[320,3900,"Здравно-осигурителни плащания",null,0,0,0,0,0,0,0,0,{"$f":"(IF($E697<>0,$M$2,IF($L697<>0,$M$2,\"\")))","v":""}]
[330,4000,"Стипендии",null,0,0,0,0,0,0,0,0,""]
[350,4100,"Пенсии",null,0,0,0,0,0,0,0,0,""]
[355,4200,"Текущи трансфери, обезщетения и помощи за домакинствата",null,{"$f":"SUM(E701:E706)","v":0},0,0,{"$f":"SUM(H701:H706)","v":0},0,0,0,0,""]
[355,null,4201,"обезщетения и помощи по социалното осигуряване",{"$f":"F701+G701+H701","v":0},null,null,null,null,null,null,{"$f":"I701+J701+K701","v":0},""]
[375,null,4202,"обезщетения и помощи по социалното подпомагане",0,null,null,null,null,null,null,0,""]
[380,null,4214,"обезщетения и помощи по решение на общинския съвет",0,0,0,0,0,0,0,0,""]
[385,null,4217,"текущи трансфери за домакинства от средства на Европейския съюз",0,null,null,null,null,null,null,0,""]
[390,null,4218,"текущи трансфери за домакинства по други международни програми и споразумения",0,null,null,null,null,null,null,0,""]
[390,null,4219,"други текущи трансфери за домакинствата",0,0,0,0,0,0,0,0,""]
[395,4300,"Субсидии и други текущи трансфери за нефинансови предприятия",null,{"$f":"SUM(E708:E710)","v":0},0,0,{"$f":"SUM(H708:H710)","v":0},0,0,0,0,""]
[397,null,4301,"за текуща дейност",{"$f":"F708+G708+H708","v":0},0,0,0,0,0,0,{"$f":"I708+J708+K708","v":0},""]
[398,null,4302,"за осъществяване на болнична помощ ",0,null,null,null,null,null,null,0,""]
[399,null,4309,"други субсидии и плащания",0,null,null,null,null,null,null,0,""]
[400,4400,"Субсидии и други текущи трансфери за финансови институции",null,0,0,0,0,0,0,0,0,""]
[401,4500,"Субсидии и други текущи трансфери за юридически лица с нестопанска цел",null,0,0,0,0,0,0,0,0,""]
[404,4600,"Разходи за членски внос и участие в нетърговски организации и дейности",null,0,0,0,0,0,0,0,0,""]
[404,4900,"Предоставени текущи и капиталови трансфери за чужбина",null,{"$f":"+E715+E716","v":0},0,0,{"$f":"+H715+H716","v":0},0,0,0,0,""]
[440,null,4901,"текущи трансфери за чужбина",{"$f":"F715+G715+H715","v":0},null,null,null,null,null,null,{"$f":"I715+J715+K715","v":0},""]
[450,null,4902,"капиталови трансфери за чужбина",{"$f":"F716+G716+H716","v":0},null,null,null,null,null,null,{"$f":"I716+J716+K716","v":0},""]
[495,5100,"Основен ремонт на дълготрайни материални активи",null,{"$f":"F717+G717+H717","v":0},0,0,0,0,0,0,{"$f":"I717+J717+K717","v":0},""]
[500,5200,"Придобиване на дълготрайни материални активи",null,{"$f":"SUM(E719:E725)","v":0},0,0,{"$f":"SUM(H719:H725)","v":0},0,0,0,0,""]
[505,null,5201,"придобиване на компютри и хардуер",{"$f":"F719+G719+H719","v":0},0,0,0,0,0,0,{"$f":"I719+J719+K719","v":0},""]
[510,null,5202,"придобиване на сгради",0,0,0,0,0,0,0,0,""]
[515,null,5203,"придобиване на друго оборудване, машини и съоръжения",0,0,0,0,0,0,0,0,""]
[520,null,5204,"придобиване на транспортни средства",0,0,0,0,0,0,0,0,""]
[525,null,5205,"придобиване на стопански инвентар",0,0,0,0,0,0,0,0,""]
[635,null,5206,"изграждане на инфраструктурни обекти",0,0,0,0,0,0,0,0,""]
[640,null,5219,"придобиване на други ДМА",0,0,0,0,0,0,0,0,""]
[645,5300,"Придобиване на нематериални дълготрайни активи",null,{"$f":"SUM(E727:E728)","v":0},0,0,{"$f":"SUM(H727:H728)","v":0},0,0,0,0,""]
[650,null,5301,"придобиване на програмни продукти и лицензи за програмни продукти",{"$f":"F727+G727+H727","v":0},0,0,0,0,0,0,{"$f":"I727+J727+K727","v":0},""]
[655,null,5309,"придобиване на други нематериални дълготрайни активи",{"$f":"F728+G728+H728","v":0},0,0,0,0,0,0,{"$f":"I728+J728+K728","v":0},""]
[665,5400,"Придобиване на земя",null,{"$f":"F729+G729+H729","v":0},null,0,0,0,null,0,{"$f":"I729+J729+K729","v":0},""]
[675,5500,"Капиталови трансфери",null,{"$f":"SUM(E731:E734)","v":0},0,0,{"$f":"SUM(H731:H734)","v":0},0,0,0,0,""]
[685,null,5501,"капиталови трансфери за нефинансови предприятия",{"$f":"F731+G731+H731","v":0},null,null,null,null,null,null,{"$f":"I731+J731+K731","v":0},""]
[690,null,5502,"капиталови трансфери за финансови институции",{"$f":"F732+G732+H732","v":0},null,null,null,null,null,null,{"$f":"I732+J732+K732","v":0},""]
[695,null,5503,"капиталови трансфери за организации с нестопанска цел",{"$f":"F733+G733+H733","v":0},null,null,null,null,null,null,{"$f":"I733+J733+K733","v":0},""]
[700,null,5504,"капиталови трансфери за домакинствата",{"$f":"F734+G734+H734","v":0},null,null,null,null,null,null,{"$f":"I734+J734+K734","v":0},""]
[710,5700,"Прираст на държавния резерв и изкупуване на земеделска продукция (включва и § 40-71)",null,{"$f":"SUM(E736:E738)","v":0},0,0,0,0,0,0,{"$f":"SUM(L736:L738)","v":0},""]
[715,null,5701,"плащания за попълване на държавния резерв",{"$f":"F736+G736+H736","v":0},0,0,0,0,0,0,{"$f":"I736+J736+K736","v":0},""]
[720,null,5702,"плащания за изкупуване на земеделска продукция",{"$f":"F737+G737+H737","v":0},0,0,0,0,0,0,{"$f":"I737+J737+K737","v":0},""]
[725,null,4071,"постъпления от продажба на държавния резерв (-)",{"$f":"F738+G738+H738","v":0},0,0,0,0,0,0,{"$f":"I738+J738+K738","v":0},""]
[730,null,"Резерв за непредвидени и неотложни разходи",null,null,null,null,null,null,null,null,null,""]
[735,98,"Резерв за непредвидени и неотложни разходи",null,{"$f":"F740+G740+H740","v":0},null,null,null,0,0,0,{"$f":"I740+J740+K740","v":0},""]
[740,null,null,null,null,null,null,null,null,null,null,null,""]
[745,null,null,null,null,null,null,null,null,null,null,null,""]
[750,null,null,null,null,null,null,null,null,null,null,null,""]
[755,null,"99-99",{"$f":"+B744","v":0},{"$f":"SUM(E629,E632,E638,E646,E647,E665,E669,E675,E678,E679,E680,E681,E682,E691,E697,E698,E699,E700,E707,E711,E712,E713,E714,E717,E718,E726,E729,E730,E735)+E740","v":0},0,0,0,0,0,0,0,{"$f":"(IF($E744<>0,$M$2,IF($L744<>0,$M$2,\"\")))","v":""},{"$f":"LEFT(C626,1)","v":"1"}]
[760,"край на дейност",null,null,null,null,null,null,null,null,null,null,{"$f":"(IF($E744<>0,$M$2,IF($L744<>0,$M$2,\"\")))","v":""}]
[765,null,null,null,null,null,null,null,null,null,null,null,{"$f":"(IF($E744<>0,$M$2,IF($L744<>0,$M$2,\"\")))","v":""}]
[775,null,null,null,null,null,null,null,null,null,null,null,{"$f":"(IF(E742<>0,$G$2,IF(L742<>0,$G$2,\"\")))","v":""}]
[780,null,null,null,null,null,null,null,null,null,null,null,{"$f":"(IF($E881<>0,$M$2,IF($L881<>0,$M$2,\"\")))","v":""}]
[785,null,null,null,null,null,null,null,null,null,null,null,{"$f":"(IF($E881<>0,$M$2,IF($L881<>0,$M$2,\"\")))","v":""}]
[790,{"$f":"$B$7","v":"ОТЧЕТНИ ДАННИ ПО ЕБК ЗА ИЗПЪЛНЕНИЕТО НА БЮДЖЕТА"},null,null,null,null,null,null,null,null,null,null,{"$f":"(IF($E881<>0,$M$2,IF($L881<>0,$M$2,\"\")))","v":""}]
[795,null,null,null,"за периода от ","до",null,"        II.1. РАЗХОДИ ПО ДЕЙНОСТИ",null,null,null,null,{"$f":"(IF($E881<>0,$M$2,IF($L881<>0,$M$2,\"\")))","v":""}]
[805,{"$f":"$B$9","v":"ОУ Г.С.РАКОВСКИ-С.ГЪЛЪБЕЦ"},null,null,{"$f":"$E$9","v":"2020-01-01"},{"$f":"$F$9","v":"2020-03-31"},null,null,null,null,null,null,{"$f":"(IF($E881<>0,$M$2,IF($L881<>0,$M$2,\"\")))","v":""}]
[810,{"$f":"$B$10","v":"(наименование на разпоредителя с бюджет)"},null,null,null,null,null,null,null,null,null,null,{"$f":"(IF($E881<>0,$M$2,IF($L881<>0,$M$2,\"\")))","v":""}]
[815,null,null,null,null,null,null,null,null,null,null,null,{"$f":"(IF($E881<>0,$M$2,IF($L881<>0,$M$2,\"\")))","v":""}]
[525,{"$f":"$B$12","v":"Поморие"},null,null,"       код по ЕБК:",{"$f":"$F$12","v":"5207"},null,null,null,null,null,null,{"$f":"(IF($E881<>0,$M$2,IF($L881<>0,$M$2,\"\")))","v":""}]
[820,{"$f":"$B$13","v":"(наименование на първостепенния разпоредител с бюджет)"},null,null,null,null,null,null,null,null,null,null,{"$f":"(IF($E881<>0,$M$2,IF($L881<>0,$M$2,\"\")))","v":""}]
[821,null,null,"ФИНАНСОВО-ПРАВНА ФОРМА",{"$f":"$E$15","v":0},{"$f":"$F$15","v":"БЮДЖЕТ"},null,null,null,null,null,null,{"$f":"(IF($E881<>0,$M$2,IF($L881<>0,$M$2,\"\")))","v":""}]
[822,null,null,null,null,null,null,null,null,null,null,"(в лева)",{"$f":"(IF($E881<>0,$M$2,IF($L881<>0,$M$2,\"\")))","v":""}]
[823,null,null,"II.1. РАЗХОДИ ПО ДЕЙНОСТИ","Уточнен план 2020",null,null,null,"Отчет 2020",null,null,null,{"$f":"(IF($E881<>0,$M$2,IF($L881<>0,$M$2,\"\")))","v":""}]
[825,"§§","под-§§","НАИМЕНОВАНИЯ НА ПАРАГРАФИТЕ И ПОДПАРАГРАФИТЕ",{"$f":"$E$20","v":"Уточнен план                Общо"},{"$f":"$F$20","v":"държавни дейности"},{"$f":"$G$20","v":"местни дейности"},{"$f":"$H$20","v":"дофинансиране"},{"$f":"$I$20","v":"държавни дейности -ОТЧЕТ"},{"$f":"$J$20","v":"местни дейности - ОТЧЕТ"},{"$f":"$K$20","v":"дофинансиране - ОТЧЕТ"},{"$f":"$L$20","v":"ОТЧЕТ                                    ОБЩО"},{"$f":"(IF($E881<>0,$M$2,IF($L881<>0,$M$2,\"\")))","v":""}]
[null,null,null," 02 ¦",{"$f":"$E$21","v":"(1)"},{"$f":"$F$21","v":"(2)"},{"$f":"$G$21","v":"(3)"},{"$f":"$H$21","v":"(4)"},{"$f":"$I$21","v":"(5)"},{"$f":"$J$21","v":"(6)"},{"$f":"$K$21","v":"(7)"},{"$f":"$L$21","v":"(8)"},{"$f":"(IF($E881<>0,$M$2,IF($L881<>0,$M$2,\"\")))","v":""}]
[null,null,{"$f":"VLOOKUP(D762,OP_LIST2,2,FALSE)","v":{"$error":"#N/A"}},null,null,null,null,null,null,null,null,null,{"$f":"(IF($E881<>0,$M$2,IF($L881<>0,$M$2,\"\")))","v":""}]
[null,null,{"$f":"VLOOKUP(D764,EBK_DEIN2,2,FALSE)","v":1122},"<------          ДЕЙНОСТ    -  код  по  ЕБК",null,null,null,null,null,null,null,null,{"$f":"(IF($E881<>0,$M$2,IF($L881<>0,$M$2,\"\")))","v":""}]
[null,null,{"$f":"+C763","v":1122},"122 Общинска администрация",null,null,null,null,null,null,null,null,{"$f":"(IF($E881<>0,$M$2,IF($L881<>0,$M$2,\"\")))","v":""}]
[null,null,null,"(наименование на дейността)",null,null,null,null,null,null,null,null,{"$f":"(IF($E881<>0,$M$2,IF($L881<>0,$M$2,\"\")))","v":""}]
[null,100,"Заплати и възнаграждения за персонала, нает по трудови и служебни правоотношения",null,{"$f":"SUM(E767:E768)","v":0},0,0,{"$f":"SUM(H767:H768)","v":0},0,0,0,0,{"$f":"(IF($E766<>0,$M$2,IF($L766<>0,$M$2,\"\")))","v":""}]
[null,null,101,"заплати и възнаграждения на персонала нает по трудови правоотношения",{"$f":"F767+G767+H767","v":0},0,0,0,0,0,0,{"$f":"I767+J767+K767","v":0},{"$f":"(IF($E767<>0,$M$2,IF($L767<>0,$M$2,\"\")))","v":""}]
[null,null,102,"заплати и възнаграждения на персонала нает по служебни правоотношения",{"$f":"F768+G768+H768","v":0},0,0,0,0,0,0,{"$f":"I768+J768+K768","v":0},""]
[null,200,"Други възнаграждения и плащания за персонала",null,{"$f":"SUM(E770:E774)","v":0},0,0,{"$f":"SUM(H770:H774)","v":0},0,0,0,0,""]
[null,null,201,"за нещатен персонал нает по трудови правоотношения ",{"$f":"F770+G770+H770","v":0},0,0,0,0,0,0,{"$f":"I770+J770+K770","v":0},""]
[null,null,202,"за персонала по извънтрудови правоотношения",{"$f":"F771+G771+H771","v":0},0,0,0,0,0,0,{"$f":"I771+J771+K771","v":0},""]
[null,null,205,"изплатени суми от СБКО за облекло и други на персонала, с характер на възнаграждение",{"$f":"F772+G772+H772","v":0},0,0,0,0,0,0,{"$f":"I772+J772+K772","v":0},""]
[null,null,208,"обезщетения за персонала, с характер на възнаграждение",{"$f":"F773+G773+H773","v":0},0,0,0,0,0,0,{"$f":"I773+J773+K773","v":0},""]
[null,null,209,"другиплащания и възнаграждения",{"$f":"F774+G774+H774","v":0},0,0,0,0,0,0,{"$f":"I774+J774+K774","v":0},""]
[null,500,"Задължителни осигурителни вноски от работодатели",null,{"$f":"SUM(E776:E782)","v":0},0,0,{"$f":"SUM(H776:H782)","v":0},0,0,0,0,""]
[null,null,551,"осигурителни вноски от работодатели за Държавното обществено осигуряване (ДОО)",{"$f":"F776+G776+H776","v":0},0,0,0,0,0,0,{"$f":"I776+J776+K776","v":0},""]
[null,null,552,"осигурителни вноски от работодатели за Учителския пенсионен фонд (УчПФ)",0,0,0,0,0,0,0,0,""]
[null,null,558,"вноски по чл. 4б и 4в от КСО за сметка на осигурителя",{"$f":"F778+G778+H778","v":0},0,0,0,0,0,0,{"$f":"I778+J778+K778","v":0},""]
[null,null,560,"здравно-осигурителни вноски от работодатели",0,0,0,0,0,0,0,0,""]
[null,null,580,"вноски за допълнително задължително осигуряване от работодатели",0,0,0,0,0,0,0,0,""]
[null,null,588,"коректив на вноски за ДЗПО за сумите по чл. 4б и 4в от КСО за сметка на осигурителя",{"$f":"F781+G781+H781","v":0},0,0,0,0,0,0,{"$f":"I781+J781+K781","v":0},""]
[null,null,590,"задължителни вноски за чуждестранни пенсионни фондове и  схеми за сметка на осигурителя",0,null,null,null,null,null,null,0,""]
[5,800,"Вноски за доброволно осигуряване  ",null,0,null,null,null,null,null,null,0,""]
[10,1000,"Издръжка",null,{"$f":"SUM(E785:E801)","v":0},0,0,{"$f":"SUM(H785:H801)","v":0},0,0,0,0,""]
[15,null,1011,"Храна",{"$f":"F785+G785+H785","v":0},0,0,0,0,0,0,{"$f":"I785+J785+K785","v":0},""]
[35,null,1012,"Медикаменти",0,0,0,0,0,0,0,0,""]
[40,null,1013,"Постелен инвентар и облекло",0,0,0,0,0,0,0,0,""]
[45,null,1014,"Учебни и научно-изследователски разходи и книги за библиотеките",0,0,0,0,0,0,0,0,""]
[50,null,1015,"материали",0,0,0,0,0,0,0,0,""]
[55,null,1016,"вода, горива и енергия",0,0,0,0,0,0,0,0,""]
[60,null,1020,"разходи за външни услуги",0,0,0,0,0,0,0,0,""]
[65,null,1030,"Текущ ремонт",0,0,0,0,0,0,0,0,""]
[70,null,1051,"командировки в страната",0,0,0,0,0,0,0,0,""]
[75,null,1052,"краткосрочни командировки в чужбина",0,0,0,0,0,0,0,0,""]
[80,null,1053,"дългосрочни командировки в чужбина",0,0,0,0,0,0,0,0,""]
[80,null,1062,"разходи за застраховки",0,0,0,0,0,0,0,0,""]
[85,null,1063,"такса ангажимент по заеми",0,0,0,0,0,0,0,0,""]
[90,null,1069,"други финансови услуги",0,0,0,0,0,0,0,0,""]
[90,null,1091,"други разходи за СБКО",0,0,0,0,0,0,0,0,""]
[115,null,1092,"разходи за договорни санкции и неустойки, съдебни обезщетения и разноски",0,0,0,0,0,0,0,0,""]
[125,null,1098,"други разходи, некласифицирани в другите параграфи и подпараграфи",0,0,0,0,0,0,0,0,""]
[130,1900,"Платени данъци, такси и административни санкции",null,{"$f":"SUM(E803:E805)","v":0},0,0,{"$f":"SUM(H803:H805)","v":0},0,0,0,0,""]
[135,null,1901,"платени държавни данъци, такси, наказателни лихви и административни санкции",{"$f":"F803+G803+H803","v":0},0,0,0,0,0,0,{"$f":"I803+J803+K803","v":0},""]
[140,null,1981,"платени общински данъци, такси, наказателни лихви и административни санкции",{"$f":"F804+G804+H804","v":0},0,0,0,0,0,0,{"$f":"I804+J804+K804","v":0},""]
[145,null,1991,"платени данъци, такси, наказателни лихви и административни санкции в чужбина",{"$f":"F805+G805+H805","v":0},null,null,null,null,null,null,{"$f":"I805+J805+K805","v":0},""]
[150,2100,"Разходи за лихви по емисии на държавни (общински) ценни книжа",null,{"$f":"SUM(E807:E811)","v":0},0,0,{"$f":"SUM(H807:H811)","v":0},0,0,0,0,""]
[155,null,2110,"лихви по държавни (общински) ценни книжа",{"$f":"F807+G807+H807","v":0},0,0,0,0,0,0,{"$f":"I807+J807+K807","v":0},""]
[160,null,2120,"отстъпки по държавни (общински) ценни книжа",{"$f":"F808+G808+H808","v":0},null,null,null,null,null,null,{"$f":"I808+J808+K808","v":0},""]
[165,null,2125,"лихви и отстъпки по целеви емисии на държавни ценни книжа",{"$f":"F809+G809+H809","v":0},0,0,0,0,0,0,{"$f":"I809+J809+K809","v":0},""]
[175,null,2140,"лихви по държавни ценни книжа, емитирани за структурната реформа ",{"$f":"F810+G810+H810","v":0},0,0,0,0,0,0,{"$f":"I810+J810+K810","v":0},""]
[180,null,2190,"премии над номинала от емисии на държавни (общински) ценни книжа (-)",{"$f":"F811+G811+H811","v":0},null,null,null,null,null,null,{"$f":"I811+J811+K811","v":0},""]
[185,2200,"Разходи за лихви по заеми от страната",null,{"$f":"SUM(E813:E814)","v":0},0,0,{"$f":"SUM(H813:H814)","v":0},0,0,0,0,""]
[190,null,2221,"Разходи за лихви по заеми от банки в страната",{"$f":"F813+G813+H813","v":0},0,0,0,0,0,0,{"$f":"I813+J813+K813","v":0},""]
[200,null,2224,"Разходи за лихви по други заеми от страната",0,0,0,0,0,0,0,0,""]
[200,2500,"Разходи за лихви по заеми от други държави",null,0,null,null,null,null,null,null,0,""]
[205,2600,"Разходи за лихви по заеми от международни организации и институции",null,0,null,null,null,null,null,null,0,""]
[210,2700,"Разходи за лихви по заеми от банки и други финансови институции от чужбина",null,0,null,null,null,null,null,null,0,""]
[215,2800,"Разходи за лихви и отстъпки по облигации, емитирани и търгувани на международните капиталови пазари",null,0,null,null,null,null,null,null,0,""]
[220,2900,"Други разходи за лихви",null,{"$f":"SUM(E820:E827)","v":0},{"$f":"SUM(F820:F827)","v":0},{"$f":"SUM(G820:G827)","v":0},0,0,0,0,0,""]
[225,null,2910,"Платени лихви по финансов лизинг и търговски кредит",{"$f":"F820+G820+H820","v":0},0,null,null,0,null,null,{"$f":"I820+J820+K820","v":0},""]
[230,null,2920,"Платени лихви по активирани гаранции по заеми от  банки в страната",{"$f":"F821+G821+H821","v":0},null,null,null,null,null,null,{"$f":"I821+J821+K821","v":0},""]
[245,null,2969,"Платени лихви по активирани гаранции по заеми от международни организации и институции",0,null,null,null,null,null,null,0,""]
[220,null,2970,"Платени лихви по активирани гаранции по заеми от банки и финансови институции от чужбина",0,null,null,null,null,null,null,0,""]
[225,null,2989,"Възстановени суми по платени лихви по активирани гаранции (-)",0,null,null,null,null,null,null,0,""]
[230,null,2990,"Платени лихви по активирани гаранции по заеми от  банки в страната",{"$f":"F825+G825+H825","v":0},null,null,null,null,null,null,{"$f":"I825+J825+K825","v":0},""]
[235,null,2991,"Други разходи за лихви към  местни лица",0,0,0,0,0,0,0,0,""]
[240,null,2992,"Други разходи за лихви към чуждестранни лица",0,null,null,null,null,null,null,0,""]
[245,3300,"Вноска в общия бюджет на Европейския съюз",null,{"$f":"SUM(E829:E833)","v":0},0,0,0,0,0,0,0,""]
[250,null,3301,"ресурс на база брутен национален доход",{"$f":"F829+G829+H829","v":0},0,0,0,0,0,0,{"$f":"I829+J829+K829","v":0},""]
[255,null,3302,"ресурс на база данък върху добавената стойност",0,0,0,0,0,0,0,0,""]
[265,null,3303,"корекция за Обединеното кралство",0,0,0,0,0,0,0,0,""]
[270,null,3304,"традиционни собствени ресурси - мита",0,0,0,0,0,0,0,0,""]
[290,null,3306,"участие във финансирането на брутното намаление за Нидерландия, Швеция, Дания и Австрия",0,0,0,0,0,0,0,0,""]
[320,3900,"Здравно-осигурителни плащания",null,0,0,0,0,0,0,0,0,{"$f":"(IF($E834<>0,$M$2,IF($L834<>0,$M$2,\"\")))","v":""}]
[330,4000,"Стипендии",null,0,0,0,0,0,0,0,0,""]
[350,4100,"Пенсии",null,0,0,0,0,0,0,0,0,""]
[355,4200,"Текущи трансфери, обезщетения и помощи за домакинствата",null,{"$f":"SUM(E838:E843)","v":0},0,0,{"$f":"SUM(H838:H843)","v":0},0,0,0,0,""]
[355,null,4201,"обезщетения и помощи по социалното осигуряване",{"$f":"F838+G838+H838","v":0},null,null,null,null,null,null,{"$f":"I838+J838+K838","v":0},""]
[375,null,4202,"обезщетения и помощи по социалното подпомагане",0,null,null,null,null,null,null,0,""]
[380,null,4214,"обезщетения и помощи по решение на общинския съвет",0,0,0,0,0,0,0,0,""]
[385,null,4217,"текущи трансфери за домакинства от средства на Европейския съюз",0,null,null,null,null,null,null,0,""]
[390,null,4218,"текущи трансфери за домакинства по други международни програми и споразумения",0,null,null,null,null,null,null,0,""]
[390,null,4219,"други текущи трансфери за домакинствата",0,0,0,0,0,0,0,0,""]
[395,4300,"Субсидии и други текущи трансфери за нефинансови предприятия",null,{"$f":"SUM(E845:E847)","v":0},0,0,{"$f":"SUM(H845:H847)","v":0},0,0,0,0,""]
[397,null,4301,"за текуща дейност",{"$f":"F845+G845+H845","v":0},0,0,0,0,0,0,{"$f":"I845+J845+K845","v":0},""]
[398,null,4302,"за осъществяване на болнична помощ ",0,null,null,null,null,null,null,0,""]
[399,null,4309,"други субсидии и плащания",0,null,null,null,null,null,null,0,""]
[400,4400,"Субсидии и други текущи трансфери за финансови институции",null,0,0,0,0,0,0,0,0,""]
[401,4500,"Субсидии и други текущи трансфери за юридически лица с нестопанска цел",null,0,0,0,0,0,0,0,0,""]
[404,4600,"Разходи за членски внос и участие в нетърговски организации и дейности",null,0,0,0,0,0,0,0,0,""]
[404,4900,"Предоставени текущи и капиталови трансфери за чужбина",null,{"$f":"+E852+E853","v":0},0,0,{"$f":"+H852+H853","v":0},0,0,0,0,""]
[440,null,4901,"текущи трансфери за чужбина",{"$f":"F852+G852+H852","v":0},null,null,null,null,null,null,{"$f":"I852+J852+K852","v":0},""]
[450,null,4902,"капиталови трансфери за чужбина",{"$f":"F853+G853+H853","v":0},null,null,null,null,null,null,{"$f":"I853+J853+K853","v":0},""]
[495,5100,"Основен ремонт на дълготрайни материални активи",null,{"$f":"F854+G854+H854","v":0},0,0,0,0,0,0,{"$f":"I854+J854+K854","v":0},""]
[500,5200,"Придобиване на дълготрайни материални активи",null,{"$f":"SUM(E856:E862)","v":0},0,0,{"$f":"SUM(H856:H862)","v":0},0,0,0,0,""]
[505,null,5201,"придобиване на компютри и хардуер",{"$f":"F856+G856+H856","v":0},0,0,0,0,0,0,{"$f":"I856+J856+K856","v":0},""]
[510,null,5202,"придобиване на сгради",0,0,0,0,0,0,0,0,""]
[515,null,5203,"придобиване на друго оборудване, машини и съоръжения",0,0,0,0,0,0,0,0,""]
[520,null,5204,"придобиване на транспортни средства",0,0,0,0,0,0,0,0,""]
[525,null,5205,"придобиване на стопански инвентар",0,0,0,0,0,0,0,0,""]
[635,null,5206,"изграждане на инфраструктурни обекти",0,0,0,0,0,0,0,0,""]
[640,null,5219,"придобиване на други ДМА",0,0,0,0,0,0,0,0,""]
[645,5300,"Придобиване на нематериални дълготрайни активи",null,{"$f":"SUM(E864:E865)","v":0},0,0,{"$f":"SUM(H864:H865)","v":0},0,0,0,0,""]
[650,null,5301,"придобиване на програмни продукти и лицензи за програмни продукти",{"$f":"F864+G864+H864","v":0},0,0,0,0,0,0,{"$f":"I864+J864+K864","v":0},""]
[655,null,5309,"придобиване на други нематериални дълготрайни активи",{"$f":"F865+G865+H865","v":0},0,0,0,0,0,0,{"$f":"I865+J865+K865","v":0},""]
[665,5400,"Придобиване на земя",null,{"$f":"F866+G866+H866","v":0},null,0,0,0,null,0,{"$f":"I866+J866+K866","v":0},""]
[675,5500,"Капиталови трансфери",null,{"$f":"SUM(E868:E871)","v":0},0,0,{"$f":"SUM(H868:H871)","v":0},0,0,0,0,""]
[685,null,5501,"капиталови трансфери за нефинансови предприятия",{"$f":"F868+G868+H868","v":0},null,null,null,null,null,null,{"$f":"I868+J868+K868","v":0},""]
[690,null,5502,"капиталови трансфери за финансови институции",{"$f":"F869+G869+H869","v":0},null,null,null,null,null,null,{"$f":"I869+J869+K869","v":0},""]
[695,null,5503,"капиталови трансфери за организации с нестопанска цел",{"$f":"F870+G870+H870","v":0},null,null,null,null,null,null,{"$f":"I870+J870+K870","v":0},""]
[700,null,5504,"капиталови трансфери за домакинствата",{"$f":"F871+G871+H871","v":0},null,null,null,null,null,null,{"$f":"I871+J871+K871","v":0},""]
[710,5700,"Прираст на държавния резерв и изкупуване на земеделска продукция (включва и § 40-71)",null,{"$f":"SUM(E873:E875)","v":0},0,0,0,0,0,0,{"$f":"SUM(L873:L875)","v":0},""]
[715,null,5701,"плащания за попълване на държавния резерв",{"$f":"F873+G873+H873","v":0},0,0,0,0,0,0,{"$f":"I873+J873+K873","v":0},""]
[720,null,5702,"плащания за изкупуване на земеделска продукция",{"$f":"F874+G874+H874","v":0},0,0,0,0,0,0,{"$f":"I874+J874+K874","v":0},""]
[725,null,4071,"постъпления от продажба на държавния резерв (-)",{"$f":"F875+G875+H875","v":0},0,0,0,0,0,0,{"$f":"I875+J875+K875","v":0},""]
[730,null,"Резерв за непредвидени и неотложни разходи",null,null,null,null,null,null,null,null,null,""]
[735,98,"Резерв за непредвидени и неотложни разходи",null,{"$f":"F877+G877+H877","v":0},null,null,null,0,0,0,{"$f":"I877+J877+K877","v":0},""]
[740,null,null,null,null,null,null,null,null,null,null,null,""]
[745,null,null,null,null,null,null,null,null,null,null,null,""]
[750,null,null,null,null,null,null,null,null,null,null,null,""]
[755,null,"99-99",{"$f":"+B881","v":0},{"$f":"SUM(E766,E769,E775,E783,E784,E802,E806,E812,E815,E816,E817,E818,E819,E828,E834,E835,E836,E837,E844,E848,E849,E850,E851,E854,E855,E863,E866,E867,E872)+E877","v":0},0,0,0,0,0,0,0,{"$f":"(IF($E881<>0,$M$2,IF($L881<>0,$M$2,\"\")))","v":""},{"$f":"LEFT(C763,1)","v":"1"}]
[760,"край на дейност",null,null,null,null,null,null,null,null,null,null,{"$f":"(IF($E881<>0,$M$2,IF($L881<>0,$M$2,\"\")))","v":""}]
[765,null,null,null,null,null,null,null,null,null,null,null,{"$f":"(IF($E881<>0,$M$2,IF($L881<>0,$M$2,\"\")))","v":""}]
[775,null,null,null,null,null,null,null,null,null,null,null,{"$f":"(IF(E879<>0,$G$2,IF(L879<>0,$G$2,\"\")))","v":""}]
[780,null,null,null,null,null,null,null,null,null,null,null,{"$f":"(IF($E1018<>0,$M$2,IF($L1018<>0,$M$2,\"\")))","v":""}]
[785,null,null,null,null,null,null,null,null,null,null,null,{"$f":"(IF($E1018<>0,$M$2,IF($L1018<>0,$M$2,\"\")))","v":""}]
[790,{"$f":"$B$7","v":"ОТЧЕТНИ ДАННИ ПО ЕБК ЗА ИЗПЪЛНЕНИЕТО НА БЮДЖЕТА"},null,null,null,null,null,null,null,null,null,null,{"$f":"(IF($E1018<>0,$M$2,IF($L1018<>0,$M$2,\"\")))","v":""}]
[795,null,null,null,"за периода от ","до",null,"        II.1. РАЗХОДИ ПО ДЕЙНОСТИ",null,null,null,null,{"$f":"(IF($E1018<>0,$M$2,IF($L1018<>0,$M$2,\"\")))","v":""}]
[805,{"$f":"$B$9","v":"ОУ Г.С.РАКОВСКИ-С.ГЪЛЪБЕЦ"},null,null,{"$f":"$E$9","v":"2020-01-01"},{"$f":"$F$9","v":"2020-03-31"},null,null,null,null,null,null,{"$f":"(IF($E1018<>0,$M$2,IF($L1018<>0,$M$2,\"\")))","v":""}]
[810,{"$f":"$B$10","v":"(наименование на разпоредителя с бюджет)"},null,null,null,null,null,null,null,null,null,null,{"$f":"(IF($E1018<>0,$M$2,IF($L1018<>0,$M$2,\"\")))","v":""}]
[815,null,null,null,null,null,null,null,null,null,null,null,{"$f":"(IF($E1018<>0,$M$2,IF($L1018<>0,$M$2,\"\")))","v":""}]
[525,{"$f":"$B$12","v":"Поморие"},null,null,"       код по ЕБК:",{"$f":"$F$12","v":"5207"},null,null,null,null,null,null,{"$f":"(IF($E1018<>0,$M$2,IF($L1018<>0,$M$2,\"\")))","v":""}]
[820,{"$f":"$B$13","v":"(наименование на първостепенния разпоредител с бюджет)"},null,null,null,null,null,null,null,null,null,null,{"$f":"(IF($E1018<>0,$M$2,IF($L1018<>0,$M$2,\"\")))","v":""}]
[821,null,null,"ФИНАНСОВО-ПРАВНА ФОРМА",{"$f":"$E$15","v":0},{"$f":"$F$15","v":"БЮДЖЕТ"},null,null,null,null,null,null,{"$f":"(IF($E1018<>0,$M$2,IF($L1018<>0,$M$2,\"\")))","v":""}]
[822,null,null,null,null,null,null,null,null,null,null,"(в лева)",{"$f":"(IF($E1018<>0,$M$2,IF($L1018<>0,$M$2,\"\")))","v":""}]
[823,null,null,"II.1. РАЗХОДИ ПО ДЕЙНОСТИ","Уточнен план 2020",null,null,null,"Отчет 2020",null,null,null,{"$f":"(IF($E1018<>0,$M$2,IF($L1018<>0,$M$2,\"\")))","v":""}]
[825,"§§","под-§§","НАИМЕНОВАНИЯ НА ПАРАГРАФИТЕ И ПОДПАРАГРАФИТЕ",{"$f":"$E$20","v":"Уточнен план                Общо"},{"$f":"$F$20","v":"държавни дейности"},{"$f":"$G$20","v":"местни дейности"},{"$f":"$H$20","v":"дофинансиране"},{"$f":"$I$20","v":"държавни дейности -ОТЧЕТ"},{"$f":"$J$20","v":"местни дейности - ОТЧЕТ"},{"$f":"$K$20","v":"дофинансиране - ОТЧЕТ"},{"$f":"$L$20","v":"ОТЧЕТ                                    ОБЩО"},{"$f":"(IF($E1018<>0,$M$2,IF($L1018<>0,$M$2,\"\")))","v":""}]
[null,null,null," 02 ¦",{"$f":"$E$21","v":"(1)"},{"$f":"$F$21","v":"(2)"},{"$f":"$G$21","v":"(3)"},{"$f":"$H$21","v":"(4)"},{"$f":"$I$21","v":"(5)"},{"$f":"$J$21","v":"(6)"},{"$f":"$K$21","v":"(7)"},{"$f":"$L$21","v":"(8)"},{"$f":"(IF($E1018<>0,$M$2,IF($L1018<>0,$M$2,\"\")))","v":""}]
[null,null,{"$f":"VLOOKUP(D899,OP_LIST2,2,FALSE)","v":{"$error":"#N/A"}},null,null,null,null,null,null,null,null,null,{"$f":"(IF($E1018<>0,$M$2,IF($L1018<>0,$M$2,\"\")))","v":""}]
[null,null,{"$f":"VLOOKUP(D901,EBK_DEIN2,2,FALSE)","v":1123},"<------          ДЕЙНОСТ    -  код  по  ЕБК",null,null,null,null,null,null,null,null,{"$f":"(IF($E1018<>0,$M$2,IF($L1018<>0,$M$2,\"\")))","v":""}]
[null,null,{"$f":"+C900","v":1123},"123 Общински съвети ",null,null,null,null,null,null,null,null,{"$f":"(IF($E1018<>0,$M$2,IF($L1018<>0,$M$2,\"\")))","v":""}]
[null,null,null,"(наименование на дейността)",null,null,null,null,null,null,null,null,{"$f":"(IF($E1018<>0,$M$2,IF($L1018<>0,$M$2,\"\")))","v":""}]
[null,100,"Заплати и възнаграждения за персонала, нает по трудови и служебни правоотношения",null,{"$f":"SUM(E904:E905)","v":0},0,0,{"$f":"SUM(H904:H905)","v":0},0,0,0,0,{"$f":"(IF($E903<>0,$M$2,IF($L903<>0,$M$2,\"\")))","v":""}]
[null,null,101,"заплати и възнаграждения на персонала нает по трудови правоотношения",{"$f":"F904+G904+H904","v":0},0,0,0,0,0,0,{"$f":"I904+J904+K904","v":0},{"$f":"(IF($E904<>0,$M$2,IF($L904<>0,$M$2,\"\")))","v":""}]
[null,null,102,"заплати и възнаграждения на персонала нает по служебни правоотношения",{"$f":"F905+G905+H905","v":0},0,0,0,0,0,0,{"$f":"I905+J905+K905","v":0},""]
[null,200,"Други възнаграждения и плащания за персонала",null,{"$f":"SUM(E907:E911)","v":0},0,0,{"$f":"SUM(H907:H911)","v":0},0,0,0,0,""]
[null,null,201,"за нещатен персонал нает по трудови правоотношения ",{"$f":"F907+G907+H907","v":0},0,0,0,0,0,0,{"$f":"I907+J907+K907","v":0},""]
[null,null,202,"за персонала по извънтрудови правоотношения",{"$f":"F908+G908+H908","v":0},0,0,0,0,0,0,{"$f":"I908+J908+K908","v":0},""]
[null,null,205,"изплатени суми от СБКО за облекло и други на персонала, с характер на възнаграждение",{"$f":"F909+G909+H909","v":0},0,0,0,0,0,0,{"$f":"I909+J909+K909","v":0},""]
[null,null,208,"обезщетения за персонала, с характер на възнаграждение",{"$f":"F910+G910+H910","v":0},0,0,0,0,0,0,{"$f":"I910+J910+K910","v":0},""]
[null,null,209,"другиплащания и възнаграждения",{"$f":"F911+G911+H911","v":0},0,0,0,0,0,0,{"$f":"I911+J911+K911","v":0},""]
[null,500,"Задължителни осигурителни вноски от работодатели",null,{"$f":"SUM(E913:E919)","v":0},0,0,{"$f":"SUM(H913:H919)","v":0},0,0,0,0,""]
[null,null,551,"осигурителни вноски от работодатели за Държавното обществено осигуряване (ДОО)",{"$f":"F913+G913+H913","v":0},0,0,0,0,0,0,{"$f":"I913+J913+K913","v":0},""]
[null,null,552,"осигурителни вноски от работодатели за Учителския пенсионен фонд (УчПФ)",0,0,0,0,0,0,0,0,""]
[null,null,558,"вноски по чл. 4б и 4в от КСО за сметка на осигурителя",{"$f":"F915+G915+H915","v":0},0,0,0,0,0,0,{"$f":"I915+J915+K915","v":0},""]
[null,null,560,"здравно-осигурителни вноски от работодатели",0,0,0,0,0,0,0,0,""]
[null,null,580,"вноски за допълнително задължително осигуряване от работодатели",0,0,0,0,0,0,0,0,""]
[null,null,588,"коректив на вноски за ДЗПО за сумите по чл. 4б и 4в от КСО за сметка на осигурителя",{"$f":"F918+G918+H918","v":0},0,0,0,0,0,0,{"$f":"I918+J918+K918","v":0},""]
[null,null,590,"задължителни вноски за чуждестранни пенсионни фондове и  схеми за сметка на осигурителя",0,null,null,null,null,null,null,0,""]
[5,800,"Вноски за доброволно осигуряване  ",null,0,null,null,null,null,null,null,0,""]
[10,1000,"Издръжка",null,{"$f":"SUM(E922:E938)","v":0},0,0,{"$f":"SUM(H922:H938)","v":0},0,0,0,0,""]
[15,null,1011,"Храна",{"$f":"F922+G922+H922","v":0},0,0,0,0,0,0,{"$f":"I922+J922+K922","v":0},""]
[35,null,1012,"Медикаменти",0,0,0,0,0,0,0,0,""]
[40,null,1013,"Постелен инвентар и облекло",0,0,0,0,0,0,0,0,""]
[45,null,1014,"Учебни и научно-изследователски разходи и книги за библиотеките",0,0,0,0,0,0,0,0,""]
[50,null,1015,"материали",0,0,0,0,0,0,0,0,""]
[55,null,1016,"вода, горива и енергия",0,0,0,0,0,0,0,0,""]
[60,null,1020,"разходи за външни услуги",0,0,0,0,0,0,0,0,""]
[65,null,1030,"Текущ ремонт",0,0,0,0,0,0,0,0,""]
[70,null,1051,"командировки в страната",0,0,0,0,0,0,0,0,""]
[75,null,1052,"краткосрочни командировки в чужбина",0,0,0,0,0,0,0,0,""]
[80,null,1053,"дългосрочни командировки в чужбина",0,0,0,0,0,0,0,0,""]
[80,null,1062,"разходи за застраховки",0,0,0,0,0,0,0,0,""]
[85,null,1063,"такса ангажимент по заеми",0,0,0,0,0,0,0,0,""]
[90,null,1069,"други финансови услуги",0,0,0,0,0,0,0,0,""]
[90,null,1091,"други разходи за СБКО",0,0,0,0,0,0,0,0,""]
[115,null,1092,"разходи за договорни санкции и неустойки, съдебни обезщетения и разноски",0,0,0,0,0,0,0,0,""]
[125,null,1098,"други разходи, некласифицирани в другите параграфи и подпараграфи",0,0,0,0,0,0,0,0,""]
[130,1900,"Платени данъци, такси и административни санкции",null,{"$f":"SUM(E940:E942)","v":0},0,0,{"$f":"SUM(H940:H942)","v":0},0,0,0,0,""]
[135,null,1901,"платени държавни данъци, такси, наказателни лихви и административни санкции",{"$f":"F940+G940+H940","v":0},0,0,0,0,0,0,{"$f":"I940+J940+K940","v":0},""]
[140,null,1981,"платени общински данъци, такси, наказателни лихви и административни санкции",{"$f":"F941+G941+H941","v":0},0,0,0,0,0,0,{"$f":"I941+J941+K941","v":0},""]
[145,null,1991,"платени данъци, такси, наказателни лихви и административни санкции в чужбина",{"$f":"F942+G942+H942","v":0},null,null,null,null,null,null,{"$f":"I942+J942+K942","v":0},""]
[150,2100,"Разходи за лихви по емисии на държавни (общински) ценни книжа",null,{"$f":"SUM(E944:E948)","v":0},0,0,{"$f":"SUM(H944:H948)","v":0},0,0,0,0,""]
[155,null,2110,"лихви по държавни (общински) ценни книжа",{"$f":"F944+G944+H944","v":0},null,null,null,null,null,null,{"$f":"I944+J944+K944","v":0},""]
[160,null,2120,"отстъпки по държавни (общински) ценни книжа",{"$f":"F945+G945+H945","v":0},null,null,null,null,null,null,{"$f":"I945+J945+K945","v":0},""]
[165,null,2125,"лихви и отстъпки по целеви емисии на държавни ценни книжа",{"$f":"F946+G946+H946","v":0},0,0,0,0,0,0,{"$f":"I946+J946+K946","v":0},""]
[175,null,2140,"лихви по държавни ценни книжа, емитирани за структурната реформа ",{"$f":"F947+G947+H947","v":0},0,0,0,0,0,0,{"$f":"I947+J947+K947","v":0},""]
[180,null,2190,"премии над номинала от емисии на държавни (общински) ценни книжа (-)",{"$f":"F948+G948+H948","v":0},null,null,null,null,null,null,{"$f":"I948+J948+K948","v":0},""]
[185,2200,"Разходи за лихви по заеми от страната",null,{"$f":"SUM(E950:E951)","v":0},0,0,{"$f":"SUM(H950:H951)","v":0},0,0,0,0,""]
[190,null,2221,"Разходи за лихви по заеми от банки в страната",{"$f":"F950+G950+H950","v":0},0,0,0,0,0,0,{"$f":"I950+J950+K950","v":0},""]
[200,null,2224,"Разходи за лихви по други заеми от страната",0,0,0,0,0,0,0,0,""]
[200,2500,"Разходи за лихви по заеми от други държави",null,0,null,null,null,null,null,null,0,""]
[205,2600,"Разходи за лихви по заеми от международни организации и институции",null,0,null,null,null,null,null,null,0,""]
[210,2700,"Разходи за лихви по заеми от банки и други финансови институции от чужбина",null,0,null,null,null,null,null,null,0,""]
[215,2800,"Разходи за лихви и отстъпки по облигации, емитирани и търгувани на международните капиталови пазари",null,0,null,null,null,null,null,null,0,""]
[220,2900,"Други разходи за лихви",null,{"$f":"SUM(E957:E964)","v":0},{"$f":"SUM(F957:F964)","v":0},{"$f":"SUM(G957:G964)","v":0},0,0,0,0,0,""]
[225,null,2910,"Платени лихви по финансов лизинг и търговски кредит",{"$f":"F957+G957+H957","v":0},0,null,null,0,null,null,{"$f":"I957+J957+K957","v":0},""]
[230,null,2920,"Платени лихви по активирани гаранции по заеми от  банки в страната",{"$f":"F958+G958+H958","v":0},null,null,null,null,null,null,{"$f":"I958+J958+K958","v":0},""]
[245,null,2969,"Платени лихви по активирани гаранции по заеми от международни организации и институции",0,null,null,null,null,null,null,0,""]
[220,null,2970,"Платени лихви по активирани гаранции по заеми от банки и финансови институции от чужбина",0,null,null,null,null,null,null,0,""]
[225,null,2989,"Възстановени суми по платени лихви по активирани гаранции (-)",0,null,null,null,null,null,null,0,""]
[230,null,2990,"Платени лихви по активирани гаранции по заеми от  банки в страната",{"$f":"F962+G962+H962","v":0},null,null,null,null,null,null,{"$f":"I962+J962+K962","v":0},""]
[235,null,2991,"Други разходи за лихви към  местни лица",0,null,null,null,null,null,null,0,""]
[240,null,2992,"Други разходи за лихви към чуждестранни лица",0,null,null,null,null,null,null,0,""]
[245,3300,"Вноска в общия бюджет на Европейския съюз",null,{"$f":"SUM(E966:E970)","v":0},0,0,0,0,0,0,0,""]
[250,null,3301,"ресурс на база брутен национален доход",{"$f":"F966+G966+H966","v":0},0,0,0,0,0,0,{"$f":"I966+J966+K966","v":0},""]
[255,null,3302,"ресурс на база данък върху добавената стойност",0,0,0,0,0,0,0,0,""]
[265,null,3303,"корекция за Обединеното кралство",0,0,0,0,0,0,0,0,""]
[270,null,3304,"традиционни собствени ресурси - мита",0,0,0,0,0,0,0,0,""]
[290,null,3306,"участие във финансирането на брутното намаление за Нидерландия, Швеция, Дания и Австрия",0,0,0,0,0,0,0,0,""]
[320,3900,"Здравно-осигурителни плащания",null,0,0,0,0,0,0,0,0,{"$f":"(IF($E971<>0,$M$2,IF($L971<>0,$M$2,\"\")))","v":""}]
[330,4000,"Стипендии",null,0,0,0,0,0,0,0,0,""]
[350,4100,"Пенсии",null,0,0,0,0,0,0,0,0,""]
[355,4200,"Текущи трансфери, обезщетения и помощи за домакинствата",null,{"$f":"SUM(E975:E980)","v":0},0,0,{"$f":"SUM(H975:H980)","v":0},0,0,0,0,""]
[355,null,4201,"обезщетения и помощи по социалното осигуряване",{"$f":"F975+G975+H975","v":0},null,null,null,null,null,null,{"$f":"I975+J975+K975","v":0},""]
[375,null,4202,"обезщетения и помощи по социалното подпомагане",0,null,null,null,null,null,null,0,""]
[380,null,4214,"обезщетения и помощи по решение на общинския съвет",0,0,0,0,0,0,0,0,""]
[385,null,4217,"текущи трансфери за домакинства от средства на Европейския съюз",0,null,null,null,null,null,null,0,""]
[390,null,4218,"текущи трансфери за домакинства по други международни програми и споразумения",0,null,null,null,null,null,null,0,""]
[390,null,4219,"други текущи трансфери за домакинствата",0,0,0,0,0,0,0,0,""]
[395,4300,"Субсидии и други текущи трансфери за нефинансови предприятия",null,{"$f":"SUM(E982:E984)","v":0},0,0,{"$f":"SUM(H982:H984)","v":0},0,0,0,0,""]
[397,null,4301,"за текуща дейност",{"$f":"F982+G982+H982","v":0},0,0,0,0,0,0,{"$f":"I982+J982+K982","v":0},""]
[398,null,4302,"за осъществяване на болнична помощ ",0,null,null,null,null,null,null,0,""]
[399,null,4309,"други субсидии и плащания",0,null,null,null,null,null,null,0,""]
[400,4400,"Субсидии и други текущи трансфери за финансови институции",null,0,0,0,0,0,0,0,0,""]
[401,4500,"Субсидии и други текущи трансфери за юридически лица с нестопанска цел",null,0,0,0,0,0,0,0,0,""]
[404,4600,"Разходи за членски внос и участие в нетърговски организации и дейности",null,0,0,0,0,0,0,0,0,""]
[404,4900,"Предоставени текущи и капиталови трансфери за чужбина",null,{"$f":"+E989+E990","v":0},0,0,{"$f":"+H989+H990","v":0},0,0,0,0,""]
[440,null,4901,"текущи трансфери за чужбина",{"$f":"F989+G989+H989","v":0},null,null,null,null,null,null,{"$f":"I989+J989+K989","v":0},""]
[450,null,4902,"капиталови трансфери за чужбина",{"$f":"F990+G990+H990","v":0},null,null,null,null,null,null,{"$f":"I990+J990+K990","v":0},""]
[495,5100,"Основен ремонт на дълготрайни материални активи",null,{"$f":"F991+G991+H991","v":0},0,0,0,0,0,0,{"$f":"I991+J991+K991","v":0},""]
[500,5200,"Придобиване на дълготрайни материални активи",null,{"$f":"SUM(E993:E999)","v":0},0,0,{"$f":"SUM(H993:H999)","v":0},0,0,0,0,""]
[505,null,5201,"придобиване на компютри и хардуер",{"$f":"F993+G993+H993","v":0},0,0,0,0,0,0,{"$f":"I993+J993+K993","v":0},""]
[510,null,5202,"придобиване на сгради",0,0,0,0,0,0,0,0,""]
[515,null,5203,"придобиване на друго оборудване, машини и съоръжения",0,0,0,0,0,0,0,0,""]
[520,null,5204,"придобиване на транспортни средства",0,0,0,0,0,0,0,0,""]
[525,null,5205,"придобиване на стопански инвентар",0,0,0,0,0,0,0,0,""]
[635,null,5206,"изграждане на инфраструктурни обекти",0,0,0,0,0,0,0,0,""]
[640,null,5219,"придобиване на други ДМА",0,0,0,0,0,0,0,0,""]
[645,5300,"Придобиване на нематериални дълготрайни активи",null,{"$f":"SUM(E1001:E1002)","v":0},0,0,{"$f":"SUM(H1001:H1002)","v":0},0,0,0,0,""]
[650,null,5301,"придобиване на програмни продукти и лицензи за програмни продукти",{"$f":"F1001+G1001+H1001","v":0},0,0,0,0,0,0,{"$f":"I1001+J1001+K1001","v":0},""]
[655,null,5309,"придобиване на други нематериални дълготрайни активи",{"$f":"F1002+G1002+H1002","v":0},0,0,0,0,0,0,{"$f":"I1002+J1002+K1002","v":0},""]
[665,5400,"Придобиване на земя",null,{"$f":"F1003+G1003+H1003","v":0},null,0,0,0,null,0,{"$f":"I1003+J1003+K1003","v":0},""]
[675,5500,"Капиталови трансфери",null,{"$f":"SUM(E1005:E1008)","v":0},0,0,{"$f":"SUM(H1005:H1008)","v":0},0,0,0,0,""]
[685,null,5501,"капиталови трансфери за нефинансови предприятия",{"$f":"F1005+G1005+H1005","v":0},null,null,null,null,null,null,{"$f":"I1005+J1005+K1005","v":0},""]
[690,null,5502,"капиталови трансфери за финансови институции",{"$f":"F1006+G1006+H1006","v":0},null,null,null,null,null,null,{"$f":"I1006+J1006+K1006","v":0},""]
[695,null,5503,"капиталови трансфери за организации с нестопанска цел",{"$f":"F1007+G1007+H1007","v":0},null,null,null,null,null,null,{"$f":"I1007+J1007+K1007","v":0},""]
[700,null,5504,"капиталови трансфери за домакинствата",{"$f":"F1008+G1008+H1008","v":0},null,null,null,null,null,null,{"$f":"I1008+J1008+K1008","v":0},""]
[710,5700,"Прираст на държавния резерв и изкупуване на земеделска продукция (включва и § 40-71)",null,{"$f":"SUM(E1010:E1012)","v":0},0,0,0,0,0,0,{"$f":"SUM(L1010:L1012)","v":0},""]
[715,null,5701,"плащания за попълване на държавния резерв",{"$f":"F1010+G1010+H1010","v":0},0,0,0,0,0,0,{"$f":"I1010+J1010+K1010","v":0},""]
[720,null,5702,"плащания за изкупуване на земеделска продукция",{"$f":"F1011+G1011+H1011","v":0},0,0,0,0,0,0,{"$f":"I1011+J1011+K1011","v":0},""]
[725,null,4071,"постъпления от продажба на държавния резерв (-)",{"$f":"F1012+G1012+H1012","v":0},0,0,0,0,0,0,{"$f":"I1012+J1012+K1012","v":0},""]
[730,null,"Резерв за непредвидени и неотложни разходи",null,null,null,null,null,null,null,null,null,""]
[735,98,"Резерв за непредвидени и неотложни разходи",null,{"$f":"F1014+G1014+H1014","v":0},null,null,null,0,0,0,{"$f":"I1014+J1014+K1014","v":0},""]
[740,null,null,null,null,null,null,null,null,null,null,null,""]
[745,null,null,null,null,null,null,null,null,null,null,null,""]
[750,null,null,null,null,null,null,null,null,null,null,null,""]
[755,null,"99-99",{"$f":"+B1018","v":0},{"$f":"SUM(E903,E906,E912,E920,E921,E939,E943,E949,E952,E953,E954,E955,E956,E965,E971,E972,E973,E974,E981,E985,E986,E987,E988,E991,E992,E1000,E1003,E1004,E1009)+E1014","v":0},0,0,0,0,0,0,0,{"$f":"(IF($E1018<>0,$M$2,IF($L1018<>0,$M$2,\"\")))","v":""},{"$f":"LEFT(C900,1)","v":"1"}]
[760,"край на дейност",null,null,null,null,null,null,null,null,null,null,{"$f":"(IF($E1018<>0,$M$2,IF($L1018<>0,$M$2,\"\")))","v":""}]
[765,null,null,null,null,null,null,null,null,null,null,null,{"$f":"(IF($E1018<>0,$M$2,IF($L1018<>0,$M$2,\"\")))","v":""}]
[775,null,null,null,null,null,null,null,null,null,null,null,{"$f":"(IF(E1016<>0,$G$2,IF(L1016<>0,$G$2,\"\")))","v":""}]
[780,null,null,null,null,null,null,null,null,null,null,null,{"$f":"(IF($E1155<>0,$M$2,IF($L1155<>0,$M$2,\"\")))","v":""}]
[785,null,null,null,null,null,null,null,null,null,null,null,{"$f":"(IF($E1155<>0,$M$2,IF($L1155<>0,$M$2,\"\")))","v":""}]
[790,{"$f":"$B$7","v":"ОТЧЕТНИ ДАННИ ПО ЕБК ЗА ИЗПЪЛНЕНИЕТО НА БЮДЖЕТА"},null,null,null,null,null,null,null,null,null,null,{"$f":"(IF($E1155<>0,$M$2,IF($L1155<>0,$M$2,\"\")))","v":""}]
[795,null,null,null,"за периода от ","до",null,"        II.1. РАЗХОДИ ПО ДЕЙНОСТИ",null,null,null,null,{"$f":"(IF($E1155<>0,$M$2,IF($L1155<>0,$M$2,\"\")))","v":""}]
[805,{"$f":"$B$9","v":"ОУ Г.С.РАКОВСКИ-С.ГЪЛЪБЕЦ"},null,null,{"$f":"$E$9","v":"2020-01-01"},{"$f":"$F$9","v":"2020-03-31"},null,null,null,null,null,null,{"$f":"(IF($E1155<>0,$M$2,IF($L1155<>0,$M$2,\"\")))","v":""}]
[810,{"$f":"$B$10","v":"(наименование на разпоредителя с бюджет)"},null,null,null,null,null,null,null,null,null,null,{"$f":"(IF($E1155<>0,$M$2,IF($L1155<>0,$M$2,\"\")))","v":""}]
[815,null,null,null,null,null,null,null,null,null,null,null,{"$f":"(IF($E1155<>0,$M$2,IF($L1155<>0,$M$2,\"\")))","v":""}]
[525,{"$f":"$B$12","v":"Поморие"},null,null,"       код по ЕБК:",{"$f":"$F$12","v":"5207"},null,null,null,null,null,null,{"$f":"(IF($E1155<>0,$M$2,IF($L1155<>0,$M$2,\"\")))","v":""}]
[820,{"$f":"$B$13","v":"(наименование на първостепенния разпоредител с бюджет)"},null,null,null,null,null,null,null,null,null,null,{"$f":"(IF($E1155<>0,$M$2,IF($L1155<>0,$M$2,\"\")))","v":""}]
[821,null,null,"ФИНАНСОВО-ПРАВНА ФОРМА",{"$f":"$E$15","v":0},{"$f":"$F$15","v":"БЮДЖЕТ"},null,null,null,null,null,null,{"$f":"(IF($E1155<>0,$M$2,IF($L1155<>0,$M$2,\"\")))","v":""}]
[822,null,null,null,null,null,null,null,null,null,null,"(в лева)",{"$f":"(IF($E1155<>0,$M$2,IF($L1155<>0,$M$2,\"\")))","v":""}]
[823,null,null,"II.1. РАЗХОДИ ПО ДЕЙНОСТИ","Уточнен план 2020",null,null,null,"Отчет 2020",null,null,null,{"$f":"(IF($E1155<>0,$M$2,IF($L1155<>0,$M$2,\"\")))","v":""}]
[825,"§§","под-§§","НАИМЕНОВАНИЯ НА ПАРАГРАФИТЕ И ПОДПАРАГРАФИТЕ",{"$f":"$E$20","v":"Уточнен план                Общо"},{"$f":"$F$20","v":"държавни дейности"},{"$f":"$G$20","v":"местни дейности"},{"$f":"$H$20","v":"дофинансиране"},{"$f":"$I$20","v":"държавни дейности -ОТЧЕТ"},{"$f":"$J$20","v":"местни дейности - ОТЧЕТ"},{"$f":"$K$20","v":"дофинансиране - ОТЧЕТ"},{"$f":"$L$20","v":"ОТЧЕТ                                    ОБЩО"},{"$f":"(IF($E1155<>0,$M$2,IF($L1155<>0,$M$2,\"\")))","v":""}]
[null,null,null," 02 ¦",{"$f":"$E$21","v":"(1)"},{"$f":"$F$21","v":"(2)"},{"$f":"$G$21","v":"(3)"},{"$f":"$H$21","v":"(4)"},{"$f":"$I$21","v":"(5)"},{"$f":"$J$21","v":"(6)"},{"$f":"$K$21","v":"(7)"},{"$f":"$L$21","v":"(8)"},{"$f":"(IF($E1155<>0,$M$2,IF($L1155<>0,$M$2,\"\")))","v":""}]
[null,null,{"$f":"VLOOKUP(D1036,OP_LIST2,2,FALSE)","v":{"$error":"#N/A"}},null,null,null,null,null,null,null,null,null,{"$f":"(IF($E1155<>0,$M$2,IF($L1155<>0,$M$2,\"\")))","v":""}]
[null,null,{"$f":"VLOOKUP(D1038,EBK_DEIN2,2,FALSE)","v":1139},"<------          ДЕЙНОСТ    -  код  по  ЕБК",null,null,null,null,null,null,null,null,{"$f":"(IF($E1155<>0,$M$2,IF($L1155<>0,$M$2,\"\")))","v":""}]
[null,null,{"$f":"+C1037","v":1139},"139 Други изпълнителни и законодателни органи",null,null,null,null,null,null,null,null,{"$f":"(IF($E1155<>0,$M$2,IF($L1155<>0,$M$2,\"\")))","v":""}]
[null,null,null,"(наименование на дейността)",null,null,null,null,null,null,null,null,{"$f":"(IF($E1155<>0,$M$2,IF($L1155<>0,$M$2,\"\")))","v":""}]
[null,100,"Заплати и възнаграждения за персонала, нает по трудови и служебни правоотношения",null,{"$f":"SUM(E1041:E1042)","v":0},0,0,{"$f":"SUM(H1041:H1042)","v":0},0,0,0,0,{"$f":"(IF($E1040<>0,$M$2,IF($L1040<>0,$M$2,\"\")))","v":""}]
[null,null,101,"заплати и възнаграждения на персонала нает по трудови правоотношения",{"$f":"F1041+G1041+H1041","v":0},0,0,0,0,0,0,{"$f":"I1041+J1041+K1041","v":0},{"$f":"(IF($E1041<>0,$M$2,IF($L1041<>0,$M$2,\"\")))","v":""}]
[null,null,102,"заплати и възнаграждения на персонала нает по служебни правоотношения",{"$f":"F1042+G1042+H1042","v":0},0,0,0,0,0,0,{"$f":"I1042+J1042+K1042","v":0},""]
[null,200,"Други възнаграждения и плащания за персонала",null,{"$f":"SUM(E1044:E1048)","v":0},0,0,{"$f":"SUM(H1044:H1048)","v":0},0,0,0,0,""]
[null,null,201,"за нещатен персонал нает по трудови правоотношения ",{"$f":"F1044+G1044+H1044","v":0},0,0,0,0,0,0,{"$f":"I1044+J1044+K1044","v":0},""]
[null,null,202,"за персонала по извънтрудови правоотношения",{"$f":"F1045+G1045+H1045","v":0},0,0,0,0,0,0,{"$f":"I1045+J1045+K1045","v":0},""]
[null,null,205,"изплатени суми от СБКО за облекло и други на персонала, с характер на възнаграждение",{"$f":"F1046+G1046+H1046","v":0},0,0,0,0,0,0,{"$f":"I1046+J1046+K1046","v":0},""]
[null,null,208,"обезщетения за персонала, с характер на възнаграждение",{"$f":"F1047+G1047+H1047","v":0},0,0,0,0,0,0,{"$f":"I1047+J1047+K1047","v":0},""]
[null,null,209,"другиплащания и възнаграждения",{"$f":"F1048+G1048+H1048","v":0},0,0,0,0,0,0,{"$f":"I1048+J1048+K1048","v":0},""]
[null,500,"Задължителни осигурителни вноски от работодатели",null,{"$f":"SUM(E1050:E1056)","v":0},0,0,{"$f":"SUM(H1050:H1056)","v":0},0,0,0,0,""]
[null,null,551,"осигурителни вноски от работодатели за Държавното обществено осигуряване (ДОО)",{"$f":"F1050+G1050+H1050","v":0},0,0,0,0,0,0,{"$f":"I1050+J1050+K1050","v":0},""]
[null,null,552,"осигурителни вноски от работодатели за Учителския пенсионен фонд (УчПФ)",0,0,0,0,0,0,0,0,""]
[null,null,558,"вноски по чл. 4б и 4в от КСО за сметка на осигурителя",{"$f":"F1052+G1052+H1052","v":0},0,0,0,0,0,0,{"$f":"I1052+J1052+K1052","v":0},""]
[null,null,560,"здравно-осигурителни вноски от работодатели",0,0,0,0,0,0,0,0,""]
[null,null,580,"вноски за допълнително задължително осигуряване от работодатели",0,0,0,0,0,0,0,0,""]
[null,null,588,"коректив на вноски за ДЗПО за сумите по чл. 4б и 4в от КСО за сметка на осигурителя",{"$f":"F1055+G1055+H1055","v":0},0,0,0,0,0,0,{"$f":"I1055+J1055+K1055","v":0},""]
[null,null,590,"задължителни вноски за чуждестранни пенсионни фондове и  схеми за сметка на осигурителя",0,null,null,null,null,null,null,0,""]
[5,800,"Вноски за доброволно осигуряване  ",null,0,null,null,null,null,null,null,0,""]
[10,1000,"Издръжка",null,{"$f":"SUM(E1059:E1075)","v":0},0,0,{"$f":"SUM(H1059:H1075)","v":0},0,0,0,0,""]
[15,null,1011,"Храна",{"$f":"F1059+G1059+H1059","v":0},0,0,0,0,0,0,{"$f":"I1059+J1059+K1059","v":0},""]
[35,null,1012,"Медикаменти",0,0,0,0,0,0,0,0,""]
[40,null,1013,"Постелен инвентар и облекло",0,0,0,0,0,0,0,0,""]
[45,null,1014,"Учебни и научно-изследователски разходи и книги за библиотеките",0,0,0,0,0,0,0,0,""]
[50,null,1015,"материали",0,0,0,0,0,0,0,0,""]
[55,null,1016,"вода, горива и енергия",0,0,0,0,0,0,0,0,""]
[60,null,1020,"разходи за външни услуги",0,0,0,0,0,0,0,0,""]
[65,null,1030,"Текущ ремонт",0,0,0,0,0,0,0,0,""]
[70,null,1051,"командировки в страната",0,0,0,0,0,0,0,0,""]
[75,null,1052,"краткосрочни командировки в чужбина",0,0,0,0,0,0,0,0,""]
[80,null,1053,"дългосрочни командировки в чужбина",0,0,0,0,0,0,0,0,""]
[80,null,1062,"разходи за застраховки",0,0,0,0,0,0,0,0,""]
[85,null,1063,"такса ангажимент по заеми",0,0,0,0,0,0,0,0,""]
[90,null,1069,"други финансови услуги",0,0,0,0,0,0,0,0,""]
[90,null,1091,"други разходи за СБКО",0,0,0,0,0,0,0,0,""]
[115,null,1092,"разходи за договорни санкции и неустойки, съдебни обезщетения и разноски",0,0,0,0,0,0,0,0,""]
[125,null,1098,"други разходи, некласифицирани в другите параграфи и подпараграфи",0,0,0,0,0,0,0,0,""]
[130,1900,"Платени данъци, такси и административни санкции",null,{"$f":"SUM(E1077:E1079)","v":0},0,0,{"$f":"SUM(H1077:H1079)","v":0},0,0,0,0,""]
[135,null,1901,"платени държавни данъци, такси, наказателни лихви и административни санкции",{"$f":"F1077+G1077+H1077","v":0},0,0,0,0,0,0,{"$f":"I1077+J1077+K1077","v":0},""]
[140,null,1981,"платени общински данъци, такси, наказателни лихви и административни санкции",{"$f":"F1078+G1078+H1078","v":0},0,0,0,0,0,0,{"$f":"I1078+J1078+K1078","v":0},""]
[145,null,1991,"платени данъци, такси, наказателни лихви и административни санкции в чужбина",{"$f":"F1079+G1079+H1079","v":0},null,null,null,null,null,null,{"$f":"I1079+J1079+K1079","v":0},""]
[150,2100,"Разходи за лихви по емисии на държавни (общински) ценни книжа",null,{"$f":"SUM(E1081:E1085)","v":0},0,0,{"$f":"SUM(H1081:H1085)","v":0},0,0,0,0,""]
[155,null,2110,"лихви по държавни (общински) ценни книжа",{"$f":"F1081+G1081+H1081","v":0},null,null,null,null,null,null,{"$f":"I1081+J1081+K1081","v":0},""]
[160,null,2120,"отстъпки по държавни (общински) ценни книжа",{"$f":"F1082+G1082+H1082","v":0},null,null,null,null,null,null,{"$f":"I1082+J1082+K1082","v":0},""]
[165,null,2125,"лихви и отстъпки по целеви емисии на държавни ценни книжа",{"$f":"F1083+G1083+H1083","v":0},0,0,0,0,0,0,{"$f":"I1083+J1083+K1083","v":0},""]
[175,null,2140,"лихви по държавни ценни книжа, емитирани за структурната реформа ",{"$f":"F1084+G1084+H1084","v":0},0,0,0,0,0,0,{"$f":"I1084+J1084+K1084","v":0},""]
[180,null,2190,"премии над номинала от емисии на държавни (общински) ценни книжа (-)",{"$f":"F1085+G1085+H1085","v":0},null,null,null,null,null,null,{"$f":"I1085+J1085+K1085","v":0},""]
[185,2200,"Разходи за лихви по заеми от страната",null,{"$f":"SUM(E1087:E1088)","v":0},0,0,{"$f":"SUM(H1087:H1088)","v":0},0,0,0,0,""]
[190,null,2221,"Разходи за лихви по заеми от банки в страната",{"$f":"F1087+G1087+H1087","v":0},0,0,0,0,0,0,{"$f":"I1087+J1087+K1087","v":0},""]
[200,null,2224,"Разходи за лихви по други заеми от страната",0,0,0,0,0,0,0,0,""]
[200,2500,"Разходи за лихви по заеми от други държави",null,0,null,null,null,null,null,null,0,""]
[205,2600,"Разходи за лихви по заеми от международни организации и институции",null,0,null,null,null,null,null,null,0,""]
[210,2700,"Разходи за лихви по заеми от банки и други финансови институции от чужбина",null,0,null,null,null,null,null,null,0,""]
[215,2800,"Разходи за лихви и отстъпки по облигации, емитирани и търгувани на международните капиталови пазари",null,0,null,null,null,null,null,null,0,""]
[220,2900,"Други разходи за лихви",null,{"$f":"SUM(E1094:E1101)","v":0},{"$f":"SUM(F1094:F1101)","v":0},{"$f":"SUM(G1094:G1101)","v":0},0,0,0,0,0,""]
[225,null,2910,"Платени лихви по финансов лизинг и търговски кредит",{"$f":"F1094+G1094+H1094","v":0},0,null,null,0,null,null,{"$f":"I1094+J1094+K1094","v":0},""]
[230,null,2920,"Платени лихви по активирани гаранции по заеми от  банки в страната",{"$f":"F1095+G1095+H1095","v":0},null,null,null,null,null,null,{"$f":"I1095+J1095+K1095","v":0},""]
[245,null,2969,"Платени лихви по активирани гаранции по заеми от международни организации и институции",0,null,null,null,null,null,null,0,""]
[220,null,2970,"Платени лихви по активирани гаранции по заеми от банки и финансови институции от чужбина",0,null,null,null,null,null,null,0,""]
[225,null,2989,"Възстановени суми по платени лихви по активирани гаранции (-)",0,null,null,null,null,null,null,0,""]
[230,null,2990,"Платени лихви по активирани гаранции по заеми от  банки в страната",{"$f":"F1099+G1099+H1099","v":0},null,null,null,null,null,null,{"$f":"I1099+J1099+K1099","v":0},""]
[235,null,2991,"Други разходи за лихви към  местни лица",0,null,null,null,null,null,null,0,""]
[240,null,2992,"Други разходи за лихви към чуждестранни лица",0,null,null,null,null,null,null,0,""]
[245,3300,"Вноска в общия бюджет на Европейския съюз",null,{"$f":"SUM(E1103:E1107)","v":0},0,0,0,0,0,0,0,""]
[250,null,3301,"ресурс на база брутен национален доход",{"$f":"F1103+G1103+H1103","v":0},0,0,0,0,0,0,{"$f":"I1103+J1103+K1103","v":0},""]
[255,null,3302,"ресурс на база данък върху добавената стойност",0,0,0,0,0,0,0,0,""]
[265,null,3303,"корекция за Обединеното кралство",0,0,0,0,0,0,0,0,""]
[270,null,3304,"традиционни собствени ресурси - мита",0,0,0,0,0,0,0,0,""]
[290,null,3306,"участие във финансирането на брутното намаление за Нидерландия, Швеция, Дания и Австрия",0,0,0,0,0,0,0,0,""]
[320,3900,"Здравно-осигурителни плащания",null,0,0,0,0,0,0,0,0,{"$f":"(IF($E1108<>0,$M$2,IF($L1108<>0,$M$2,\"\")))","v":""}]
[330,4000,"Стипендии",null,0,0,0,0,0,0,0,0,""]
[350,4100,"Пенсии",null,0,0,0,0,0,0,0,0,""]
[355,4200,"Текущи трансфери, обезщетения и помощи за домакинствата",null,{"$f":"SUM(E1112:E1117)","v":0},0,0,{"$f":"SUM(H1112:H1117)","v":0},0,0,0,0,""]
[355,null,4201,"обезщетения и помощи по социалното осигуряване",{"$f":"F1112+G1112+H1112","v":0},null,null,null,null,null,null,{"$f":"I1112+J1112+K1112","v":0},""]
[375,null,4202,"обезщетения и помощи по социалното подпомагане",0,null,null,null,null,null,null,0,""]
[380,null,4214,"обезщетения и помощи по решение на общинския съвет",0,0,0,0,0,0,0,0,""]
[385,null,4217,"текущи трансфери за домакинства от средства на Европейския съюз",0,null,null,null,null,null,null,0,""]
[390,null,4218,"текущи трансфери за домакинства по други международни програми и споразумения",0,null,null,null,null,null,null,0,""]
[390,null,4219,"други текущи трансфери за домакинствата",0,0,0,0,0,0,0,0,""]
[395,4300,"Субсидии и други текущи трансфери за нефинансови предприятия",null,{"$f":"SUM(E1119:E1121)","v":0},0,0,{"$f":"SUM(H1119:H1121)","v":0},0,0,0,0,""]
[397,null,4301,"за текуща дейност",{"$f":"F1119+G1119+H1119","v":0},0,0,0,0,0,0,{"$f":"I1119+J1119+K1119","v":0},""]
[398,null,4302,"за осъществяване на болнична помощ ",0,null,null,null,null,null,null,0,""]
[399,null,4309,"други субсидии и плащания",0,null,null,null,null,null,null,0,""]
[400,4400,"Субсидии и други текущи трансфери за финансови институции",null,0,0,0,0,0,0,0,0,""]
[401,4500,"Субсидии и други текущи трансфери за юридически лица с нестопанска цел",null,0,0,0,0,0,0,0,0,""]
[404,4600,"Разходи за членски внос и участие в нетърговски организации и дейности",null,0,0,0,0,0,0,0,0,""]
[404,4900,"Предоставени текущи и капиталови трансфери за чужбина",null,{"$f":"+E1126+E1127","v":0},0,0,{"$f":"+H1126+H1127","v":0},0,0,0,0,""]
[440,null,4901,"текущи трансфери за чужбина",{"$f":"F1126+G1126+H1126","v":0},null,null,null,null,null,null,{"$f":"I1126+J1126+K1126","v":0},""]
[450,null,4902,"капиталови трансфери за чужбина",{"$f":"F1127+G1127+H1127","v":0},null,null,null,null,null,null,{"$f":"I1127+J1127+K1127","v":0},""]
[495,5100,"Основен ремонт на дълготрайни материални активи",null,{"$f":"F1128+G1128+H1128","v":0},0,0,0,0,0,0,{"$f":"I1128+J1128+K1128","v":0},""]
[500,5200,"Придобиване на дълготрайни материални активи",null,{"$f":"SUM(E1130:E1136)","v":0},0,0,{"$f":"SUM(H1130:H1136)","v":0},0,0,0,0,""]
[505,null,5201,"придобиване на компютри и хардуер",{"$f":"F1130+G1130+H1130","v":0},0,0,0,0,0,0,{"$f":"I1130+J1130+K1130","v":0},""]
[510,null,5202,"придобиване на сгради",0,0,0,0,0,0,0,0,""]
[515,null,5203,"придобиване на друго оборудване, машини и съоръжения",0,0,0,0,0,0,0,0,""]
[520,null,5204,"придобиване на транспортни средства",0,0,0,0,0,0,0,0,""]
[525,null,5205,"придобиване на стопански инвентар",0,0,0,0,0,0,0,0,""]
[635,null,5206,"изграждане на инфраструктурни обекти",0,0,0,0,0,0,0,0,""]
[640,null,5219,"придобиване на други ДМА",0,0,0,0,0,0,0,0,""]
[645,5300,"Придобиване на нематериални дълготрайни активи",null,{"$f":"SUM(E1138:E1139)","v":0},0,0,{"$f":"SUM(H1138:H1139)","v":0},0,0,0,0,""]
[650,null,5301,"придобиване на програмни продукти и лицензи за програмни продукти",{"$f":"F1138+G1138+H1138","v":0},0,0,0,0,0,0,{"$f":"I1138+J1138+K1138","v":0},""]
[655,null,5309,"придобиване на други нематериални дълготрайни активи",{"$f":"F1139+G1139+H1139","v":0},0,0,0,0,0,0,{"$f":"I1139+J1139+K1139","v":0},""]
[665,5400,"Придобиване на земя",null,{"$f":"F1140+G1140+H1140","v":0},null,0,0,0,null,0,{"$f":"I1140+J1140+K1140","v":0},""]
[675,5500,"Капиталови трансфери",null,{"$f":"SUM(E1142:E1145)","v":0},0,0,{"$f":"SUM(H1142:H1145)","v":0},0,0,0,0,""]
[685,null,5501,"капиталови трансфери за нефинансови предприятия",{"$f":"F1142+G1142+H1142","v":0},null,null,null,null,null,null,{"$f":"I1142+J1142+K1142","v":0},""]
[690,null,5502,"капиталови трансфери за финансови институции",{"$f":"F1143+G1143+H1143","v":0},null,null,null,null,null,null,{"$f":"I1143+J1143+K1143","v":0},""]
[695,null,5503,"капиталови трансфери за организации с нестопанска цел",{"$f":"F1144+G1144+H1144","v":0},null,null,null,null,null,null,{"$f":"I1144+J1144+K1144","v":0},""]
[700,null,5504,"капиталови трансфери за домакинствата",{"$f":"F1145+G1145+H1145","v":0},null,null,null,null,null,null,{"$f":"I1145+J1145+K1145","v":0},""]
[710,5700,"Прираст на държавния резерв и изкупуване на земеделска продукция (включва и § 40-71)",null,{"$f":"SUM(E1147:E1149)","v":0},0,0,0,0,0,0,{"$f":"SUM(L1147:L1149)","v":0},""]
[715,null,5701,"плащания за попълване на държавния резерв",{"$f":"F1147+G1147+H1147","v":0},0,0,0,0,0,0,{"$f":"I1147+J1147+K1147","v":0},""]
[720,null,5702,"плащания за изкупуване на земеделска продукция",{"$f":"F1148+G1148+H1148","v":0},0,0,0,0,0,0,{"$f":"I1148+J1148+K1148","v":0},""]
[725,null,4071,"постъпления от продажба на държавния резерв (-)",{"$f":"F1149+G1149+H1149","v":0},0,0,0,0,0,0,{"$f":"I1149+J1149+K1149","v":0},""]
[730,null,"Резерв за непредвидени и неотложни разходи",null,null,null,null,null,null,null,null,null,""]
[735,98,"Резерв за непредвидени и неотложни разходи",null,{"$f":"F1151+G1151+H1151","v":0},null,null,null,0,0,0,{"$f":"I1151+J1151+K1151","v":0},""]
[740,null,null,null,null,null,null,null,null,null,null,null,""]
[745,null,null,null,null,null,null,null,null,null,null,null,""]
[750,null,null,null,null,null,null,null,null,null,null,null,""]
[755,null,"99-99",{"$f":"+B1155","v":0},{"$f":"SUM(E1040,E1043,E1049,E1057,E1058,E1076,E1080,E1086,E1089,E1090,E1091,E1092,E1093,E1102,E1108,E1109,E1110,E1111,E1118,E1122,E1123,E1124,E1125,E1128,E1129,E1137,E1140,E1141,E1146)+E1151","v":0},0,0,0,0,0,0,0,{"$f":"(IF($E1155<>0,$M$2,IF($L1155<>0,$M$2,\"\")))","v":""},{"$f":"LEFT(C1037,1)","v":"1"}]
[760,"край на дейност",null,null,null,null,null,null,null,null,null,null,{"$f":"(IF($E1155<>0,$M$2,IF($L1155<>0,$M$2,\"\")))","v":""}]
[765,null,null,null,null,null,null,null,null,null,null,null,{"$f":"(IF($E1155<>0,$M$2,IF($L1155<>0,$M$2,\"\")))","v":""}]
[775,null,null,null,null,null,null,null,null,null,null,null,{"$f":"(IF(E1153<>0,$G$2,IF(L1153<>0,$G$2,\"\")))","v":""}]
[780,null,null,null,null,null,null,null,null,null,null,null,{"$f":"(IF($E1292<>0,$M$2,IF($L1292<>0,$M$2,\"\")))","v":""}]
[785,null,null,null,null,null,null,null,null,null,null,null,{"$f":"(IF($E1292<>0,$M$2,IF($L1292<>0,$M$2,\"\")))","v":""}]
[790,{"$f":"$B$7","v":"ОТЧЕТНИ ДАННИ ПО ЕБК ЗА ИЗПЪЛНЕНИЕТО НА БЮДЖЕТА"},null,null,null,null,null,null,null,null,null,null,{"$f":"(IF($E1292<>0,$M$2,IF($L1292<>0,$M$2,\"\")))","v":""}]
[795,null,null,null,"за периода от ","до",null,"        II.1. РАЗХОДИ ПО ДЕЙНОСТИ",null,null,null,null,{"$f":"(IF($E1292<>0,$M$2,IF($L1292<>0,$M$2,\"\")))","v":""}]
[805,{"$f":"$B$9","v":"ОУ Г.С.РАКОВСКИ-С.ГЪЛЪБЕЦ"},null,null,{"$f":"$E$9","v":"2020-01-01"},{"$f":"$F$9","v":"2020-03-31"},null,null,null,null,null,null,{"$f":"(IF($E1292<>0,$M$2,IF($L1292<>0,$M$2,\"\")))","v":""}]
[810,{"$f":"$B$10","v":"(наименование на разпоредителя с бюджет)"},null,null,null,null,null,null,null,null,null,null,{"$f":"(IF($E1292<>0,$M$2,IF($L1292<>0,$M$2,\"\")))","v":""}]
[815,null,null,null,null,null,null,null,null,null,null,null,{"$f":"(IF($E1292<>0,$M$2,IF($L1292<>0,$M$2,\"\")))","v":""}]
[525,{"$f":"$B$12","v":"Поморие"},null,null,"       код по ЕБК:",{"$f":"$F$12","v":"5207"},null,null,null,null,null,null,{"$f":"(IF($E1292<>0,$M$2,IF($L1292<>0,$M$2,\"\")))","v":""}]
[820,{"$f":"$B$13","v":"(наименование на първостепенния разпоредител с бюджет)"},null,null,null,null,null,null,null,null,null,null,{"$f":"(IF($E1292<>0,$M$2,IF($L1292<>0,$M$2,\"\")))","v":""}]
[821,null,null,"ФИНАНСОВО-ПРАВНА ФОРМА",{"$f":"$E$15","v":0},{"$f":"$F$15","v":"БЮДЖЕТ"},null,null,null,null,null,null,{"$f":"(IF($E1292<>0,$M$2,IF($L1292<>0,$M$2,\"\")))","v":""}]
[822,null,null,null,null,null,null,null,null,null,null,"(в лева)",{"$f":"(IF($E1292<>0,$M$2,IF($L1292<>0,$M$2,\"\")))","v":""}]
[823,null,null,"II.1. РАЗХОДИ ПО ДЕЙНОСТИ","Уточнен план 2020",null,null,null,"Отчет 2020",null,null,null,{"$f":"(IF($E1292<>0,$M$2,IF($L1292<>0,$M$2,\"\")))","v":""}]
[825,"§§","под-§§","НАИМЕНОВАНИЯ НА ПАРАГРАФИТЕ И ПОДПАРАГРАФИТЕ",{"$f":"$E$20","v":"Уточнен план                Общо"},{"$f":"$F$20","v":"държавни дейности"},{"$f":"$G$20","v":"местни дейности"},{"$f":"$H$20","v":"дофинансиране"},{"$f":"$I$20","v":"държавни дейности -ОТЧЕТ"},{"$f":"$J$20","v":"местни дейности - ОТЧЕТ"},{"$f":"$K$20","v":"дофинансиране - ОТЧЕТ"},{"$f":"$L$20","v":"ОТЧЕТ                                    ОБЩО"},{"$f":"(IF($E1292<>0,$M$2,IF($L1292<>0,$M$2,\"\")))","v":""}]
[null,null,null," 02 ¦",{"$f":"$E$21","v":"(1)"},{"$f":"$F$21","v":"(2)"},{"$f":"$G$21","v":"(3)"},{"$f":"$H$21","v":"(4)"},{"$f":"$I$21","v":"(5)"},{"$f":"$J$21","v":"(6)"},{"$f":"$K$21","v":"(7)"},{"$f":"$L$21","v":"(8)"},{"$f":"(IF($E1292<>0,$M$2,IF($L1292<>0,$M$2,\"\")))","v":""}]
[null,null,{"$f":"VLOOKUP(D1173,OP_LIST2,2,FALSE)","v":{"$error":"#N/A"}},null,null,null,null,null,null,null,null,null,{"$f":"(IF($E1292<>0,$M$2,IF($L1292<>0,$M$2,\"\")))","v":""}]
[null,null,{"$f":"VLOOKUP(D1175,EBK_DEIN2,2,FALSE)","v":2239},"<------          ДЕЙНОСТ    -  код  по  ЕБК",null,null,null,null,null,null,null,null,{"$f":"(IF($E1292<>0,$M$2,IF($L1292<>0,$M$2,\"\")))","v":""}]
[null,null,{"$f":"+C1174","v":2239},"239 Други дейности по вътрешната сигурност",null,null,null,null,null,null,null,null,{"$f":"(IF($E1292<>0,$M$2,IF($L1292<>0,$M$2,\"\")))","v":""}]
[null,null,null,"(наименование на дейността)",null,null,null,null,null,null,null,null,{"$f":"(IF($E1292<>0,$M$2,IF($L1292<>0,$M$2,\"\")))","v":""}]
[null,100,"Заплати и възнаграждения за персонала, нает по трудови и служебни правоотношения",null,{"$f":"SUM(E1178:E1179)","v":0},0,0,{"$f":"SUM(H1178:H1179)","v":0},0,0,0,0,{"$f":"(IF($E1177<>0,$M$2,IF($L1177<>0,$M$2,\"\")))","v":""}]
[null,null,101,"заплати и възнаграждения на персонала нает по трудови правоотношения",{"$f":"F1178+G1178+H1178","v":0},0,0,0,0,0,0,{"$f":"I1178+J1178+K1178","v":0},{"$f":"(IF($E1178<>0,$M$2,IF($L1178<>0,$M$2,\"\")))","v":""}]
[null,null,102,"заплати и възнаграждения на персонала нает по служебни правоотношения",{"$f":"F1179+G1179+H1179","v":0},0,0,0,0,0,0,{"$f":"I1179+J1179+K1179","v":0},""]
[null,200,"Други възнаграждения и плащания за персонала",null,{"$f":"SUM(E1181:E1185)","v":0},0,0,{"$f":"SUM(H1181:H1185)","v":0},0,0,0,0,""]
[null,null,201,"за нещатен персонал нает по трудови правоотношения ",{"$f":"F1181+G1181+H1181","v":0},0,0,0,0,0,0,{"$f":"I1181+J1181+K1181","v":0},""]
[null,null,202,"за персонала по извънтрудови правоотношения",{"$f":"F1182+G1182+H1182","v":0},0,0,0,0,0,0,{"$f":"I1182+J1182+K1182","v":0},""]
[null,null,205,"изплатени суми от СБКО за облекло и други на персонала, с характер на възнаграждение",{"$f":"F1183+G1183+H1183","v":0},0,0,0,0,0,0,{"$f":"I1183+J1183+K1183","v":0},""]
[null,null,208,"обезщетения за персонала, с характер на възнаграждение",{"$f":"F1184+G1184+H1184","v":0},0,0,0,0,0,0,{"$f":"I1184+J1184+K1184","v":0},""]
[null,null,209,"другиплащания и възнаграждения",{"$f":"F1185+G1185+H1185","v":0},0,0,0,0,0,0,{"$f":"I1185+J1185+K1185","v":0},""]
[null,500,"Задължителни осигурителни вноски от работодатели",null,{"$f":"SUM(E1187:E1193)","v":0},0,0,{"$f":"SUM(H1187:H1193)","v":0},0,0,0,0,""]
[null,null,551,"осигурителни вноски от работодатели за Държавното обществено осигуряване (ДОО)",{"$f":"F1187+G1187+H1187","v":0},0,0,0,0,0,0,{"$f":"I1187+J1187+K1187","v":0},""]
[null,null,552,"осигурителни вноски от работодатели за Учителския пенсионен фонд (УчПФ)",0,0,0,0,0,0,0,0,""]
[null,null,558,"вноски по чл. 4б и 4в от КСО за сметка на осигурителя",{"$f":"F1189+G1189+H1189","v":0},0,0,0,0,0,0,{"$f":"I1189+J1189+K1189","v":0},""]
[null,null,560,"здравно-осигурителни вноски от работодатели",0,0,0,0,0,0,0,0,""]
[null,null,580,"вноски за допълнително задължително осигуряване от работодатели",0,0,0,0,0,0,0,0,""]
[null,null,588,"коректив на вноски за ДЗПО за сумите по чл. 4б и 4в от КСО за сметка на осигурителя",{"$f":"F1192+G1192+H1192","v":0},0,0,0,0,0,0,{"$f":"I1192+J1192+K1192","v":0},""]
[null,null,590,"задължителни вноски за чуждестранни пенсионни фондове и  схеми за сметка на осигурителя",0,null,null,null,null,null,null,0,""]
[5,800,"Вноски за доброволно осигуряване  ",null,0,null,null,null,null,null,null,0,""]
[10,1000,"Издръжка",null,{"$f":"SUM(E1196:E1212)","v":0},0,0,{"$f":"SUM(H1196:H1212)","v":0},0,0,0,0,""]
[15,null,1011,"Храна",{"$f":"F1196+G1196+H1196","v":0},0,0,0,0,0,0,{"$f":"I1196+J1196+K1196","v":0},""]
[35,null,1012,"Медикаменти",0,0,0,0,0,0,0,0,""]
[40,null,1013,"Постелен инвентар и облекло",0,0,0,0,0,0,0,0,""]
[45,null,1014,"Учебни и научно-изследователски разходи и книги за библиотеките",0,0,0,0,0,0,0,0,""]
[50,null,1015,"материали",0,0,0,0,0,0,0,0,""]
[55,null,1016,"вода, горива и енергия",0,0,0,0,0,0,0,0,""]
[60,null,1020,"разходи за външни услуги",0,0,0,0,0,0,0,0,""]
[65,null,1030,"Текущ ремонт",0,0,0,0,0,0,0,0,""]
[70,null,1051,"командировки в страната",0,0,0,0,0,0,0,0,""]
[75,null,1052,"краткосрочни командировки в чужбина",0,0,0,0,0,0,0,0,""]
[80,null,1053,"дългосрочни командировки в чужбина",0,0,0,0,0,0,0,0,""]
[80,null,1062,"разходи за застраховки",0,0,0,0,0,0,0,0,""]
[85,null,1063,"такса ангажимент по заеми",0,0,0,0,0,0,0,0,""]
[90,null,1069,"други финансови услуги",0,0,0,0,0,0,0,0,""]
[90,null,1091,"други разходи за СБКО",0,0,0,0,0,0,0,0,""]
[115,null,1092,"разходи за договорни санкции и неустойки, съдебни обезщетения и разноски",0,0,0,0,0,0,0,0,""]
[125,null,1098,"други разходи, некласифицирани в другите параграфи и подпараграфи",0,0,0,0,0,0,0,0,""]
[130,1900,"Платени данъци, такси и административни санкции",null,{"$f":"SUM(E1214:E1216)","v":0},0,0,{"$f":"SUM(H1214:H1216)","v":0},0,0,0,0,""]
[135,null,1901,"платени държавни данъци, такси, наказателни лихви и административни санкции",{"$f":"F1214+G1214+H1214","v":0},0,0,0,0,0,0,{"$f":"I1214+J1214+K1214","v":0},""]
[140,null,1981,"платени общински данъци, такси, наказателни лихви и административни санкции",{"$f":"F1215+G1215+H1215","v":0},0,0,0,0,0,0,{"$f":"I1215+J1215+K1215","v":0},""]
[145,null,1991,"платени данъци, такси, наказателни лихви и административни санкции в чужбина",{"$f":"F1216+G1216+H1216","v":0},null,null,null,null,null,null,{"$f":"I1216+J1216+K1216","v":0},""]
[150,2100,"Разходи за лихви по емисии на държавни (общински) ценни книжа",null,{"$f":"SUM(E1218:E1222)","v":0},0,0,{"$f":"SUM(H1218:H1222)","v":0},0,0,0,0,""]
[155,null,2110,"лихви по държавни (общински) ценни книжа",{"$f":"F1218+G1218+H1218","v":0},null,null,null,null,null,null,{"$f":"I1218+J1218+K1218","v":0},""]
[160,null,2120,"отстъпки по държавни (общински) ценни книжа",{"$f":"F1219+G1219+H1219","v":0},null,null,null,null,null,null,{"$f":"I1219+J1219+K1219","v":0},""]
[165,null,2125,"лихви и отстъпки по целеви емисии на държавни ценни книжа",{"$f":"F1220+G1220+H1220","v":0},0,0,0,0,0,0,{"$f":"I1220+J1220+K1220","v":0},""]
[175,null,2140,"лихви по държавни ценни книжа, емитирани за структурната реформа ",{"$f":"F1221+G1221+H1221","v":0},0,0,0,0,0,0,{"$f":"I1221+J1221+K1221","v":0},""]
[180,null,2190,"премии над номинала от емисии на държавни (общински) ценни книжа (-)",{"$f":"F1222+G1222+H1222","v":0},null,null,null,null,null,null,{"$f":"I1222+J1222+K1222","v":0},""]
[185,2200,"Разходи за лихви по заеми от страната",null,{"$f":"SUM(E1224:E1225)","v":0},0,0,{"$f":"SUM(H1224:H1225)","v":0},0,0,0,0,""]
[190,null,2221,"Разходи за лихви по заеми от банки в страната",{"$f":"F1224+G1224+H1224","v":0},0,0,0,0,0,0,{"$f":"I1224+J1224+K1224","v":0},""]
[200,null,2224,"Разходи за лихви по други заеми от страната",0,0,0,0,0,0,0,0,""]
[200,2500,"Разходи за лихви по заеми от други държави",null,0,null,null,null,null,null,null,0,""]
[205,2600,"Разходи за лихви по заеми от международни организации и институции",null,0,null,null,null,null,null,null,0,""]
[210,2700,"Разходи за лихви по заеми от банки и други финансови институции от чужбина",null,0,null,null,null,null,null,null,0,""]
[215,2800,"Разходи за лихви и отстъпки по облигации, емитирани и търгувани на международните капиталови пазари",null,0,null,null,null,null,null,null,0,""]
[220,2900,"Други разходи за лихви",null,{"$f":"SUM(E1231:E1238)","v":0},{"$f":"SUM(F1231:F1238)","v":0},{"$f":"SUM(G1231:G1238)","v":0},0,0,0,0,0,""]
[225,null,2910,"Платени лихви по финансов лизинг и търговски кредит",{"$f":"F1231+G1231+H1231","v":0},0,null,null,0,null,null,{"$f":"I1231+J1231+K1231","v":0},""]
[230,null,2920,"Платени лихви по активирани гаранции по заеми от  банки в страната",{"$f":"F1232+G1232+H1232","v":0},null,null,null,null,null,null,{"$f":"I1232+J1232+K1232","v":0},""]
[245,null,2969,"Платени лихви по активирани гаранции по заеми от международни организации и институции",0,null,null,null,null,null,null,0,""]
[220,null,2970,"Платени лихви по активирани гаранции по заеми от банки и финансови институции от чужбина",0,null,null,null,null,null,null,0,""]
[225,null,2989,"Възстановени суми по платени лихви по активирани гаранции (-)",0,null,null,null,null,null,null,0,""]
[230,null,2990,"Платени лихви по активирани гаранции по заеми от  банки в страната",{"$f":"F1236+G1236+H1236","v":0},null,null,null,null,null,null,{"$f":"I1236+J1236+K1236","v":0},""]
[235,null,2991,"Други разходи за лихви към  местни лица",0,null,null,null,null,null,null,0,""]
[240,null,2992,"Други разходи за лихви към чуждестранни лица",0,null,null,null,null,null,null,0,""]
[245,3300,"Вноска в общия бюджет на Европейския съюз",null,{"$f":"SUM(E1240:E1244)","v":0},0,0,0,0,0,0,0,""]
[250,null,3301,"ресурс на база брутен национален доход",{"$f":"F1240+G1240+H1240","v":0},0,0,0,0,0,0,{"$f":"I1240+J1240+K1240","v":0},""]
[255,null,3302,"ресурс на база данък върху добавената стойност",0,0,0,0,0,0,0,0,""]
[265,null,3303,"корекция за Обединеното кралство",0,0,0,0,0,0,0,0,""]
[270,null,3304,"традиционни собствени ресурси - мита",0,0,0,0,0,0,0,0,""]
[290,null,3306,"участие във финансирането на брутното намаление за Нидерландия, Швеция, Дания и Австрия",0,0,0,0,0,0,0,0,""]
[320,3900,"Здравно-осигурителни плащания",null,0,0,0,0,0,0,0,0,{"$f":"(IF($E1245<>0,$M$2,IF($L1245<>0,$M$2,\"\")))","v":""}]
[330,4000,"Стипендии",null,0,0,0,0,0,0,0,0,""]
[350,4100,"Пенсии",null,0,0,0,0,0,0,0,0,""]
[355,4200,"Текущи трансфери, обезщетения и помощи за домакинствата",null,{"$f":"SUM(E1249:E1254)","v":0},0,0,{"$f":"SUM(H1249:H1254)","v":0},0,0,0,0,""]
[355,null,4201,"обезщетения и помощи по социалното осигуряване",{"$f":"F1249+G1249+H1249","v":0},null,null,null,null,null,null,{"$f":"I1249+J1249+K1249","v":0},""]
[375,null,4202,"обезщетения и помощи по социалното подпомагане",0,null,null,null,null,null,null,0,""]
[380,null,4214,"обезщетения и помощи по решение на общинския съвет",0,0,0,0,0,0,0,0,""]
[385,null,4217,"текущи трансфери за домакинства от средства на Европейския съюз",0,null,null,null,null,null,null,0,""]
[390,null,4218,"текущи трансфери за домакинства по други международни програми и споразумения",0,null,null,null,null,null,null,0,""]
[390,null,4219,"други текущи трансфери за домакинствата",0,0,0,0,0,0,0,0,""]
[395,4300,"Субсидии и други текущи трансфери за нефинансови предприятия",null,{"$f":"SUM(E1256:E1258)","v":0},0,0,{"$f":"SUM(H1256:H1258)","v":0},0,0,0,0,""]
[397,null,4301,"за текуща дейност",{"$f":"F1256+G1256+H1256","v":0},0,0,0,0,0,0,{"$f":"I1256+J1256+K1256","v":0},""]
[398,null,4302,"за осъществяване на болнична помощ ",0,null,null,null,null,null,null,0,""]
[399,null,4309,"други субсидии и плащания",0,null,null,null,null,null,null,0,""]
[400,4400,"Субсидии и други текущи трансфери за финансови институции",null,0,0,0,0,0,0,0,0,""]
[401,4500,"Субсидии и други текущи трансфери за юридически лица с нестопанска цел",null,0,0,0,0,0,0,0,0,""]
[404,4600,"Разходи за членски внос и участие в нетърговски организации и дейности",null,0,0,0,0,0,0,0,0,""]
[404,4900,"Предоставени текущи и капиталови трансфери за чужбина",null,{"$f":"+E1263+E1264","v":0},0,0,{"$f":"+H1263+H1264","v":0},0,0,0,0,""]
[440,null,4901,"текущи трансфери за чужбина",{"$f":"F1263+G1263+H1263","v":0},null,null,null,null,null,null,{"$f":"I1263+J1263+K1263","v":0},""]
[450,null,4902,"капиталови трансфери за чужбина",{"$f":"F1264+G1264+H1264","v":0},null,null,null,null,null,null,{"$f":"I1264+J1264+K1264","v":0},""]
[495,5100,"Основен ремонт на дълготрайни материални активи",null,{"$f":"F1265+G1265+H1265","v":0},0,0,0,0,0,0,{"$f":"I1265+J1265+K1265","v":0},""]
[500,5200,"Придобиване на дълготрайни материални активи",null,{"$f":"SUM(E1267:E1273)","v":0},0,0,{"$f":"SUM(H1267:H1273)","v":0},0,0,0,0,""]
[505,null,5201,"придобиване на компютри и хардуер",{"$f":"F1267+G1267+H1267","v":0},0,0,0,0,0,0,{"$f":"I1267+J1267+K1267","v":0},""]
[510,null,5202,"придобиване на сгради",0,0,0,0,0,0,0,0,""]
[515,null,5203,"придобиване на друго оборудване, машини и съоръжения",0,0,0,0,0,0,0,0,""]
[520,null,5204,"придобиване на транспортни средства",0,0,0,0,0,0,0,0,""]
[525,null,5205,"придобиване на стопански инвентар",0,0,0,0,0,0,0,0,""]
[635,null,5206,"изграждане на инфраструктурни обекти",0,0,0,0,0,0,0,0,""]
[640,null,5219,"придобиване на други ДМА",0,0,0,0,0,0,0,0,""]
[645,5300,"Придобиване на нематериални дълготрайни активи",null,{"$f":"SUM(E1275:E1276)","v":0},0,0,{"$f":"SUM(H1275:H1276)","v":0},0,0,0,0,""]
[650,null,5301,"придобиване на програмни продукти и лицензи за програмни продукти",{"$f":"F1275+G1275+H1275","v":0},0,0,0,0,0,0,{"$f":"I1275+J1275+K1275","v":0},""]
[655,null,5309,"придобиване на други нематериални дълготрайни активи",{"$f":"F1276+G1276+H1276","v":0},0,0,0,0,0,0,{"$f":"I1276+J1276+K1276","v":0},""]
[665,5400,"Придобиване на земя",null,{"$f":"F1277+G1277+H1277","v":0},null,0,0,0,null,0,{"$f":"I1277+J1277+K1277","v":0},""]
[675,5500,"Капиталови трансфери",null,{"$f":"SUM(E1279:E1282)","v":0},0,0,{"$f":"SUM(H1279:H1282)","v":0},0,0,0,0,""]
[685,null,5501,"капиталови трансфери за нефинансови предприятия",{"$f":"F1279+G1279+H1279","v":0},null,null,null,null,null,null,{"$f":"I1279+J1279+K1279","v":0},""]
[690,null,5502,"капиталови трансфери за финансови институции",{"$f":"F1280+G1280+H1280","v":0},null,null,null,null,null,null,{"$f":"I1280+J1280+K1280","v":0},""]
[695,null,5503,"капиталови трансфери за организации с нестопанска цел",{"$f":"F1281+G1281+H1281","v":0},null,null,null,null,null,null,{"$f":"I1281+J1281+K1281","v":0},""]
[700,null,5504,"капиталови трансфери за домакинствата",{"$f":"F1282+G1282+H1282","v":0},null,null,null,null,null,null,{"$f":"I1282+J1282+K1282","v":0},""]
[710,5700,"Прираст на държавния резерв и изкупуване на земеделска продукция (включва и § 40-71)",null,{"$f":"SUM(E1284:E1286)","v":0},0,0,0,0,0,0,{"$f":"SUM(L1284:L1286)","v":0},""]
[715,null,5701,"плащания за попълване на държавния резерв",{"$f":"F1284+G1284+H1284","v":0},0,0,0,0,0,0,{"$f":"I1284+J1284+K1284","v":0},""]
[720,null,5702,"плащания за изкупуване на земеделска продукция",{"$f":"F1285+G1285+H1285","v":0},0,0,0,0,0,0,{"$f":"I1285+J1285+K1285","v":0},""]
[725,null,4071,"постъпления от продажба на държавния резерв (-)",{"$f":"F1286+G1286+H1286","v":0},0,0,0,0,0,0,{"$f":"I1286+J1286+K1286","v":0},""]
[730,null,"Резерв за непредвидени и неотложни разходи",null,null,null,null,null,null,null,null,null,""]
[735,98,"Резерв за непредвидени и неотложни разходи",null,{"$f":"F1288+G1288+H1288","v":0},null,null,null,0,0,0,{"$f":"I1288+J1288+K1288","v":0},""]
[740,null,null,null,null,null,null,null,null,null,null,null,""]
[745,null,null,null,null,null,null,null,null,null,null,null,""]
[750,null,null,null,null,null,null,null,null,null,null,null,""]
[755,null,"99-99",{"$f":"+B1292","v":0},{"$f":"SUM(E1177,E1180,E1186,E1194,E1195,E1213,E1217,E1223,E1226,E1227,E1228,E1229,E1230,E1239,E1245,E1246,E1247,E1248,E1255,E1259,E1260,E1261,E1262,E1265,E1266,E1274,E1277,E1278,E1283)+E1288","v":0},0,0,0,0,0,0,0,{"$f":"(IF($E1292<>0,$M$2,IF($L1292<>0,$M$2,\"\")))","v":""},{"$f":"LEFT(C1174,1)","v":"2"}]
[760,"край на дейност",null,null,null,null,null,null,null,null,null,null,{"$f":"(IF($E1292<>0,$M$2,IF($L1292<>0,$M$2,\"\")))","v":""}]
[765,null,null,null,null,null,null,null,null,null,null,null,{"$f":"(IF($E1292<>0,$M$2,IF($L1292<>0,$M$2,\"\")))","v":""}]
[775,null,null,null,null,null,null,null,null,null,null,null,{"$f":"(IF(E1290<>0,$G$2,IF(L1290<>0,$G$2,\"\")))","v":""}]
[780,null,null,null,null,null,null,null,null,null,null,null,{"$f":"(IF($E1429<>0,$M$2,IF($L1429<>0,$M$2,\"\")))","v":""}]
[785,null,null,null,null,null,null,null,null,null,null,null,{"$f":"(IF($E1429<>0,$M$2,IF($L1429<>0,$M$2,\"\")))","v":""}]
[790,{"$f":"$B$7","v":"ОТЧЕТНИ ДАННИ ПО ЕБК ЗА ИЗПЪЛНЕНИЕТО НА БЮДЖЕТА"},null,null,null,null,null,null,null,null,null,null,{"$f":"(IF($E1429<>0,$M$2,IF($L1429<>0,$M$2,\"\")))","v":""}]
[795,null,null,null,"за периода от ","до",null,"        II.1. РАЗХОДИ ПО ДЕЙНОСТИ",null,null,null,null,{"$f":"(IF($E1429<>0,$M$2,IF($L1429<>0,$M$2,\"\")))","v":""}]
[805,{"$f":"$B$9","v":"ОУ Г.С.РАКОВСКИ-С.ГЪЛЪБЕЦ"},null,null,{"$f":"$E$9","v":"2020-01-01"},{"$f":"$F$9","v":"2020-03-31"},null,null,null,null,null,null,{"$f":"(IF($E1429<>0,$M$2,IF($L1429<>0,$M$2,\"\")))","v":""}]
[810,{"$f":"$B$10","v":"(наименование на разпоредителя с бюджет)"},null,null,null,null,null,null,null,null,null,null,{"$f":"(IF($E1429<>0,$M$2,IF($L1429<>0,$M$2,\"\")))","v":""}]
[815,null,null,null,null,null,null,null,null,null,null,null,{"$f":"(IF($E1429<>0,$M$2,IF($L1429<>0,$M$2,\"\")))","v":""}]
[525,{"$f":"$B$12","v":"Поморие"},null,null,"       код по ЕБК:",{"$f":"$F$12","v":"5207"},null,null,null,null,null,null,{"$f":"(IF($E1429<>0,$M$2,IF($L1429<>0,$M$2,\"\")))","v":""}]
[820,{"$f":"$B$13","v":"(наименование на първостепенния разпоредител с бюджет)"},null,null,null,null,null,null,null,null,null,null,{"$f":"(IF($E1429<>0,$M$2,IF($L1429<>0,$M$2,\"\")))","v":""}]
[821,null,null,"ФИНАНСОВО-ПРАВНА ФОРМА",{"$f":"$E$15","v":0},{"$f":"$F$15","v":"БЮДЖЕТ"},null,null,null,null,null,null,{"$f":"(IF($E1429<>0,$M$2,IF($L1429<>0,$M$2,\"\")))","v":""}]
[822,null,null,null,null,null,null,null,null,null,null,"(в лева)",{"$f":"(IF($E1429<>0,$M$2,IF($L1429<>0,$M$2,\"\")))","v":""}]
[823,null,null,"II.1. РАЗХОДИ ПО ДЕЙНОСТИ","Уточнен план 2020",null,null,null,"Отчет 2020",null,null,null,{"$f":"(IF($E1429<>0,$M$2,IF($L1429<>0,$M$2,\"\")))","v":""}]
[825,"§§","под-§§","НАИМЕНОВАНИЯ НА ПАРАГРАФИТЕ И ПОДПАРАГРАФИТЕ",{"$f":"$E$20","v":"Уточнен план                Общо"},{"$f":"$F$20","v":"държавни дейности"},{"$f":"$G$20","v":"местни дейности"},{"$f":"$H$20","v":"дофинансиране"},{"$f":"$I$20","v":"държавни дейности -ОТЧЕТ"},{"$f":"$J$20","v":"местни дейности - ОТЧЕТ"},{"$f":"$K$20","v":"дофинансиране - ОТЧЕТ"},{"$f":"$L$20","v":"ОТЧЕТ                                    ОБЩО"},{"$f":"(IF($E1429<>0,$M$2,IF($L1429<>0,$M$2,\"\")))","v":""}]
[null,null,null," 02 ¦",{"$f":"$E$21","v":"(1)"},{"$f":"$F$21","v":"(2)"},{"$f":"$G$21","v":"(3)"},{"$f":"$H$21","v":"(4)"},{"$f":"$I$21","v":"(5)"},{"$f":"$J$21","v":"(6)"},{"$f":"$K$21","v":"(7)"},{"$f":"$L$21","v":"(8)"},{"$f":"(IF($E1429<>0,$M$2,IF($L1429<>0,$M$2,\"\")))","v":""}]
[null,null,{"$f":"VLOOKUP(D1310,OP_LIST2,2,FALSE)","v":{"$error":"#N/A"}},null,null,null,null,null,null,null,null,null,{"$f":"(IF($E1429<>0,$M$2,IF($L1429<>0,$M$2,\"\")))","v":""}]
[null,null,{"$f":"VLOOKUP(D1312,EBK_DEIN2,2,FALSE)","v":2282},"<------          ДЕЙНОСТ    -  код  по  ЕБК",null,null,null,null,null,null,null,null,{"$f":"(IF($E1429<>0,$M$2,IF($L1429<>0,$M$2,\"\")))","v":""}]
[null,null,{"$f":"+C1311","v":2282},"282 Отбранително-мобилизационна подготовка, поддържане на запаси и мощности",null,null,null,null,null,null,null,null,{"$f":"(IF($E1429<>0,$M$2,IF($L1429<>0,$M$2,\"\")))","v":""}]
[null,null,null,"(наименование на дейността)",null,null,null,null,null,null,null,null,{"$f":"(IF($E1429<>0,$M$2,IF($L1429<>0,$M$2,\"\")))","v":""}]
[null,100,"Заплати и възнаграждения за персонала, нает по трудови и служебни правоотношения",null,{"$f":"SUM(E1315:E1316)","v":0},0,0,{"$f":"SUM(H1315:H1316)","v":0},0,0,0,0,{"$f":"(IF($E1314<>0,$M$2,IF($L1314<>0,$M$2,\"\")))","v":""}]
[null,null,101,"заплати и възнаграждения на персонала нает по трудови правоотношения",{"$f":"F1315+G1315+H1315","v":0},0,0,0,0,0,0,{"$f":"I1315+J1315+K1315","v":0},{"$f":"(IF($E1315<>0,$M$2,IF($L1315<>0,$M$2,\"\")))","v":""}]
[null,null,102,"заплати и възнаграждения на персонала нает по служебни правоотношения",{"$f":"F1316+G1316+H1316","v":0},0,0,0,0,0,0,{"$f":"I1316+J1316+K1316","v":0},""]
[null,200,"Други възнаграждения и плащания за персонала",null,{"$f":"SUM(E1318:E1322)","v":0},0,0,{"$f":"SUM(H1318:H1322)","v":0},0,0,0,0,""]
[null,null,201,"за нещатен персонал нает по трудови правоотношения ",{"$f":"F1318+G1318+H1318","v":0},0,0,0,0,0,0,{"$f":"I1318+J1318+K1318","v":0},""]
[null,null,202,"за персонала по извънтрудови правоотношения",{"$f":"F1319+G1319+H1319","v":0},0,0,0,0,0,0,{"$f":"I1319+J1319+K1319","v":0},""]
[null,null,205,"изплатени суми от СБКО за облекло и други на персонала, с характер на възнаграждение",{"$f":"F1320+G1320+H1320","v":0},0,0,0,0,0,0,{"$f":"I1320+J1320+K1320","v":0},""]
[null,null,208,"обезщетения за персонала, с характер на възнаграждение",{"$f":"F1321+G1321+H1321","v":0},0,0,0,0,0,0,{"$f":"I1321+J1321+K1321","v":0},""]
[null,null,209,"другиплащания и възнаграждения",{"$f":"F1322+G1322+H1322","v":0},0,0,0,0,0,0,{"$f":"I1322+J1322+K1322","v":0},""]
[null,500,"Задължителни осигурителни вноски от работодатели",null,{"$f":"SUM(E1324:E1330)","v":0},0,0,{"$f":"SUM(H1324:H1330)","v":0},0,0,0,0,""]
[null,null,551,"осигурителни вноски от работодатели за Държавното обществено осигуряване (ДОО)",{"$f":"F1324+G1324+H1324","v":0},0,0,0,0,0,0,{"$f":"I1324+J1324+K1324","v":0},""]
[null,null,552,"осигурителни вноски от работодатели за Учителския пенсионен фонд (УчПФ)",0,0,0,0,0,0,0,0,""]
[null,null,558,"вноски по чл. 4б и 4в от КСО за сметка на осигурителя",{"$f":"F1326+G1326+H1326","v":0},0,0,0,0,0,0,{"$f":"I1326+J1326+K1326","v":0},""]
[null,null,560,"здравно-осигурителни вноски от работодатели",0,0,0,0,0,0,0,0,""]
[null,null,580,"вноски за допълнително задължително осигуряване от работодатели",0,0,0,0,0,0,0,0,""]
[null,null,588,"коректив на вноски за ДЗПО за сумите по чл. 4б и 4в от КСО за сметка на осигурителя",{"$f":"F1329+G1329+H1329","v":0},0,0,0,0,0,0,{"$f":"I1329+J1329+K1329","v":0},""]
[null,null,590,"задължителни вноски за чуждестранни пенсионни фондове и  схеми за сметка на осигурителя",0,null,null,null,null,null,null,0,""]
[5,800,"Вноски за доброволно осигуряване  ",null,0,null,null,null,null,null,null,0,""]
[10,1000,"Издръжка",null,{"$f":"SUM(E1333:E1349)","v":0},0,0,{"$f":"SUM(H1333:H1349)","v":0},0,0,0,0,""]
[15,null,1011,"Храна",{"$f":"F1333+G1333+H1333","v":0},0,0,0,0,0,0,{"$f":"I1333+J1333+K1333","v":0},""]
[35,null,1012,"Медикаменти",0,0,0,0,0,0,0,0,""]
[40,null,1013,"Постелен инвентар и облекло",0,0,0,0,0,0,0,0,""]
[45,null,1014,"Учебни и научно-изследователски разходи и книги за библиотеките",0,0,0,0,0,0,0,0,""]
[50,null,1015,"материали",0,0,0,0,0,0,0,0,""]
[55,null,1016,"вода, горива и енергия",0,0,0,0,0,0,0,0,""]
[60,null,1020,"разходи за външни услуги",0,0,0,0,0,0,0,0,""]
[65,null,1030,"Текущ ремонт",0,0,0,0,0,0,0,0,""]
[70,null,1051,"командировки в страната",0,0,0,0,0,0,0,0,""]
[75,null,1052,"краткосрочни командировки в чужбина",0,0,0,0,0,0,0,0,""]
[80,null,1053,"дългосрочни командировки в чужбина",0,0,0,0,0,0,0,0,""]
[80,null,1062,"разходи за застраховки",0,0,0,0,0,0,0,0,""]
[85,null,1063,"такса ангажимент по заеми",0,0,0,0,0,0,0,0,""]
[90,null,1069,"други финансови услуги",0,0,0,0,0,0,0,0,""]
[90,null,1091,"други разходи за СБКО",0,0,0,0,0,0,0,0,""]
[115,null,1092,"разходи за договорни санкции и неустойки, съдебни обезщетения и разноски",0,0,0,0,0,0,0,0,""]
[125,null,1098,"други разходи, некласифицирани в другите параграфи и подпараграфи",0,0,0,0,0,0,0,0,""]
[130,1900,"Платени данъци, такси и административни санкции",null,{"$f":"SUM(E1351:E1353)","v":0},0,0,{"$f":"SUM(H1351:H1353)","v":0},0,0,0,0,""]
[135,null,1901,"платени държавни данъци, такси, наказателни лихви и административни санкции",{"$f":"F1351+G1351+H1351","v":0},0,0,0,0,0,0,{"$f":"I1351+J1351+K1351","v":0},""]
[140,null,1981,"платени общински данъци, такси, наказателни лихви и административни санкции",{"$f":"F1352+G1352+H1352","v":0},0,0,0,0,0,0,{"$f":"I1352+J1352+K1352","v":0},""]
[145,null,1991,"платени данъци, такси, наказателни лихви и административни санкции в чужбина",{"$f":"F1353+G1353+H1353","v":0},null,null,null,null,null,null,{"$f":"I1353+J1353+K1353","v":0},""]
[150,2100,"Разходи за лихви по емисии на държавни (общински) ценни книжа",null,{"$f":"SUM(E1355:E1359)","v":0},0,0,{"$f":"SUM(H1355:H1359)","v":0},0,0,0,0,""]
[155,null,2110,"лихви по държавни (общински) ценни книжа",{"$f":"F1355+G1355+H1355","v":0},null,null,null,null,null,null,{"$f":"I1355+J1355+K1355","v":0},""]
[160,null,2120,"отстъпки по държавни (общински) ценни книжа",{"$f":"F1356+G1356+H1356","v":0},null,null,null,null,null,null,{"$f":"I1356+J1356+K1356","v":0},""]
[165,null,2125,"лихви и отстъпки по целеви емисии на държавни ценни книжа",{"$f":"F1357+G1357+H1357","v":0},0,0,0,0,0,0,{"$f":"I1357+J1357+K1357","v":0},""]
[175,null,2140,"лихви по държавни ценни книжа, емитирани за структурната реформа ",{"$f":"F1358+G1358+H1358","v":0},0,0,0,0,0,0,{"$f":"I1358+J1358+K1358","v":0},""]
[180,null,2190,"премии над номинала от емисии на държавни (общински) ценни книжа (-)",{"$f":"F1359+G1359+H1359","v":0},null,null,null,null,null,null,{"$f":"I1359+J1359+K1359","v":0},""]
[185,2200,"Разходи за лихви по заеми от страната",null,{"$f":"SUM(E1361:E1362)","v":0},0,0,{"$f":"SUM(H1361:H1362)","v":0},0,0,0,0,""]
[190,null,2221,"Разходи за лихви по заеми от банки в страната",{"$f":"F1361+G1361+H1361","v":0},0,0,0,0,0,0,{"$f":"I1361+J1361+K1361","v":0},""]
[200,null,2224,"Разходи за лихви по други заеми от страната",0,0,0,0,0,0,0,0,""]
[200,2500,"Разходи за лихви по заеми от други държави",null,0,null,null,null,null,null,null,0,""]
[205,2600,"Разходи за лихви по заеми от международни организации и институции",null,0,null,null,null,null,null,null,0,""]
[210,2700,"Разходи за лихви по заеми от банки и други финансови институции от чужбина",null,0,null,null,null,null,null,null,0,""]
[215,2800,"Разходи за лихви и отстъпки по облигации, емитирани и търгувани на международните капиталови пазари",null,0,null,null,null,null,null,null,0,""]
[220,2900,"Други разходи за лихви",null,{"$f":"SUM(E1368:E1375)","v":0},{"$f":"SUM(F1368:F1375)","v":0},{"$f":"SUM(G1368:G1375)","v":0},0,0,0,0,0,""]
[225,null,2910,"Платени лихви по финансов лизинг и търговски кредит",{"$f":"F1368+G1368+H1368","v":0},0,null,null,0,null,null,{"$f":"I1368+J1368+K1368","v":0},""]
[230,null,2920,"Платени лихви по активирани гаранции по заеми от  банки в страната",{"$f":"F1369+G1369+H1369","v":0},null,null,null,null,null,null,{"$f":"I1369+J1369+K1369","v":0},""]
[245,null,2969,"Платени лихви по активирани гаранции по заеми от международни организации и институции",0,null,null,null,null,null,null,0,""]
[220,null,2970,"Платени лихви по активирани гаранции по заеми от банки и финансови институции от чужбина",0,null,null,null,null,null,null,0,""]
[225,null,2989,"Възстановени суми по платени лихви по активирани гаранции (-)",0,null,null,null,null,null,null,0,""]
[230,null,2990,"Платени лихви по активирани гаранции по заеми от  банки в страната",{"$f":"F1373+G1373+H1373","v":0},null,null,null,null,null,null,{"$f":"I1373+J1373+K1373","v":0},""]
[235,null,2991,"Други разходи за лихви към  местни лица",0,null,null,null,null,null,null,0,""]
[240,null,2992,"Други разходи за лихви към чуждестранни лица",0,null,null,null,null,null,null,0,""]
[245,3300,"Вноска в общия бюджет на Европейския съюз",null,{"$f":"SUM(E1377:E1381)","v":0},0,0,0,0,0,0,0,""]
[250,null,3301,"ресурс на база брутен национален доход",{"$f":"F1377+G1377+H1377","v":0},0,0,0,0,0,0,{"$f":"I1377+J1377+K1377","v":0},""]
[255,null,3302,"ресурс на база данък върху добавената стойност",0,0,0,0,0,0,0,0,""]
[265,null,3303,"корекция за Обединеното кралство",0,0,0,0,0,0,0,0,""]
[270,null,3304,"традиционни собствени ресурси - мита",0,0,0,0,0,0,0,0,""]
[290,null,3306,"участие във финансирането на брутното намаление за Нидерландия, Швеция, Дания и Австрия",0,0,0,0,0,0,0,0,""]
[320,3900,"Здравно-осигурителни плащания",null,0,0,0,0,0,0,0,0,{"$f":"(IF($E1382<>0,$M$2,IF($L1382<>0,$M$2,\"\")))","v":""}]
[330,4000,"Стипендии",null,0,0,0,0,0,0,0,0,""]
[350,4100,"Пенсии",null,0,0,0,0,0,0,0,0,""]
[355,4200,"Текущи трансфери, обезщетения и помощи за домакинствата",null,{"$f":"SUM(E1386:E1391)","v":0},0,0,{"$f":"SUM(H1386:H1391)","v":0},0,0,0,0,""]
[355,null,4201,"обезщетения и помощи по социалното осигуряване",{"$f":"F1386+G1386+H1386","v":0},null,null,null,null,null,null,{"$f":"I1386+J1386+K1386","v":0},""]
[375,null,4202,"обезщетения и помощи по социалното подпомагане",0,null,null,null,null,null,null,0,""]
[380,null,4214,"обезщетения и помощи по решение на общинския съвет",0,0,0,0,0,0,0,0,""]
[385,null,4217,"текущи трансфери за домакинства от средства на Европейския съюз",0,null,null,null,null,null,null,0,""]
[390,null,4218,"текущи трансфери за домакинства по други международни програми и споразумения",0,null,null,null,null,null,null,0,""]
[390,null,4219,"други текущи трансфери за домакинствата",0,0,0,0,0,0,0,0,""]
[395,4300,"Субсидии и други текущи трансфери за нефинансови предприятия",null,{"$f":"SUM(E1393:E1395)","v":0},0,0,{"$f":"SUM(H1393:H1395)","v":0},0,0,0,0,""]
[397,null,4301,"за текуща дейност",{"$f":"F1393+G1393+H1393","v":0},0,0,0,0,0,0,{"$f":"I1393+J1393+K1393","v":0},""]
[398,null,4302,"за осъществяване на болнична помощ ",0,null,null,null,null,null,null,0,""]
[399,null,4309,"други субсидии и плащания",0,null,null,null,null,null,null,0,""]
[400,4400,"Субсидии и други текущи трансфери за финансови институции",null,0,0,0,0,0,0,0,0,""]
[401,4500,"Субсидии и други текущи трансфери за юридически лица с нестопанска цел",null,0,0,0,0,0,0,0,0,""]
[404,4600,"Разходи за членски внос и участие в нетърговски организации и дейности",null,0,0,0,0,0,0,0,0,""]
[404,4900,"Предоставени текущи и капиталови трансфери за чужбина",null,{"$f":"+E1400+E1401","v":0},0,0,{"$f":"+H1400+H1401","v":0},0,0,0,0,""]
[440,null,4901,"текущи трансфери за чужбина",{"$f":"F1400+G1400+H1400","v":0},null,null,null,null,null,null,{"$f":"I1400+J1400+K1400","v":0},""]
[450,null,4902,"капиталови трансфери за чужбина",{"$f":"F1401+G1401+H1401","v":0},null,null,null,null,null,null,{"$f":"I1401+J1401+K1401","v":0},""]
[495,5100,"Основен ремонт на дълготрайни материални активи",null,{"$f":"F1402+G1402+H1402","v":0},0,0,0,0,0,0,{"$f":"I1402+J1402+K1402","v":0},""]
[500,5200,"Придобиване на дълготрайни материални активи",null,{"$f":"SUM(E1404:E1410)","v":0},0,0,{"$f":"SUM(H1404:H1410)","v":0},0,0,0,0,""]
[505,null,5201,"придобиване на компютри и хардуер",{"$f":"F1404+G1404+H1404","v":0},0,0,0,0,0,0,{"$f":"I1404+J1404+K1404","v":0},""]
[510,null,5202,"придобиване на сгради",0,0,0,0,0,0,0,0,""]
[515,null,5203,"придобиване на друго оборудване, машини и съоръжения",0,0,0,0,0,0,0,0,""]
[520,null,5204,"придобиване на транспортни средства",0,0,0,0,0,0,0,0,""]
[525,null,5205,"придобиване на стопански инвентар",0,0,0,0,0,0,0,0,""]
[635,null,5206,"изграждане на инфраструктурни обекти",0,0,0,0,0,0,0,0,""]
[640,null,5219,"придобиване на други ДМА",0,0,0,0,0,0,0,0,""]
[645,5300,"Придобиване на нематериални дълготрайни активи",null,{"$f":"SUM(E1412:E1413)","v":0},0,0,{"$f":"SUM(H1412:H1413)","v":0},0,0,0,0,""]
[650,null,5301,"придобиване на програмни продукти и лицензи за програмни продукти",{"$f":"F1412+G1412+H1412","v":0},0,0,0,0,0,0,{"$f":"I1412+J1412+K1412","v":0},""]
[655,null,5309,"придобиване на други нематериални дълготрайни активи",{"$f":"F1413+G1413+H1413","v":0},0,0,0,0,0,0,{"$f":"I1413+J1413+K1413","v":0},""]
[665,5400,"Придобиване на земя",null,{"$f":"F1414+G1414+H1414","v":0},null,0,0,0,null,0,{"$f":"I1414+J1414+K1414","v":0},""]
[675,5500,"Капиталови трансфери",null,{"$f":"SUM(E1416:E1419)","v":0},0,0,{"$f":"SUM(H1416:H1419)","v":0},0,0,0,0,""]
[685,null,5501,"капиталови трансфери за нефинансови предприятия",{"$f":"F1416+G1416+H1416","v":0},null,null,null,null,null,null,{"$f":"I1416+J1416+K1416","v":0},""]
[690,null,5502,"капиталови трансфери за финансови институции",{"$f":"F1417+G1417+H1417","v":0},null,null,null,null,null,null,{"$f":"I1417+J1417+K1417","v":0},""]
[695,null,5503,"капиталови трансфери за организации с нестопанска цел",{"$f":"F1418+G1418+H1418","v":0},null,null,null,null,null,null,{"$f":"I1418+J1418+K1418","v":0},""]
[700,null,5504,"капиталови трансфери за домакинствата",{"$f":"F1419+G1419+H1419","v":0},null,null,null,null,null,null,{"$f":"I1419+J1419+K1419","v":0},""]
[710,5700,"Прираст на държавния резерв и изкупуване на земеделска продукция (включва и § 40-71)",null,{"$f":"SUM(E1421:E1423)","v":0},0,0,0,0,0,0,{"$f":"SUM(L1421:L1423)","v":0},""]
[715,null,5701,"плащания за попълване на държавния резерв",{"$f":"F1421+G1421+H1421","v":0},0,0,0,0,0,0,{"$f":"I1421+J1421+K1421","v":0},""]
[720,null,5702,"плащания за изкупуване на земеделска продукция",{"$f":"F1422+G1422+H1422","v":0},0,0,0,0,0,0,{"$f":"I1422+J1422+K1422","v":0},""]
[725,null,4071,"постъпления от продажба на държавния резерв (-)",{"$f":"F1423+G1423+H1423","v":0},0,0,0,0,0,0,{"$f":"I1423+J1423+K1423","v":0},""]
[730,null,"Резерв за непредвидени и неотложни разходи",null,null,null,null,null,null,null,null,null,""]
[735,98,"Резерв за непредвидени и неотложни разходи",null,{"$f":"F1425+G1425+H1425","v":0},null,null,null,0,0,0,{"$f":"I1425+J1425+K1425","v":0},""]
[740,null,null,null,null,null,null,null,null,null,null,null,""]
[745,null,null,null,null,null,null,null,null,null,null,null,""]
[750,null,null,null,null,null,null,null,null,null,null,null,""]
[755,null,"99-99",{"$f":"+B1429","v":0},{"$f":"SUM(E1314,E1317,E1323,E1331,E1332,E1350,E1354,E1360,E1363,E1364,E1365,E1366,E1367,E1376,E1382,E1383,E1384,E1385,E1392,E1396,E1397,E1398,E1399,E1402,E1403,E1411,E1414,E1415,E1420)+E1425","v":0},0,0,0,0,0,0,0,{"$f":"(IF($E1429<>0,$M$2,IF($L1429<>0,$M$2,\"\")))","v":""},{"$f":"LEFT(C1311,1)","v":"2"}]
[760,"край на дейност",null,null,null,null,null,null,null,null,null,null,{"$f":"(IF($E1429<>0,$M$2,IF($L1429<>0,$M$2,\"\")))","v":""}]
[765,null,null,null,null,null,null,null,null,null,null,null,{"$f":"(IF($E1429<>0,$M$2,IF($L1429<>0,$M$2,\"\")))","v":""}]
[775,null,null,null,null,null,null,null,null,null,null,null,{"$f":"(IF(E1427<>0,$G$2,IF(L1427<>0,$G$2,\"\")))","v":""}]
[780,null,null,null,null,null,null,null,null,null,null,null,{"$f":"(IF($E1566<>0,$M$2,IF($L1566<>0,$M$2,\"\")))","v":""}]
[785,null,null,null,null,null,null,null,null,null,null,null,{"$f":"(IF($E1566<>0,$M$2,IF($L1566<>0,$M$2,\"\")))","v":""}]
[790,{"$f":"$B$7","v":"ОТЧЕТНИ ДАННИ ПО ЕБК ЗА ИЗПЪЛНЕНИЕТО НА БЮДЖЕТА"},null,null,null,null,null,null,null,null,null,null,{"$f":"(IF($E1566<>0,$M$2,IF($L1566<>0,$M$2,\"\")))","v":""}]
[795,null,null,null,"за периода от ","до",null,"        II.1. РАЗХОДИ ПО ДЕЙНОСТИ",null,null,null,null,{"$f":"(IF($E1566<>0,$M$2,IF($L1566<>0,$M$2,\"\")))","v":""}]
[805,{"$f":"$B$9","v":"ОУ Г.С.РАКОВСКИ-С.ГЪЛЪБЕЦ"},null,null,{"$f":"$E$9","v":"2020-01-01"},{"$f":"$F$9","v":"2020-03-31"},null,null,null,null,null,null,{"$f":"(IF($E1566<>0,$M$2,IF($L1566<>0,$M$2,\"\")))","v":""}]
[810,{"$f":"$B$10","v":"(наименование на разпоредителя с бюджет)"},null,null,null,null,null,null,null,null,null,null,{"$f":"(IF($E1566<>0,$M$2,IF($L1566<>0,$M$2,\"\")))","v":""}]
[815,null,null,null,null,null,null,null,null,null,null,null,{"$f":"(IF($E1566<>0,$M$2,IF($L1566<>0,$M$2,\"\")))","v":""}]
[525,{"$f":"$B$12","v":"Поморие"},null,null,"       код по ЕБК:",{"$f":"$F$12","v":"5207"},null,null,null,null,null,null,{"$f":"(IF($E1566<>0,$M$2,IF($L1566<>0,$M$2,\"\")))","v":""}]
[820,{"$f":"$B$13","v":"(наименование на първостепенния разпоредител с бюджет)"},null,null,null,null,null,null,null,null,null,null,{"$f":"(IF($E1566<>0,$M$2,IF($L1566<>0,$M$2,\"\")))","v":""}]
[821,null,null,"ФИНАНСОВО-ПРАВНА ФОРМА",{"$f":"$E$15","v":0},{"$f":"$F$15","v":"БЮДЖЕТ"},null,null,null,null,null,null,{"$f":"(IF($E1566<>0,$M$2,IF($L1566<>0,$M$2,\"\")))","v":""}]
[822,null,null,null,null,null,null,null,null,null,null,"(в лева)",{"$f":"(IF($E1566<>0,$M$2,IF($L1566<>0,$M$2,\"\")))","v":""}]
[823,null,null,"II.1. РАЗХОДИ ПО ДЕЙНОСТИ","Уточнен план 2020",null,null,null,"Отчет 2020",null,null,null,{"$f":"(IF($E1566<>0,$M$2,IF($L1566<>0,$M$2,\"\")))","v":""}]
[825,"§§","под-§§","НАИМЕНОВАНИЯ НА ПАРАГРАФИТЕ И ПОДПАРАГРАФИТЕ",{"$f":"$E$20","v":"Уточнен план                Общо"},{"$f":"$F$20","v":"държавни дейности"},{"$f":"$G$20","v":"местни дейности"},{"$f":"$H$20","v":"дофинансиране"},{"$f":"$I$20","v":"държавни дейности -ОТЧЕТ"},{"$f":"$J$20","v":"местни дейности - ОТЧЕТ"},{"$f":"$K$20","v":"дофинансиране - ОТЧЕТ"},{"$f":"$L$20","v":"ОТЧЕТ                                    ОБЩО"},{"$f":"(IF($E1566<>0,$M$2,IF($L1566<>0,$M$2,\"\")))","v":""}]
[null,null,null," 02 ¦",{"$f":"$E$21","v":"(1)"},{"$f":"$F$21","v":"(2)"},{"$f":"$G$21","v":"(3)"},{"$f":"$H$21","v":"(4)"},{"$f":"$I$21","v":"(5)"},{"$f":"$J$21","v":"(6)"},{"$f":"$K$21","v":"(7)"},{"$f":"$L$21","v":"(8)"},{"$f":"(IF($E1566<>0,$M$2,IF($L1566<>0,$M$2,\"\")))","v":""}]
[null,null,{"$f":"VLOOKUP(D1447,OP_LIST2,2,FALSE)","v":{"$error":"#N/A"}},null,null,null,null,null,null,null,null,null,{"$f":"(IF($E1566<>0,$M$2,IF($L1566<>0,$M$2,\"\")))","v":""}]
[null,null,{"$f":"VLOOKUP(D1449,EBK_DEIN2,2,FALSE)","v":2283},"<------          ДЕЙНОСТ    -  код  по  ЕБК",null,null,null,null,null,null,null,null,{"$f":"(IF($E1566<>0,$M$2,IF($L1566<>0,$M$2,\"\")))","v":""}]
[null,null,{"$f":"+C1448","v":2283},"283 Превантивна дейност за намаляване на вредните последствия от бедствия и аварии",null,null,null,null,null,null,null,null,{"$f":"(IF($E1566<>0,$M$2,IF($L1566<>0,$M$2,\"\")))","v":""}]
[null,null,null,"(наименование на дейността)",null,null,null,null,null,null,null,null,{"$f":"(IF($E1566<>0,$M$2,IF($L1566<>0,$M$2,\"\")))","v":""}]
[null,100,"Заплати и възнаграждения за персонала, нает по трудови и служебни правоотношения",null,{"$f":"SUM(E1452:E1453)","v":0},0,0,{"$f":"SUM(H1452:H1453)","v":0},0,0,0,0,{"$f":"(IF($E1451<>0,$M$2,IF($L1451<>0,$M$2,\"\")))","v":""}]
[null,null,101,"заплати и възнаграждения на персонала нает по трудови правоотношения",{"$f":"F1452+G1452+H1452","v":0},0,0,0,0,0,0,{"$f":"I1452+J1452+K1452","v":0},{"$f":"(IF($E1452<>0,$M$2,IF($L1452<>0,$M$2,\"\")))","v":""}]
[null,null,102,"заплати и възнаграждения на персонала нает по служебни правоотношения",{"$f":"F1453+G1453+H1453","v":0},0,0,0,0,0,0,{"$f":"I1453+J1453+K1453","v":0},""]
[null,200,"Други възнаграждения и плащания за персонала",null,{"$f":"SUM(E1455:E1459)","v":0},0,0,{"$f":"SUM(H1455:H1459)","v":0},0,0,0,0,""]
[null,null,201,"за нещатен персонал нает по трудови правоотношения ",{"$f":"F1455+G1455+H1455","v":0},0,0,0,0,0,0,{"$f":"I1455+J1455+K1455","v":0},""]
[null,null,202,"за персонала по извънтрудови правоотношения",{"$f":"F1456+G1456+H1456","v":0},0,0,0,0,0,0,{"$f":"I1456+J1456+K1456","v":0},""]
[null,null,205,"изплатени суми от СБКО за облекло и други на персонала, с характер на възнаграждение",{"$f":"F1457+G1457+H1457","v":0},0,0,0,0,0,0,{"$f":"I1457+J1457+K1457","v":0},""]
[null,null,208,"обезщетения за персонала, с характер на възнаграждение",{"$f":"F1458+G1458+H1458","v":0},0,0,0,0,0,0,{"$f":"I1458+J1458+K1458","v":0},""]
[null,null,209,"другиплащания и възнаграждения",{"$f":"F1459+G1459+H1459","v":0},0,0,0,0,0,0,{"$f":"I1459+J1459+K1459","v":0},""]
[null,500,"Задължителни осигурителни вноски от работодатели",null,{"$f":"SUM(E1461:E1467)","v":0},0,0,{"$f":"SUM(H1461:H1467)","v":0},0,0,0,0,""]
[null,null,551,"осигурителни вноски от работодатели за Държавното обществено осигуряване (ДОО)",{"$f":"F1461+G1461+H1461","v":0},0,0,0,0,0,0,{"$f":"I1461+J1461+K1461","v":0},""]
[null,null,552,"осигурителни вноски от работодатели за Учителския пенсионен фонд (УчПФ)",0,0,0,0,0,0,0,0,""]
[null,null,558,"вноски по чл. 4б и 4в от КСО за сметка на осигурителя",{"$f":"F1463+G1463+H1463","v":0},0,0,0,0,0,0,{"$f":"I1463+J1463+K1463","v":0},""]
[null,null,560,"здравно-осигурителни вноски от работодатели",0,0,0,0,0,0,0,0,""]
[null,null,580,"вноски за допълнително задължително осигуряване от работодатели",0,0,0,0,0,0,0,0,""]
[null,null,588,"коректив на вноски за ДЗПО за сумите по чл. 4б и 4в от КСО за сметка на осигурителя",{"$f":"F1466+G1466+H1466","v":0},0,0,0,0,0,0,{"$f":"I1466+J1466+K1466","v":0},""]
[null,null,590,"задължителни вноски за чуждестранни пенсионни фондове и  схеми за сметка на осигурителя",0,null,null,null,null,null,null,0,""]
[5,800,"Вноски за доброволно осигуряване  ",null,0,null,null,null,null,null,null,0,""]
[10,1000,"Издръжка",null,{"$f":"SUM(E1470:E1486)","v":0},0,0,{"$f":"SUM(H1470:H1486)","v":0},0,0,0,0,""]
[15,null,1011,"Храна",{"$f":"F1470+G1470+H1470","v":0},0,0,0,0,0,0,{"$f":"I1470+J1470+K1470","v":0},""]
[35,null,1012,"Медикаменти",0,0,0,0,0,0,0,0,""]
[40,null,1013,"Постелен инвентар и облекло",0,0,0,0,0,0,0,0,""]
[45,null,1014,"Учебни и научно-изследователски разходи и книги за библиотеките",0,0,0,0,0,0,0,0,""]
[50,null,1015,"материали",0,0,0,0,0,0,0,0,""]
[55,null,1016,"вода, горива и енергия",0,0,0,0,0,0,0,0,""]
[60,null,1020,"разходи за външни услуги",0,0,0,0,0,0,0,0,""]
[65,null,1030,"Текущ ремонт",0,0,0,0,0,0,0,0,""]
[70,null,1051,"командировки в страната",0,0,0,0,0,0,0,0,""]
[75,null,1052,"краткосрочни командировки в чужбина",0,0,0,0,0,0,0,0,""]
[80,null,1053,"дългосрочни командировки в чужбина",0,0,0,0,0,0,0,0,""]
[80,null,1062,"разходи за застраховки",0,0,0,0,0,0,0,0,""]
[85,null,1063,"такса ангажимент по заеми",0,0,0,0,0,0,0,0,""]
[90,null,1069,"други финансови услуги",0,0,0,0,0,0,0,0,""]
[90,null,1091,"други разходи за СБКО",0,0,0,0,0,0,0,0,""]
[115,null,1092,"разходи за договорни санкции и неустойки, съдебни обезщетения и разноски",0,0,0,0,0,0,0,0,""]
[125,null,1098,"други разходи, некласифицирани в другите параграфи и подпараграфи",0,0,0,0,0,0,0,0,""]
[130,1900,"Платени данъци, такси и административни санкции",null,{"$f":"SUM(E1488:E1490)","v":0},0,0,{"$f":"SUM(H1488:H1490)","v":0},0,0,0,0,""]
[135,null,1901,"платени държавни данъци, такси, наказателни лихви и административни санкции",{"$f":"F1488+G1488+H1488","v":0},0,0,0,0,0,0,{"$f":"I1488+J1488+K1488","v":0},""]
[140,null,1981,"платени общински данъци, такси, наказателни лихви и административни санкции",{"$f":"F1489+G1489+H1489","v":0},0,0,0,0,0,0,{"$f":"I1489+J1489+K1489","v":0},""]
[145,null,1991,"платени данъци, такси, наказателни лихви и административни санкции в чужбина",{"$f":"F1490+G1490+H1490","v":0},null,null,null,null,null,null,{"$f":"I1490+J1490+K1490","v":0},""]
[150,2100,"Разходи за лихви по емисии на държавни (общински) ценни книжа",null,{"$f":"SUM(E1492:E1496)","v":0},0,0,{"$f":"SUM(H1492:H1496)","v":0},0,0,0,0,""]
[155,null,2110,"лихви по държавни (общински) ценни книжа",{"$f":"F1492+G1492+H1492","v":0},null,null,null,null,null,null,{"$f":"I1492+J1492+K1492","v":0},""]
[160,null,2120,"отстъпки по държавни (общински) ценни книжа",{"$f":"F1493+G1493+H1493","v":0},null,null,null,null,null,null,{"$f":"I1493+J1493+K1493","v":0},""]
[165,null,2125,"лихви и отстъпки по целеви емисии на държавни ценни книжа",{"$f":"F1494+G1494+H1494","v":0},0,0,0,0,0,0,{"$f":"I1494+J1494+K1494","v":0},""]
[175,null,2140,"лихви по държавни ценни книжа, емитирани за структурната реформа ",{"$f":"F1495+G1495+H1495","v":0},0,0,0,0,0,0,{"$f":"I1495+J1495+K1495","v":0},""]
[180,null,2190,"премии над номинала от емисии на държавни (общински) ценни книжа (-)",{"$f":"F1496+G1496+H1496","v":0},null,null,null,null,null,null,{"$f":"I1496+J1496+K1496","v":0},""]
[185,2200,"Разходи за лихви по заеми от страната",null,{"$f":"SUM(E1498:E1499)","v":0},0,0,{"$f":"SUM(H1498:H1499)","v":0},0,0,0,0,""]
[190,null,2221,"Разходи за лихви по заеми от банки в страната",{"$f":"F1498+G1498+H1498","v":0},0,0,0,0,0,0,{"$f":"I1498+J1498+K1498","v":0},""]
[200,null,2224,"Разходи за лихви по други заеми от страната",0,0,0,0,0,0,0,0,""]
[200,2500,"Разходи за лихви по заеми от други държави",null,0,null,null,null,null,null,null,0,""]
[205,2600,"Разходи за лихви по заеми от международни организации и институции",null,0,null,null,null,null,null,null,0,""]
[210,2700,"Разходи за лихви по заеми от банки и други финансови институции от чужбина",null,0,null,null,null,null,null,null,0,""]
[215,2800,"Разходи за лихви и отстъпки по облигации, емитирани и търгувани на международните капиталови пазари",null,0,null,null,null,null,null,null,0,""]
[220,2900,"Други разходи за лихви",null,{"$f":"SUM(E1505:E1512)","v":0},{"$f":"SUM(F1505:F1512)","v":0},{"$f":"SUM(G1505:G1512)","v":0},0,0,0,0,0,""]
[225,null,2910,"Платени лихви по финансов лизинг и търговски кредит",{"$f":"F1505+G1505+H1505","v":0},0,null,null,0,null,null,{"$f":"I1505+J1505+K1505","v":0},""]
[230,null,2920,"Платени лихви по активирани гаранции по заеми от  банки в страната",{"$f":"F1506+G1506+H1506","v":0},null,null,null,null,null,null,{"$f":"I1506+J1506+K1506","v":0},""]
[245,null,2969,"Платени лихви по активирани гаранции по заеми от международни организации и институции",0,null,null,null,null,null,null,0,""]
[220,null,2970,"Платени лихви по активирани гаранции по заеми от банки и финансови институции от чужбина",0,null,null,null,null,null,null,0,""]
[225,null,2989,"Възстановени суми по платени лихви по активирани гаранции (-)",0,null,null,null,null,null,null,0,""]
[230,null,2990,"Платени лихви по активирани гаранции по заеми от  банки в страната",{"$f":"F1510+G1510+H1510","v":0},null,null,null,null,null,null,{"$f":"I1510+J1510+K1510","v":0},""]
[235,null,2991,"Други разходи за лихви към  местни лица",0,null,null,null,null,null,null,0,""]
[240,null,2992,"Други разходи за лихви към чуждестранни лица",0,null,null,null,null,null,null,0,""]
[245,3300,"Вноска в общия бюджет на Европейския съюз",null,{"$f":"SUM(E1514:E1518)","v":0},0,0,0,0,0,0,0,""]
[250,null,3301,"ресурс на база брутен национален доход",{"$f":"F1514+G1514+H1514","v":0},0,0,0,0,0,0,{"$f":"I1514+J1514+K1514","v":0},""]
[255,null,3302,"ресурс на база данък върху добавената стойност",0,0,0,0,0,0,0,0,""]
[265,null,3303,"корекция за Обединеното кралство",0,0,0,0,0,0,0,0,""]
[270,null,3304,"традиционни собствени ресурси - мита",0,0,0,0,0,0,0,0,""]
[290,null,3306,"участие във финансирането на брутното намаление за Нидерландия, Швеция, Дания и Австрия",0,0,0,0,0,0,0,0,""]
[320,3900,"Здравно-осигурителни плащания",null,0,0,0,0,0,0,0,0,{"$f":"(IF($E1519<>0,$M$2,IF($L1519<>0,$M$2,\"\")))","v":""}]
[330,4000,"Стипендии",null,0,0,0,0,0,0,0,0,""]
[350,4100,"Пенсии",null,0,0,0,0,0,0,0,0,""]
[355,4200,"Текущи трансфери, обезщетения и помощи за домакинствата",null,{"$f":"SUM(E1523:E1528)","v":0},0,0,{"$f":"SUM(H1523:H1528)","v":0},0,0,0,0,""]
[355,null,4201,"обезщетения и помощи по социалното осигуряване",{"$f":"F1523+G1523+H1523","v":0},null,null,null,null,null,null,{"$f":"I1523+J1523+K1523","v":0},""]
[375,null,4202,"обезщетения и помощи по социалното подпомагане",0,null,null,null,null,null,null,0,""]
[380,null,4214,"обезщетения и помощи по решение на общинския съвет",0,0,0,0,0,0,0,0,""]
[385,null,4217,"текущи трансфери за домакинства от средства на Европейския съюз",0,null,null,null,null,null,null,0,""]
[390,null,4218,"текущи трансфери за домакинства по други международни програми и споразумения",0,null,null,null,null,null,null,0,""]
[390,null,4219,"други текущи трансфери за домакинствата",0,0,0,0,0,0,0,0,""]
[395,4300,"Субсидии и други текущи трансфери за нефинансови предприятия",null,{"$f":"SUM(E1530:E1532)","v":0},0,0,{"$f":"SUM(H1530:H1532)","v":0},0,0,0,0,""]
[397,null,4301,"за текуща дейност",{"$f":"F1530+G1530+H1530","v":0},0,0,0,0,0,0,{"$f":"I1530+J1530+K1530","v":0},""]
[398,null,4302,"за осъществяване на болнична помощ ",0,null,null,null,null,null,null,0,""]
[399,null,4309,"други субсидии и плащания",0,null,null,null,null,null,null,0,""]
[400,4400,"Субсидии и други текущи трансфери за финансови институции",null,0,0,0,0,0,0,0,0,""]
[401,4500,"Субсидии и други текущи трансфери за юридически лица с нестопанска цел",null,0,0,0,0,0,0,0,0,""]
[404,4600,"Разходи за членски внос и участие в нетърговски организации и дейности",null,0,0,0,0,0,0,0,0,""]
[404,4900,"Предоставени текущи и капиталови трансфери за чужбина",null,{"$f":"+E1537+E1538","v":0},0,0,{"$f":"+H1537+H1538","v":0},0,0,0,0,""]
[440,null,4901,"текущи трансфери за чужбина",{"$f":"F1537+G1537+H1537","v":0},null,null,null,null,null,null,{"$f":"I1537+J1537+K1537","v":0},""]
[450,null,4902,"капиталови трансфери за чужбина",{"$f":"F1538+G1538+H1538","v":0},null,null,null,null,null,null,{"$f":"I1538+J1538+K1538","v":0},""]
[495,5100,"Основен ремонт на дълготрайни материални активи",null,{"$f":"F1539+G1539+H1539","v":0},0,0,0,0,0,0,{"$f":"I1539+J1539+K1539","v":0},""]
[500,5200,"Придобиване на дълготрайни материални активи",null,{"$f":"SUM(E1541:E1547)","v":0},0,0,{"$f":"SUM(H1541:H1547)","v":0},0,0,0,0,""]
[505,null,5201,"придобиване на компютри и хардуер",{"$f":"F1541+G1541+H1541","v":0},0,0,0,0,0,0,{"$f":"I1541+J1541+K1541","v":0},""]
[510,null,5202,"придобиване на сгради",0,0,0,0,0,0,0,0,""]
[515,null,5203,"придобиване на друго оборудване, машини и съоръжения",0,0,0,0,0,0,0,0,""]
[520,null,5204,"придобиване на транспортни средства",0,0,0,0,0,0,0,0,""]
[525,null,5205,"придобиване на стопански инвентар",0,0,0,0,0,0,0,0,""]
[635,null,5206,"изграждане на инфраструктурни обекти",0,0,0,0,0,0,0,0,""]
[640,null,5219,"придобиване на други ДМА",0,0,0,0,0,0,0,0,""]
[645,5300,"Придобиване на нематериални дълготрайни активи",null,{"$f":"SUM(E1549:E1550)","v":0},0,0,{"$f":"SUM(H1549:H1550)","v":0},0,0,0,0,""]
[650,null,5301,"придобиване на програмни продукти и лицензи за програмни продукти",{"$f":"F1549+G1549+H1549","v":0},0,0,0,0,0,0,{"$f":"I1549+J1549+K1549","v":0},""]
[655,null,5309,"придобиване на други нематериални дълготрайни активи",{"$f":"F1550+G1550+H1550","v":0},0,0,0,0,0,0,{"$f":"I1550+J1550+K1550","v":0},""]
[665,5400,"Придобиване на земя",null,{"$f":"F1551+G1551+H1551","v":0},null,0,0,0,null,0,{"$f":"I1551+J1551+K1551","v":0},""]
[675,5500,"Капиталови трансфери",null,{"$f":"SUM(E1553:E1556)","v":0},0,0,{"$f":"SUM(H1553:H1556)","v":0},0,0,0,0,""]
[685,null,5501,"капиталови трансфери за нефинансови предприятия",{"$f":"F1553+G1553+H1553","v":0},null,null,null,null,null,null,{"$f":"I1553+J1553+K1553","v":0},""]
[690,null,5502,"капиталови трансфери за финансови институции",{"$f":"F1554+G1554+H1554","v":0},null,null,null,null,null,null,{"$f":"I1554+J1554+K1554","v":0},""]
[695,null,5503,"капиталови трансфери за организации с нестопанска цел",{"$f":"F1555+G1555+H1555","v":0},null,null,null,null,null,null,{"$f":"I1555+J1555+K1555","v":0},""]
[700,null,5504,"капиталови трансфери за домакинствата",{"$f":"F1556+G1556+H1556","v":0},null,null,null,null,null,null,{"$f":"I1556+J1556+K1556","v":0},""]
[710,5700,"Прираст на държавния резерв и изкупуване на земеделска продукция (включва и § 40-71)",null,{"$f":"SUM(E1558:E1560)","v":0},0,0,0,0,0,0,{"$f":"SUM(L1558:L1560)","v":0},""]
[715,null,5701,"плащания за попълване на държавния резерв",{"$f":"F1558+G1558+H1558","v":0},0,0,0,0,0,0,{"$f":"I1558+J1558+K1558","v":0},""]
[720,null,5702,"плащания за изкупуване на земеделска продукция",{"$f":"F1559+G1559+H1559","v":0},0,0,0,0,0,0,{"$f":"I1559+J1559+K1559","v":0},""]
[725,null,4071,"постъпления от продажба на държавния резерв (-)",{"$f":"F1560+G1560+H1560","v":0},0,0,0,0,0,0,{"$f":"I1560+J1560+K1560","v":0},""]
[730,null,"Резерв за непредвидени и неотложни разходи",null,null,null,null,null,null,null,null,null,""]
[735,98,"Резерв за непредвидени и неотложни разходи",null,{"$f":"F1562+G1562+H1562","v":0},null,null,null,0,0,0,{"$f":"I1562+J1562+K1562","v":0},""]
[740,null,null,null,null,null,null,null,null,null,null,null,""]
[745,null,null,null,null,null,null,null,null,null,null,null,""]
[750,null,null,null,null,null,null,null,null,null,null,null,""]
[755,null,"99-99",{"$f":"+B1566","v":0},{"$f":"SUM(E1451,E1454,E1460,E1468,E1469,E1487,E1491,E1497,E1500,E1501,E1502,E1503,E1504,E1513,E1519,E1520,E1521,E1522,E1529,E1533,E1534,E1535,E1536,E1539,E1540,E1548,E1551,E1552,E1557)+E1562","v":0},0,0,0,0,0,0,0,{"$f":"(IF($E1566<>0,$M$2,IF($L1566<>0,$M$2,\"\")))","v":""},{"$f":"LEFT(C1448,1)","v":"2"}]
[760,"край на дейност",null,null,null,null,null,null,null,null,null,null,{"$f":"(IF($E1566<>0,$M$2,IF($L1566<>0,$M$2,\"\")))","v":""}]
[765,null,null,null,null,null,null,null,null,null,null,null,{"$f":"(IF($E1566<>0,$M$2,IF($L1566<>0,$M$2,\"\")))","v":""}]
[775,null,null,null,null,null,null,null,null,null,null,null,{"$f":"(IF(E1564<>0,$G$2,IF(L1564<>0,$G$2,\"\")))","v":""}]
[780,null,null,null,null,null,null,null,null,null,null,null,{"$f":"(IF($E1703<>0,$M$2,IF($L1703<>0,$M$2,\"\")))","v":""}]
[785,null,null,null,null,null,null,null,null,null,null,null,{"$f":"(IF($E1703<>0,$M$2,IF($L1703<>0,$M$2,\"\")))","v":""}]
[790,{"$f":"$B$7","v":"ОТЧЕТНИ ДАННИ ПО ЕБК ЗА ИЗПЪЛНЕНИЕТО НА БЮДЖЕТА"},null,null,null,null,null,null,null,null,null,null,{"$f":"(IF($E1703<>0,$M$2,IF($L1703<>0,$M$2,\"\")))","v":""}]
[795,null,null,null,"за периода от ","до",null,"        II.1. РАЗХОДИ ПО ДЕЙНОСТИ",null,null,null,null,{"$f":"(IF($E1703<>0,$M$2,IF($L1703<>0,$M$2,\"\")))","v":""}]
[805,{"$f":"$B$9","v":"ОУ Г.С.РАКОВСКИ-С.ГЪЛЪБЕЦ"},null,null,{"$f":"$E$9","v":"2020-01-01"},{"$f":"$F$9","v":"2020-03-31"},null,null,null,null,null,null,{"$f":"(IF($E1703<>0,$M$2,IF($L1703<>0,$M$2,\"\")))","v":""}]
[810,{"$f":"$B$10","v":"(наименование на разпоредителя с бюджет)"},null,null,null,null,null,null,null,null,null,null,{"$f":"(IF($E1703<>0,$M$2,IF($L1703<>0,$M$2,\"\")))","v":""}]
[815,null,null,null,null,null,null,null,null,null,null,null,{"$f":"(IF($E1703<>0,$M$2,IF($L1703<>0,$M$2,\"\")))","v":""}]
[525,{"$f":"$B$12","v":"Поморие"},null,null,"       код по ЕБК:",{"$f":"$F$12","v":"5207"},null,null,null,null,null,null,{"$f":"(IF($E1703<>0,$M$2,IF($L1703<>0,$M$2,\"\")))","v":""}]
[820,{"$f":"$B$13","v":"(наименование на първостепенния разпоредител с бюджет)"},null,null,null,null,null,null,null,null,null,null,{"$f":"(IF($E1703<>0,$M$2,IF($L1703<>0,$M$2,\"\")))","v":""}]
[821,null,null,"ФИНАНСОВО-ПРАВНА ФОРМА",{"$f":"$E$15","v":0},{"$f":"$F$15","v":"БЮДЖЕТ"},null,null,null,null,null,null,{"$f":"(IF($E1703<>0,$M$2,IF($L1703<>0,$M$2,\"\")))","v":""}]
[822,null,null,null,null,null,null,null,null,null,null,"(в лева)",{"$f":"(IF($E1703<>0,$M$2,IF($L1703<>0,$M$2,\"\")))","v":""}]
[823,null,null,"II.1. РАЗХОДИ ПО ДЕЙНОСТИ","Уточнен план 2020",null,null,null,"Отчет 2020",null,null,null,{"$f":"(IF($E1703<>0,$M$2,IF($L1703<>0,$M$2,\"\")))","v":""}]
[825,"§§","под-§§","НАИМЕНОВАНИЯ НА ПАРАГРАФИТЕ И ПОДПАРАГРАФИТЕ",{"$f":"$E$20","v":"Уточнен план                Общо"},{"$f":"$F$20","v":"държавни дейности"},{"$f":"$G$20","v":"местни дейности"},{"$f":"$H$20","v":"дофинансиране"},{"$f":"$I$20","v":"държавни дейности -ОТЧЕТ"},{"$f":"$J$20","v":"местни дейности - ОТЧЕТ"},{"$f":"$K$20","v":"дофинансиране - ОТЧЕТ"},{"$f":"$L$20","v":"ОТЧЕТ                                    ОБЩО"},{"$f":"(IF($E1703<>0,$M$2,IF($L1703<>0,$M$2,\"\")))","v":""}]
[null,null,null," 02 ¦",{"$f":"$E$21","v":"(1)"},{"$f":"$F$21","v":"(2)"},{"$f":"$G$21","v":"(3)"},{"$f":"$H$21","v":"(4)"},{"$f":"$I$21","v":"(5)"},{"$f":"$J$21","v":"(6)"},{"$f":"$K$21","v":"(7)"},{"$f":"$L$21","v":"(8)"},{"$f":"(IF($E1703<>0,$M$2,IF($L1703<>0,$M$2,\"\")))","v":""}]
[null,null,{"$f":"VLOOKUP(D1584,OP_LIST2,2,FALSE)","v":{"$error":"#N/A"}},null,null,null,null,null,null,null,null,null,{"$f":"(IF($E1703<>0,$M$2,IF($L1703<>0,$M$2,\"\")))","v":""}]
[null,null,{"$f":"VLOOKUP(D1586,EBK_DEIN2,2,FALSE)","v":2284},"<------          ДЕЙНОСТ    -  код  по  ЕБК",null,null,null,null,null,null,null,null,{"$f":"(IF($E1703<>0,$M$2,IF($L1703<>0,$M$2,\"\")))","v":""}]
[null,null,{"$f":"+C1585","v":2284},"284 Ликвидиране на последици от стихийни бедствия и производствени аварии",null,null,null,null,null,null,null,null,{"$f":"(IF($E1703<>0,$M$2,IF($L1703<>0,$M$2,\"\")))","v":""}]
[null,null,null,"(наименование на дейността)",null,null,null,null,null,null,null,null,{"$f":"(IF($E1703<>0,$M$2,IF($L1703<>0,$M$2,\"\")))","v":""}]
[null,100,"Заплати и възнаграждения за персонала, нает по трудови и служебни правоотношения",null,{"$f":"SUM(E1589:E1590)","v":0},0,0,{"$f":"SUM(H1589:H1590)","v":0},0,0,0,0,{"$f":"(IF($E1588<>0,$M$2,IF($L1588<>0,$M$2,\"\")))","v":""}]
[null,null,101,"заплати и възнаграждения на персонала нает по трудови правоотношения",{"$f":"F1589+G1589+H1589","v":0},0,0,0,0,0,0,{"$f":"I1589+J1589+K1589","v":0},{"$f":"(IF($E1589<>0,$M$2,IF($L1589<>0,$M$2,\"\")))","v":""}]
[null,null,102,"заплати и възнаграждения на персонала нает по служебни правоотношения",{"$f":"F1590+G1590+H1590","v":0},0,0,0,0,0,0,{"$f":"I1590+J1590+K1590","v":0},""]
[null,200,"Други възнаграждения и плащания за персонала",null,{"$f":"SUM(E1592:E1596)","v":0},0,0,{"$f":"SUM(H1592:H1596)","v":0},0,0,0,0,""]
[null,null,201,"за нещатен персонал нает по трудови правоотношения ",{"$f":"F1592+G1592+H1592","v":0},0,0,0,0,0,0,{"$f":"I1592+J1592+K1592","v":0},""]
[null,null,202,"за персонала по извънтрудови правоотношения",{"$f":"F1593+G1593+H1593","v":0},0,0,0,0,0,0,{"$f":"I1593+J1593+K1593","v":0},""]
[null,null,205,"изплатени суми от СБКО за облекло и други на персонала, с характер на възнаграждение",{"$f":"F1594+G1594+H1594","v":0},0,0,0,0,0,0,{"$f":"I1594+J1594+K1594","v":0},""]
[null,null,208,"обезщетения за персонала, с характер на възнаграждение",{"$f":"F1595+G1595+H1595","v":0},0,0,0,0,0,0,{"$f":"I1595+J1595+K1595","v":0},""]
[null,null,209,"другиплащания и възнаграждения",{"$f":"F1596+G1596+H1596","v":0},0,0,0,0,0,0,{"$f":"I1596+J1596+K1596","v":0},""]
[null,500,"Задължителни осигурителни вноски от работодатели",null,{"$f":"SUM(E1598:E1604)","v":0},0,0,{"$f":"SUM(H1598:H1604)","v":0},0,0,0,0,""]
[null,null,551,"осигурителни вноски от работодатели за Държавното обществено осигуряване (ДОО)",{"$f":"F1598+G1598+H1598","v":0},0,0,0,0,0,0,{"$f":"I1598+J1598+K1598","v":0},""]
[null,null,552,"осигурителни вноски от работодатели за Учителския пенсионен фонд (УчПФ)",0,0,0,0,0,0,0,0,""]
[null,null,558,"вноски по чл. 4б и 4в от КСО за сметка на осигурителя",{"$f":"F1600+G1600+H1600","v":0},0,0,0,0,0,0,{"$f":"I1600+J1600+K1600","v":0},""]
[null,null,560,"здравно-осигурителни вноски от работодатели",0,0,0,0,0,0,0,0,""]
[null,null,580,"вноски за допълнително задължително осигуряване от работодатели",0,0,0,0,0,0,0,0,""]
[null,null,588,"коректив на вноски за ДЗПО за сумите по чл. 4б и 4в от КСО за сметка на осигурителя",{"$f":"F1603+G1603+H1603","v":0},0,0,0,0,0,0,{"$f":"I1603+J1603+K1603","v":0},""]
[null,null,590,"задължителни вноски за чуждестранни пенсионни фондове и  схеми за сметка на осигурителя",0,null,null,null,null,null,null,0,""]
[5,800,"Вноски за доброволно осигуряване  ",null,0,null,null,null,null,null,null,0,""]
[10,1000,"Издръжка",null,{"$f":"SUM(E1607:E1623)","v":0},0,0,{"$f":"SUM(H1607:H1623)","v":0},0,0,0,0,""]
[15,null,1011,"Храна",{"$f":"F1607+G1607+H1607","v":0},0,0,0,0,0,0,{"$f":"I1607+J1607+K1607","v":0},""]
[35,null,1012,"Медикаменти",0,0,0,0,0,0,0,0,""]
[40,null,1013,"Постелен инвентар и облекло",0,0,0,0,0,0,0,0,""]
[45,null,1014,"Учебни и научно-изследователски разходи и книги за библиотеките",0,0,0,0,0,0,0,0,""]
[50,null,1015,"материали",0,0,0,0,0,0,0,0,""]
[55,null,1016,"вода, горива и енергия",0,0,0,0,0,0,0,0,""]
[60,null,1020,"разходи за външни услуги",0,0,0,0,0,0,0,0,""]
[65,null,1030,"Текущ ремонт",0,0,0,0,0,0,0,0,""]
[70,null,1051,"командировки в страната",0,0,0,0,0,0,0,0,""]
[75,null,1052,"краткосрочни командировки в чужбина",0,0,0,0,0,0,0,0,""]
[80,null,1053,"дългосрочни командировки в чужбина",0,0,0,0,0,0,0,0,""]
[80,null,1062,"разходи за застраховки",0,0,0,0,0,0,0,0,""]
[85,null,1063,"такса ангажимент по заеми",0,0,0,0,0,0,0,0,""]
[90,null,1069,"други финансови услуги",0,0,0,0,0,0,0,0,""]
[90,null,1091,"други разходи за СБКО",0,0,0,0,0,0,0,0,""]
[115,null,1092,"разходи за договорни санкции и неустойки, съдебни обезщетения и разноски",0,0,0,0,0,0,0,0,""]
[125,null,1098,"други разходи, некласифицирани в другите параграфи и подпараграфи",0,0,0,0,0,0,0,0,""]
[130,1900,"Платени данъци, такси и административни санкции",null,{"$f":"SUM(E1625:E1627)","v":0},0,0,{"$f":"SUM(H1625:H1627)","v":0},0,0,0,0,""]
[135,null,1901,"платени държавни данъци, такси, наказателни лихви и административни санкции",{"$f":"F1625+G1625+H1625","v":0},0,0,0,0,0,0,{"$f":"I1625+J1625+K1625","v":0},""]
[140,null,1981,"платени общински данъци, такси, наказателни лихви и административни санкции",{"$f":"F1626+G1626+H1626","v":0},0,0,0,0,0,0,{"$f":"I1626+J1626+K1626","v":0},""]
[145,null,1991,"платени данъци, такси, наказателни лихви и административни санкции в чужбина",{"$f":"F1627+G1627+H1627","v":0},null,null,null,null,null,null,{"$f":"I1627+J1627+K1627","v":0},""]
[150,2100,"Разходи за лихви по емисии на държавни (общински) ценни книжа",null,{"$f":"SUM(E1629:E1633)","v":0},0,0,{"$f":"SUM(H1629:H1633)","v":0},0,0,0,0,""]
[155,null,2110,"лихви по държавни (общински) ценни книжа",{"$f":"F1629+G1629+H1629","v":0},null,null,null,null,null,null,{"$f":"I1629+J1629+K1629","v":0},""]
[160,null,2120,"отстъпки по държавни (общински) ценни книжа",{"$f":"F1630+G1630+H1630","v":0},null,null,null,null,null,null,{"$f":"I1630+J1630+K1630","v":0},""]
[165,null,2125,"лихви и отстъпки по целеви емисии на държавни ценни книжа",{"$f":"F1631+G1631+H1631","v":0},0,0,0,0,0,0,{"$f":"I1631+J1631+K1631","v":0},""]
[175,null,2140,"лихви по държавни ценни книжа, емитирани за структурната реформа ",{"$f":"F1632+G1632+H1632","v":0},0,0,0,0,0,0,{"$f":"I1632+J1632+K1632","v":0},""]
[180,null,2190,"премии над номинала от емисии на държавни (общински) ценни книжа (-)",{"$f":"F1633+G1633+H1633","v":0},null,null,null,null,null,null,{"$f":"I1633+J1633+K1633","v":0},""]
[185,2200,"Разходи за лихви по заеми от страната",null,{"$f":"SUM(E1635:E1636)","v":0},0,0,{"$f":"SUM(H1635:H1636)","v":0},0,0,0,0,""]
[190,null,2221,"Разходи за лихви по заеми от банки в страната",{"$f":"F1635+G1635+H1635","v":0},0,0,0,0,0,0,{"$f":"I1635+J1635+K1635","v":0},""]
[200,null,2224,"Разходи за лихви по други заеми от страната",0,0,0,0,0,0,0,0,""]
[200,2500,"Разходи за лихви по заеми от други държави",null,0,null,null,null,null,null,null,0,""]
[205,2600,"Разходи за лихви по заеми от международни организации и институции",null,0,null,null,null,null,null,null,0,""]
[210,2700,"Разходи за лихви по заеми от банки и други финансови институции от чужбина",null,0,null,null,null,null,null,null,0,""]
[215,2800,"Разходи за лихви и отстъпки по облигации, емитирани и търгувани на международните капиталови пазари",null,0,null,null,null,null,null,null,0,""]
[220,2900,"Други разходи за лихви",null,{"$f":"SUM(E1642:E1649)","v":0},{"$f":"SUM(F1642:F1649)","v":0},{"$f":"SUM(G1642:G1649)","v":0},0,0,0,0,0,""]
[225,null,2910,"Платени лихви по финансов лизинг и търговски кредит",{"$f":"F1642+G1642+H1642","v":0},0,null,null,0,null,null,{"$f":"I1642+J1642+K1642","v":0},""]
[230,null,2920,"Платени лихви по активирани гаранции по заеми от  банки в страната",{"$f":"F1643+G1643+H1643","v":0},null,null,null,null,null,null,{"$f":"I1643+J1643+K1643","v":0},""]
[245,null,2969,"Платени лихви по активирани гаранции по заеми от международни организации и институции",0,null,null,null,null,null,null,0,""]
[220,null,2970,"Платени лихви по активирани гаранции по заеми от банки и финансови институции от чужбина",0,null,null,null,null,null,null,0,""]
[225,null,2989,"Възстановени суми по платени лихви по активирани гаранции (-)",0,null,null,null,null,null,null,0,""]
[230,null,2990,"Платени лихви по активирани гаранции по заеми от  банки в страната",{"$f":"F1647+G1647+H1647","v":0},null,null,null,null,null,null,{"$f":"I1647+J1647+K1647","v":0},""]
[235,null,2991,"Други разходи за лихви към  местни лица",0,null,null,null,null,null,null,0,""]
[240,null,2992,"Други разходи за лихви към чуждестранни лица",0,null,null,null,null,null,null,0,""]
[245,3300,"Вноска в общия бюджет на Европейския съюз",null,{"$f":"SUM(E1651:E1655)","v":0},0,0,0,0,0,0,0,""]
[250,null,3301,"ресурс на база брутен национален доход",{"$f":"F1651+G1651+H1651","v":0},0,0,0,0,0,0,{"$f":"I1651+J1651+K1651","v":0},""]
[255,null,3302,"ресурс на база данък върху добавената стойност",0,0,0,0,0,0,0,0,""]
[265,null,3303,"корекция за Обединеното кралство",0,0,0,0,0,0,0,0,""]
[270,null,3304,"традиционни собствени ресурси - мита",0,0,0,0,0,0,0,0,""]
[290,null,3306,"участие във финансирането на брутното намаление за Нидерландия, Швеция, Дания и Австрия",0,0,0,0,0,0,0,0,""]
[320,3900,"Здравно-осигурителни плащания",null,0,0,0,0,0,0,0,0,{"$f":"(IF($E1656<>0,$M$2,IF($L1656<>0,$M$2,\"\")))","v":""}]
[330,4000,"Стипендии",null,0,0,0,0,0,0,0,0,""]
[350,4100,"Пенсии",null,0,0,0,0,0,0,0,0,""]
[355,4200,"Текущи трансфери, обезщетения и помощи за домакинствата",null,{"$f":"SUM(E1660:E1665)","v":0},0,0,{"$f":"SUM(H1660:H1665)","v":0},0,0,0,0,""]
[355,null,4201,"обезщетения и помощи по социалното осигуряване",{"$f":"F1660+G1660+H1660","v":0},null,null,null,null,null,null,{"$f":"I1660+J1660+K1660","v":0},""]
[375,null,4202,"обезщетения и помощи по социалното подпомагане",0,null,null,null,null,null,null,0,""]
[380,null,4214,"обезщетения и помощи по решение на общинския съвет",0,0,0,0,0,0,0,0,""]
[385,null,4217,"текущи трансфери за домакинства от средства на Европейския съюз",0,null,null,null,null,null,null,0,""]
[390,null,4218,"текущи трансфери за домакинства по други международни програми и споразумения",0,null,null,null,null,null,null,0,""]
[390,null,4219,"други текущи трансфери за домакинствата",0,0,0,0,0,0,0,0,""]
[395,4300,"Субсидии и други текущи трансфери за нефинансови предприятия",null,{"$f":"SUM(E1667:E1669)","v":0},0,0,{"$f":"SUM(H1667:H1669)","v":0},0,0,0,0,""]
[397,null,4301,"за текуща дейност",{"$f":"F1667+G1667+H1667","v":0},0,0,0,0,0,0,{"$f":"I1667+J1667+K1667","v":0},""]
[398,null,4302,"за осъществяване на болнична помощ ",0,null,null,null,null,null,null,0,""]
[399,null,4309,"други субсидии и плащания",0,null,null,null,null,null,null,0,""]
[400,4400,"Субсидии и други текущи трансфери за финансови институции",null,0,0,0,0,0,0,0,0,""]
[401,4500,"Субсидии и други текущи трансфери за юридически лица с нестопанска цел",null,0,0,0,0,0,0,0,0,""]
[404,4600,"Разходи за членски внос и участие в нетърговски организации и дейности",null,0,0,0,0,0,0,0,0,""]
[404,4900,"Предоставени текущи и капиталови трансфери за чужбина",null,{"$f":"+E1674+E1675","v":0},0,0,{"$f":"+H1674+H1675","v":0},0,0,0,0,""]
[440,null,4901,"текущи трансфери за чужбина",{"$f":"F1674+G1674+H1674","v":0},null,null,null,null,null,null,{"$f":"I1674+J1674+K1674","v":0},""]
[450,null,4902,"капиталови трансфери за чужбина",{"$f":"F1675+G1675+H1675","v":0},null,null,null,null,null,null,{"$f":"I1675+J1675+K1675","v":0},""]
[495,5100,"Основен ремонт на дълготрайни материални активи",null,{"$f":"F1676+G1676+H1676","v":0},0,0,0,0,0,0,{"$f":"I1676+J1676+K1676","v":0},""]
[500,5200,"Придобиване на дълготрайни материални активи",null,{"$f":"SUM(E1678:E1684)","v":0},0,0,{"$f":"SUM(H1678:H1684)","v":0},0,0,0,0,""]
[505,null,5201,"придобиване на компютри и хардуер",{"$f":"F1678+G1678+H1678","v":0},0,0,0,0,0,0,{"$f":"I1678+J1678+K1678","v":0},""]
[510,null,5202,"придобиване на сгради",0,0,0,0,0,0,0,0,""]
[515,null,5203,"придобиване на друго оборудване, машини и съоръжения",0,0,0,0,0,0,0,0,""]
[520,null,5204,"придобиване на транспортни средства",0,0,0,0,0,0,0,0,""]
[525,null,5205,"придобиване на стопански инвентар",0,0,0,0,0,0,0,0,""]
[635,null,5206,"изграждане на инфраструктурни обекти",0,0,0,0,0,0,0,0,""]
[640,null,5219,"придобиване на други ДМА",0,0,0,0,0,0,0,0,""]
[645,5300,"Придобиване на нематериални дълготрайни активи",null,{"$f":"SUM(E1686:E1687)","v":0},0,0,{"$f":"SUM(H1686:H1687)","v":0},0,0,0,0,""]
[650,null,5301,"придобиване на програмни продукти и лицензи за програмни продукти",{"$f":"F1686+G1686+H1686","v":0},0,0,0,0,0,0,{"$f":"I1686+J1686+K1686","v":0},""]
[655,null,5309,"придобиване на други нематериални дълготрайни активи",{"$f":"F1687+G1687+H1687","v":0},0,0,0,0,0,0,{"$f":"I1687+J1687+K1687","v":0},""]
[665,5400,"Придобиване на земя",null,{"$f":"F1688+G1688+H1688","v":0},null,0,0,0,null,0,{"$f":"I1688+J1688+K1688","v":0},""]
[675,5500,"Капиталови трансфери",null,{"$f":"SUM(E1690:E1693)","v":0},0,0,{"$f":"SUM(H1690:H1693)","v":0},0,0,0,0,""]
[685,null,5501,"капиталови трансфери за нефинансови предприятия",{"$f":"F1690+G1690+H1690","v":0},null,null,null,null,null,null,{"$f":"I1690+J1690+K1690","v":0},""]
[690,null,5502,"капиталови трансфери за финансови институции",{"$f":"F1691+G1691+H1691","v":0},null,null,null,null,null,null,{"$f":"I1691+J1691+K1691","v":0},""]
[695,null,5503,"капиталови трансфери за организации с нестопанска цел",{"$f":"F1692+G1692+H1692","v":0},null,null,null,null,null,null,{"$f":"I1692+J1692+K1692","v":0},""]
[700,null,5504,"капиталови трансфери за домакинствата",{"$f":"F1693+G1693+H1693","v":0},null,null,null,null,null,null,{"$f":"I1693+J1693+K1693","v":0},""]
[710,5700,"Прираст на държавния резерв и изкупуване на земеделска продукция (включва и § 40-71)",null,{"$f":"SUM(E1695:E1697)","v":0},0,0,0,0,0,0,{"$f":"SUM(L1695:L1697)","v":0},""]
[715,null,5701,"плащания за попълване на държавния резерв",{"$f":"F1695+G1695+H1695","v":0},0,0,0,0,0,0,{"$f":"I1695+J1695+K1695","v":0},""]
[720,null,5702,"плащания за изкупуване на земеделска продукция",{"$f":"F1696+G1696+H1696","v":0},0,0,0,0,0,0,{"$f":"I1696+J1696+K1696","v":0},""]
[725,null,4071,"постъпления от продажба на държавния резерв (-)",{"$f":"F1697+G1697+H1697","v":0},0,0,0,0,0,0,{"$f":"I1697+J1697+K1697","v":0},""]
[730,null,"Резерв за непредвидени и неотложни разходи",null,null,null,null,null,null,null,null,null,""]
[735,98,"Резерв за непредвидени и неотложни разходи",null,{"$f":"F1699+G1699+H1699","v":0},null,null,null,0,0,0,{"$f":"I1699+J1699+K1699","v":0},""]
[740,null,null,null,null,null,null,null,null,null,null,null,""]
[745,null,null,null,null,null,null,null,null,null,null,null,""]
[750,null,null,null,null,null,null,null,null,null,null,null,""]
[755,null,"99-99",{"$f":"+B1703","v":0},{"$f":"SUM(E1588,E1591,E1597,E1605,E1606,E1624,E1628,E1634,E1637,E1638,E1639,E1640,E1641,E1650,E1656,E1657,E1658,E1659,E1666,E1670,E1671,E1672,E1673,E1676,E1677,E1685,E1688,E1689,E1694)+E1699","v":0},0,0,0,0,0,0,0,{"$f":"(IF($E1703<>0,$M$2,IF($L1703<>0,$M$2,\"\")))","v":""},{"$f":"LEFT(C1585,1)","v":"2"}]
[760,"край на дейност",null,null,null,null,null,null,null,null,null,null,{"$f":"(IF($E1703<>0,$M$2,IF($L1703<>0,$M$2,\"\")))","v":""}]
[765,null,null,null,null,null,null,null,null,null,null,null,{"$f":"(IF($E1703<>0,$M$2,IF($L1703<>0,$M$2,\"\")))","v":""}]
[775,null,null,null,null,null,null,null,null,null,null,null,{"$f":"(IF(E1701<>0,$G$2,IF(L1701<>0,$G$2,\"\")))","v":""}]
[780,null,null,null,null,null,null,null,null,null,null,null,{"$f":"(IF($E1840<>0,$M$2,IF($L1840<>0,$M$2,\"\")))","v":""}]
[785,null,null,null,null,null,null,null,null,null,null,null,{"$f":"(IF($E1840<>0,$M$2,IF($L1840<>0,$M$2,\"\")))","v":""}]
[790,{"$f":"$B$7","v":"ОТЧЕТНИ ДАННИ ПО ЕБК ЗА ИЗПЪЛНЕНИЕТО НА БЮДЖЕТА"},null,null,null,null,null,null,null,null,null,null,{"$f":"(IF($E1840<>0,$M$2,IF($L1840<>0,$M$2,\"\")))","v":""}]
[795,null,null,null,"за периода от ","до",null,"        II.1. РАЗХОДИ ПО ДЕЙНОСТИ",null,null,null,null,{"$f":"(IF($E1840<>0,$M$2,IF($L1840<>0,$M$2,\"\")))","v":""}]
[805,{"$f":"$B$9","v":"ОУ Г.С.РАКОВСКИ-С.ГЪЛЪБЕЦ"},null,null,{"$f":"$E$9","v":"2020-01-01"},{"$f":"$F$9","v":"2020-03-31"},null,null,null,null,null,null,{"$f":"(IF($E1840<>0,$M$2,IF($L1840<>0,$M$2,\"\")))","v":""}]
[810,{"$f":"$B$10","v":"(наименование на разпоредителя с бюджет)"},null,null,null,null,null,null,null,null,null,null,{"$f":"(IF($E1840<>0,$M$2,IF($L1840<>0,$M$2,\"\")))","v":""}]
[815,null,null,null,null,null,null,null,null,null,null,null,{"$f":"(IF($E1840<>0,$M$2,IF($L1840<>0,$M$2,\"\")))","v":""}]
[525,{"$f":"$B$12","v":"Поморие"},null,null,"       код по ЕБК:",{"$f":"$F$12","v":"5207"},null,null,null,null,null,null,{"$f":"(IF($E1840<>0,$M$2,IF($L1840<>0,$M$2,\"\")))","v":""}]
[820,{"$f":"$B$13","v":"(наименование на първостепенния разпоредител с бюджет)"},null,null,null,null,null,null,null,null,null,null,{"$f":"(IF($E1840<>0,$M$2,IF($L1840<>0,$M$2,\"\")))","v":""}]
[821,null,null,"ФИНАНСОВО-ПРАВНА ФОРМА",{"$f":"$E$15","v":0},{"$f":"$F$15","v":"БЮДЖЕТ"},null,null,null,null,null,null,{"$f":"(IF($E1840<>0,$M$2,IF($L1840<>0,$M$2,\"\")))","v":""}]
[822,null,null,null,null,null,null,null,null,null,null,"(в лева)",{"$f":"(IF($E1840<>0,$M$2,IF($L1840<>0,$M$2,\"\")))","v":""}]
[823,null,null,"II.1. РАЗХОДИ ПО ДЕЙНОСТИ","Уточнен план 2020",null,null,null,"Отчет 2020",null,null,null,{"$f":"(IF($E1840<>0,$M$2,IF($L1840<>0,$M$2,\"\")))","v":""}]
[825,"§§","под-§§","НАИМЕНОВАНИЯ НА ПАРАГРАФИТЕ И ПОДПАРАГРАФИТЕ",{"$f":"$E$20","v":"Уточнен план                Общо"},{"$f":"$F$20","v":"държавни дейности"},{"$f":"$G$20","v":"местни дейности"},{"$f":"$H$20","v":"дофинансиране"},{"$f":"$I$20","v":"държавни дейности -ОТЧЕТ"},{"$f":"$J$20","v":"местни дейности - ОТЧЕТ"},{"$f":"$K$20","v":"дофинансиране - ОТЧЕТ"},{"$f":"$L$20","v":"ОТЧЕТ                                    ОБЩО"},{"$f":"(IF($E1840<>0,$M$2,IF($L1840<>0,$M$2,\"\")))","v":""}]
[null,null,null," 02 ¦",{"$f":"$E$21","v":"(1)"},{"$f":"$F$21","v":"(2)"},{"$f":"$G$21","v":"(3)"},{"$f":"$H$21","v":"(4)"},{"$f":"$I$21","v":"(5)"},{"$f":"$J$21","v":"(6)"},{"$f":"$K$21","v":"(7)"},{"$f":"$L$21","v":"(8)"},{"$f":"(IF($E1840<>0,$M$2,IF($L1840<>0,$M$2,\"\")))","v":""}]
[null,null,{"$f":"VLOOKUP(D1721,OP_LIST2,2,FALSE)","v":{"$error":"#N/A"}},null,null,null,null,null,null,null,null,null,{"$f":"(IF($E1840<>0,$M$2,IF($L1840<>0,$M$2,\"\")))","v":""}]
[null,null,{"$f":"VLOOKUP(D1723,EBK_DEIN2,2,FALSE)","v":3311},"<------          ДЕЙНОСТ    -  код  по  ЕБК",null,null,null,null,null,null,null,null,{"$f":"(IF($E1840<>0,$M$2,IF($L1840<>0,$M$2,\"\")))","v":""}]
[null,null,{"$f":"+C1722","v":3311},"311 Детски градини",null,null,null,null,null,null,null,null,{"$f":"(IF($E1840<>0,$M$2,IF($L1840<>0,$M$2,\"\")))","v":""}]
[null,null,null,"(наименование на дейността)",null,null,null,null,null,null,null,null,{"$f":"(IF($E1840<>0,$M$2,IF($L1840<>0,$M$2,\"\")))","v":""}]
[null,100,"Заплати и възнаграждения за персонала, нает по трудови и служебни правоотношения",null,{"$f":"SUM(E1726:E1727)","v":0},0,0,{"$f":"SUM(H1726:H1727)","v":0},0,0,0,0,{"$f":"(IF($E1725<>0,$M$2,IF($L1725<>0,$M$2,\"\")))","v":""}]
[null,null,101,"заплати и възнаграждения на персонала нает по трудови правоотношения",{"$f":"F1726+G1726+H1726","v":0},0,0,0,0,0,0,{"$f":"I1726+J1726+K1726","v":0},{"$f":"(IF($E1726<>0,$M$2,IF($L1726<>0,$M$2,\"\")))","v":""}]
[null,null,102,"заплати и възнаграждения на персонала нает по служебни правоотношения",{"$f":"F1727+G1727+H1727","v":0},0,0,0,0,0,0,{"$f":"I1727+J1727+K1727","v":0},""]
[null,200,"Други възнаграждения и плащания за персонала",null,{"$f":"SUM(E1729:E1733)","v":0},0,0,{"$f":"SUM(H1729:H1733)","v":0},0,0,0,0,""]
[null,null,201,"за нещатен персонал нает по трудови правоотношения ",{"$f":"F1729+G1729+H1729","v":0},0,0,0,0,0,0,{"$f":"I1729+J1729+K1729","v":0},""]
[null,null,202,"за персонала по извънтрудови правоотношения",{"$f":"F1730+G1730+H1730","v":0},0,0,0,0,0,0,{"$f":"I1730+J1730+K1730","v":0},""]
[null,null,205,"изплатени суми от СБКО за облекло и други на персонала, с характер на възнаграждение",{"$f":"F1731+G1731+H1731","v":0},0,0,0,0,0,0,{"$f":"I1731+J1731+K1731","v":0},""]
[null,null,208,"обезщетения за персонала, с характер на възнаграждение",{"$f":"F1732+G1732+H1732","v":0},0,0,0,0,0,0,{"$f":"I1732+J1732+K1732","v":0},""]
[null,null,209,"другиплащания и възнаграждения",{"$f":"F1733+G1733+H1733","v":0},0,0,0,0,0,0,{"$f":"I1733+J1733+K1733","v":0},""]
[null,500,"Задължителни осигурителни вноски от работодатели",null,{"$f":"SUM(E1735:E1741)","v":0},0,0,{"$f":"SUM(H1735:H1741)","v":0},0,0,0,0,""]
[null,null,551,"осигурителни вноски от работодатели за Държавното обществено осигуряване (ДОО)",{"$f":"F1735+G1735+H1735","v":0},0,0,0,0,0,0,{"$f":"I1735+J1735+K1735","v":0},""]
[null,null,552,"осигурителни вноски от работодатели за Учителския пенсионен фонд (УчПФ)",0,0,0,0,0,0,0,0,""]
[null,null,558,"вноски по чл. 4б и 4в от КСО за сметка на осигурителя",{"$f":"F1737+G1737+H1737","v":0},0,0,0,0,0,0,{"$f":"I1737+J1737+K1737","v":0},""]
[null,null,560,"здравно-осигурителни вноски от работодатели",0,0,0,0,0,0,0,0,""]
[null,null,580,"вноски за допълнително задължително осигуряване от работодатели",0,0,0,0,0,0,0,0,""]
[null,null,588,"коректив на вноски за ДЗПО за сумите по чл. 4б и 4в от КСО за сметка на осигурителя",{"$f":"F1740+G1740+H1740","v":0},0,0,0,0,0,0,{"$f":"I1740+J1740+K1740","v":0},""]
[null,null,590,"задължителни вноски за чуждестранни пенсионни фондове и  схеми за сметка на осигурителя",0,null,null,null,null,null,null,0,""]
[5,800,"Вноски за доброволно осигуряване  ",null,0,null,null,null,null,null,null,0,""]
[10,1000,"Издръжка",null,{"$f":"SUM(E1744:E1760)","v":0},0,0,{"$f":"SUM(H1744:H1760)","v":0},0,0,0,0,""]
[15,null,1011,"Храна",{"$f":"F1744+G1744+H1744","v":0},0,0,0,0,0,0,{"$f":"I1744+J1744+K1744","v":0},""]
[35,null,1012,"Медикаменти",0,0,0,0,0,0,0,0,""]
[40,null,1013,"Постелен инвентар и облекло",0,0,0,0,0,0,0,0,""]
[45,null,1014,"Учебни и научно-изследователски разходи и книги за библиотеките",0,0,0,0,0,0,0,0,""]
[50,null,1015,"материали",0,0,0,0,0,0,0,0,""]
[55,null,1016,"вода, горива и енергия",0,0,0,0,0,0,0,0,""]
[60,null,1020,"разходи за външни услуги",0,0,0,0,0,0,0,0,""]
[65,null,1030,"Текущ ремонт",0,0,0,0,0,0,0,0,""]
[70,null,1051,"командировки в страната",0,0,0,0,0,0,0,0,""]
[75,null,1052,"краткосрочни командировки в чужбина",0,0,0,0,0,0,0,0,""]
[80,null,1053,"дългосрочни командировки в чужбина",0,0,0,0,0,0,0,0,""]
[80,null,1062,"разходи за застраховки",0,0,0,0,0,0,0,0,""]
[85,null,1063,"такса ангажимент по заеми",0,0,0,0,0,0,0,0,""]
[90,null,1069,"други финансови услуги",0,0,0,0,0,0,0,0,""]
[90,null,1091,"други разходи за СБКО",0,0,0,0,0,0,0,0,""]
[115,null,1092,"разходи за договорни санкции и неустойки, съдебни обезщетения и разноски",0,0,0,0,0,0,0,0,""]
[125,null,1098,"други разходи, некласифицирани в другите параграфи и подпараграфи",0,0,0,0,0,0,0,0,""]
[130,1900,"Платени данъци, такси и административни санкции",null,{"$f":"SUM(E1762:E1764)","v":0},0,0,{"$f":"SUM(H1762:H1764)","v":0},0,0,0,0,""]
[135,null,1901,"платени държавни данъци, такси, наказателни лихви и административни санкции",{"$f":"F1762+G1762+H1762","v":0},0,0,0,0,0,0,{"$f":"I1762+J1762+K1762","v":0},""]
[140,null,1981,"платени общински данъци, такси, наказателни лихви и административни санкции",{"$f":"F1763+G1763+H1763","v":0},0,0,0,0,0,0,{"$f":"I1763+J1763+K1763","v":0},""]
[145,null,1991,"платени данъци, такси, наказателни лихви и административни санкции в чужбина",{"$f":"F1764+G1764+H1764","v":0},null,null,null,null,null,null,{"$f":"I1764+J1764+K1764","v":0},""]
[150,2100,"Разходи за лихви по емисии на държавни (общински) ценни книжа",null,{"$f":"SUM(E1766:E1770)","v":0},0,0,{"$f":"SUM(H1766:H1770)","v":0},0,0,0,0,""]
[155,null,2110,"лихви по държавни (общински) ценни книжа",{"$f":"F1766+G1766+H1766","v":0},null,null,null,null,null,null,{"$f":"I1766+J1766+K1766","v":0},""]
[160,null,2120,"отстъпки по държавни (общински) ценни книжа",{"$f":"F1767+G1767+H1767","v":0},null,null,null,null,null,null,{"$f":"I1767+J1767+K1767","v":0},""]
[165,null,2125,"лихви и отстъпки по целеви емисии на държавни ценни книжа",{"$f":"F1768+G1768+H1768","v":0},0,0,0,0,0,0,{"$f":"I1768+J1768+K1768","v":0},""]
[175,null,2140,"лихви по държавни ценни книжа, емитирани за структурната реформа ",{"$f":"F1769+G1769+H1769","v":0},0,0,0,0,0,0,{"$f":"I1769+J1769+K1769","v":0},""]
[180,null,2190,"премии над номинала от емисии на държавни (общински) ценни книжа (-)",{"$f":"F1770+G1770+H1770","v":0},null,null,null,null,null,null,{"$f":"I1770+J1770+K1770","v":0},""]
[185,2200,"Разходи за лихви по заеми от страната",null,{"$f":"SUM(E1772:E1773)","v":0},0,0,{"$f":"SUM(H1772:H1773)","v":0},0,0,0,0,""]
[190,null,2221,"Разходи за лихви по заеми от банки в страната",{"$f":"F1772+G1772+H1772","v":0},0,0,0,0,0,0,{"$f":"I1772+J1772+K1772","v":0},""]
[200,null,2224,"Разходи за лихви по други заеми от страната",0,0,0,0,0,0,0,0,""]
[200,2500,"Разходи за лихви по заеми от други държави",null,0,null,null,null,null,null,null,0,""]
[205,2600,"Разходи за лихви по заеми от международни организации и институции",null,0,null,null,null,null,null,null,0,""]
[210,2700,"Разходи за лихви по заеми от банки и други финансови институции от чужбина",null,0,null,null,null,null,null,null,0,""]
[215,2800,"Разходи за лихви и отстъпки по облигации, емитирани и търгувани на международните капиталови пазари",null,0,null,null,null,null,null,null,0,""]
[220,2900,"Други разходи за лихви",null,{"$f":"SUM(E1779:E1786)","v":0},{"$f":"SUM(F1779:F1786)","v":0},{"$f":"SUM(G1779:G1786)","v":0},0,0,0,0,0,""]
[225,null,2910,"Платени лихви по финансов лизинг и търговски кредит",{"$f":"F1779+G1779+H1779","v":0},0,null,null,0,null,null,{"$f":"I1779+J1779+K1779","v":0},""]
[230,null,2920,"Платени лихви по активирани гаранции по заеми от  банки в страната",{"$f":"F1780+G1780+H1780","v":0},null,null,null,null,null,null,{"$f":"I1780+J1780+K1780","v":0},""]
[245,null,2969,"Платени лихви по активирани гаранции по заеми от международни организации и институции",0,null,null,null,null,null,null,0,""]
[220,null,2970,"Платени лихви по активирани гаранции по заеми от банки и финансови институции от чужбина",0,null,null,null,null,null,null,0,""]
[225,null,2989,"Възстановени суми по платени лихви по активирани гаранции (-)",0,null,null,null,null,null,null,0,""]
[230,null,2990,"Платени лихви по активирани гаранции по заеми от  банки в страната",{"$f":"F1784+G1784+H1784","v":0},null,null,null,null,null,null,{"$f":"I1784+J1784+K1784","v":0},""]
[235,null,2991,"Други разходи за лихви към  местни лица",0,null,null,null,null,null,null,0,""]
[240,null,2992,"Други разходи за лихви към чуждестранни лица",0,null,null,null,null,null,null,0,""]
[245,3300,"Вноска в общия бюджет на Европейския съюз",null,{"$f":"SUM(E1788:E1792)","v":0},0,0,0,0,0,0,0,""]
[250,null,3301,"ресурс на база брутен национален доход",{"$f":"F1788+G1788+H1788","v":0},0,0,0,0,0,0,{"$f":"I1788+J1788+K1788","v":0},""]
[255,null,3302,"ресурс на база данък върху добавената стойност",0,0,0,0,0,0,0,0,""]
[265,null,3303,"корекция за Обединеното кралство",0,0,0,0,0,0,0,0,""]
[270,null,3304,"традиционни собствени ресурси - мита",0,0,0,0,0,0,0,0,""]
[290,null,3306,"участие във финансирането на брутното намаление за Нидерландия, Швеция, Дания и Австрия",0,0,0,0,0,0,0,0,""]
[320,3900,"Здравно-осигурителни плащания",null,0,0,0,0,0,0,0,0,{"$f":"(IF($E1793<>0,$M$2,IF($L1793<>0,$M$2,\"\")))","v":""}]
[330,4000,"Стипендии",null,0,0,0,0,0,0,0,0,""]
[350,4100,"Пенсии",null,0,0,0,0,0,0,0,0,""]
[355,4200,"Текущи трансфери, обезщетения и помощи за домакинствата",null,{"$f":"SUM(E1797:E1802)","v":0},0,0,{"$f":"SUM(H1797:H1802)","v":0},0,0,0,0,""]
[355,null,4201,"обезщетения и помощи по социалното осигуряване",{"$f":"F1797+G1797+H1797","v":0},null,null,null,null,null,null,{"$f":"I1797+J1797+K1797","v":0},""]
[375,null,4202,"обезщетения и помощи по социалното подпомагане",0,null,null,null,null,null,null,0,""]
[380,null,4214,"обезщетения и помощи по решение на общинския съвет",0,0,0,0,0,0,0,0,""]
[385,null,4217,"текущи трансфери за домакинства от средства на Европейския съюз",0,null,null,null,null,null,null,0,""]
[390,null,4218,"текущи трансфери за домакинства по други международни програми и споразумения",0,null,null,null,null,null,null,0,""]
[390,null,4219,"други текущи трансфери за домакинствата",0,0,0,0,0,0,0,0,""]
[395,4300,"Субсидии и други текущи трансфери за нефинансови предприятия",null,{"$f":"SUM(E1804:E1806)","v":0},0,0,{"$f":"SUM(H1804:H1806)","v":0},0,0,0,0,""]
[397,null,4301,"за текуща дейност",{"$f":"F1804+G1804+H1804","v":0},0,0,0,0,0,0,{"$f":"I1804+J1804+K1804","v":0},""]
[398,null,4302,"за осъществяване на болнична помощ ",0,null,null,null,null,null,null,0,""]
[399,null,4309,"други субсидии и плащания",0,null,null,null,null,null,null,0,""]
[400,4400,"Субсидии и други текущи трансфери за финансови институции",null,0,0,0,0,0,0,0,0,""]
[401,4500,"Субсидии и други текущи трансфери за юридически лица с нестопанска цел",null,0,0,0,0,0,0,0,0,""]
[404,4600,"Разходи за членски внос и участие в нетърговски организации и дейности",null,0,0,0,0,0,0,0,0,""]
[404,4900,"Предоставени текущи и капиталови трансфери за чужбина",null,{"$f":"+E1811+E1812","v":0},0,0,{"$f":"+H1811+H1812","v":0},0,0,0,0,""]
[440,null,4901,"текущи трансфери за чужбина",{"$f":"F1811+G1811+H1811","v":0},null,null,null,null,null,null,{"$f":"I1811+J1811+K1811","v":0},""]
[450,null,4902,"капиталови трансфери за чужбина",{"$f":"F1812+G1812+H1812","v":0},null,null,null,null,null,null,{"$f":"I1812+J1812+K1812","v":0},""]
[495,5100,"Основен ремонт на дълготрайни материални активи",null,{"$f":"F1813+G1813+H1813","v":0},0,0,0,0,0,0,{"$f":"I1813+J1813+K1813","v":0},""]
[500,5200,"Придобиване на дълготрайни материални активи",null,{"$f":"SUM(E1815:E1821)","v":0},0,0,{"$f":"SUM(H1815:H1821)","v":0},0,0,0,0,""]
[505,null,5201,"придобиване на компютри и хардуер",{"$f":"F1815+G1815+H1815","v":0},0,0,0,0,0,0,{"$f":"I1815+J1815+K1815","v":0},""]
[510,null,5202,"придобиване на сгради",0,0,0,0,0,0,0,0,""]
[515,null,5203,"придобиване на друго оборудване, машини и съоръжения",0,0,0,0,0,0,0,0,""]
[520,null,5204,"придобиване на транспортни средства",0,0,0,0,0,0,0,0,""]
[525,null,5205,"придобиване на стопански инвентар",0,0,0,0,0,0,0,0,""]
[635,null,5206,"изграждане на инфраструктурни обекти",0,0,0,0,0,0,0,0,""]
[640,null,5219,"придобиване на други ДМА",0,0,0,0,0,0,0,0,""]
[645,5300,"Придобиване на нематериални дълготрайни активи",null,{"$f":"SUM(E1823:E1824)","v":0},0,0,{"$f":"SUM(H1823:H1824)","v":0},0,0,0,0,""]
[650,null,5301,"придобиване на програмни продукти и лицензи за програмни продукти",{"$f":"F1823+G1823+H1823","v":0},0,0,0,0,0,0,{"$f":"I1823+J1823+K1823","v":0},""]
[655,null,5309,"придобиване на други нематериални дълготрайни активи",{"$f":"F1824+G1824+H1824","v":0},0,0,0,0,0,0,{"$f":"I1824+J1824+K1824","v":0},""]
[665,5400,"Придобиване на земя",null,{"$f":"F1825+G1825+H1825","v":0},null,0,0,0,null,0,{"$f":"I1825+J1825+K1825","v":0},""]
[675,5500,"Капиталови трансфери",null,{"$f":"SUM(E1827:E1830)","v":0},0,0,{"$f":"SUM(H1827:H1830)","v":0},0,0,0,0,""]
[685,null,5501,"капиталови трансфери за нефинансови предприятия",{"$f":"F1827+G1827+H1827","v":0},null,null,null,null,null,null,{"$f":"I1827+J1827+K1827","v":0},""]
[690,null,5502,"капиталови трансфери за финансови институции",{"$f":"F1828+G1828+H1828","v":0},null,null,null,null,null,null,{"$f":"I1828+J1828+K1828","v":0},""]
[695,null,5503,"капиталови трансфери за организации с нестопанска цел",{"$f":"F1829+G1829+H1829","v":0},null,null,null,null,null,null,{"$f":"I1829+J1829+K1829","v":0},""]
[700,null,5504,"капиталови трансфери за домакинствата",{"$f":"F1830+G1830+H1830","v":0},null,null,null,null,null,null,{"$f":"I1830+J1830+K1830","v":0},""]
[710,5700,"Прираст на държавния резерв и изкупуване на земеделска продукция (включва и § 40-71)",null,{"$f":"SUM(E1832:E1834)","v":0},0,0,0,0,0,0,{"$f":"SUM(L1832:L1834)","v":0},""]
[715,null,5701,"плащания за попълване на държавния резерв",{"$f":"F1832+G1832+H1832","v":0},0,0,0,0,0,0,{"$f":"I1832+J1832+K1832","v":0},""]
[720,null,5702,"плащания за изкупуване на земеделска продукция",{"$f":"F1833+G1833+H1833","v":0},0,0,0,0,0,0,{"$f":"I1833+J1833+K1833","v":0},""]
[725,null,4071,"постъпления от продажба на държавния резерв (-)",{"$f":"F1834+G1834+H1834","v":0},0,0,0,0,0,0,{"$f":"I1834+J1834+K1834","v":0},""]
[730,null,"Резерв за непредвидени и неотложни разходи",null,null,null,null,null,null,null,null,null,""]
[735,98,"Резерв за непредвидени и неотложни разходи",null,{"$f":"F1836+G1836+H1836","v":0},null,null,null,0,0,0,{"$f":"I1836+J1836+K1836","v":0},""]
[740,null,null,null,null,null,null,null,null,null,null,null,""]
[745,null,null,null,null,null,null,null,null,null,null,null,""]
[750,null,null,null,null,null,null,null,null,null,null,null,""]
[755,null,"99-99",{"$f":"+B1840","v":0},{"$f":"SUM(E1725,E1728,E1734,E1742,E1743,E1761,E1765,E1771,E1774,E1775,E1776,E1777,E1778,E1787,E1793,E1794,E1795,E1796,E1803,E1807,E1808,E1809,E1810,E1813,E1814,E1822,E1825,E1826,E1831)+E1836","v":0},0,0,0,0,0,0,0,{"$f":"(IF($E1840<>0,$M$2,IF($L1840<>0,$M$2,\"\")))","v":""},{"$f":"LEFT(C1722,1)","v":"3"}]
[760,"край на дейност",null,null,null,null,null,null,null,null,null,null,{"$f":"(IF($E1840<>0,$M$2,IF($L1840<>0,$M$2,\"\")))","v":""}]
[765,null,null,null,null,null,null,null,null,null,null,null,{"$f":"(IF($E1840<>0,$M$2,IF($L1840<>0,$M$2,\"\")))","v":""}]
[775,null,null,null,null,null,null,null,null,null,null,null,{"$f":"(IF(E1838<>0,$G$2,IF(L1838<>0,$G$2,\"\")))","v":""}]
[780,null,null,null,null,null,null,null,null,null,null,null,{"$f":"(IF($E1977<>0,$M$2,IF($L1977<>0,$M$2,\"\")))","v":""}]
[785,null,null,null,null,null,null,null,null,null,null,null,{"$f":"(IF($E1977<>0,$M$2,IF($L1977<>0,$M$2,\"\")))","v":""}]
[790,{"$f":"$B$7","v":"ОТЧЕТНИ ДАННИ ПО ЕБК ЗА ИЗПЪЛНЕНИЕТО НА БЮДЖЕТА"},null,null,null,null,null,null,null,null,null,null,{"$f":"(IF($E1977<>0,$M$2,IF($L1977<>0,$M$2,\"\")))","v":""}]
[795,null,null,null,"за периода от ","до",null,"        II.1. РАЗХОДИ ПО ДЕЙНОСТИ",null,null,null,null,{"$f":"(IF($E1977<>0,$M$2,IF($L1977<>0,$M$2,\"\")))","v":""}]
[805,{"$f":"$B$9","v":"ОУ Г.С.РАКОВСКИ-С.ГЪЛЪБЕЦ"},null,null,{"$f":"$E$9","v":"2020-01-01"},{"$f":"$F$9","v":"2020-03-31"},null,null,null,null,null,null,{"$f":"(IF($E1977<>0,$M$2,IF($L1977<>0,$M$2,\"\")))","v":""}]
[810,{"$f":"$B$10","v":"(наименование на разпоредителя с бюджет)"},null,null,null,null,null,null,null,null,null,null,{"$f":"(IF($E1977<>0,$M$2,IF($L1977<>0,$M$2,\"\")))","v":""}]
[815,null,null,null,null,null,null,null,null,null,null,null,{"$f":"(IF($E1977<>0,$M$2,IF($L1977<>0,$M$2,\"\")))","v":""}]
[525,{"$f":"$B$12","v":"Поморие"},null,null,"       код по ЕБК:",{"$f":"$F$12","v":"5207"},null,null,null,null,null,null,{"$f":"(IF($E1977<>0,$M$2,IF($L1977<>0,$M$2,\"\")))","v":""}]
[820,{"$f":"$B$13","v":"(наименование на първостепенния разпоредител с бюджет)"},null,null,null,null,null,null,null,null,null,null,{"$f":"(IF($E1977<>0,$M$2,IF($L1977<>0,$M$2,\"\")))","v":""}]
[821,null,null,"ФИНАНСОВО-ПРАВНА ФОРМА",{"$f":"$E$15","v":0},{"$f":"$F$15","v":"БЮДЖЕТ"},null,null,null,null,null,null,{"$f":"(IF($E1977<>0,$M$2,IF($L1977<>0,$M$2,\"\")))","v":""}]
[822,null,null,null,null,null,null,null,null,null,null,"(в лева)",{"$f":"(IF($E1977<>0,$M$2,IF($L1977<>0,$M$2,\"\")))","v":""}]
[823,null,null,"II.1. РАЗХОДИ ПО ДЕЙНОСТИ","Уточнен план 2020",null,null,null,"Отчет 2020",null,null,null,{"$f":"(IF($E1977<>0,$M$2,IF($L1977<>0,$M$2,\"\")))","v":""}]
[825,"§§","под-§§","НАИМЕНОВАНИЯ НА ПАРАГРАФИТЕ И ПОДПАРАГРАФИТЕ",{"$f":"$E$20","v":"Уточнен план                Общо"},{"$f":"$F$20","v":"държавни дейности"},{"$f":"$G$20","v":"местни дейности"},{"$f":"$H$20","v":"дофинансиране"},{"$f":"$I$20","v":"държавни дейности -ОТЧЕТ"},{"$f":"$J$20","v":"местни дейности - ОТЧЕТ"},{"$f":"$K$20","v":"дофинансиране - ОТЧЕТ"},{"$f":"$L$20","v":"ОТЧЕТ                                    ОБЩО"},{"$f":"(IF($E1977<>0,$M$2,IF($L1977<>0,$M$2,\"\")))","v":""}]
[null,null,null," 02 ¦",{"$f":"$E$21","v":"(1)"},{"$f":"$F$21","v":"(2)"},{"$f":"$G$21","v":"(3)"},{"$f":"$H$21","v":"(4)"},{"$f":"$I$21","v":"(5)"},{"$f":"$J$21","v":"(6)"},{"$f":"$K$21","v":"(7)"},{"$f":"$L$21","v":"(8)"},{"$f":"(IF($E1977<>0,$M$2,IF($L1977<>0,$M$2,\"\")))","v":""}]
[null,null,{"$f":"VLOOKUP(D1858,OP_LIST2,2,FALSE)","v":{"$error":"#N/A"}},null,null,null,null,null,null,null,null,null,{"$f":"(IF($E1977<>0,$M$2,IF($L1977<>0,$M$2,\"\")))","v":""}]
[null,null,{"$f":"VLOOKUP(D1860,EBK_DEIN2,2,FALSE)","v":3318},"<------          ДЕЙНОСТ    -  код  по  ЕБК",null,null,null,null,null,null,null,null,{"$f":"(IF($E1977<>0,$M$2,IF($L1977<>0,$M$2,\"\")))","v":""}]
[null,null,{"$f":"+C1859","v":3318},"318 Подготвителна група в училище",null,null,null,null,null,null,null,null,{"$f":"(IF($E1977<>0,$M$2,IF($L1977<>0,$M$2,\"\")))","v":""}]
[null,null,null,"(наименование на дейността)",null,null,null,null,null,null,null,null,{"$f":"(IF($E1977<>0,$M$2,IF($L1977<>0,$M$2,\"\")))","v":""}]
[null,100,"Заплати и възнаграждения за персонала, нает по трудови и служебни правоотношения",null,{"$f":"SUM(E1863:E1864)","v":0},0,0,{"$f":"SUM(H1863:H1864)","v":0},0,0,0,0,{"$f":"(IF($E1862<>0,$M$2,IF($L1862<>0,$M$2,\"\")))","v":""}]
[null,null,101,"заплати и възнаграждения на персонала нает по трудови правоотношения",{"$f":"F1863+G1863+H1863","v":0},0,0,0,0,0,0,{"$f":"I1863+J1863+K1863","v":0},{"$f":"(IF($E1863<>0,$M$2,IF($L1863<>0,$M$2,\"\")))","v":""}]
[null,null,102,"заплати и възнаграждения на персонала нает по служебни правоотношения",{"$f":"F1864+G1864+H1864","v":0},0,0,0,0,0,0,{"$f":"I1864+J1864+K1864","v":0},""]
[null,200,"Други възнаграждения и плащания за персонала",null,{"$f":"SUM(E1866:E1870)","v":0},0,0,{"$f":"SUM(H1866:H1870)","v":0},0,0,0,0,""]
[null,null,201,"за нещатен персонал нает по трудови правоотношения ",{"$f":"F1866+G1866+H1866","v":0},0,0,0,0,0,0,{"$f":"I1866+J1866+K1866","v":0},""]
[null,null,202,"за персонала по извънтрудови правоотношения",{"$f":"F1867+G1867+H1867","v":0},0,0,0,0,0,0,{"$f":"I1867+J1867+K1867","v":0},""]
[null,null,205,"изплатени суми от СБКО за облекло и други на персонала, с характер на възнаграждение",{"$f":"F1868+G1868+H1868","v":0},0,0,0,0,0,0,{"$f":"I1868+J1868+K1868","v":0},""]
[null,null,208,"обезщетения за персонала, с характер на възнаграждение",{"$f":"F1869+G1869+H1869","v":0},0,0,0,0,0,0,{"$f":"I1869+J1869+K1869","v":0},""]
[null,null,209,"другиплащания и възнаграждения",{"$f":"F1870+G1870+H1870","v":0},0,0,0,0,0,0,{"$f":"I1870+J1870+K1870","v":0},""]
[null,500,"Задължителни осигурителни вноски от работодатели",null,{"$f":"SUM(E1872:E1878)","v":0},0,0,{"$f":"SUM(H1872:H1878)","v":0},0,0,0,0,""]
[null,null,551,"осигурителни вноски от работодатели за Държавното обществено осигуряване (ДОО)",{"$f":"F1872+G1872+H1872","v":0},0,0,0,0,0,0,{"$f":"I1872+J1872+K1872","v":0},""]
[null,null,552,"осигурителни вноски от работодатели за Учителския пенсионен фонд (УчПФ)",0,0,0,0,0,0,0,0,""]
[null,null,558,"вноски по чл. 4б и 4в от КСО за сметка на осигурителя",{"$f":"F1874+G1874+H1874","v":0},0,0,0,0,0,0,{"$f":"I1874+J1874+K1874","v":0},""]
[null,null,560,"здравно-осигурителни вноски от работодатели",0,0,0,0,0,0,0,0,""]
[null,null,580,"вноски за допълнително задължително осигуряване от работодатели",0,0,0,0,0,0,0,0,""]
[null,null,588,"коректив на вноски за ДЗПО за сумите по чл. 4б и 4в от КСО за сметка на осигурителя",{"$f":"F1877+G1877+H1877","v":0},0,0,0,0,0,0,{"$f":"I1877+J1877+K1877","v":0},""]
[null,null,590,"задължителни вноски за чуждестранни пенсионни фондове и  схеми за сметка на осигурителя",0,null,null,null,null,null,null,0,""]
[5,800,"Вноски за доброволно осигуряване  ",null,0,null,null,null,null,null,null,0,""]
[10,1000,"Издръжка",null,{"$f":"SUM(E1881:E1897)","v":0},0,0,{"$f":"SUM(H1881:H1897)","v":0},0,0,0,0,""]
[15,null,1011,"Храна",{"$f":"F1881+G1881+H1881","v":0},0,0,0,0,0,0,{"$f":"I1881+J1881+K1881","v":0},""]
[35,null,1012,"Медикаменти",0,0,0,0,0,0,0,0,""]
[40,null,1013,"Постелен инвентар и облекло",0,0,0,0,0,0,0,0,""]
[45,null,1014,"Учебни и научно-изследователски разходи и книги за библиотеките",0,0,0,0,0,0,0,0,""]
[50,null,1015,"материали",0,0,0,0,0,0,0,0,""]
[55,null,1016,"вода, горива и енергия",0,0,0,0,0,0,0,0,""]
[60,null,1020,"разходи за външни услуги",0,0,0,0,0,0,0,0,""]
[65,null,1030,"Текущ ремонт",0,0,0,0,0,0,0,0,""]
[70,null,1051,"командировки в страната",0,0,0,0,0,0,0,0,""]
[75,null,1052,"краткосрочни командировки в чужбина",0,0,0,0,0,0,0,0,""]
[80,null,1053,"дългосрочни командировки в чужбина",0,0,0,0,0,0,0,0,""]
[80,null,1062,"разходи за застраховки",0,0,0,0,0,0,0,0,""]
[85,null,1063,"такса ангажимент по заеми",0,0,0,0,0,0,0,0,""]
[90,null,1069,"други финансови услуги",0,0,0,0,0,0,0,0,""]
[90,null,1091,"други разходи за СБКО",0,0,0,0,0,0,0,0,""]
[115,null,1092,"разходи за договорни санкции и неустойки, съдебни обезщетения и разноски",0,0,0,0,0,0,0,0,""]
[125,null,1098,"други разходи, некласифицирани в другите параграфи и подпараграфи",0,0,0,0,0,0,0,0,""]
[130,1900,"Платени данъци, такси и административни санкции",null,{"$f":"SUM(E1899:E1901)","v":0},0,0,{"$f":"SUM(H1899:H1901)","v":0},0,0,0,0,""]
[135,null,1901,"платени държавни данъци, такси, наказателни лихви и административни санкции",{"$f":"F1899+G1899+H1899","v":0},0,0,0,0,0,0,{"$f":"I1899+J1899+K1899","v":0},""]
[140,null,1981,"платени общински данъци, такси, наказателни лихви и административни санкции",{"$f":"F1900+G1900+H1900","v":0},0,0,0,0,0,0,{"$f":"I1900+J1900+K1900","v":0},""]
[145,null,1991,"платени данъци, такси, наказателни лихви и административни санкции в чужбина",{"$f":"F1901+G1901+H1901","v":0},null,null,null,null,null,null,{"$f":"I1901+J1901+K1901","v":0},""]
[150,2100,"Разходи за лихви по емисии на държавни (общински) ценни книжа",null,{"$f":"SUM(E1903:E1907)","v":0},0,0,{"$f":"SUM(H1903:H1907)","v":0},0,0,0,0,""]
[155,null,2110,"лихви по държавни (общински) ценни книжа",{"$f":"F1903+G1903+H1903","v":0},null,null,null,null,null,null,{"$f":"I1903+J1903+K1903","v":0},""]
[160,null,2120,"отстъпки по държавни (общински) ценни книжа",{"$f":"F1904+G1904+H1904","v":0},null,null,null,null,null,null,{"$f":"I1904+J1904+K1904","v":0},""]
[165,null,2125,"лихви и отстъпки по целеви емисии на държавни ценни книжа",{"$f":"F1905+G1905+H1905","v":0},0,0,0,0,0,0,{"$f":"I1905+J1905+K1905","v":0},""]
[175,null,2140,"лихви по държавни ценни книжа, емитирани за структурната реформа ",{"$f":"F1906+G1906+H1906","v":0},0,0,0,0,0,0,{"$f":"I1906+J1906+K1906","v":0},""]
[180,null,2190,"премии над номинала от емисии на държавни (общински) ценни книжа (-)",{"$f":"F1907+G1907+H1907","v":0},null,null,null,null,null,null,{"$f":"I1907+J1907+K1907","v":0},""]
[185,2200,"Разходи за лихви по заеми от страната",null,{"$f":"SUM(E1909:E1910)","v":0},0,0,{"$f":"SUM(H1909:H1910)","v":0},0,0,0,0,""]
[190,null,2221,"Разходи за лихви по заеми от банки в страната",{"$f":"F1909+G1909+H1909","v":0},0,0,0,0,0,0,{"$f":"I1909+J1909+K1909","v":0},""]
[200,null,2224,"Разходи за лихви по други заеми от страната",0,0,0,0,0,0,0,0,""]
[200,2500,"Разходи за лихви по заеми от други държави",null,0,null,null,null,null,null,null,0,""]
[205,2600,"Разходи за лихви по заеми от международни организации и институции",null,0,null,null,null,null,null,null,0,""]
[210,2700,"Разходи за лихви по заеми от банки и други финансови институции от чужбина",null,0,null,null,null,null,null,null,0,""]
[215,2800,"Разходи за лихви и отстъпки по облигации, емитирани и търгувани на международните капиталови пазари",null,0,null,null,null,null,null,null,0,""]
[220,2900,"Други разходи за лихви",null,{"$f":"SUM(E1916:E1923)","v":0},{"$f":"SUM(F1916:F1923)","v":0},{"$f":"SUM(G1916:G1923)","v":0},0,0,0,0,0,""]
[225,null,2910,"Платени лихви по финансов лизинг и търговски кредит",{"$f":"F1916+G1916+H1916","v":0},0,null,null,0,null,null,{"$f":"I1916+J1916+K1916","v":0},""]
[230,null,2920,"Платени лихви по активирани гаранции по заеми от  банки в страната",{"$f":"F1917+G1917+H1917","v":0},null,null,null,null,null,null,{"$f":"I1917+J1917+K1917","v":0},""]
[245,null,2969,"Платени лихви по активирани гаранции по заеми от международни организации и институции",0,null,null,null,null,null,null,0,""]
[220,null,2970,"Платени лихви по активирани гаранции по заеми от банки и финансови институции от чужбина",0,null,null,null,null,null,null,0,""]
[225,null,2989,"Възстановени суми по платени лихви по активирани гаранции (-)",0,null,null,null,null,null,null,0,""]
[230,null,2990,"Платени лихви по активирани гаранции по заеми от  банки в страната",{"$f":"F1921+G1921+H1921","v":0},null,null,null,null,null,null,{"$f":"I1921+J1921+K1921","v":0},""]
[235,null,2991,"Други разходи за лихви към  местни лица",0,null,null,null,null,null,null,0,""]
[240,null,2992,"Други разходи за лихви към чуждестранни лица",0,null,null,null,null,null,null,0,""]
[245,3300,"Вноска в общия бюджет на Европейския съюз",null,{"$f":"SUM(E1925:E1929)","v":0},0,0,0,0,0,0,0,""]
[250,null,3301,"ресурс на база брутен национален доход",{"$f":"F1925+G1925+H1925","v":0},0,0,0,0,0,0,{"$f":"I1925+J1925+K1925","v":0},""]
[255,null,3302,"ресурс на база данък върху добавената стойност",0,0,0,0,0,0,0,0,""]
[265,null,3303,"корекция за Обединеното кралство",0,0,0,0,0,0,0,0,""]
[270,null,3304,"традиционни собствени ресурси - мита",0,0,0,0,0,0,0,0,""]
[290,null,3306,"участие във финансирането на брутното намаление за Нидерландия, Швеция, Дания и Австрия",0,0,0,0,0,0,0,0,""]
[320,3900,"Здравно-осигурителни плащания",null,0,0,0,0,0,0,0,0,{"$f":"(IF($E1930<>0,$M$2,IF($L1930<>0,$M$2,\"\")))","v":""}]
[330,4000,"Стипендии",null,0,0,0,0,0,0,0,0,""]
[350,4100,"Пенсии",null,0,0,0,0,0,0,0,0,""]
[355,4200,"Текущи трансфери, обезщетения и помощи за домакинствата",null,{"$f":"SUM(E1934:E1939)","v":0},0,0,{"$f":"SUM(H1934:H1939)","v":0},0,0,0,0,""]
[355,null,4201,"обезщетения и помощи по социалното осигуряване",{"$f":"F1934+G1934+H1934","v":0},null,null,null,null,null,null,{"$f":"I1934+J1934+K1934","v":0},""]
[375,null,4202,"обезщетения и помощи по социалното подпомагане",0,null,null,null,null,null,null,0,""]
[380,null,4214,"обезщетения и помощи по решение на общинския съвет",0,0,0,0,0,0,0,0,""]
[385,null,4217,"текущи трансфери за домакинства от средства на Европейския съюз",0,null,null,null,null,null,null,0,""]
[390,null,4218,"текущи трансфери за домакинства по други международни програми и споразумения",0,null,null,null,null,null,null,0,""]
[390,null,4219,"други текущи трансфери за домакинствата",0,0,0,0,0,0,0,0,""]
[395,4300,"Субсидии и други текущи трансфери за нефинансови предприятия",null,{"$f":"SUM(E1941:E1943)","v":0},0,0,{"$f":"SUM(H1941:H1943)","v":0},0,0,0,0,""]
[397,null,4301,"за текуща дейност",{"$f":"F1941+G1941+H1941","v":0},0,0,0,0,0,0,{"$f":"I1941+J1941+K1941","v":0},""]
[398,null,4302,"за осъществяване на болнична помощ ",0,null,null,null,null,null,null,0,""]
[399,null,4309,"други субсидии и плащания",0,null,null,null,null,null,null,0,""]
[400,4400,"Субсидии и други текущи трансфери за финансови институции",null,0,0,0,0,0,0,0,0,""]
[401,4500,"Субсидии и други текущи трансфери за юридически лица с нестопанска цел",null,0,0,0,0,0,0,0,0,""]
[404,4600,"Разходи за членски внос и участие в нетърговски организации и дейности",null,0,0,0,0,0,0,0,0,""]
[404,4900,"Предоставени текущи и капиталови трансфери за чужбина",null,{"$f":"+E1948+E1949","v":0},0,0,{"$f":"+H1948+H1949","v":0},0,0,0,0,""]
[440,null,4901,"текущи трансфери за чужбина",{"$f":"F1948+G1948+H1948","v":0},null,null,null,null,null,null,{"$f":"I1948+J1948+K1948","v":0},""]
[450,null,4902,"капиталови трансфери за чужбина",{"$f":"F1949+G1949+H1949","v":0},null,null,null,null,null,null,{"$f":"I1949+J1949+K1949","v":0},""]
[495,5100,"Основен ремонт на дълготрайни материални активи",null,{"$f":"F1950+G1950+H1950","v":0},0,0,0,0,0,0,{"$f":"I1950+J1950+K1950","v":0},""]
[500,5200,"Придобиване на дълготрайни материални активи",null,{"$f":"SUM(E1952:E1958)","v":0},0,0,{"$f":"SUM(H1952:H1958)","v":0},0,0,0,0,""]
[505,null,5201,"придобиване на компютри и хардуер",{"$f":"F1952+G1952+H1952","v":0},0,0,0,0,0,0,{"$f":"I1952+J1952+K1952","v":0},""]
[510,null,5202,"придобиване на сгради",0,0,0,0,0,0,0,0,""]
[515,null,5203,"придобиване на друго оборудване, машини и съоръжения",0,0,0,0,0,0,0,0,""]
[520,null,5204,"придобиване на транспортни средства",0,0,0,0,0,0,0,0,""]
[525,null,5205,"придобиване на стопански инвентар",0,0,0,0,0,0,0,0,""]
[635,null,5206,"изграждане на инфраструктурни обекти",0,0,0,0,0,0,0,0,""]
[640,null,5219,"придобиване на други ДМА",0,0,0,0,0,0,0,0,""]
[645,5300,"Придобиване на нематериални дълготрайни активи",null,{"$f":"SUM(E1960:E1961)","v":0},0,0,{"$f":"SUM(H1960:H1961)","v":0},0,0,0,0,""]
[650,null,5301,"придобиване на програмни продукти и лицензи за програмни продукти",{"$f":"F1960+G1960+H1960","v":0},0,0,0,0,0,0,{"$f":"I1960+J1960+K1960","v":0},""]
[655,null,5309,"придобиване на други нематериални дълготрайни активи",{"$f":"F1961+G1961+H1961","v":0},0,0,0,0,0,0,{"$f":"I1961+J1961+K1961","v":0},""]
[665,5400,"Придобиване на земя",null,{"$f":"F1962+G1962+H1962","v":0},null,0,0,0,null,0,{"$f":"I1962+J1962+K1962","v":0},""]
[675,5500,"Капиталови трансфери",null,{"$f":"SUM(E1964:E1967)","v":0},0,0,{"$f":"SUM(H1964:H1967)","v":0},0,0,0,0,""]
[685,null,5501,"капиталови трансфери за нефинансови предприятия",{"$f":"F1964+G1964+H1964","v":0},null,null,null,null,null,null,{"$f":"I1964+J1964+K1964","v":0},""]
[690,null,5502,"капиталови трансфери за финансови институции",{"$f":"F1965+G1965+H1965","v":0},null,null,null,null,null,null,{"$f":"I1965+J1965+K1965","v":0},""]
[695,null,5503,"капиталови трансфери за организации с нестопанска цел",{"$f":"F1966+G1966+H1966","v":0},null,null,null,null,null,null,{"$f":"I1966+J1966+K1966","v":0},""]
[700,null,5504,"капиталови трансфери за домакинствата",{"$f":"F1967+G1967+H1967","v":0},null,null,null,null,null,null,{"$f":"I1967+J1967+K1967","v":0},""]
[710,5700,"Прираст на държавния резерв и изкупуване на земеделска продукция (включва и § 40-71)",null,{"$f":"SUM(E1969:E1971)","v":0},0,0,0,0,0,0,{"$f":"SUM(L1969:L1971)","v":0},""]
[715,null,5701,"плащания за попълване на държавния резерв",{"$f":"F1969+G1969+H1969","v":0},0,0,0,0,0,0,{"$f":"I1969+J1969+K1969","v":0},""]
[720,null,5702,"плащания за изкупуване на земеделска продукция",{"$f":"F1970+G1970+H1970","v":0},0,0,0,0,0,0,{"$f":"I1970+J1970+K1970","v":0},""]
[725,null,4071,"постъпления от продажба на държавния резерв (-)",{"$f":"F1971+G1971+H1971","v":0},0,0,0,0,0,0,{"$f":"I1971+J1971+K1971","v":0},""]
[730,null,"Резерв за непредвидени и неотложни разходи",null,null,null,null,null,null,null,null,null,""]
[735,98,"Резерв за непредвидени и неотложни разходи",null,{"$f":"F1973+G1973+H1973","v":0},null,null,null,0,0,0,{"$f":"I1973+J1973+K1973","v":0},""]
[740,null,null,null,null,null,null,null,null,null,null,null,""]
[745,null,null,null,null,null,null,null,null,null,null,null,""]
[750,null,null,null,null,null,null,null,null,null,null,null,""]
[755,null,"99-99",{"$f":"+B1977","v":0},{"$f":"SUM(E1862,E1865,E1871,E1879,E1880,E1898,E1902,E1908,E1911,E1912,E1913,E1914,E1915,E1924,E1930,E1931,E1932,E1933,E1940,E1944,E1945,E1946,E1947,E1950,E1951,E1959,E1962,E1963,E1968)+E1973","v":0},0,0,0,0,0,0,0,{"$f":"(IF($E1977<>0,$M$2,IF($L1977<>0,$M$2,\"\")))","v":""},{"$f":"LEFT(C1859,1)","v":"3"}]
[760,"край на дейност",null,null,null,null,null,null,null,null,null,null,{"$f":"(IF($E1977<>0,$M$2,IF($L1977<>0,$M$2,\"\")))","v":""}]
[765,null,null,null,null,null,null,null,null,null,null,null,{"$f":"(IF($E1977<>0,$M$2,IF($L1977<>0,$M$2,\"\")))","v":""}]
[775,null,null,null,null,null,null,null,null,null,null,null,{"$f":"(IF(E1975<>0,$G$2,IF(L1975<>0,$G$2,\"\")))","v":""}]
[780,null,null,null,null,null,null,null,null,null,null,null,{"$f":"(IF($E2114<>0,$M$2,IF($L2114<>0,$M$2,\"\")))","v":""}]
[785,null,null,null,null,null,null,null,null,null,null,null,{"$f":"(IF($E2114<>0,$M$2,IF($L2114<>0,$M$2,\"\")))","v":""}]
[790,{"$f":"$B$7","v":"ОТЧЕТНИ ДАННИ ПО ЕБК ЗА ИЗПЪЛНЕНИЕТО НА БЮДЖЕТА"},null,null,null,null,null,null,null,null,null,null,{"$f":"(IF($E2114<>0,$M$2,IF($L2114<>0,$M$2,\"\")))","v":""}]
[795,null,null,null,"за периода от ","до",null,"        II.1. РАЗХОДИ ПО ДЕЙНОСТИ",null,null,null,null,{"$f":"(IF($E2114<>0,$M$2,IF($L2114<>0,$M$2,\"\")))","v":""}]
[805,{"$f":"$B$9","v":"ОУ Г.С.РАКОВСКИ-С.ГЪЛЪБЕЦ"},null,null,{"$f":"$E$9","v":"2020-01-01"},{"$f":"$F$9","v":"2020-03-31"},null,null,null,null,null,null,{"$f":"(IF($E2114<>0,$M$2,IF($L2114<>0,$M$2,\"\")))","v":""}]
[810,{"$f":"$B$10","v":"(наименование на разпоредителя с бюджет)"},null,null,null,null,null,null,null,null,null,null,{"$f":"(IF($E2114<>0,$M$2,IF($L2114<>0,$M$2,\"\")))","v":""}]
[815,null,null,null,null,null,null,null,null,null,null,null,{"$f":"(IF($E2114<>0,$M$2,IF($L2114<>0,$M$2,\"\")))","v":""}]
[525,{"$f":"$B$12","v":"Поморие"},null,null,"       код по ЕБК:",{"$f":"$F$12","v":"5207"},null,null,null,null,null,null,{"$f":"(IF($E2114<>0,$M$2,IF($L2114<>0,$M$2,\"\")))","v":""}]
[820,{"$f":"$B$13","v":"(наименование на първостепенния разпоредител с бюджет)"},null,null,null,null,null,null,null,null,null,null,{"$f":"(IF($E2114<>0,$M$2,IF($L2114<>0,$M$2,\"\")))","v":""}]
[821,null,null,"ФИНАНСОВО-ПРАВНА ФОРМА",{"$f":"$E$15","v":0},{"$f":"$F$15","v":"БЮДЖЕТ"},null,null,null,null,null,null,{"$f":"(IF($E2114<>0,$M$2,IF($L2114<>0,$M$2,\"\")))","v":""}]
[822,null,null,null,null,null,null,null,null,null,null,"(в лева)",{"$f":"(IF($E2114<>0,$M$2,IF($L2114<>0,$M$2,\"\")))","v":""}]
[823,null,null,"II.1. РАЗХОДИ ПО ДЕЙНОСТИ","Уточнен план 2020",null,null,null,"Отчет 2020",null,null,null,{"$f":"(IF($E2114<>0,$M$2,IF($L2114<>0,$M$2,\"\")))","v":""}]
[825,"§§","под-§§","НАИМЕНОВАНИЯ НА ПАРАГРАФИТЕ И ПОДПАРАГРАФИТЕ",{"$f":"$E$20","v":"Уточнен план                Общо"},{"$f":"$F$20","v":"държавни дейности"},{"$f":"$G$20","v":"местни дейности"},{"$f":"$H$20","v":"дофинансиране"},{"$f":"$I$20","v":"държавни дейности -ОТЧЕТ"},{"$f":"$J$20","v":"местни дейности - ОТЧЕТ"},{"$f":"$K$20","v":"дофинансиране - ОТЧЕТ"},{"$f":"$L$20","v":"ОТЧЕТ                                    ОБЩО"},{"$f":"(IF($E2114<>0,$M$2,IF($L2114<>0,$M$2,\"\")))","v":""}]
[null,null,null," 02 ¦",{"$f":"$E$21","v":"(1)"},{"$f":"$F$21","v":"(2)"},{"$f":"$G$21","v":"(3)"},{"$f":"$H$21","v":"(4)"},{"$f":"$I$21","v":"(5)"},{"$f":"$J$21","v":"(6)"},{"$f":"$K$21","v":"(7)"},{"$f":"$L$21","v":"(8)"},{"$f":"(IF($E2114<>0,$M$2,IF($L2114<>0,$M$2,\"\")))","v":""}]
[null,null,{"$f":"VLOOKUP(D1995,OP_LIST2,2,FALSE)","v":{"$error":"#N/A"}},null,null,null,null,null,null,null,null,null,{"$f":"(IF($E2114<>0,$M$2,IF($L2114<>0,$M$2,\"\")))","v":""}]
[null,null,{"$f":"VLOOKUP(D1997,EBK_DEIN2,2,FALSE)","v":3321},"<------          ДЕЙНОСТ    -  код  по  ЕБК",null,null,null,null,null,null,null,null,{"$f":"(IF($E2114<>0,$M$2,IF($L2114<>0,$M$2,\"\")))","v":""}]
[null,null,{"$f":"+C1996","v":3321},"321 Специални училища и центрове за специална образователна подкрепа",null,null,null,null,null,null,null,null,{"$f":"(IF($E2114<>0,$M$2,IF($L2114<>0,$M$2,\"\")))","v":""}]
[null,null,null,"(наименование на дейността)",null,null,null,null,null,null,null,null,{"$f":"(IF($E2114<>0,$M$2,IF($L2114<>0,$M$2,\"\")))","v":""}]
[null,100,"Заплати и възнаграждения за персонала, нает по трудови и служебни правоотношения",null,{"$f":"SUM(E2000:E2001)","v":0},0,0,{"$f":"SUM(H2000:H2001)","v":0},0,0,0,0,{"$f":"(IF($E1999<>0,$M$2,IF($L1999<>0,$M$2,\"\")))","v":""}]
[null,null,101,"заплати и възнаграждения на персонала нает по трудови правоотношения",{"$f":"F2000+G2000+H2000","v":0},0,0,0,0,0,0,{"$f":"I2000+J2000+K2000","v":0},{"$f":"(IF($E2000<>0,$M$2,IF($L2000<>0,$M$2,\"\")))","v":""}]
[null,null,102,"заплати и възнаграждения на персонала нает по служебни правоотношения",{"$f":"F2001+G2001+H2001","v":0},0,0,0,0,0,0,{"$f":"I2001+J2001+K2001","v":0},""]
[null,null,205,"изплатени суми от СБКО за облекло и други на персонала, с характер на възнаграждение",{"$f":"F2005+G2005+H2005","v":0},0,0,0,0,0,0,{"$f":"I2005+J2005+K2005","v":0},""]
[null,null,552,"осигурителни вноски от работодатели за Учителския пенсионен фонд (УчПФ)",0,0,0,0,0,0,0,0,""]
[null,null,580,"вноски за допълнително задължително осигуряване от работодатели",0,0,0,0,0,0,0,0,""]
[null,null,590,"задължителни вноски за чуждестранни пенсионни фондове и  схеми за сметка на осигурителя",0,null,null,null,null,null,null,0,""]
[40,null,1013,"Постелен инвентар и облекло",0,0,0,0,0,0,0,0,""]
[60,null,1020,"разходи за външни услуги",0,0,0,0,0,0,0,0,""]
[65,null,1030,"Текущ ремонт",0,0,0,0,0,0,0,0,""]
[80,null,1062,"разходи за застраховки",0,0,0,0,0,0,0,0,""]
[115,null,1092,"разходи за договорни санкции и неустойки, съдебни обезщетения и разноски",0,0,0,0,0,0,0,0,""]
[145,null,1991,"платени данъци, такси, наказателни лихви и административни санкции в чужбина",{"$f":"F2038+G2038+H2038","v":0},null,null,null,null,null,null,{"$f":"I2038+J2038+K2038","v":0},""]
[160,null,2120,"отстъпки по държавни (общински) ценни книжа",{"$f":"F2041+G2041+H2041","v":0},null,null,null,null,null,null,{"$f":"I2041+J2041+K2041","v":0},""]
[180,null,2190,"премии над номинала от емисии на държавни (общински) ценни книжа (-)",{"$f":"F2044+G2044+H2044","v":0},null,null,null,null,null,null,{"$f":"I2044+J2044+K2044","v":0},""]
[200,null,2224,"Разходи за лихви по други заеми от страната",0,0,0,0,0,0,0,0,""]
[205,2600,"Разходи за лихви по заеми от международни организации и институции",null,0,null,null,null,null,null,null,0,""]
[220,2900,"Други разходи за лихви",null,{"$f":"SUM(E2053:E2060)","v":0},{"$f":"SUM(F2053:F2060)","v":0},{"$f":"SUM(G2053:G2060)","v":0},0,0,0,0,0,""]
[225,null,2989,"Възстановени суми по платени лихви по активирани гаранции (-)",0,null,null,null,null,null,null,0,""]
[245,3300,"Вноска в общия бюджет на Европейския съюз",null,{"$f":"SUM(E2062:E2066)","v":0},0,0,0,0,0,0,0,""]
[265,null,3303,"корекция за Обединеното кралство",0,0,0,0,0,0,0,0,""]
[290,null,3306,"участие във финансирането на брутното намаление за Нидерландия, Швеция, Дания и Австрия",0,0,0,0,0,0,0,0,""]
[375,null,4202,"обезщетения и помощи по социалното подпомагане",0,null,null,null,null,null,null,0,""]
[390,null,4218,"текущи трансфери за домакинства по други международни програми и споразумения",0,null,null,null,null,null,null,0,""]
[395,4300,"Субсидии и други текущи трансфери за нефинансови предприятия",null,{"$f":"SUM(E2078:E2080)","v":0},0,0,{"$f":"SUM(H2078:H2080)","v":0},0,0,0,0,""]
[399,null,4309,"други субсидии и плащания",0,null,null,null,null,null,null,0,""]
[404,4900,"Предоставени текущи и капиталови трансфери за чужбина",null,{"$f":"+E2085+E2086","v":0},0,0,{"$f":"+H2085+H2086","v":0},0,0,0,0,""]
[500,5200,"Придобиване на дълготрайни материални активи",null,{"$f":"SUM(E2089:E2095)","v":0},0,0,{"$f":"SUM(H2089:H2095)","v":0},0,0,0,0,""]
[525,null,5205,"придобиване на стопански инвентар",0,0,0,0,0,0,0,0,""]
[645,5300,"Придобиване на нематериални дълготрайни активи",null,{"$f":"SUM(E2097:E2098)","v":0},0,0,{"$f":"SUM(H2097:H2098)","v":0},0,0,0,0,""]
[655,null,5309,"придобиване на други нематериални дълготрайни активи",{"$f":"F2098+G2098+H2098","v":0},0,0,0,0,0,0,{"$f":"I2098+J2098+K2098","v":0},""]
[685,null,5501,"капиталови трансфери за нефинансови предприятия",{"$f":"F2101+G2101+H2101","v":0},null,null,null,null,null,null,{"$f":"I2101+J2101+K2101","v":0},""]
[720,null,5702,"плащания за изкупуване на земеделска продукция",{"$f":"F2107+G2107+H2107","v":0},0,0,0,0,0,0,{"$f":"I2107+J2107+K2107","v":0},""]
[725,null,4071,"постъпления от продажба на държавния резерв (-)",{"$f":"F2108+G2108+H2108","v":0},0,0,0,0,0,0,{"$f":"I2108+J2108+K2108","v":0},""]
[745,null,null,null,null,null,null,null,null,null,null,null,""]
[765,null,null,null,null,null,null,null,null,null,null,null,{"$f":"(IF($E2114<>0,$M$2,IF($L2114<>0,$M$2,\"\")))","v":""}]
[785,null,null,null,null,null,null,null,null,null,null,null,{"$f":"(IF($E2251<>0,$M$2,IF($L2251<>0,$M$2,\"\")))","v":1}]
[795,null,null,null,"за периода от ","до",null,"        II.1. РАЗХОДИ ПО ДЕЙНОСТИ",null,null,null,null,{"$f":"(IF($E2251<>0,$M$2,IF($L2251<>0,$M$2,\"\")))","v":1}]
[821,null,null,"ФИНАНСОВО-ПРАВНА ФОРМА",{"$f":"$E$15","v":0},{"$f":"$F$15","v":"БЮДЖЕТ"},null,null,null,null,null,null,{"$f":"(IF($E2251<>0,$M$2,IF($L2251<>0,$M$2,\"\")))","v":1}]
[825,"§§","под-§§","НАИМЕНОВАНИЯ НА ПАРАГРАФИТЕ И ПОДПАРАГРАФИТЕ",{"$f":"$E$20","v":"Уточнен план                Общо"},{"$f":"$F$20","v":"държавни дейности"},{"$f":"$G$20","v":"местни дейности"},{"$f":"$H$20","v":"дофинансиране"},{"$f":"$I$20","v":"държавни дейности -ОТЧЕТ"},{"$f":"$J$20","v":"местни дейности - ОТЧЕТ"},{"$f":"$K$20","v":"дофинансиране - ОТЧЕТ"},{"$f":"$L$20","v":"ОТЧЕТ                                    ОБЩО"},{"$f":"(IF($E2251<>0,$M$2,IF($L2251<>0,$M$2,\"\")))","v":1}]
[null,null,{"$f":"VLOOKUP(D2132,OP_LIST2,2,FALSE)","v":{"$error":"#N/A"}},null,null,null,null,null,null,null,null,null,{"$f":"(IF($E2251<>0,$M$2,IF($L2251<>0,$M$2,\"\")))","v":1}]
[null,null,null,"(наименование на дейността)",null,null,null,null,null,null,null,null,{"$f":"(IF($E2251<>0,$M$2,IF($L2251<>0,$M$2,\"\")))","v":1}]
[null,null,201,"за нещатен персонал нает по трудови правоотношения ",{"$f":"F2140+G2140+H2140","v":0},0,0,0,0,0,0,{"$f":"I2140+J2140+K2140","v":0},""]
[null,null,209,"другиплащания и възнаграждения",{"$f":"F2144+G2144+H2144","v":720},720,0,0,175.77,0,0,{"$f":"I2144+J2144+K2144","v":175.77},1]
[null,null,558,"вноски по чл. 4б и 4в от КСО за сметка на осигурителя",{"$f":"F2148+G2148+H2148","v":0},0,0,0,0,0,0,{"$f":"I2148+J2148+K2148","v":0},""]
[null,null,560,"здравно-осигурителни вноски от работодатели",17000,17000,0,0,3191.51,0,0,3191.51,1]
[15,null,1011,"Храна",{"$f":"F2155+G2155+H2155","v":5220},5220,0,0,549.49,0,0,{"$f":"I2155+J2155+K2155","v":549.49},1]
[35,null,1012,"Медикаменти",0,0,0,0,0,0,0,0,""]
[65,null,1030,"Текущ ремонт",0,0,0,0,0,0,0,0,""]
[70,null,1051,"командировки в страната",55,55,0,0,0,0,0,0,1]
[85,null,1063,"такса ангажимент по заеми",0,0,0,0,0,0,0,0,""]
[125,null,1098,"други разходи, некласифицирани в другите параграфи и подпараграфи",0,0,0,0,0,0,0,0,""]
[150,2100,"Разходи за лихви по емисии на държавни (общински) ценни книжа",null,{"$f":"SUM(E2177:E2181)","v":0},0,0,{"$f":"SUM(H2177:H2181)","v":0},0,0,0,0,""]
[165,null,2125,"лихви и отстъпки по целеви емисии на държавни ценни книжа",{"$f":"F2179+G2179+H2179","v":0},0,0,0,0,0,0,{"$f":"I2179+J2179+K2179","v":0},""]
[180,null,2190,"премии над номинала от емисии на държавни (общински) ценни книжа (-)",{"$f":"F2181+G2181+H2181","v":0},null,null,null,null,null,null,{"$f":"I2181+J2181+K2181","v":0},""]
[200,null,2224,"Разходи за лихви по други заеми от страната",0,0,0,0,0,0,0,0,""]
[225,null,2910,"Платени лихви по финансов лизинг и търговски кредит",{"$f":"F2190+G2190+H2190","v":0},0,null,null,0,null,null,{"$f":"I2190+J2190+K2190","v":0},""]
[245,null,2969,"Платени лихви по активирани гаранции по заеми от международни организации и институции",0,null,null,null,null,null,null,0,""]
[230,null,2990,"Платени лихви по активирани гаранции по заеми от  банки в страната",{"$f":"F2195+G2195+H2195","v":0},null,null,null,null,null,null,{"$f":"I2195+J2195+K2195","v":0},""]
[250,null,3301,"ресурс на база брутен национален доход",{"$f":"F2199+G2199+H2199","v":0},0,0,0,0,0,0,{"$f":"I2199+J2199+K2199","v":0},""]
[290,null,3306,"участие във финансирането на брутното намаление за Нидерландия, Швеция, Дания и Австрия",0,0,0,0,0,0,0,0,""]
[320,3900,"Здравно-осигурителни плащания",null,0,0,0,0,0,0,0,0,{"$f":"(IF($E2204<>0,$M$2,IF($L2204<>0,$M$2,\"\")))","v":""}]
[380,null,4214,"обезщетения и помощи по решение на общинския съвет",0,0,0,0,0,0,0,0,""]
[390,null,4219,"други текущи трансфери за домакинствата",0,0,0,0,0,0,0,0,""]
[397,null,4301,"за текуща дейност",{"$f":"F2215+G2215+H2215","v":0},0,0,0,0,0,0,{"$f":"I2215+J2215+K2215","v":0},""]
[400,4400,"Субсидии и други текущи трансфери за финансови институции",null,0,0,0,0,0,0,0,0,""]
[450,null,4902,"капиталови трансфери за чужбина",{"$f":"F2223+G2223+H2223","v":0},null,null,null,null,null,null,{"$f":"I2223+J2223+K2223","v":0},""]
[510,null,5202,"придобиване на сгради",0,0,0,0,0,0,0,0,""]
[635,null,5206,"изграждане на инфраструктурни обекти",0,0,0,0,0,0,0,0,""]
[650,null,5301,"придобиване на програмни продукти и лицензи за програмни продукти",{"$f":"F2234+G2234+H2234","v":0},0,0,0,0,0,0,{"$f":"I2234+J2234+K2234","v":0},""]
[665,5400,"Придобиване на земя",null,{"$f":"F2236+G2236+H2236","v":0},null,0,0,0,null,0,{"$f":"I2236+J2236+K2236","v":0},""]
[690,null,5502,"капиталови трансфери за финансови институции",{"$f":"F2239+G2239+H2239","v":0},null,null,null,null,null,null,{"$f":"I2239+J2239+K2239","v":0},""]
[725,null,4071,"постъпления от продажба на държавния резерв (-)",{"$f":"F2245+G2245+H2245","v":0},0,0,0,0,0,0,{"$f":"I2245+J2245+K2245","v":0},""]
[735,98,"Резерв за непредвидени и неотложни разходи",null,{"$f":"F2247+G2247+H2247","v":0},null,null,null,0,0,0,{"$f":"I2247+J2247+K2247","v":0},""]
[750,null,null,null,null,null,null,null,null,null,null,null,""]
[775,null,null,null,null,null,null,null,null,null,null,null,{"$f":"(IF(E2249<>0,$G$2,IF(L2249<>0,$G$2,\"\")))","v":""}]
[805,{"$f":"$B$9","v":"ОУ Г.С.РАКОВСКИ-С.ГЪЛЪБЕЦ"},null,null,{"$f":"$E$9","v":"2020-01-01"},{"$f":"$F$9","v":"2020-03-31"},null,null,null,null,null,null,{"$f":"(IF($E2388<>0,$M$2,IF($L2388<>0,$M$2,\"\")))","v":""}]
[525,{"$f":"$B$12","v":"Поморие"},null,null,"       код по ЕБК:",{"$f":"$F$12","v":"5207"},null,null,null,null,null,null,{"$f":"(IF($E2388<>0,$M$2,IF($L2388<>0,$M$2,\"\")))","v":""}]
[821,null,null,"ФИНАНСОВО-ПРАВНА ФОРМА",{"$f":"$E$15","v":0},{"$f":"$F$15","v":"БЮДЖЕТ"},null,null,null,null,null,null,{"$f":"(IF($E2388<>0,$M$2,IF($L2388<>0,$M$2,\"\")))","v":""}]
[825,"§§","под-§§","НАИМЕНОВАНИЯ НА ПАРАГРАФИТЕ И ПОДПАРАГРАФИТЕ",{"$f":"$E$20","v":"Уточнен план                Общо"},{"$f":"$F$20","v":"държавни дейности"},{"$f":"$G$20","v":"местни дейности"},{"$f":"$H$20","v":"дофинансиране"},{"$f":"$I$20","v":"държавни дейности -ОТЧЕТ"},{"$f":"$J$20","v":"местни дейности - ОТЧЕТ"},{"$f":"$K$20","v":"дофинансиране - ОТЧЕТ"},{"$f":"$L$20","v":"ОТЧЕТ                                    ОБЩО"},{"$f":"(IF($E2388<>0,$M$2,IF($L2388<>0,$M$2,\"\")))","v":""}]
[null,null,{"$f":"VLOOKUP(D2271,EBK_DEIN2,2,FALSE)","v":3326},"<------          ДЕЙНОСТ    -  код  по  ЕБК",null,null,null,null,null,null,null,null,{"$f":"(IF($E2388<>0,$M$2,IF($L2388<>0,$M$2,\"\")))","v":""}]
[null,100,"Заплати и възнаграждения за персонала, нает по трудови и служебни правоотношения",null,{"$f":"SUM(E2274:E2275)","v":0},0,0,{"$f":"SUM(H2274:H2275)","v":0},0,0,0,0,{"$f":"(IF($E2273<>0,$M$2,IF($L2273<>0,$M$2,\"\")))","v":""}]
[null,null,202,"за персонала по извънтрудови правоотношения",{"$f":"F2278+G2278+H2278","v":0},0,0,0,0,0,0,{"$f":"I2278+J2278+K2278","v":0},""]
[null,500,"Задължителни осигурителни вноски от работодатели",null,{"$f":"SUM(E2283:E2289)","v":0},0,0,{"$f":"SUM(H2283:H2289)","v":0},0,0,0,0,""]
[null,null,560,"здравно-осигурителни вноски от работодатели",0,0,0,0,0,0,0,0,""]
[null,null,580,"вноски за допълнително задължително осигуряване от работодатели",0,0,0,0,0,0,0,0,""]
[10,1000,"Издръжка",null,{"$f":"SUM(E2292:E2308)","v":0},0,0,{"$f":"SUM(H2292:H2308)","v":0},0,0,0,0,""]
[50,null,1015,"материали",0,0,0,0,0,0,0,0,""]
[60,null,1020,"разходи за външни услуги",0,0,0,0,0,0,0,0,""]
[75,null,1052,"краткосрочни командировки в чужбина",0,0,0,0,0,0,0,0,""]
[90,null,1091,"други разходи за СБКО",0,0,0,0,0,0,0,0,""]
[130,1900,"Платени данъци, такси и административни санкции",null,{"$f":"SUM(E2310:E2312)","v":0},0,0,{"$f":"SUM(H2310:H2312)","v":0},0,0,0,0,""]
[155,null,2110,"лихви по държавни (общински) ценни книжа",{"$f":"F2314+G2314+H2314","v":0},null,null,null,null,null,null,{"$f":"I2314+J2314+K2314","v":0},""]
[175,null,2140,"лихви по държавни ценни книжа, емитирани за структурната реформа ",{"$f":"F2317+G2317+H2317","v":0},0,0,0,0,0,0,{"$f":"I2317+J2317+K2317","v":0},""]
[185,2200,"Разходи за лихви по заеми от страната",null,{"$f":"SUM(E2320:E2321)","v":0},0,0,{"$f":"SUM(H2320:H2321)","v":0},0,0,0,0,""]
[200,2500,"Разходи за лихви по заеми от други държави",null,0,null,null,null,null,null,null,0,""]
[230,null,2920,"Платени лихви по активирани гаранции по заеми от  банки в страната",{"$f":"F2328+G2328+H2328","v":0},null,null,null,null,null,null,{"$f":"I2328+J2328+K2328","v":0},""]
[220,null,2970,"Платени лихви по активирани гаранции по заеми от банки и финансови институции от чужбина",0,null,null,null,null,null,null,0,""]
[235,null,2991,"Други разходи за лихви към  местни лица",0,null,null,null,null,null,null,0,""]
[265,null,3303,"корекция за Обединеното кралство",0,0,0,0,0,0,0,0,""]
[330,4000,"Стипендии",null,0,0,0,0,0,0,0,0,""]
[355,null,4201,"обезщетения и помощи по социалното осигуряване",{"$f":"F2345+G2345+H2345","v":0},null,null,null,null,null,null,{"$f":"I2345+J2345+K2345","v":0},""]
[375,null,4202,"обезщетения и помощи по социалното подпомагане",0,null,null,null,null,null,null,0,""]
[395,4300,"Субсидии и други текущи трансфери за нефинансови предприятия",null,{"$f":"SUM(E2352:E2354)","v":0},0,0,{"$f":"SUM(H2352:H2354)","v":0},0,0,0,0,""]
[398,null,4302,"за осъществяване на болнична помощ ",0,null,null,null,null,null,null,0,""]
[401,4500,"Субсидии и други текущи трансфери за юридически лица с нестопанска цел",null,0,0,0,0,0,0,0,0,""]
[495,5100,"Основен ремонт на дълготрайни материални активи",null,{"$f":"F2361+G2361+H2361","v":0},0,0,0,0,0,0,{"$f":"I2361+J2361+K2361","v":0},""]
[515,null,5203,"придобиване на друго оборудване, машини и съоръжения",0,0,0,0,0,0,0,0,""]
[640,null,5219,"придобиване на други ДМА",0,0,0,0,0,0,0,0,""]
[645,5300,"Придобиване на нематериални дълготрайни активи",null,{"$f":"SUM(E2371:E2372)","v":0},0,0,{"$f":"SUM(H2371:H2372)","v":0},0,0,0,0,""]
[675,5500,"Капиталови трансфери",null,{"$f":"SUM(E2375:E2378)","v":0},0,0,{"$f":"SUM(H2375:H2378)","v":0},0,0,0,0,""]
[710,5700,"Прираст на държавния резерв и изкупуване на земеделска продукция (включва и § 40-71)",null,{"$f":"SUM(E2380:E2382)","v":0},0,0,0,0,0,0,{"$f":"SUM(L2380:L2382)","v":0},""]
[725,null,4071,"постъпления от продажба на държавния резерв (-)",{"$f":"F2382+G2382+H2382","v":0},0,0,0,0,0,0,{"$f":"I2382+J2382+K2382","v":0},""]
[740,null,null,null,null,null,null,null,null,null,null,null,""]
[755,null,"99-99",{"$f":"+B2388","v":0},{"$f":"SUM(E2273,E2276,E2282,E2290,E2291,E2309,E2313,E2319,E2322,E2323,E2324,E2325,E2326,E2335,E2341,E2342,E2343,E2344,E2351,E2355,E2356,E2357,E2358,E2361,E2362,E2370,E2373,E2374,E2379)+E2384","v":0},0,0,0,0,0,0,0,{"$f":"(IF($E2388<>0,$M$2,IF($L2388<>0,$M$2,\"\")))","v":""},{"$f":"LEFT(C2270,1)","v":"3"}]
[785,null,null,null,null,null,null,null,null,null,null,null,{"$f":"(IF($E2525<>0,$M$2,IF($L2525<>0,$M$2,\"\")))","v":""}]
[810,{"$f":"$B$10","v":"(наименование на разпоредителя с бюджет)"},null,null,null,null,null,null,null,null,null,null,{"$f":"(IF($E2525<>0,$M$2,IF($L2525<>0,$M$2,\"\")))","v":""}]
[820,{"$f":"$B$13","v":"(наименование на първостепенния разпоредител с бюджет)"},null,null,null,null,null,null,null,null,null,null,{"$f":"(IF($E2525<>0,$M$2,IF($L2525<>0,$M$2,\"\")))","v":""}]
[822,null,null,null,null,null,null,null,null,null,null,"(в лева)",{"$f":"(IF($E2525<>0,$M$2,IF($L2525<>0,$M$2,\"\")))","v":""}]
[null,null,null," 02 ¦",{"$f":"$E$21","v":"(1)"},{"$f":"$F$21","v":"(2)"},{"$f":"$G$21","v":"(3)"},{"$f":"$H$21","v":"(4)"},{"$f":"$I$21","v":"(5)"},{"$f":"$J$21","v":"(6)"},{"$f":"$K$21","v":"(7)"},{"$f":"$L$21","v":"(8)"},{"$f":"(IF($E2525<>0,$M$2,IF($L2525<>0,$M$2,\"\")))","v":""}]
[null,null,101,"заплати и възнаграждения на персонала нает по трудови правоотношения",{"$f":"F2411+G2411+H2411","v":0},0,0,0,0,0,0,{"$f":"I2411+J2411+K2411","v":0},{"$f":"(IF($E2411<>0,$M$2,IF($L2411<>0,$M$2,\"\")))","v":""}]
[null,200,"Други възнаграждения и плащания за персонала",null,{"$f":"SUM(E2414:E2418)","v":0},0,0,{"$f":"SUM(H2414:H2418)","v":0},0,0,0,0,""]
[null,null,205,"изплатени суми от СБКО за облекло и други на персонала, с характер на възнаграждение",{"$f":"F2416+G2416+H2416","v":0},0,0,0,0,0,0,{"$f":"I2416+J2416+K2416","v":0},""]
[null,null,552,"осигурителни вноски от работодатели за Учителския пенсионен фонд (УчПФ)",0,0,0,0,0,0,0,0,""]
[null,null,580,"вноски за допълнително задължително осигуряване от работодатели",0,0,0,0,0,0,0,0,""]
[null,null,588,"коректив на вноски за ДЗПО за сумите по чл. 4б и 4в от КСО за сметка на осигурителя",{"$f":"F2425+G2425+H2425","v":0},0,0,0,0,0,0,{"$f":"I2425+J2425+K2425","v":0},""]
[15,null,1011,"Храна",{"$f":"F2429+G2429+H2429","v":0},0,0,0,0,0,0,{"$f":"I2429+J2429+K2429","v":0},""]
[55,null,1016,"вода, горива и енергия",0,0,0,0,0,0,0,0,""]
[70,null,1051,"командировки в страната",0,0,0,0,0,0,0,0,""]
[80,null,1053,"дългосрочни командировки в чужбина",0,0,0,0,0,0,0,0,""]
[115,null,1092,"разходи за договорни санкции и неустойки, съдебни обезщетения и разноски",0,0,0,0,0,0,0,0,""]
[140,null,1981,"платени общински данъци, такси, наказателни лихви и административни санкции",{"$f":"F2448+G2448+H2448","v":0},0,0,0,0,0,0,{"$f":"I2448+J2448+K2448","v":0},""]
[160,null,2120,"отстъпки по държавни (общински) ценни книжа",{"$f":"F2452+G2452+H2452","v":0},null,null,null,null,null,null,{"$f":"I2452+J2452+K2452","v":0},""]
[165,null,2125,"лихви и отстъпки по целеви емисии на държавни ценни книжа",{"$f":"F2453+G2453+H2453","v":0},0,0,0,0,0,0,{"$f":"I2453+J2453+K2453","v":0},""]
[190,null,2221,"Разходи за лихви по заеми от банки в страната",{"$f":"F2457+G2457+H2457","v":0},0,0,0,0,0,0,{"$f":"I2457+J2457+K2457","v":0},""]
[205,2600,"Разходи за лихви по заеми от международни организации и институции",null,0,null,null,null,null,null,null,0,""]
[245,null,2969,"Платени лихви по активирани гаранции по заеми от международни организации и институции",0,null,null,null,null,null,null,0,""]
[225,null,2989,"Възстановени суми по платени лихви по активирани гаранции (-)",0,null,null,null,null,null,null,0,""]
[240,null,2992,"Други разходи за лихви към чуждестранни лица",0,null,null,null,null,null,null,0,""]
[270,null,3304,"традиционни собствени ресурси - мита",0,0,0,0,0,0,0,0,""]
[350,4100,"Пенсии",null,0,0,0,0,0,0,0,0,""]
[355,4200,"Текущи трансфери, обезщетения и помощи за домакинствата",null,{"$f":"SUM(E2482:E2487)","v":0},0,0,{"$f":"SUM(H2482:H2487)","v":0},0,0,0,0,""]
[385,null,4217,"текущи трансфери за домакинства от средства на Европейския съюз",0,null,null,null,null,null,null,0,""]
[395,4300,"Субсидии и други текущи трансфери за нефинансови предприятия",null,{"$f":"SUM(E2489:E2491)","v":0},0,0,{"$f":"SUM(H2489:H2491)","v":0},0,0,0,0,""]
[404,4600,"Разходи за членски внос и участие в нетърговски организации и дейности",null,0,0,0,0,0,0,0,0,""]
[440,null,4901,"текущи трансфери за чужбина",{"$f":"F2496+G2496+H2496","v":0},null,null,null,null,null,null,{"$f":"I2496+J2496+K2496","v":0},""]
[505,null,5201,"придобиване на компютри и хардуер",{"$f":"F2500+G2500+H2500","v":0},0,0,0,0,0,0,{"$f":"I2500+J2500+K2500","v":0},""]
[520,null,5204,"придобиване на транспортни средства",0,0,0,0,0,0,0,0,""]
[645,5300,"Придобиване на нематериални дълготрайни активи",null,{"$f":"SUM(E2508:E2509)","v":0},0,0,{"$f":"SUM(H2508:H2509)","v":0},0,0,0,0,""]
[650,null,5301,"придобиване на програмни продукти и лицензи за програмни продукти",{"$f":"F2508+G2508+H2508","v":0},0,0,0,0,0,0,{"$f":"I2508+J2508+K2508","v":0},""]
[685,null,5501,"капиталови трансфери за нефинансови предприятия",{"$f":"F2512+G2512+H2512","v":0},null,null,null,null,null,null,{"$f":"I2512+J2512+K2512","v":0},""]
[715,null,5701,"плащания за попълване на държавния резерв",{"$f":"F2517+G2517+H2517","v":0},0,0,0,0,0,0,{"$f":"I2517+J2517+K2517","v":0},""]
[730,null,"Резерв за непредвидени и неотложни разходи",null,null,null,null,null,null,null,null,null,""]
[740,null,null,null,null,null,null,null,null,null,null,null,""]
[775,null,null,null,null,null,null,null,null,null,null,null,{"$f":"(IF(E2523<>0,$G$2,IF(L2523<>0,$G$2,\"\")))","v":""}]
[790,{"$f":"$B$7","v":"ОТЧЕТНИ ДАННИ ПО ЕБК ЗА ИЗПЪЛНЕНИЕТО НА БЮДЖЕТА"},null,null,null,null,null,null,null,null,null,null,{"$f":"(IF($E2662<>0,$M$2,IF($L2662<>0,$M$2,\"\")))","v":1}]
[815,null,null,null,null,null,null,null,null,null,null,null,{"$f":"(IF($E2662<>0,$M$2,IF($L2662<>0,$M$2,\"\")))","v":1}]
[525,{"$f":"$B$12","v":"Поморие"},null,null,"       код по ЕБК:",{"$f":"$F$12","v":"5207"},null,null,null,null,null,null,{"$f":"(IF($E2662<>0,$M$2,IF($L2662<>0,$M$2,\"\")))","v":1}]
[823,null,null,"II.1. РАЗХОДИ ПО ДЕЙНОСТИ","Уточнен план 2020",null,null,null,"Отчет 2020",null,null,null,{"$f":"(IF($E2662<>0,$M$2,IF($L2662<>0,$M$2,\"\")))","v":1}]
[null,null,{"$f":"VLOOKUP(D2543,OP_LIST2,2,FALSE)","v":{"$error":"#N/A"}},null,null,null,null,null,null,null,null,null,{"$f":"(IF($E2662<>0,$M$2,IF($L2662<>0,$M$2,\"\")))","v":1}]
[null,null,102,"заплати и възнаграждения на персонала нает по служебни правоотношения",{"$f":"F2549+G2549+H2549","v":0},0,0,0,0,0,0,{"$f":"I2549+J2549+K2549","v":0},""]
[null,null,201,"за нещатен персонал нает по трудови правоотношения ",{"$f":"F2551+G2551+H2551","v":0},0,0,0,0,0,0,{"$f":"I2551+J2551+K2551","v":0},""]
[null,null,208,"обезщетения за персонала, с характер на възнаграждение",{"$f":"F2554+G2554+H2554","v":0},0,0,0,0,0,0,{"$f":"I2554+J2554+K2554","v":0},""]
[null,null,558,"вноски по чл. 4б и 4в от КСО за сметка на осигурителя",{"$f":"F2559+G2559+H2559","v":0},0,0,0,0,0,0,{"$f":"I2559+J2559+K2559","v":0},""]
[null,null,590,"задължителни вноски за чуждестранни пенсионни фондове и  схеми за сметка на осигурителя",0,null,null,null,null,null,null,0,""]
[5,800,"Вноски за доброволно осигуряване  ",null,0,null,null,null,null,null,null,0,""]
[40,null,1013,"Постелен инвентар и облекло",0,0,0,0,0,0,0,0,""]
[60,null,1020,"разходи за външни услуги",0,0,0,0,0,0,0,0,""]
[75,null,1052,"краткосрочни командировки в чужбина",0,0,0,0,0,0,0,0,""]
[80,null,1062,"разходи за застраховки",0,0,0,0,0,0,0,0,""]
[130,1900,"Платени данъци, такси и административни санкции",null,{"$f":"SUM(E2584:E2586)","v":0},0,0,{"$f":"SUM(H2584:H2586)","v":0},0,0,0,0,""]
[145,null,1991,"платени данъци, такси, наказателни лихви и административни санкции в чужбина",{"$f":"F2586+G2586+H2586","v":0},null,null,null,null,null,null,{"$f":"I2586+J2586+K2586","v":0},""]
[165,null,2125,"лихви и отстъпки по целеви емисии на държавни ценни книжа",{"$f":"F2590+G2590+H2590","v":0},0,0,0,0,0,0,{"$f":"I2590+J2590+K2590","v":0},""]
[175,null,2140,"лихви по държавни ценни книжа, емитирани за структурната реформа ",{"$f":"F2591+G2591+H2591","v":0},0,0,0,0,0,0,{"$f":"I2591+J2591+K2591","v":0},""]
[200,null,2224,"Разходи за лихви по други заеми от страната",0,0,0,0,0,0,0,0,""]
[220,2900,"Други разходи за лихви",null,{"$f":"SUM(E2601:E2608)","v":0},{"$f":"SUM(F2601:F2608)","v":0},{"$f":"SUM(G2601:G2608)","v":0},0,0,0,0,0,""]
[245,null,2969,"Платени лихви по активирани гаранции по заеми от международни организации и институции",0,null,null,null,null,null,null,0,""]
[225,null,2989,"Възстановени суми по платени лихви по активирани гаранции (-)",0,null,null,null,null,null,null,0,""]
[255,null,3302,"ресурс на база данък върху добавената стойност",0,0,0,0,0,0,0,0,""]
[290,null,3306,"участие във финансирането на брутното намаление за Нидерландия, Швеция, Дания и Австрия",0,0,0,0,0,0,0,0,""]
[355,4200,"Текущи трансфери, обезщетения и помощи за домакинствата",null,{"$f":"SUM(E2619:E2624)","v":0},0,0,{"$f":"SUM(H2619:H2624)","v":0},0,0,0,0,""]
[355,null,4201,"обезщетения и помощи по социалното осигуряване",{"$f":"F2619+G2619+H2619","v":0},null,null,null,null,null,null,{"$f":"I2619+J2619+K2619","v":0},""]
[390,null,4218,"текущи трансфери за домакинства по други международни програми и споразумения",0,null,null,null,null,null,null,0,""]
[398,null,4302,"за осъществяване на болнична помощ ",0,null,null,null,null,null,null,0,""]
[404,4900,"Предоставени текущи и капиталови трансфери за чужбина",null,{"$f":"+E2633+E2634","v":0},0,0,{"$f":"+H2633+H2634","v":0},0,0,0,0,""]
[450,null,4902,"капиталови трансфери за чужбина",{"$f":"F2634+G2634+H2634","v":0},null,null,null,null,null,null,{"$f":"I2634+J2634+K2634","v":0},""]
[505,null,5201,"придобиване на компютри и хардуер",{"$f":"F2637+G2637+H2637","v":0},0,0,0,0,0,0,{"$f":"I2637+J2637+K2637","v":0},""]
[635,null,5206,"изграждане на инфраструктурни обекти",0,0,0,0,0,0,0,0,""]
[655,null,5309,"придобиване на други нематериални дълготрайни активи",{"$f":"F2646+G2646+H2646","v":0},0,0,0,0,0,0,{"$f":"I2646+J2646+K2646","v":0},""]
[665,5400,"Придобиване на земя",null,{"$f":"F2647+G2647+H2647","v":0},null,0,0,0,null,0,{"$f":"I2647+J2647+K2647","v":0},""]
[690,null,5502,"капиталови трансфери за финансови институции",{"$f":"F2650+G2650+H2650","v":0},null,null,null,null,null,null,{"$f":"I2650+J2650+K2650","v":0},""]
[720,null,5702,"плащания за изкупуване на земеделска продукция",{"$f":"F2655+G2655+H2655","v":0},0,0,0,0,0,0,{"$f":"I2655+J2655+K2655","v":0},""]
[735,98,"Резерв за непредвидени и неотложни разходи",null,{"$f":"F2658+G2658+H2658","v":0},null,null,null,0,0,0,{"$f":"I2658+J2658+K2658","v":0},""]
[745,null,null,null,null,null,null,null,null,null,null,null,""]
[780,null,null,null,null,null,null,null,null,null,null,null,{"$f":"(IF($E2799<>0,$M$2,IF($L2799<>0,$M$2,\"\")))","v":""}]
[795,null,null,null,"за периода от ","до",null,"        II.1. РАЗХОДИ ПО ДЕЙНОСТИ",null,null,null,null,{"$f":"(IF($E2799<>0,$M$2,IF($L2799<>0,$M$2,\"\")))","v":""}]
[810,{"$f":"$B$10","v":"(наименование на разпоредителя с бюджет)"},null,null,null,null,null,null,null,null,null,null,{"$f":"(IF($E2799<>0,$M$2,IF($L2799<>0,$M$2,\"\")))","v":""}]
[820,{"$f":"$B$13","v":"(наименование на първостепенния разпоредител с бюджет)"},null,null,null,null,null,null,null,null,null,null,{"$f":"(IF($E2799<>0,$M$2,IF($L2799<>0,$M$2,\"\")))","v":""}]
[825,"§§","под-§§","НАИМЕНОВАНИЯ НА ПАРАГРАФИТЕ И ПОДПАРАГРАФИТЕ",{"$f":"$E$20","v":"Уточнен план                Общо"},{"$f":"$F$20","v":"държавни дейности"},{"$f":"$G$20","v":"местни дейности"},{"$f":"$H$20","v":"дофинансиране"},{"$f":"$I$20","v":"държавни дейности -ОТЧЕТ"},{"$f":"$J$20","v":"местни дейности - ОТЧЕТ"},{"$f":"$K$20","v":"дофинансиране - ОТЧЕТ"},{"$f":"$L$20","v":"ОТЧЕТ                                    ОБЩО"},{"$f":"(IF($E2799<>0,$M$2,IF($L2799<>0,$M$2,\"\")))","v":""}]
[null,null,null,"(наименование на дейността)",null,null,null,null,null,null,null,null,{"$f":"(IF($E2799<>0,$M$2,IF($L2799<>0,$M$2,\"\")))","v":""}]
[null,null,102,"заплати и възнаграждения на персонала нает по служебни правоотношения",{"$f":"F2686+G2686+H2686","v":0},0,0,0,0,0,0,{"$f":"I2686+J2686+K2686","v":0},""]
[null,null,201,"за нещатен персонал нает по трудови правоотношения ",{"$f":"F2688+G2688+H2688","v":0},0,0,0,0,0,0,{"$f":"I2688+J2688+K2688","v":0},""]
[null,null,551,"осигурителни вноски от работодатели за Държавното обществено осигуряване (ДОО)",{"$f":"F2694+G2694+H2694","v":0},0,0,0,0,0,0,{"$f":"I2694+J2694+K2694","v":0},""]
[null,null,560,"здравно-осигурителни вноски от работодатели",0,0,0,0,0,0,0,0,""]
[5,800,"Вноски за доброволно осигуряване  ",null,0,null,null,null,null,null,null,0,""]
[10,1000,"Издръжка",null,{"$f":"SUM(E2703:E2719)","v":0},0,0,{"$f":"SUM(H2703:H2719)","v":0},0,0,0,0,""]
[45,null,1014,"Учебни и научно-изследователски разходи и книги за библиотеките",0,0,0,0,0,0,0,0,""]
[65,null,1030,"Текущ ремонт",0,0,0,0,0,0,0,0,""]
[85,null,1063,"такса ангажимент по заеми",0,0,0,0,0,0,0,0,""]
[115,null,1092,"разходи за договорни санкции и неустойки, съдебни обезщетения и разноски",0,0,0,0,0,0,0,0,""]
[130,1900,"Платени данъци, такси и административни санкции",null,{"$f":"SUM(E2721:E2723)","v":0},0,0,{"$f":"SUM(H2721:H2723)","v":0},0,0,0,0,""]
[155,null,2110,"лихви по държавни (общински) ценни книжа",{"$f":"F2725+G2725+H2725","v":0},null,null,null,null,null,null,{"$f":"I2725+J2725+K2725","v":0},""]
[180,null,2190,"премии над номинала от емисии на държавни (общински) ценни книжа (-)",{"$f":"F2729+G2729+H2729","v":0},null,null,null,null,null,null,{"$f":"I2729+J2729+K2729","v":0},""]
[185,2200,"Разходи за лихви по заеми от страната",null,{"$f":"SUM(E2731:E2732)","v":0},0,0,{"$f":"SUM(H2731:H2732)","v":0},0,0,0,0,""]
[200,2500,"Разходи за лихви по заеми от други държави",null,0,null,null,null,null,null,null,0,""]
[225,null,2910,"Платени лихви по финансов лизинг и търговски кредит",{"$f":"F2738+G2738+H2738","v":0},0,null,null,0,null,null,{"$f":"I2738+J2738+K2738","v":0},""]
[220,null,2970,"Платени лихви по активирани гаранции по заеми от банки и финансови институции от чужбина",0,null,null,null,null,null,null,0,""]
[230,null,2990,"Платени лихви по активирани гаранции по заеми от  банки в страната",{"$f":"F2743+G2743+H2743","v":0},null,null,null,null,null,null,{"$f":"I2743+J2743+K2743","v":0},""]
[265,null,3303,"корекция за Обединеното кралство",0,0,0,0,0,0,0,0,""]
[320,3900,"Здравно-осигурителни плащания",null,0,0,0,0,0,0,0,0,{"$f":"(IF($E2752<>0,$M$2,IF($L2752<>0,$M$2,\"\")))","v":""}]
[350,4100,"Пенсии",null,0,0,0,0,0,0,0,0,""]
[375,null,4202,"обезщетения и помощи по социалното подпомагане",0,null,null,null,null,null,null,0,""]
[395,4300,"Субсидии и други текущи трансфери за нефинансови предприятия",null,{"$f":"SUM(E2763:E2765)","v":0},0,0,{"$f":"SUM(H2763:H2765)","v":0},0,0,0,0,""]
[400,4400,"Субсидии и други текущи трансфери за финансови институции",null,0,0,0,0,0,0,0,0,""]
[404,4900,"Предоставени текущи и капиталови трансфери за чужбина",null,{"$f":"+E2770+E2771","v":0},0,0,{"$f":"+H2770+H2771","v":0},0,0,0,0,""]
[500,5200,"Придобиване на дълготрайни материални активи",null,{"$f":"SUM(E2774:E2780)","v":0},0,0,{"$f":"SUM(H2774:H2780)","v":0},0,0,0,0,""]
[510,null,5202,"придобиване на сгради",0,0,0,0,0,0,0,0,""]
[640,null,5219,"придобиване на други ДМА",0,0,0,0,0,0,0,0,""]
[665,5400,"Придобиване на земя",null,{"$f":"F2784+G2784+H2784","v":0},null,0,0,0,null,0,{"$f":"I2784+J2784+K2784","v":0},""]
[675,5500,"Капиталови трансфери",null,{"$f":"SUM(E2786:E2789)","v":0},0,0,{"$f":"SUM(H2786:H2789)","v":0},0,0,0,0,""]
[700,null,5504,"капиталови трансфери за домакинствата",{"$f":"F2789+G2789+H2789","v":0},null,null,null,null,null,null,{"$f":"I2789+J2789+K2789","v":0},""]
[725,null,4071,"постъпления от продажба на държавния резерв (-)",{"$f":"F2793+G2793+H2793","v":0},0,0,0,0,0,0,{"$f":"I2793+J2793+K2793","v":0},""]
[750,null,null,null,null,null,null,null,null,null,null,null,""]
[765,null,null,null,null,null,null,null,null,null,null,null,{"$f":"(IF($E2799<>0,$M$2,IF($L2799<>0,$M$2,\"\")))","v":""}]
[780,null,null,null,null,null,null,null,null,null,null,null,{"$f":"(IF($E2936<>0,$M$2,IF($L2936<>0,$M$2,\"\")))","v":""}]
[810,{"$f":"$B$10","v":"(наименование на разпоредителя с бюджет)"},null,null,null,null,null,null,null,null,null,null,{"$f":"(IF($E2936<>0,$M$2,IF($L2936<>0,$M$2,\"\")))","v":""}]
[815,null,null,null,null,null,null,null,null,null,null,null,{"$f":"(IF($E2936<>0,$M$2,IF($L2936<>0,$M$2,\"\")))","v":""}]
[821,null,null,"ФИНАНСОВО-ПРАВНА ФОРМА",{"$f":"$E$15","v":0},{"$f":"$F$15","v":"БЮДЖЕТ"},null,null,null,null,null,null,{"$f":"(IF($E2936<>0,$M$2,IF($L2936<>0,$M$2,\"\")))","v":""}]
[null,null,{"$f":"VLOOKUP(D2817,OP_LIST2,2,FALSE)","v":{"$error":"#N/A"}},null,null,null,null,null,null,null,null,null,{"$f":"(IF($E2936<>0,$M$2,IF($L2936<>0,$M$2,\"\")))","v":""}]
[null,100,"Заплати и възнаграждения за персонала, нает по трудови и служебни правоотношения",null,{"$f":"SUM(E2822:E2823)","v":0},0,0,{"$f":"SUM(H2822:H2823)","v":0},0,0,0,0,{"$f":"(IF($E2821<>0,$M$2,IF($L2821<>0,$M$2,\"\")))","v":""}]
[null,200,"Други възнаграждения и плащания за персонала",null,{"$f":"SUM(E2825:E2829)","v":0},0,0,{"$f":"SUM(H2825:H2829)","v":0},0,0,0,0,""]
[null,null,202,"за персонала по извънтрудови правоотношения",{"$f":"F2826+G2826+H2826","v":0},0,0,0,0,0,0,{"$f":"I2826+J2826+K2826","v":0},""]
[null,null,552,"осигурителни вноски от работодатели за Учителския пенсионен фонд (УчПФ)",0,0,0,0,0,0,0,0,""]
[null,null,580,"вноски за допълнително задължително осигуряване от работодатели",0,0,0,0,0,0,0,0,""]
[null,null,590,"задължителни вноски за чуждестранни пенсионни фондове и  схеми за сметка на осигурителя",0,null,null,null,null,null,null,0,""]
[15,null,1011,"Храна",{"$f":"F2840+G2840+H2840","v":0},0,0,0,0,0,0,{"$f":"I2840+J2840+K2840","v":0},""]
[55,null,1016,"вода, горива и енергия",0,0,0,0,0,0,0,0,""]
[70,null,1051,"командировки в страната",0,0,0,0,0,0,0,0,""]
[90,null,1069,"други финансови услуги",0,0,0,0,0,0,0,0,""]
[125,null,1098,"други разходи, некласифицирани в другите параграфи и подпараграфи",0,0,0,0,0,0,0,0,""]
[135,null,1901,"платени държавни данъци, такси, наказателни лихви и административни санкции",{"$f":"F2858+G2858+H2858","v":0},0,0,0,0,0,0,{"$f":"I2858+J2858+K2858","v":0},""]
[150,2100,"Разходи за лихви по емисии на държавни (общински) ценни книжа",null,{"$f":"SUM(E2862:E2866)","v":0},0,0,{"$f":"SUM(H2862:H2866)","v":0},0,0,0,0,""]
[185,2200,"Разходи за лихви по заеми от страната",null,{"$f":"SUM(E2868:E2869)","v":0},0,0,{"$f":"SUM(H2868:H2869)","v":0},0,0,0,0,""]
[190,null,2221,"Разходи за лихви по заеми от банки в страната",{"$f":"F2868+G2868+H2868","v":0},0,0,0,0,0,0,{"$f":"I2868+J2868+K2868","v":0},""]
[210,2700,"Разходи за лихви по заеми от банки и други финансови институции от чужбина",null,0,null,null,null,null,null,null,0,""]
[230,null,2920,"Платени лихви по активирани гаранции по заеми от  банки в страната",{"$f":"F2876+G2876+H2876","v":0},null,null,null,null,null,null,{"$f":"I2876+J2876+K2876","v":0},""]
[235,null,2991,"Други разходи за лихви към  местни лица",0,null,null,null,null,null,null,0,""]
[250,null,3301,"ресурс на база брутен национален доход",{"$f":"F2884+G2884+H2884","v":0},0,0,0,0,0,0,{"$f":"I2884+J2884+K2884","v":0},""]
[270,null,3304,"традиционни собствени ресурси - мита",0,0,0,0,0,0,0,0,""]
[330,4000,"Стипендии",null,0,0,0,0,0,0,0,0,""]
[355,4200,"Текущи трансфери, обезщетения и помощи за домакинствата",null,{"$f":"SUM(E2893:E2898)","v":0},0,0,{"$f":"SUM(H2893:H2898)","v":0},0,0,0,0,""]
[380,null,4214,"обезщетения и помощи по решение на общинския съвет",0,0,0,0,0,0,0,0,""]
[397,null,4301,"за текуща дейност",{"$f":"F2900+G2900+H2900","v":0},0,0,0,0,0,0,{"$f":"I2900+J2900+K2900","v":0},""]
[401,4500,"Субсидии и други текущи трансфери за юридически лица с нестопанска цел",null,0,0,0,0,0,0,0,0,""]
[450,null,4902,"капиталови трансфери за чужбина",{"$f":"F2908+G2908+H2908","v":0},null,null,null,null,null,null,{"$f":"I2908+J2908+K2908","v":0},""]
[495,5100,"Основен ремонт на дълготрайни материални активи",null,{"$f":"F2909+G2909+H2909","v":0},0,0,0,0,0,0,{"$f":"I2909+J2909+K2909","v":0},""]
[525,null,5205,"придобиване на стопански инвентар",0,0,0,0,0,0,0,0,""]
[645,5300,"Придобиване на нематериални дълготрайни активи",null,{"$f":"SUM(E2919:E2920)","v":0},0,0,{"$f":"SUM(H2919:H2920)","v":0},0,0,0,0,""]
[655,null,5309,"придобиване на други нематериални дълготрайни активи",{"$f":"F2920+G2920+H2920","v":0},0,0,0,0,0,0,{"$f":"I2920+J2920+K2920","v":0},""]
[685,null,5501,"капиталови трансфери за нефинансови предприятия",{"$f":"F2923+G2923+H2923","v":0},0,0,0,0,0,0,{"$f":"I2923+J2923+K2923","v":0},""]
[710,5700,"Прираст на държавния резерв и изкупуване на земеделска продукция (включва и § 40-71)",null,{"$f":"SUM(E2928:E2930)","v":0},0,0,0,0,0,0,{"$f":"SUM(L2928:L2930)","v":0},""]
[730,null,"Резерв за непредвидени и неотложни разходи",null,null,null,null,null,null,null,null,null,""]
[755,null,"99-99",{"$f":"+B2936","v":0},{"$f":"SUM(E2821,E2824,E2830,E2838,E2839,E2857,E2861,E2867,E2870,E2871,E2872,E2873,E2874,E2883,E2889,E2890,E2891,E2892,E2899,E2903,E2904,E2905,E2906,E2909,E2910,E2918,E2921,E2922,E2927)+E2932","v":0},0,0,0,0,0,0,0,{"$f":"(IF($E2936<>0,$M$2,IF($L2936<>0,$M$2,\"\")))","v":""},{"$f":"LEFT(C2818,1)","v":"4"}]
[775,null,null,null,null,null,null,null,null,null,null,null,{"$f":"(IF(E2934<>0,$G$2,IF(L2934<>0,$G$2,\"\")))","v":""}]
[785,null,null,null,null,null,null,null,null,null,null,null,{"$f":"(IF($E3073<>0,$M$2,IF($L3073<>0,$M$2,\"\")))","v":""}]
[805,{"$f":"$B$9","v":"ОУ Г.С.РАКОВСКИ-С.ГЪЛЪБЕЦ"},null,null,{"$f":"$E$9","v":"2020-01-01"},{"$f":"$F$9","v":"2020-03-31"},null,null,null,null,null,null,{"$f":"(IF($E3073<>0,$M$2,IF($L3073<>0,$M$2,\"\")))","v":""}]
[822,null,null,null,null,null,null,null,null,null,null,"(в лева)",{"$f":"(IF($E3073<>0,$M$2,IF($L3073<>0,$M$2,\"\")))","v":""}]
[825,"§§","под-§§","НАИМЕНОВАНИЯ НА ПАРАГРАФИТЕ И ПОДПАРАГРАФИТЕ",{"$f":"$E$20","v":"Уточнен план                Общо"},{"$f":"$F$20","v":"държавни дейности"},{"$f":"$G$20","v":"местни дейности"},{"$f":"$H$20","v":"дофинансиране"},{"$f":"$I$20","v":"държавни дейности -ОТЧЕТ"},{"$f":"$J$20","v":"местни дейности - ОТЧЕТ"},{"$f":"$K$20","v":"дофинансиране - ОТЧЕТ"},{"$f":"$L$20","v":"ОТЧЕТ                                    ОБЩО"},{"$f":"(IF($E3073<>0,$M$2,IF($L3073<>0,$M$2,\"\")))","v":""}]
[null,null,{"$f":"VLOOKUP(D2956,EBK_DEIN2,2,FALSE)","v":4431},"<------          ДЕЙНОСТ    -  код  по  ЕБК",null,null,null,null,null,null,null,null,{"$f":"(IF($E3073<>0,$M$2,IF($L3073<>0,$M$2,\"\")))","v":""}]
[null,null,101,"заплати и възнаграждения на персонала нает по трудови правоотношения",{"$f":"F2959+G2959+H2959","v":0},0,0,0,0,0,0,{"$f":"I2959+J2959+K2959","v":0},{"$f":"(IF($E2959<>0,$M$2,IF($L2959<>0,$M$2,\"\")))","v":""}]
[null,null,202,"за персонала по извънтрудови правоотношения",{"$f":"F2963+G2963+H2963","v":0},0,0,0,0,0,0,{"$f":"I2963+J2963+K2963","v":0},""]
[null,null,205,"изплатени суми от СБКО за облекло и други на персонала, с характер на възнаграждение",{"$f":"F2964+G2964+H2964","v":0},0,0,0,0,0,0,{"$f":"I2964+J2964+K2964","v":0},""]
[null,null,558,"вноски по чл. 4б и 4в от КСО за сметка на осигурителя",{"$f":"F2970+G2970+H2970","v":0},0,0,0,0,0,0,{"$f":"I2970+J2970+K2970","v":0},""]
[null,null,588,"коректив на вноски за ДЗПО за сумите по чл. 4б и 4в от КСО за сметка на осигурителя",{"$f":"F2973+G2973+H2973","v":0},0,0,0,0,0,0,{"$f":"I2973+J2973+K2973","v":0},""]
[5,800,"Вноски за доброволно осигуряване  ",null,0,null,null,null,null,null,null,0,""]
[35,null,1012,"Медикаменти",0,0,0,0,0,0,0,0,""]
[60,null,1020,"разходи за външни услуги",0,0,0,0,0,0,0,0,""]
[80,null,1053,"дългосрочни командировки в чужбина",0,0,0,0,0,0,0,0,""]
[90,null,1091,"други разходи за СБКО",0,0,0,0,0,0,0,0,""]
[115,null,1092,"разходи за договорни санкции и неустойки, съдебни обезщетения и разноски",0,0,0,0,0,0,0,0,""]
[140,null,1981,"платени общински данъци, такси, наказателни лихви и административни санкции",{"$f":"F2996+G2996+H2996","v":0},0,0,0,0,0,0,{"$f":"I2996+J2996+K2996","v":0},""]
[155,null,2110,"лихви по държавни (общински) ценни книжа",{"$f":"F2999+G2999+H2999","v":0},null,null,null,null,null,null,{"$f":"I2999+J2999+K2999","v":0},""]
[190,null,2221,"Разходи за лихви по заеми от банки в страната",{"$f":"F3005+G3005+H3005","v":0},0,0,0,0,0,0,{"$f":"I3005+J3005+K3005","v":0},""]
[200,2500,"Разходи за лихви по заеми от други държави",null,0,null,null,null,null,null,null,0,""]
[215,2800,"Разходи за лихви и отстъпки по облигации, емитирани и търгувани на международните капиталови пазари",null,0,null,null,null,null,null,null,0,""]
[245,null,2969,"Платени лихви по активирани гаранции по заеми от международни организации и институции",0,null,null,null,null,null,null,0,""]
[240,null,2992,"Други разходи за лихви към чуждестранни лица",0,null,null,null,null,null,null,0,""]
[255,null,3302,"ресурс на база данък върху добавената стойност",0,0,0,0,0,0,0,0,""]
[270,null,3304,"традиционни собствени ресурси - мита",0,0,0,0,0,0,0,0,""]
[330,4000,"Стипендии",null,0,0,0,0,0,0,0,0,""]
[385,null,4217,"текущи трансфери за домакинства от средства на Европейския съюз",0,null,null,null,null,null,null,0,""]
[390,null,4219,"други текущи трансфери за домакинствата",0,0,0,0,0,0,0,0,""]
[398,null,4302,"за осъществяване на болнична помощ ",0,null,null,null,null,null,null,0,""]
[404,4600,"Разходи за членски внос и участие в нетърговски организации и дейности",null,0,0,0,0,0,0,0,0,""]
[495,5100,"Основен ремонт на дълготрайни материални активи",null,{"$f":"F3046+G3046+H3046","v":0},0,0,0,0,0,0,{"$f":"I3046+J3046+K3046","v":0},""]
[500,5200,"Придобиване на дълготрайни материални активи",null,{"$f":"SUM(E3048:E3054)","v":0},0,0,{"$f":"SUM(H3048:H3054)","v":0},0,0,0,0,""]
[520,null,5204,"придобиване на транспортни средства",0,0,0,0,0,0,0,0,""]
[650,null,5301,"придобиване на програмни продукти и лицензи за програмни продукти",{"$f":"F3056+G3056+H3056","v":0},0,0,0,0,0,0,{"$f":"I3056+J3056+K3056","v":0},""]
[665,5400,"Придобиване на земя",null,{"$f":"F3058+G3058+H3058","v":0},null,0,0,0,null,0,{"$f":"I3058+J3058+K3058","v":0},""]
[690,null,5502,"капиталови трансфери за финансови институции",{"$f":"F3061+G3061+H3061","v":0},null,null,null,null,null,null,{"$f":"I3061+J3061+K3061","v":0},""]
[720,null,5702,"плащания за изкупуване на земеделска продукция",{"$f":"F3066+G3066+H3066","v":0},0,0,0,0,0,0,{"$f":"I3066+J3066+K3066","v":0},""]
[740,null,null,null,null,null,null,null,null,null,null,null,""]
[760,"край на дейност",null,null,null,null,null,null,null,null,null,null,{"$f":"(IF($E3073<>0,$M$2,IF($L3073<>0,$M$2,\"\")))","v":""}]
[780,null,null,null,null,null,null,null,null,null,null,null,{"$f":"(IF($E3210<>0,$M$2,IF($L3210<>0,$M$2,\"\")))","v":""}]
[790,{"$f":"$B$7","v":"ОТЧЕТНИ ДАННИ ПО ЕБК ЗА ИЗПЪЛНЕНИЕТО НА БЮДЖЕТА"},null,null,null,null,null,null,null,null,null,null,{"$f":"(IF($E3210<>0,$M$2,IF($L3210<>0,$M$2,\"\")))","v":""}]
[810,{"$f":"$B$10","v":"(наименование на разпоредителя с бюджет)"},null,null,null,null,null,null,null,null,null,null,{"$f":"(IF($E3210<>0,$M$2,IF($L3210<>0,$M$2,\"\")))","v":""}]
[823,null,null,"II.1. РАЗХОДИ ПО ДЕЙНОСТИ","Уточнен план 2020",null,null,null,"Отчет 2020",null,null,null,{"$f":"(IF($E3210<>0,$M$2,IF($L3210<>0,$M$2,\"\")))","v":""}]
[null,null,null," 02 ¦",{"$f":"$E$21","v":"(1)"},{"$f":"$F$21","v":"(2)"},{"$f":"$G$21","v":"(3)"},{"$f":"$H$21","v":"(4)"},{"$f":"$I$21","v":"(5)"},{"$f":"$J$21","v":"(6)"},{"$f":"$K$21","v":"(7)"},{"$f":"$L$21","v":"(8)"},{"$f":"(IF($E3210<>0,$M$2,IF($L3210<>0,$M$2,\"\")))","v":""}]
[null,null,{"$f":"+C3092","v":4437},"437 Здравен кабинет в детски градини и училища",null,null,null,null,null,null,null,null,{"$f":"(IF($E3210<>0,$M$2,IF($L3210<>0,$M$2,\"\")))","v":""}]
[null,200,"Други възнаграждения и плащания за персонала",null,{"$f":"SUM(E3099:E3103)","v":0},0,0,{"$f":"SUM(H3099:H3103)","v":0},0,0,0,0,""]
[null,null,208,"обезщетения за персонала, с характер на възнаграждение",{"$f":"F3102+G3102+H3102","v":0},0,0,0,0,0,0,{"$f":"I3102+J3102+K3102","v":0},""]
[null,null,551,"осигурителни вноски от работодатели за Държавното обществено осигуряване (ДОО)",{"$f":"F3105+G3105+H3105","v":0},0,0,0,0,0,0,{"$f":"I3105+J3105+K3105","v":0},""]
[null,null,558,"вноски по чл. 4б и 4в от КСО за сметка на осигурителя",{"$f":"F3107+G3107+H3107","v":0},0,0,0,0,0,0,{"$f":"I3107+J3107+K3107","v":0},""]
[null,null,588,"коректив на вноски за ДЗПО за сумите по чл. 4б и 4в от КСО за сметка на осигурителя",{"$f":"F3110+G3110+H3110","v":0},0,0,0,0,0,0,{"$f":"I3110+J3110+K3110","v":0},""]
[10,1000,"Издръжка",null,{"$f":"SUM(E3114:E3130)","v":0},0,0,{"$f":"SUM(H3114:H3130)","v":0},0,0,0,0,""]
[40,null,1013,"Постелен инвентар и облекло",0,0,0,0,0,0,0,0,""]
[65,null,1030,"Текущ ремонт",0,0,0,0,0,0,0,0,""]
[80,null,1062,"разходи за застраховки",0,0,0,0,0,0,0,0,""]
[115,null,1092,"разходи за договорни санкции и неустойки, съдебни обезщетения и разноски",0,0,0,0,0,0,0,0,""]
[125,null,1098,"други разходи, некласифицирани в другите параграфи и подпараграфи",0,0,0,0,0,0,0,0,""]
[145,null,1991,"платени данъци, такси, наказателни лихви и административни санкции в чужбина",{"$f":"F3134+G3134+H3134","v":0},null,null,null,null,null,null,{"$f":"I3134+J3134+K3134","v":0},""]
[175,null,2140,"лихви по държавни ценни книжа, емитирани за структурната реформа ",{"$f":"F3139+G3139+H3139","v":0},0,0,0,0,0,0,{"$f":"I3139+J3139+K3139","v":0},""]
[190,null,2221,"Разходи за лихви по заеми от банки в страната",{"$f":"F3142+G3142+H3142","v":0},0,0,0,0,0,0,{"$f":"I3142+J3142+K3142","v":0},""]
[200,2500,"Разходи за лихви по заеми от други държави",null,0,null,null,null,null,null,null,0,""]
[225,null,2910,"Платени лихви по финансов лизинг и търговски кредит",{"$f":"F3149+G3149+H3149","v":0},0,null,null,0,null,null,{"$f":"I3149+J3149+K3149","v":0},""]
[225,null,2989,"Възстановени суми по платени лихви по активирани гаранции (-)",0,null,null,null,null,null,null,0,""]
[245,3300,"Вноска в общия бюджет на Европейския съюз",null,{"$f":"SUM(E3158:E3162)","v":0},0,0,0,0,0,0,0,""]
[265,null,3303,"корекция за Обединеното кралство",0,0,0,0,0,0,0,0,""]
[290,null,3306,"участие във финансирането на брутното намаление за Нидерландия, Швеция, Дания и Австрия",0,0,0,0,0,0,0,0,""]
[350,4100,"Пенсии",null,0,0,0,0,0,0,0,0,""]
[390,null,4218,"текущи трансфери за домакинства по други международни програми и споразумения",0,null,null,null,null,null,null,0,""]
[395,4300,"Субсидии и други текущи трансфери за нефинансови предприятия",null,{"$f":"SUM(E3174:E3176)","v":0},0,0,{"$f":"SUM(H3174:H3176)","v":0},0,0,0,0,""]
[399,null,4309,"други субсидии и плащания",0,null,null,null,null,null,null,0,""]
[440,null,4901,"текущи трансфери за чужбина",{"$f":"F3181+G3181+H3181","v":0},null,null,null,null,null,null,{"$f":"I3181+J3181+K3181","v":0},""]
[505,null,5201,"придобиване на компютри и хардуер",{"$f":"F3185+G3185+H3185","v":0},0,0,0,0,0,0,{"$f":"I3185+J3185+K3185","v":0},""]
[510,null,5202,"придобиване на сгради",0,0,0,0,0,0,0,0,""]
[525,null,5205,"придобиване на стопански инвентар",0,0,0,0,0,0,0,0,""]
[655,null,5309,"придобиване на други нематериални дълготрайни активи",{"$f":"F3194+G3194+H3194","v":0},0,0,0,0,0,0,{"$f":"I3194+J3194+K3194","v":0},""]
[685,null,5501,"капиталови трансфери за нефинансови предприятия",{"$f":"F3197+G3197+H3197","v":0},null,null,null,null,null,null,{"$f":"I3197+J3197+K3197","v":0},""]
[695,null,5503,"капиталови трансфери за организации с нестопанска цел",{"$f":"F3199+G3199+H3199","v":0},null,null,null,null,null,null,{"$f":"I3199+J3199+K3199","v":0},""]
[725,null,4071,"постъпления от продажба на държавния резерв (-)",{"$f":"F3204+G3204+H3204","v":0},0,0,0,0,0,0,{"$f":"I3204+J3204+K3204","v":0},""]
[745,null,null,null,null,null,null,null,null,null,null,null,""]
[765,null,null,null,null,null,null,null,null,null,null,null,{"$f":"(IF($E3210<>0,$M$2,IF($L3210<>0,$M$2,\"\")))","v":""}]
[775,null,null,null,null,null,null,null,null,null,null,null,{"$f":"(IF(E3208<>0,$G$2,IF(L3208<>0,$G$2,\"\")))","v":""}]
[795,null,null,null,"за периода от ","до",null,"        II.1. РАЗХОДИ ПО ДЕЙНОСТИ",null,null,null,null,{"$f":"(IF($E3347<>0,$M$2,IF($L3347<>0,$M$2,\"\")))","v":""}]
[820,{"$f":"$B$13","v":"(наименование на първостепенния разпоредител с бюджет)"},null,null,null,null,null,null,null,null,null,null,{"$f":"(IF($E3347<>0,$M$2,IF($L3347<>0,$M$2,\"\")))","v":""}]
[823,null,null,"II.1. РАЗХОДИ ПО ДЕЙНОСТИ","Уточнен план 2020",null,null,null,"Отчет 2020",null,null,null,{"$f":"(IF($E3347<>0,$M$2,IF($L3347<>0,$M$2,\"\")))","v":""}]
[null,null,{"$f":"VLOOKUP(D3228,OP_LIST2,2,FALSE)","v":{"$error":"#N/A"}},null,null,null,null,null,null,null,null,null,{"$f":"(IF($E3347<>0,$M$2,IF($L3347<>0,$M$2,\"\")))","v":""}]
[null,null,null,"(наименование на дейността)",null,null,null,null,null,null,null,null,{"$f":"(IF($E3347<>0,$M$2,IF($L3347<>0,$M$2,\"\")))","v":""}]
[null,null,201,"за нещатен персонал нает по трудови правоотношения ",{"$f":"F3236+G3236+H3236","v":0},0,0,0,0,0,0,{"$f":"I3236+J3236+K3236","v":0},""]
[null,null,209,"другиплащания и възнаграждения",{"$f":"F3240+G3240+H3240","v":0},0,0,0,0,0,0,{"$f":"I3240+J3240+K3240","v":0},""]
[null,500,"Задължителни осигурителни вноски от работодатели",null,{"$f":"SUM(E3242:E3248)","v":0},0,0,{"$f":"SUM(H3242:H3248)","v":0},0,0,0,0,""]
[null,null,560,"здравно-осигурителни вноски от работодатели",0,0,0,0,0,0,0,0,""]
[null,null,590,"задължителни вноски за чуждестранни пенсионни фондове и  схеми за сметка на осигурителя",0,null,null,null,null,null,null,0,""]
[45,null,1014,"Учебни и научно-изследователски разходи и книги за библиотеките",0,0,0,0,0,0,0,0,""]
[55,null,1016,"вода, горива и енергия",0,0,0,0,0,0,0,0,""]
[70,null,1051,"командировки в страната",0,0,0,0,0,0,0,0,""]
[90,null,1069,"други финансови услуги",0,0,0,0,0,0,0,0,""]
[125,null,1098,"други разходи, некласифицирани в другите параграфи и подпараграфи",0,0,0,0,0,0,0,0,""]
[130,1900,"Платени данъци, такси и административни санкции",null,{"$f":"SUM(E3269:E3271)","v":0},0,0,{"$f":"SUM(H3269:H3271)","v":0},0,0,0,0,""]
[150,2100,"Разходи за лихви по емисии на държавни (общински) ценни книжа",null,{"$f":"SUM(E3273:E3277)","v":0},0,0,{"$f":"SUM(H3273:H3277)","v":0},0,0,0,0,""]
[180,null,2190,"премии над номинала от емисии на държавни (общински) ценни книжа (-)",{"$f":"F3277+G3277+H3277","v":0},null,null,null,null,null,null,{"$f":"I3277+J3277+K3277","v":0},""]
[200,null,2224,"Разходи за лихви по други заеми от страната",0,0,0,0,0,0,0,0,""]
[205,2600,"Разходи за лихви по заеми от международни организации и институции",null,0,null,null,null,null,null,null,0,""]
[245,null,2969,"Платени лихви по активирани гаранции по заеми от международни организации и институции",0,null,null,null,null,null,null,0,""]
[230,null,2990,"Платени лихви по активирани гаранции по заеми от  банки в страната",{"$f":"F3291+G3291+H3291","v":0},null,null,null,null,null,null,{"$f":"I3291+J3291+K3291","v":0},""]
[250,null,3301,"ресурс на база брутен национален доход",{"$f":"F3295+G3295+H3295","v":0},0,0,0,0,0,0,{"$f":"I3295+J3295+K3295","v":0},""]
[255,null,3302,"ресурс на база данък върху добавената стойност",0,0,0,0,0,0,0,0,""]
[320,3900,"Здравно-осигурителни плащания",null,0,0,0,0,0,0,0,0,{"$f":"(IF($E3300<>0,$M$2,IF($L3300<>0,$M$2,\"\")))","v":""}]
[355,null,4201,"обезщетения и помощи по социалното осигуряване",{"$f":"F3304+G3304+H3304","v":0},null,null,null,null,null,null,{"$f":"I3304+J3304+K3304","v":0},""]
[390,null,4219,"други текущи трансфери за домакинствата",0,0,0,0,0,0,0,0,""]
[397,null,4301,"за текуща дейност",{"$f":"F3311+G3311+H3311","v":0},0,0,0,0,0,0,{"$f":"I3311+J3311+K3311","v":0},""]
[400,4400,"Субсидии и други текущи трансфери за финансови институции",null,0,0,0,0,0,0,0,0,""]
[450,null,4902,"капиталови трансфери за чужбина",{"$f":"F3319+G3319+H3319","v":0},null,null,null,null,null,null,{"$f":"I3319+J3319+K3319","v":0},""]
[510,null,5202,"придобиване на сгради",0,0,0,0,0,0,0,0,""]
[515,null,5203,"придобиване на друго оборудване, машини и съоръжения",0,0,0,0,0,0,0,0,""]
[640,null,5219,"придобиване на други ДМА",0,0,0,0,0,0,0,0,""]
[665,5400,"Придобиване на земя",null,{"$f":"F3332+G3332+H3332","v":0},null,0,0,0,null,0,{"$f":"I3332+J3332+K3332","v":0},""]
[700,null,5504,"капиталови трансфери за домакинствата",{"$f":"F3337+G3337+H3337","v":0},null,null,null,null,null,null,{"$f":"I3337+J3337+K3337","v":0},""]
[715,null,5701,"плащания за попълване на държавния резерв",{"$f":"F3339+G3339+H3339","v":0},0,0,0,0,0,0,{"$f":"I3339+J3339+K3339","v":0},""]
[735,98,"Резерв за непредвидени и неотложни разходи",null,{"$f":"F3343+G3343+H3343","v":0},null,null,null,0,0,0,{"$f":"I3343+J3343+K3343","v":0},""]
[750,null,null,null,null,null,null,null,null,null,null,null,""]
[775,null,null,null,null,null,null,null,null,null,null,null,{"$f":"(IF(E3345<>0,$G$2,IF(L3345<>0,$G$2,\"\")))","v":""}]
[780,null,null,null,null,null,null,null,null,null,null,null,{"$f":"(IF($E3484<>0,$M$2,IF($L3484<>0,$M$2,\"\")))","v":""}]
[805,{"$f":"$B$9","v":"ОУ Г.С.РАКОВСКИ-С.ГЪЛЪБЕЦ"},null,null,{"$f":"$E$9","v":"2020-01-01"},{"$f":"$F$9","v":"2020-03-31"},null,null,null,null,null,null,{"$f":"(IF($E3484<>0,$M$2,IF($L3484<>0,$M$2,\"\")))","v":""}]
[821,null,null,"ФИНАНСОВО-ПРАВНА ФОРМА",{"$f":"$E$15","v":0},{"$f":"$F$15","v":"БЮДЖЕТ"},null,null,null,null,null,null,{"$f":"(IF($E3484<>0,$M$2,IF($L3484<>0,$M$2,\"\")))","v":""}]
[825,"§§","под-§§","НАИМЕНОВАНИЯ НА ПАРАГРАФИТЕ И ПОДПАРАГРАФИТЕ",{"$f":"$E$20","v":"Уточнен план                Общо"},{"$f":"$F$20","v":"държавни дейности"},{"$f":"$G$20","v":"местни дейности"},{"$f":"$H$20","v":"дофинансиране"},{"$f":"$I$20","v":"държавни дейности -ОТЧЕТ"},{"$f":"$J$20","v":"местни дейности - ОТЧЕТ"},{"$f":"$K$20","v":"дофинансиране - ОТЧЕТ"},{"$f":"$L$20","v":"ОТЧЕТ                                    ОБЩО"},{"$f":"(IF($E3484<>0,$M$2,IF($L3484<>0,$M$2,\"\")))","v":""}]
[null,null,{"$f":"VLOOKUP(D3365,OP_LIST2,2,FALSE)","v":{"$error":"#N/A"}},null,null,null,null,null,null,null,null,null,{"$f":"(IF($E3484<>0,$M$2,IF($L3484<>0,$M$2,\"\")))","v":""}]
[null,null,102,"заплати и възнаграждения на персонала нает по служебни правоотношения",{"$f":"F3371+G3371+H3371","v":0},0,0,0,0,0,0,{"$f":"I3371+J3371+K3371","v":0},""]
[null,null,202,"за персонала по извънтрудови правоотношения",{"$f":"F3374+G3374+H3374","v":0},0,0,0,0,0,0,{"$f":"I3374+J3374+K3374","v":0},""]
[null,null,208,"обезщетения за персонала, с характер на възнаграждение",{"$f":"F3376+G3376+H3376","v":0},0,0,0,0,0,0,{"$f":"I3376+J3376+K3376","v":0},""]
[null,null,551,"осигурителни вноски от работодатели за Държавното обществено осигуряване (ДОО)",{"$f":"F3379+G3379+H3379","v":0},0,0,0,0,0,0,{"$f":"I3379+J3379+K3379","v":0},""]
[null,null,580,"вноски за допълнително задължително осигуряване от работодатели",0,0,0,0,0,0,0,0,""]
[10,1000,"Издръжка",null,{"$f":"SUM(E3388:E3404)","v":0},0,0,{"$f":"SUM(H3388:H3404)","v":0},0,0,0,0,""]
[50,null,1015,"материали",0,0,0,0,0,0,0,0,""]
[60,null,1020,"разходи за външни услуги",0,0,0,0,0,0,0,0,""]
[75,null,1052,"краткосрочни командировки в чужбина",0,0,0,0,0,0,0,0,""]
[90,null,1091,"други разходи за СБКО",0,0,0,0,0,0,0,0,""]
[135,null,1901,"платени държавни данъци, такси, наказателни лихви и административни санкции",{"$f":"F3406+G3406+H3406","v":0},0,0,0,0,0,0,{"$f":"I3406+J3406+K3406","v":0},""]
[140,null,1981,"платени общински данъци, такси, наказателни лихви и административни санкции",{"$f":"F3407+G3407+H3407","v":0},0,0,0,0,0,0,{"$f":"I3407+J3407+K3407","v":0},""]
[160,null,2120,"отстъпки по държавни (общински) ценни книжа",{"$f":"F3411+G3411+H3411","v":0},null,null,null,null,null,null,{"$f":"I3411+J3411+K3411","v":0},""]
[185,2200,"Разходи за лихви по заеми от страната",null,{"$f":"SUM(E3416:E3417)","v":0},0,0,{"$f":"SUM(H3416:H3417)","v":0},0,0,0,0,""]
[210,2700,"Разходи за лихви по заеми от банки и други финансови институции от чужбина",null,0,null,null,null,null,null,null,0,""]
[220,2900,"Други разходи за лихви",null,{"$f":"SUM(E3423:E3430)","v":0},{"$f":"SUM(F3423:F3430)","v":0},{"$f":"SUM(G3423:G3430)","v":0},0,0,0,0,0,""]
[220,null,2970,"Платени лихви по активирани гаранции по заеми от банки и финансови институции от чужбина",0,null,null,null,null,null,null,0,""]
[235,null,2991,"Други разходи за лихви към  местни лица",0,null,null,null,null,null,null,0,""]
[245,3300,"Вноска в общия бюджет на Европейския съюз",null,{"$f":"SUM(E3432:E3436)","v":0},0,0,0,0,0,0,0,""]
[265,null,3303,"корекция за Обединеното кралство",0,0,0,0,0,0,0,0,""]
[330,4000,"Стипендии",null,0,0,0,0,0,0,0,0,""]
[380,null,4214,"обезщетения и помощи по решение на общинския съвет",0,0,0,0,0,0,0,0,""]
[390,null,4219,"други текущи трансфери за домакинствата",0,0,0,0,0,0,0,0,""]
[397,null,4301,"за текуща дейност",{"$f":"F3448+G3448+H3448","v":0},0,0,0,0,0,0,{"$f":"I3448+J3448+K3448","v":0},""]
[404,4900,"Предоставени текущи и капиталови трансфери за чужбина",null,{"$f":"+E3455+E3456","v":0},0,0,{"$f":"+H3455+H3456","v":0},0,0,0,0,""]
[495,5100,"Основен ремонт на дълготрайни материални активи",null,{"$f":"F3457+G3457+H3457","v":0},0,0,0,0,0,0,{"$f":"I3457+J3457+K3457","v":0},""]
[505,null,5201,"придобиване на компютри и хардуер",{"$f":"F3459+G3459+H3459","v":0},0,0,0,0,0,0,{"$f":"I3459+J3459+K3459","v":0},""]
[520,null,5204,"придобиване на транспортни средства",0,0,0,0,0,0,0,0,""]
[645,5300,"Придобиване на нематериални дълготрайни активи",null,{"$f":"SUM(E3467:E3468)","v":0},0,0,{"$f":"SUM(H3467:H3468)","v":0},0,0,0,0,""]
[675,5500,"Капиталови трансфери",null,{"$f":"SUM(E3471:E3474)","v":0},0,0,{"$f":"SUM(H3471:H3474)","v":0},0,0,0,0,""]
[710,5700,"Прираст на държавния резерв и изкупуване на земеделска продукция (включва и § 40-71)",null,{"$f":"SUM(E3476:E3478)","v":0},0,0,0,0,0,0,{"$f":"SUM(L3476:L3478)","v":0},""]
[725,null,4071,"постъпления от продажба на държавния резерв (-)",{"$f":"F3478+G3478+H3478","v":0},0,0,0,0,0,0,{"$f":"I3478+J3478+K3478","v":0},""]
[735,98,"Резерв за непредвидени и неотложни разходи",null,{"$f":"F3480+G3480+H3480","v":0},null,null,null,0,0,0,{"$f":"I3480+J3480+K3480","v":0},""]
[760,"край на дейност",null,null,null,null,null,null,null,null,null,null,{"$f":"(IF($E3484<>0,$M$2,IF($L3484<>0,$M$2,\"\")))","v":""}]
[785,null,null,null,null,null,null,null,null,null,null,null,{"$f":"(IF($E3621<>0,$M$2,IF($L3621<>0,$M$2,\"\")))","v":""}]
[790,{"$f":"$B$7","v":"ОТЧЕТНИ ДАННИ ПО ЕБК ЗА ИЗПЪЛНЕНИЕТО НА БЮДЖЕТА"},null,null,null,null,null,null,null,null,null,null,{"$f":"(IF($E3621<>0,$M$2,IF($L3621<>0,$M$2,\"\")))","v":""}]
[815,null,null,null,null,null,null,null,null,null,null,null,{"$f":"(IF($E3621<>0,$M$2,IF($L3621<>0,$M$2,\"\")))","v":""}]
[822,null,null,null,null,null,null,null,null,null,null,"(в лева)",{"$f":"(IF($E3621<>0,$M$2,IF($L3621<>0,$M$2,\"\")))","v":""}]
[null,null,null," 02 ¦",{"$f":"$E$21","v":"(1)"},{"$f":"$F$21","v":"(2)"},{"$f":"$G$21","v":"(3)"},{"$f":"$H$21","v":"(4)"},{"$f":"$I$21","v":"(5)"},{"$f":"$J$21","v":"(6)"},{"$f":"$K$21","v":"(7)"},{"$f":"$L$21","v":"(8)"},{"$f":"(IF($E3621<>0,$M$2,IF($L3621<>0,$M$2,\"\")))","v":""}]
[null,null,{"$f":"VLOOKUP(D3504,EBK_DEIN2,2,FALSE)","v":5525},"<------          ДЕЙНОСТ    -  код  по  ЕБК",null,null,null,null,null,null,null,null,{"$f":"(IF($E3621<>0,$M$2,IF($L3621<>0,$M$2,\"\")))","v":""}]
[null,200,"Други възнаграждения и плащания за персонала",null,{"$f":"SUM(E3510:E3514)","v":0},0,0,{"$f":"SUM(H3510:H3514)","v":0},0,0,0,0,""]
[null,null,205,"изплатени суми от СБКО за облекло и други на персонала, с характер на възнаграждение",{"$f":"F3512+G3512+H3512","v":0},0,0,0,0,0,0,{"$f":"I3512+J3512+K3512","v":0},""]
[null,null,209,"другиплащания и възнаграждения",{"$f":"F3514+G3514+H3514","v":0},0,0,0,0,0,0,{"$f":"I3514+J3514+K3514","v":0},""]
[null,null,552,"осигурителни вноски от работодатели за Учителския пенсионен фонд (УчПФ)",0,0,0,0,0,0,0,0,""]
[null,null,590,"задължителни вноски за чуждестранни пенсионни фондове и  схеми за сметка на осигурителя",0,null,null,null,null,null,null,0,""]
[35,null,1012,"Медикаменти",0,0,0,0,0,0,0,0,""]
[50,null,1015,"материали",0,0,0,0,0,0,0,0,""]
[60,null,1020,"разходи за външни услуги",0,0,0,0,0,0,0,0,""]
[85,null,1063,"такса ангажимент по заеми",0,0,0,0,0,0,0,0,""]
[115,null,1092,"разходи за договорни санкции и неустойки, съдебни обезщетения и разноски",0,0,0,0,0,0,0,0,""]
[140,null,1981,"платени общински данъци, такси, наказателни лихви и административни санкции",{"$f":"F3544+G3544+H3544","v":0},0,0,0,0,0,0,{"$f":"I3544+J3544+K3544","v":0},""]
[145,null,1991,"платени данъци, такси, наказателни лихви и административни санкции в чужбина",{"$f":"F3545+G3545+H3545","v":0},null,null,null,null,null,null,{"$f":"I3545+J3545+K3545","v":0},""]
[165,null,2125,"лихви и отстъпки по целеви емисии на държавни ценни книжа",{"$f":"F3549+G3549+H3549","v":0},0,0,0,0,0,0,{"$f":"I3549+J3549+K3549","v":0},""]
[190,null,2221,"Разходи за лихви по заеми от банки в страната",{"$f":"F3553+G3553+H3553","v":0},0,0,0,0,0,0,{"$f":"I3553+J3553+K3553","v":0},""]
[215,2800,"Разходи за лихви и отстъпки по облигации, емитирани и търгувани на международните капиталови пазари",null,0,null,null,null,null,null,null,0,""]
[230,null,2920,"Платени лихви по активирани гаранции по заеми от  банки в страната",{"$f":"F3561+G3561+H3561","v":0},null,null,null,null,null,null,{"$f":"I3561+J3561+K3561","v":0},""]
[220,null,2970,"Платени лихви по активирани гаранции по заеми от банки и финансови институции от чужбина",0,null,null,null,null,null,null,0,""]
[235,null,2991,"Други разходи за лихви към  местни лица",0,null,null,null,null,null,null,0,""]
[270,null,3304,"традиционни собствени ресурси - мита",0,0,0,0,0,0,0,0,""]
[290,null,3306,"участие във финансирането на брутното намаление за Нидерландия, Швеция, Дания и Австрия",0,0,0,0,0,0,0,0,""]
[355,4200,"Текущи трансфери, обезщетения и помощи за домакинствата",null,{"$f":"SUM(E3578:E3583)","v":0},0,0,{"$f":"SUM(H3578:H3583)","v":0},0,0,0,0,""]
[385,null,4217,"текущи трансфери за домакинства от средства на Европейския съюз",0,null,null,null,null,null,null,0,""]
[395,4300,"Субсидии и други текущи трансфери за нефинансови предприятия",null,{"$f":"SUM(E3585:E3587)","v":0},0,0,{"$f":"SUM(H3585:H3587)","v":0},0,0,0,0,""]
[398,null,4302,"за осъществяване на болнична помощ ",0,null,null,null,null,null,null,0,""]
[440,null,4901,"текущи трансфери за чужбина",{"$f":"F3592+G3592+H3592","v":0},null,null,null,null,null,null,{"$f":"I3592+J3592+K3592","v":0},""]
[500,5200,"Придобиване на дълготрайни материални активи",null,{"$f":"SUM(E3596:E3602)","v":0},0,0,{"$f":"SUM(H3596:H3602)","v":0},0,0,0,0,""]
[510,null,5202,"придобиване на сгради",0,0,0,0,0,0,0,0,""]
[525,null,5205,"придобиване на стопански инвентар",0,0,0,0,0,0,0,0,""]
[655,null,5309,"придобиване на други нематериални дълготрайни активи",{"$f":"F3605+G3605+H3605","v":0},0,0,0,0,0,0,{"$f":"I3605+J3605+K3605","v":0},""]
[690,null,5502,"капиталови трансфери за финансови институции",{"$f":"F3609+G3609+H3609","v":0},null,null,null,null,null,null,{"$f":"I3609+J3609+K3609","v":0},""]
[710,5700,"Прираст на държавния резерв и изкупуване на земеделска продукция (включва и § 40-71)",null,{"$f":"SUM(E3613:E3615)","v":0},0,0,0,0,0,0,{"$f":"SUM(L3613:L3615)","v":0},""]
[730,null,"Резерв за непредвидени и неотложни разходи",null,null,null,null,null,null,null,null,null,""]
[740,null,null,null,null,null,null,null,null,null,null,null,""]
[755,null,"99-99",{"$f":"+B3621","v":0},{"$f":"SUM(E3506,E3509,E3515,E3523,E3524,E3542,E3546,E3552,E3555,E3556,E3557,E3558,E3559,E3568,E3574,E3575,E3576,E3577,E3584,E3588,E3589,E3590,E3591,E3594,E3595,E3603,E3606,E3607,E3612)+E3617","v":0},0,0,0,0,0,0,0,{"$f":"(IF($E3621<>0,$M$2,IF($L3621<>0,$M$2,\"\")))","v":""},{"$f":"LEFT(C3503,1)","v":"5"}]
[790,{"$f":"$B$7","v":"ОТЧЕТНИ ДАННИ ПО ЕБК ЗА ИЗПЪЛНЕНИЕТО НА БЮДЖЕТА"},null,null,null,null,null,null,null,null,null,null,{"$f":"(IF($E3758<>0,$M$2,IF($L3758<>0,$M$2,\"\")))","v":""}]
[795,null,null,null,"за периода от ","до",null,"        II.1. РАЗХОДИ ПО ДЕЙНОСТИ",null,null,null,null,{"$f":"(IF($E3758<>0,$M$2,IF($L3758<>0,$M$2,\"\")))","v":""}]
[525,{"$f":"$B$12","v":"Поморие"},null,null,"       код по ЕБК:",{"$f":"$F$12","v":"5207"},null,null,null,null,null,null,{"$f":"(IF($E3758<>0,$M$2,IF($L3758<>0,$M$2,\"\")))","v":""}]
[823,null,null,"II.1. РАЗХОДИ ПО ДЕЙНОСТИ","Уточнен план 2020",null,null,null,"Отчет 2020",null,null,null,{"$f":"(IF($E3758<>0,$M$2,IF($L3758<>0,$M$2,\"\")))","v":""}]
[null,null,{"$f":"+C3640","v":5526},"526 Центрове за обществена подкрепа",null,null,null,null,null,null,null,null,{"$f":"(IF($E3758<>0,$M$2,IF($L3758<>0,$M$2,\"\")))","v":""}]
[null,null,101,"заплати и възнаграждения на персонала нает по трудови правоотношения",{"$f":"F3644+G3644+H3644","v":0},0,0,0,0,0,0,{"$f":"I3644+J3644+K3644","v":0},{"$f":"(IF($E3644<>0,$M$2,IF($L3644<>0,$M$2,\"\")))","v":""}]
[null,200,"Други възнаграждения и плащания за персонала",null,{"$f":"SUM(E3647:E3651)","v":0},0,0,{"$f":"SUM(H3647:H3651)","v":0},0,0,0,0,""]
[null,null,205,"изплатени суми от СБКО за облекло и други на персонала, с характер на възнаграждение",{"$f":"F3649+G3649+H3649","v":0},0,0,0,0,0,0,{"$f":"I3649+J3649+K3649","v":0},""]
[null,500,"Задължителни осигурителни вноски от работодатели",null,{"$f":"SUM(E3653:E3659)","v":0},0,0,{"$f":"SUM(H3653:H3659)","v":0},0,0,0,0,""]
[null,null,558,"вноски по чл. 4б и 4в от КСО за сметка на осигурителя",{"$f":"F3655+G3655+H3655","v":0},0,0,0,0,0,0,{"$f":"I3655+J3655+K3655","v":0},""]
[5,800,"Вноски за доброволно осигуряване  ",null,0,null,null,null,null,null,null,0,""]
[40,null,1013,"Постелен инвентар и облекло",0,0,0,0,0,0,0,0,""]
[60,null,1020,"разходи за външни услуги",0,0,0,0,0,0,0,0,""]
[65,null,1030,"Текущ ремонт",0,0,0,0,0,0,0,0,""]
[90,null,1069,"други финансови услуги",0,0,0,0,0,0,0,0,""]
[125,null,1098,"други разходи, некласифицирани в другите параграфи и подпараграфи",0,0,0,0,0,0,0,0,""]
[135,null,1901,"платени държавни данъци, такси, наказателни лихви и административни санкции",{"$f":"F3680+G3680+H3680","v":0},0,0,0,0,0,0,{"$f":"I3680+J3680+K3680","v":0},""]
[150,2100,"Разходи за лихви по емисии на държавни (общински) ценни книжа",null,{"$f":"SUM(E3684:E3688)","v":0},0,0,{"$f":"SUM(H3684:H3688)","v":0},0,0,0,0,""]
[180,null,2190,"премии над номинала от емисии на държавни (общински) ценни книжа (-)",{"$f":"F3688+G3688+H3688","v":0},null,null,null,null,null,null,{"$f":"I3688+J3688+K3688","v":0},""]
[200,null,2224,"Разходи за лихви по други заеми от страната",0,0,0,0,0,0,0,0,""]
[220,2900,"Други разходи за лихви",null,{"$f":"SUM(E3697:E3704)","v":0},{"$f":"SUM(F3697:F3704)","v":0},{"$f":"SUM(G3697:G3704)","v":0},0,0,0,0,0,""]
[245,null,2969,"Платени лихви по активирани гаранции по заеми от международни организации и институции",0,null,null,null,null,null,null,0,""]
[225,null,2989,"Възстановени суми по платени лихви по активирани гаранции (-)",0,null,null,null,null,null,null,0,""]
[240,null,2992,"Други разходи за лихви към чуждестранни лица",0,null,null,null,null,null,null,0,""]
[290,null,3306,"участие във финансирането на брутното намаление за Нидерландия, Швеция, Дания и Австрия",0,0,0,0,0,0,0,0,""]
[330,4000,"Стипендии",null,0,0,0,0,0,0,0,0,""]
[355,null,4201,"обезщетения и помощи по социалното осигуряване",{"$f":"F3715+G3715+H3715","v":0},null,null,null,null,null,null,{"$f":"I3715+J3715+K3715","v":0},""]
[390,null,4218,"текущи трансфери за домакинства по други международни програми и споразумения",0,null,null,null,null,null,null,0,""]
[399,null,4309,"други субсидии и плащания",0,null,null,null,null,null,null,0,""]
[404,4600,"Разходи за членски внос и участие в нетърговски организации и дейности",null,0,0,0,0,0,0,0,0,""]
[450,null,4902,"капиталови трансфери за чужбина",{"$f":"F3730+G3730+H3730","v":0},null,null,null,null,null,null,{"$f":"I3730+J3730+K3730","v":0},""]
[505,null,5201,"придобиване на компютри и хардуер",{"$f":"F3733+G3733+H3733","v":0},0,0,0,0,0,0,{"$f":"I3733+J3733+K3733","v":0},""]
[515,null,5203,"придобиване на друго оборудване, машини и съоръжения",0,0,0,0,0,0,0,0,""]
[635,null,5206,"изграждане на инфраструктурни обекти",0,0,0,0,0,0,0,0,""]
[665,5400,"Придобиване на земя",null,{"$f":"F3743+G3743+H3743","v":0},null,0,0,0,null,0,{"$f":"I3743+J3743+K3743","v":0},""]
[695,null,5503,"капиталови трансфери за организации с нестопанска цел",{"$f":"F3747+G3747+H3747","v":0},null,null,null,null,null,null,{"$f":"I3747+J3747+K3747","v":0},""]
[720,null,5702,"плащания за изкупуване на земеделска продукция",{"$f":"F3751+G3751+H3751","v":0},0,0,0,0,0,0,{"$f":"I3751+J3751+K3751","v":0},""]
[725,null,4071,"постъпления от продажба на държавния резерв (-)",{"$f":"F3752+G3752+H3752","v":0},0,0,0,0,0,0,{"$f":"I3752+J3752+K3752","v":0},""]
[745,null,null,null,null,null,null,null,null,null,null,null,""]
[775,null,null,null,null,null,null,null,null,null,null,null,{"$f":"(IF(E3756<>0,$G$2,IF(L3756<>0,$G$2,\"\")))","v":""}]
[785,null,null,null,null,null,null,null,null,null,null,null,{"$f":"(IF($E3895<>0,$M$2,IF($L3895<>0,$M$2,\"\")))","v":""}]
[810,{"$f":"$B$10","v":"(наименование на разпоредителя с бюджет)"},null,null,null,null,null,null,null,null,null,null,{"$f":"(IF($E3895<>0,$M$2,IF($L3895<>0,$M$2,\"\")))","v":""}]
[820,{"$f":"$B$13","v":"(наименование на първостепенния разпоредител с бюджет)"},null,null,null,null,null,null,null,null,null,null,{"$f":"(IF($E3895<>0,$M$2,IF($L3895<>0,$M$2,\"\")))","v":""}]
[825,"§§","под-§§","НАИМЕНОВАНИЯ НА ПАРАГРАФИТЕ И ПОДПАРАГРАФИТЕ",{"$f":"$E$20","v":"Уточнен план                Общо"},{"$f":"$F$20","v":"държавни дейности"},{"$f":"$G$20","v":"местни дейности"},{"$f":"$H$20","v":"дофинансиране"},{"$f":"$I$20","v":"държавни дейности -ОТЧЕТ"},{"$f":"$J$20","v":"местни дейности - ОТЧЕТ"},{"$f":"$K$20","v":"дофинансиране - ОТЧЕТ"},{"$f":"$L$20","v":"ОТЧЕТ                                    ОБЩО"},{"$f":"(IF($E3895<>0,$M$2,IF($L3895<>0,$M$2,\"\")))","v":""}]
[null,null,null,"(наименование на дейността)",null,null,null,null,null,null,null,null,{"$f":"(IF($E3895<>0,$M$2,IF($L3895<>0,$M$2,\"\")))","v":""}]
[null,null,102,"заплати и възнаграждения на персонала нает по служебни правоотношения",{"$f":"F3782+G3782+H3782","v":0},0,0,0,0,0,0,{"$f":"I3782+J3782+K3782","v":0},""]
[null,null,201,"за нещатен персонал нает по трудови правоотношения ",{"$f":"F3784+G3784+H3784","v":0},0,0,0,0,0,0,{"$f":"I3784+J3784+K3784","v":0},""]
[null,null,208,"обезщетения за персонала, с характер на възнаграждение",{"$f":"F3787+G3787+H3787","v":0},0,0,0,0,0,0,{"$f":"I3787+J3787+K3787","v":0},""]
[null,null,560,"здравно-осигурителни вноски от работодатели",0,0,0,0,0,0,0,0,""]
[null,null,588,"коректив на вноски за ДЗПО за сумите по чл. 4б и 4в от КСО за сметка на осигурителя",{"$f":"F3795+G3795+H3795","v":0},0,0,0,0,0,0,{"$f":"I3795+J3795+K3795","v":0},""]
[10,1000,"Издръжка",null,{"$f":"SUM(E3799:E3815)","v":0},0,0,{"$f":"SUM(H3799:H3815)","v":0},0,0,0,0,""]
[50,null,1015,"материали",0,0,0,0,0,0,0,0,""]
[65,null,1030,"Текущ ремонт",0,0,0,0,0,0,0,0,""]
[70,null,1051,"командировки в страната",0,0,0,0,0,0,0,0,""]
[85,null,1063,"такса ангажимент по заеми",0,0,0,0,0,0,0,0,""]
[130,1900,"Платени данъци, такси и административни санкции",null,{"$f":"SUM(E3817:E3819)","v":0},0,0,{"$f":"SUM(H3817:H3819)","v":0},0,0,0,0,""]
[140,null,1981,"платени общински данъци, такси, наказателни лихви и административни санкции",{"$f":"F3818+G3818+H3818","v":0},0,0,0,0,0,0,{"$f":"I3818+J3818+K3818","v":0},""]
[155,null,2110,"лихви по държавни (общински) ценни книжа",{"$f":"F3821+G3821+H3821","v":0},null,null,null,null,null,null,{"$f":"I3821+J3821+K3821","v":0},""]
[185,2200,"Разходи за лихви по заеми от страната",null,{"$f":"SUM(E3827:E3828)","v":0},0,0,{"$f":"SUM(H3827:H3828)","v":0},0,0,0,0,""]
[205,2600,"Разходи за лихви по заеми от международни организации и институции",null,0,null,null,null,null,null,null,0,""]
[225,null,2910,"Платени лихви по финансов лизинг и търговски кредит",{"$f":"F3834+G3834+H3834","v":0},0,null,null,0,null,null,{"$f":"I3834+J3834+K3834","v":0},""]
[230,null,2920,"Платени лихви по активирани гаранции по заеми от  банки в страната",{"$f":"F3835+G3835+H3835","v":0},null,null,null,null,null,null,{"$f":"I3835+J3835+K3835","v":0},""]
[230,null,2990,"Платени лихви по активирани гаранции по заеми от  банки в страната",{"$f":"F3839+G3839+H3839","v":0},null,null,null,null,null,null,{"$f":"I3839+J3839+K3839","v":0},""]
[245,3300,"Вноска в общия бюджет на Европейския съюз",null,{"$f":"SUM(E3843:E3847)","v":0},0,0,0,0,0,0,0,""]
[320,3900,"Здравно-осигурителни плащания",null,0,0,0,0,0,0,0,0,{"$f":"(IF($E3848<>0,$M$2,IF($L3848<>0,$M$2,\"\")))","v":""}]
[350,4100,"Пенсии",null,0,0,0,0,0,0,0,0,""]
[375,null,4202,"обезщетения и помощи по социалното подпомагане",0,null,null,null,null,null,null,0,""]
[395,4300,"Субсидии и други текущи трансфери за нефинансови предприятия",null,{"$f":"SUM(E3859:E3861)","v":0},0,0,{"$f":"SUM(H3859:H3861)","v":0},0,0,0,0,""]
[400,4400,"Субсидии и други текущи трансфери за финансови институции",null,0,0,0,0,0,0,0,0,""]
[404,4900,"Предоставени текущи и капиталови трансфери за чужбина",null,{"$f":"+E3866+E3867","v":0},0,0,{"$f":"+H3866+H3867","v":0},0,0,0,0,""]
[450,null,4902,"капиталови трансфери за чужбина",{"$f":"F3867+G3867+H3867","v":0},null,null,null,null,null,null,{"$f":"I3867+J3867+K3867","v":0},""]
[505,null,5201,"придобиване на компютри и хардуер",{"$f":"F3870+G3870+H3870","v":0},0,0,0,0,0,0,{"$f":"I3870+J3870+K3870","v":0},""]
[640,null,5219,"придобиване на други ДМА",0,0,0,0,0,0,0,0,""]
[650,null,5301,"придобиване на програмни продукти и лицензи за програмни продукти",{"$f":"F3878+G3878+H3878","v":0},0,0,0,0,0,0,{"$f":"I3878+J3878+K3878","v":0},""]
[675,5500,"Капиталови трансфери",null,{"$f":"SUM(E3882:E3885)","v":0},0,0,{"$f":"SUM(H3882:H3885)","v":0},0,0,0,0,""]
[700,null,5504,"капиталови трансфери за домакинствата",{"$f":"F3885+G3885+H3885","v":0},null,null,null,null,null,null,{"$f":"I3885+J3885+K3885","v":0},""]
[725,null,4071,"постъпления от продажба на държавния резерв (-)",{"$f":"F3889+G3889+H3889","v":0},0,0,0,0,0,0,{"$f":"I3889+J3889+K3889","v":0},""]
[730,null,"Резерв за непредвидени и неотложни разходи",null,null,null,null,null,null,null,null,null,""]
[750,null,null,null,null,null,null,null,null,null,null,null,""]
[780,null,null,null,null,null,null,null,null,null,null,null,{"$f":"(IF($E4032<>0,$M$2,IF($L4032<>0,$M$2,\"\")))","v":""}]
[795,null,null,null,"за периода от ","до",null,"        II.1. РАЗХОДИ ПО ДЕЙНОСТИ",null,null,null,null,{"$f":"(IF($E4032<>0,$M$2,IF($L4032<>0,$M$2,\"\")))","v":""}]
[810,{"$f":"$B$10","v":"(наименование на разпоредителя с бюджет)"},null,null,null,null,null,null,null,null,null,null,{"$f":"(IF($E4032<>0,$M$2,IF($L4032<>0,$M$2,\"\")))","v":""}]
[822,null,null,null,null,null,null,null,null,null,null,"(в лева)",{"$f":"(IF($E4032<>0,$M$2,IF($L4032<>0,$M$2,\"\")))","v":""}]
[null,null,{"$f":"VLOOKUP(D3913,OP_LIST2,2,FALSE)","v":{"$error":"#N/A"}},null,null,null,null,null,null,null,null,null,{"$f":"(IF($E4032<>0,$M$2,IF($L4032<>0,$M$2,\"\")))","v":""}]
[null,100,"Заплати и възнаграждения за персонала, нает по трудови и служебни правоотношения",null,{"$f":"SUM(E3918:E3919)","v":0},0,0,{"$f":"SUM(H3918:H3919)","v":0},0,0,0,0,{"$f":"(IF($E3917<>0,$M$2,IF($L3917<>0,$M$2,\"\")))","v":""}]
[null,200,"Други възнаграждения и плащания за персонала",null,{"$f":"SUM(E3921:E3925)","v":0},0,0,{"$f":"SUM(H3921:H3925)","v":0},0,0,0,0,""]
[null,null,202,"за персонала по извънтрудови правоотношения",{"$f":"F3922+G3922+H3922","v":0},0,0,0,0,0,0,{"$f":"I3922+J3922+K3922","v":0},""]
[null,null,209,"другиплащания и възнаграждения",{"$f":"F3925+G3925+H3925","v":0},0,0,0,0,0,0,{"$f":"I3925+J3925+K3925","v":0},""]
[null,null,580,"вноски за допълнително задължително осигуряване от работодатели",0,0,0,0,0,0,0,0,""]
[null,null,590,"задължителни вноски за чуждестранни пенсионни фондове и  схеми за сметка на осигурителя",0,null,null,null,null,null,null,0,""]
[15,null,1011,"Храна",{"$f":"F3936+G3936+H3936","v":0},0,0,0,0,0,0,{"$f":"I3936+J3936+K3936","v":0},""]
[55,null,1016,"вода, горива и енергия",0,0,0,0,0,0,0,0,""]
[75,null,1052,"краткосрочни командировки в чужбина",0,0,0,0,0,0,0,0,""]
[80,null,1053,"дългосрочни командировки в чужбина",0,0,0,0,0,0,0,0,""]
[90,null,1091,"други разходи за СБКО",0,0,0,0,0,0,0,0,""]
[130,1900,"Платени данъци, такси и административни санкции",null,{"$f":"SUM(E3954:E3956)","v":0},0,0,{"$f":"SUM(H3954:H3956)","v":0},0,0,0,0,""]
[150,2100,"Разходи за лихви по емисии на държавни (общински) ценни книжа",null,{"$f":"SUM(E3958:E3962)","v":0},0,0,{"$f":"SUM(H3958:H3962)","v":0},0,0,0,0,""]
[160,null,2120,"отстъпки по държавни (общински) ценни книжа",{"$f":"F3959+G3959+H3959","v":0},null,null,null,null,null,null,{"$f":"I3959+J3959+K3959","v":0},""]
[190,null,2221,"Разходи за лихви по заеми от банки в страната",{"$f":"F3964+G3964+H3964","v":0},0,0,0,0,0,0,{"$f":"I3964+J3964+K3964","v":0},""]
[210,2700,"Разходи за лихви по заеми от банки и други финансови институции от чужбина",null,0,null,null,null,null,null,null,0,""]
[230,null,2920,"Платени лихви по активирани гаранции по заеми от  банки в страната",{"$f":"F3972+G3972+H3972","v":0},null,null,null,null,null,null,{"$f":"I3972+J3972+K3972","v":0},""]
[245,null,2969,"Платени лихви по активирани гаранции по заеми от международни организации и институции",0,null,null,null,null,null,null,0,""]
[235,null,2991,"Други разходи за лихви към  местни лица",0,null,null,null,null,null,null,0,""]
[265,null,3303,"корекция за Обединеното кралство",0,0,0,0,0,0,0,0,""]
[320,3900,"Здравно-осигурителни плащания",null,0,0,0,0,0,0,0,0,{"$f":"(IF($E3985<>0,$M$2,IF($L3985<>0,$M$2,\"\")))","v":""}]
[350,4100,"Пенсии",null,0,0,0,0,0,0,0,0,""]
[390,null,4218,"текущи трансфери за домакинства по други международни програми и споразумения",0,null,null,null,null,null,null,0,""]
[397,null,4301,"за текуща дейност",{"$f":"F3996+G3996+H3996","v":0},0,0,0,0,0,0,{"$f":"I3996+J3996+K3996","v":0},""]
[401,4500,"Субсидии и други текущи трансфери за юридически лица с нестопанска цел",null,0,0,0,0,0,0,0,0,""]
[404,4600,"Разходи за членски внос и участие в нетърговски организации и дейности",null,0,0,0,0,0,0,0,0,""]
[495,5100,"Основен ремонт на дълготрайни материални активи",null,{"$f":"F4005+G4005+H4005","v":0},0,0,0,0,0,0,{"$f":"I4005+J4005+K4005","v":0},""]
[510,null,5202,"придобиване на сгради",0,0,0,0,0,0,0,0,""]
[645,5300,"Придобиване на нематериални дълготрайни активи",null,{"$f":"SUM(E4015:E4016)","v":0},0,0,{"$f":"SUM(H4015:H4016)","v":0},0,0,0,0,""]
[655,null,5309,"придобиване на други нематериални дълготрайни активи",{"$f":"F4016+G4016+H4016","v":0},0,0,0,0,0,0,{"$f":"I4016+J4016+K4016","v":0},""]
[685,null,5501,"капиталови трансфери за нефинансови предприятия",{"$f":"F4019+G4019+H4019","v":0},null,null,null,null,null,null,{"$f":"I4019+J4019+K4019","v":0},""]
[715,null,5701,"плащания за попълване на държавния резерв",{"$f":"F4024+G4024+H4024","v":0},0,0,0,0,0,0,{"$f":"I4024+J4024+K4024","v":0},""]
[735,98,"Резерв за непредвидени и неотложни разходи",null,{"$f":"F4028+G4028+H4028","v":0},null,null,null,0,0,0,{"$f":"I4028+J4028+K4028","v":0},""]
[740,null,null,null,null,null,null,null,null,null,null,null,""]
[755,null,"99-99",{"$f":"+B4032","v":0},{"$f":"SUM(E3917,E3920,E3926,E3934,E3935,E3953,E3957,E3963,E3966,E3967,E3968,E3969,E3970,E3979,E3985,E3986,E3987,E3988,E3995,E3999,E4000,E4001,E4002,E4005,E4006,E4014,E4017,E4018,E4023)+E4028","v":0},0,0,0,0,0,0,0,{"$f":"(IF($E4032<>0,$M$2,IF($L4032<>0,$M$2,\"\")))","v":""},{"$f":"LEFT(C3914,1)","v":"5"}]
[785,null,null,null,null,null,null,null,null,null,null,null,{"$f":"(IF($E4169<>0,$M$2,IF($L4169<>0,$M$2,\"\")))","v":""}]
[805,{"$f":"$B$9","v":"ОУ Г.С.РАКОВСКИ-С.ГЪЛЪБЕЦ"},null,null,{"$f":"$E$9","v":"2020-01-01"},{"$f":"$F$9","v":"2020-03-31"},null,null,null,null,null,null,{"$f":"(IF($E4169<>0,$M$2,IF($L4169<>0,$M$2,\"\")))","v":""}]
[815,null,null,null,null,null,null,null,null,null,null,null,{"$f":"(IF($E4169<>0,$M$2,IF($L4169<>0,$M$2,\"\")))","v":""}]
[825,"§§","под-§§","НАИМЕНОВАНИЯ НА ПАРАГРАФИТЕ И ПОДПАРАГРАФИТЕ",{"$f":"$E$20","v":"Уточнен план                Общо"},{"$f":"$F$20","v":"държавни дейности"},{"$f":"$G$20","v":"местни дейности"},{"$f":"$H$20","v":"дофинансиране"},{"$f":"$I$20","v":"държавни дейности -ОТЧЕТ"},{"$f":"$J$20","v":"местни дейности - ОТЧЕТ"},{"$f":"$K$20","v":"дофинансиране - ОТЧЕТ"},{"$f":"$L$20","v":"ОТЧЕТ                                    ОБЩО"},{"$f":"(IF($E4169<>0,$M$2,IF($L4169<>0,$M$2,\"\")))","v":""}]
[null,null,{"$f":"VLOOKUP(D4052,EBK_DEIN2,2,FALSE)","v":5535},"<------          ДЕЙНОСТ    -  код  по  ЕБК",null,null,null,null,null,null,null,null,{"$f":"(IF($E4169<>0,$M$2,IF($L4169<>0,$M$2,\"\")))","v":""}]
[null,null,101,"заплати и възнаграждения на персонала нает по трудови правоотношения",{"$f":"F4055+G4055+H4055","v":0},0,0,0,0,0,0,{"$f":"I4055+J4055+K4055","v":0},{"$f":"(IF($E4055<>0,$M$2,IF($L4055<>0,$M$2,\"\")))","v":""}]
[null,null,102,"заплати и възнаграждения на персонала нает по служебни правоотношения",{"$f":"F4056+G4056+H4056","v":0},0,0,0,0,0,0,{"$f":"I4056+J4056+K4056","v":0},""]
[null,null,205,"изплатени суми от СБКО за облекло и други на персонала, с характер на възнаграждение",{"$f":"F4060+G4060+H4060","v":0},0,0,0,0,0,0,{"$f":"I4060+J4060+K4060","v":0},""]
[null,null,552,"осигурителни вноски от работодатели за Учителския пенсионен фонд (УчПФ)",0,0,0,0,0,0,0,0,""]
[null,null,580,"вноски за допълнително задължително осигуряване от работодатели",0,0,0,0,0,0,0,0,""]
[null,null,590,"задължителни вноски за чуждестранни пенсионни фондове и  схеми за сметка на осигурителя",0,null,null,null,null,null,null,0,""]
[45,null,1014,"Учебни и научно-изследователски разходи и книги за библиотеките",0,0,0,0,0,0,0,0,""]
[60,null,1020,"разходи за външни услуги",0,0,0,0,0,0,0,0,""]
[80,null,1053,"дългосрочни командировки в чужбина",0,0,0,0,0,0,0,0,""]
[80,null,1062,"разходи за застраховки",0,0,0,0,0,0,0,0,""]
[115,null,1092,"разходи за договорни санкции и неустойки, съдебни обезщетения и разноски",0,0,0,0,0,0,0,0,""]
[140,null,1981,"платени общински данъци, такси, наказателни лихви и административни санкции",{"$f":"F4092+G4092+H4092","v":0},0,0,0,0,0,0,{"$f":"I4092+J4092+K4092","v":0},""]
[165,null,2125,"лихви и отстъпки по целеви емисии на държавни ценни книжа",{"$f":"F4097+G4097+H4097","v":0},0,0,0,0,0,0,{"$f":"I4097+J4097+K4097","v":0},""]
[180,null,2190,"премии над номинала от емисии на държавни (общински) ценни книжа (-)",{"$f":"F4099+G4099+H4099","v":0},null,null,null,null,null,null,{"$f":"I4099+J4099+K4099","v":0},""]
[200,null,2224,"Разходи за лихви по други заеми от страната",0,0,0,0,0,0,0,0,""]
[220,2900,"Други разходи за лихви",null,{"$f":"SUM(E4108:E4115)","v":0},{"$f":"SUM(F4108:F4115)","v":0},{"$f":"SUM(G4108:G4115)","v":0},0,0,0,0,0,""]
[220,null,2970,"Платени лихви по активирани гаранции по заеми от банки и финансови институции от чужбина",0,null,null,null,null,null,null,0,""]
[225,null,2989,"Възстановени суми по платени лихви по активирани гаранции (-)",0,null,null,null,null,null,null,0,""]
[240,null,2992,"Други разходи за лихви към чуждестранни лица",0,null,null,null,null,null,null,0,""]
[270,null,3304,"традиционни собствени ресурси - мита",0,0,0,0,0,0,0,0,""]
[330,4000,"Стипендии",null,0,0,0,0,0,0,0,0,""]
[355,4200,"Текущи трансфери, обезщетения и помощи за домакинствата",null,{"$f":"SUM(E4126:E4131)","v":0},0,0,{"$f":"SUM(H4126:H4131)","v":0},0,0,0,0,""]
[390,null,4219,"други текущи трансфери за домакинствата",0,0,0,0,0,0,0,0,""]
[398,null,4302,"за осъществяване на болнична помощ ",0,null,null,null,null,null,null,0,""]
[400,4400,"Субсидии и други текущи трансфери за финансови институции",null,0,0,0,0,0,0,0,0,""]
[404,4900,"Предоставени текущи и капиталови трансфери за чужбина",null,{"$f":"+E4140+E4141","v":0},0,0,{"$f":"+H4140+H4141","v":0},0,0,0,0,""]
[500,5200,"Придобиване на дълготрайни материални активи",null,{"$f":"SUM(E4144:E4150)","v":0},0,0,{"$f":"SUM(H4144:H4150)","v":0},0,0,0,0,""]
[525,null,5205,"придобиване на стопански инвентар",0,0,0,0,0,0,0,0,""]
[645,5300,"Придобиване на нематериални дълготрайни активи",null,{"$f":"SUM(E4152:E4153)","v":0},0,0,{"$f":"SUM(H4152:H4153)","v":0},0,0,0,0,""]
[665,5400,"Придобиване на земя",null,{"$f":"F4154+G4154+H4154","v":0},null,0,0,0,null,0,{"$f":"I4154+J4154+K4154","v":0},""]
[690,null,5502,"капиталови трансфери за финансови институции",{"$f":"F4157+G4157+H4157","v":0},null,null,null,null,null,null,{"$f":"I4157+J4157+K4157","v":0},""]
[720,null,5702,"плащания за изкупуване на земеделска продукция",{"$f":"F4162+G4162+H4162","v":0},0,0,0,0,0,0,{"$f":"I4162+J4162+K4162","v":0},""]
[740,null,null,null,null,null,null,null,null,null,null,null,""]
[745,null,null,null,null,null,null,null,null,null,null,null,""]
[765,null,null,null,null,null,null,null,null,null,null,null,{"$f":"(IF($E4169<>0,$M$2,IF($L4169<>0,$M$2,\"\")))","v":""}]
[790,{"$f":"$B$7","v":"ОТЧЕТНИ ДАННИ ПО ЕБК ЗА ИЗПЪЛНЕНИЕТО НА БЮДЖЕТА"},null,null,null,null,null,null,null,null,null,null,{"$f":"(IF($E4306<>0,$M$2,IF($L4306<>0,$M$2,\"\")))","v":""}]
[525,{"$f":"$B$12","v":"Поморие"},null,null,"       код по ЕБК:",{"$f":"$F$12","v":"5207"},null,null,null,null,null,null,{"$f":"(IF($E4306<>0,$M$2,IF($L4306<>0,$M$2,\"\")))","v":""}]
[822,null,null,null,null,null,null,null,null,null,null,"(в лева)",{"$f":"(IF($E4306<>0,$M$2,IF($L4306<>0,$M$2,\"\")))","v":""}]
[825,"§§","под-§§","НАИМЕНОВАНИЯ НА ПАРАГРАФИТЕ И ПОДПАРАГРАФИТЕ",{"$f":"$E$20","v":"Уточнен план                Общо"},{"$f":"$F$20","v":"държавни дейности"},{"$f":"$G$20","v":"местни дейности"},{"$f":"$H$20","v":"дофинансиране"},{"$f":"$I$20","v":"държавни дейности -ОТЧЕТ"},{"$f":"$J$20","v":"местни дейности - ОТЧЕТ"},{"$f":"$K$20","v":"дофинансиране - ОТЧЕТ"},{"$f":"$L$20","v":"ОТЧЕТ                                    ОБЩО"},{"$f":"(IF($E4306<>0,$M$2,IF($L4306<>0,$M$2,\"\")))","v":""}]
[null,null,null,"(наименование на дейността)",null,null,null,null,null,null,null,null,{"$f":"(IF($E4306<>0,$M$2,IF($L4306<>0,$M$2,\"\")))","v":""}]
[null,100,"Заплати и възнаграждения за персонала, нает по трудови и служебни правоотношения",null,{"$f":"SUM(E4192:E4193)","v":0},0,0,{"$f":"SUM(H4192:H4193)","v":0},0,0,0,0,{"$f":"(IF($E4191<>0,$M$2,IF($L4191<>0,$M$2,\"\")))","v":""}]
[null,200,"Други възнаграждения и плащания за персонала",null,{"$f":"SUM(E4195:E4199)","v":0},0,0,{"$f":"SUM(H4195:H4199)","v":0},0,0,0,0,""]
[null,null,208,"обезщетения за персонала, с характер на възнаграждение",{"$f":"F4198+G4198+H4198","v":0},0,0,0,0,0,0,{"$f":"I4198+J4198+K4198","v":0},""]
[null,null,558,"вноски по чл. 4б и 4в от КСО за сметка на осигурителя",{"$f":"F4203+G4203+H4203","v":0},0,0,0,0,0,0,{"$f":"I4203+J4203+K4203","v":0},""]
[null,null,588,"коректив на вноски за ДЗПО за сумите по чл. 4б и 4в от КСО за сметка на осигурителя",{"$f":"F4206+G4206+H4206","v":0},0,0,0,0,0,0,{"$f":"I4206+J4206+K4206","v":0},""]
[5,800,"Вноски за доброволно осигуряване  ",null,0,null,null,null,null,null,null,0,""]
[50,null,1015,"материали",0,0,0,0,0,0,0,0,""]
[65,null,1030,"Текущ ремонт",0,0,0,0,0,0,0,0,""]
[75,null,1052,"краткосрочни командировки в чужбина",0,0,0,0,0,0,0,0,""]
[85,null,1063,"такса ангажимент по заеми",0,0,0,0,0,0,0,0,""]
[125,null,1098,"други разходи, некласифицирани в другите параграфи и подпараграфи",0,0,0,0,0,0,0,0,""]
[145,null,1991,"платени данъци, такси, наказателни лихви и административни санкции в чужбина",{"$f":"F4230+G4230+H4230","v":0},null,null,null,null,null,null,{"$f":"I4230+J4230+K4230","v":0},""]
[175,null,2140,"лихви по държавни ценни книжа, емитирани за структурната реформа ",{"$f":"F4235+G4235+H4235","v":0},0,0,0,0,0,0,{"$f":"I4235+J4235+K4235","v":0},""]
[190,null,2221,"Разходи за лихви по заеми от банки в страната",{"$f":"F4238+G4238+H4238","v":0},0,0,0,0,0,0,{"$f":"I4238+J4238+K4238","v":0},""]
[200,2500,"Разходи за лихви по заеми от други държави",null,0,null,null,null,null,null,null,0,""]
[225,null,2910,"Платени лихви по финансов лизинг и търговски кредит",{"$f":"F4245+G4245+H4245","v":0},0,null,null,0,null,null,{"$f":"I4245+J4245+K4245","v":0},""]
[225,null,2989,"Възстановени суми по платени лихви по активирани гаранции (-)",0,null,null,null,null,null,null,0,""]
[230,null,2990,"Платени лихви по активирани гаранции по заеми от  банки в страната",{"$f":"F4250+G4250+H4250","v":0},null,null,null,null,null,null,{"$f":"I4250+J4250+K4250","v":0},""]
[250,null,3301,"ресурс на база брутен национален доход",{"$f":"F4254+G4254+H4254","v":0},0,0,0,0,0,0,{"$f":"I4254+J4254+K4254","v":0},""]
[290,null,3306,"участие във финансирането на брутното намаление за Нидерландия, Швеция, Дания и Австрия",0,0,0,0,0,0,0,0,""]
[355,null,4201,"обезщетения и помощи по социалното осигуряване",{"$f":"F4263+G4263+H4263","v":0},null,null,null,null,null,null,{"$f":"I4263+J4263+K4263","v":0},""]
[385,null,4217,"текущи трансфери за домакинства от средства на Европейския съюз",0,null,null,null,null,null,null,0,""]
[395,4300,"Субсидии и други текущи трансфери за нефинансови предприятия",null,{"$f":"SUM(E4270:E4272)","v":0},0,0,{"$f":"SUM(H4270:H4272)","v":0},0,0,0,0,""]
[399,null,4309,"други субсидии и плащания",0,null,null,null,null,null,null,0,""]
[401,4500,"Субсидии и други текущи трансфери за юридически лица с нестопанска цел",null,0,0,0,0,0,0,0,0,""]
[440,null,4901,"текущи трансфери за чужбина",{"$f":"F4277+G4277+H4277","v":0},null,null,null,null,null,null,{"$f":"I4277+J4277+K4277","v":0},""]
[510,null,5202,"придобиване на сгради",0,0,0,0,0,0,0,0,""]
[635,null,5206,"изграждане на инфраструктурни обекти",0,0,0,0,0,0,0,0,""]
[650,null,5301,"придобиване на програмни продукти и лицензи за програмни продукти",{"$f":"F4289+G4289+H4289","v":0},0,0,0,0,0,0,{"$f":"I4289+J4289+K4289","v":0},""]
[665,5400,"Придобиване на земя",null,{"$f":"F4291+G4291+H4291","v":0},null,0,0,0,null,0,{"$f":"I4291+J4291+K4291","v":0},""]
[710,5700,"Прираст на държавния резерв и изкупуване на земеделска продукция (включва и § 40-71)",null,{"$f":"SUM(E4298:E4300)","v":0},0,0,0,0,0,0,{"$f":"SUM(L4298:L4300)","v":0},""]
[725,null,4071,"постъпления от продажба на държавния резерв (-)",{"$f":"F4300+G4300+H4300","v":0},0,0,0,0,0,0,{"$f":"I4300+J4300+K4300","v":0},""]
[735,98,"Резерв за непредвидени и неотложни разходи",null,{"$f":"F4302+G4302+H4302","v":0},null,null,null,0,0,0,{"$f":"I4302+J4302+K4302","v":0},""]
[750,null,null,null,null,null,null,null,null,null,null,null,""]
[775,null,null,null,null,null,null,null,null,null,null,null,{"$f":"(IF(E4304<>0,$G$2,IF(L4304<>0,$G$2,\"\")))","v":""}]
[795,null,null,null,"за периода от ","до",null,"        II.1. РАЗХОДИ ПО ДЕЙНОСТИ",null,null,null,null,{"$f":"(IF($E4443<>0,$M$2,IF($L4443<>0,$M$2,\"\")))","v":""}]
[820,{"$f":"$B$13","v":"(наименование на първостепенния разпоредител с бюджет)"},null,null,null,null,null,null,null,null,null,null,{"$f":"(IF($E4443<>0,$M$2,IF($L4443<>0,$M$2,\"\")))","v":""}]
[823,null,null,"II.1. РАЗХОДИ ПО ДЕЙНОСТИ","Уточнен план 2020",null,null,null,"Отчет 2020",null,null,null,{"$f":"(IF($E4443<>0,$M$2,IF($L4443<>0,$M$2,\"\")))","v":""}]
[null,null,null," 02 ¦",{"$f":"$E$21","v":"(1)"},{"$f":"$F$21","v":"(2)"},{"$f":"$G$21","v":"(3)"},{"$f":"$H$21","v":"(4)"},{"$f":"$I$21","v":"(5)"},{"$f":"$J$21","v":"(6)"},{"$f":"$K$21","v":"(7)"},{"$f":"$L$21","v":"(8)"},{"$f":"(IF($E4443<>0,$M$2,IF($L4443<>0,$M$2,\"\")))","v":""}]
[null,null,{"$f":"+C4325","v":5541},"541 Домове за възрастни хора с увреждания",null,null,null,null,null,null,null,null,{"$f":"(IF($E4443<>0,$M$2,IF($L4443<>0,$M$2,\"\")))","v":""}]
[null,null,201,"за нещатен персонал нает по трудови правоотношения ",{"$f":"F4332+G4332+H4332","v":0},0,0,0,0,0,0,{"$f":"I4332+J4332+K4332","v":0},""]
[null,null,202,"за персонала по извънтрудови правоотношения",{"$f":"F4333+G4333+H4333","v":0},0,0,0,0,0,0,{"$f":"I4333+J4333+K4333","v":0},""]
[null,500,"Задължителни осигурителни вноски от работодатели",null,{"$f":"SUM(E4338:E4344)","v":0},0,0,{"$f":"SUM(H4338:H4344)","v":0},0,0,0,0,""]
[null,null,560,"здравно-осигурителни вноски от работодатели",0,0,0,0,0,0,0,0,""]
[null,null,590,"задължителни вноски за чуждестранни пенсионни фондове и  схеми за сметка на осигурителя",0,null,null,null,null,null,null,0,""]
[10,1000,"Издръжка",null,{"$f":"SUM(E4347:E4363)","v":0},0,0,{"$f":"SUM(H4347:H4363)","v":0},0,0,0,0,""]
[55,null,1016,"вода, горива и енергия",0,0,0,0,0,0,0,0,""]
[70,null,1051,"командировки в страната",0,0,0,0,0,0,0,0,""]
[80,null,1053,"дългосрочни командировки в чужбина",0,0,0,0,0,0,0,0,""]
[90,null,1069,"други финансови услуги",0,0,0,0,0,0,0,0,""]
[135,null,1901,"платени държавни данъци, такси, наказателни лихви и административни санкции",{"$f":"F4365+G4365+H4365","v":0},0,0,0,0,0,0,{"$f":"I4365+J4365+K4365","v":0},""]
[155,null,2110,"лихви по държавни (общински) ценни книжа",{"$f":"F4369+G4369+H4369","v":0},null,null,null,null,null,null,{"$f":"I4369+J4369+K4369","v":0},""]
[180,null,2190,"премии над номинала от емисии на държавни (общински) ценни книжа (-)",{"$f":"F4373+G4373+H4373","v":0},null,null,null,null,null,null,{"$f":"I4373+J4373+K4373","v":0},""]
[185,2200,"Разходи за лихви по заеми от страната",null,{"$f":"SUM(E4375:E4376)","v":0},0,0,{"$f":"SUM(H4375:H4376)","v":0},0,0,0,0,""]
[215,2800,"Разходи за лихви и отстъпки по облигации, емитирани и търгувани на международните капиталови пазари",null,0,null,null,null,null,null,null,0,""]
[220,2900,"Други разходи за лихви",null,{"$f":"SUM(E4382:E4389)","v":0},{"$f":"SUM(F4382:F4389)","v":0},{"$f":"SUM(G4382:G4389)","v":0},0,0,0,0,0,""]
[230,null,2990,"Платени лихви по активирани гаранции по заеми от  банки в страната",{"$f":"F4387+G4387+H4387","v":0},null,null,null,null,null,null,{"$f":"I4387+J4387+K4387","v":0},""]
[235,null,2991,"Други разходи за лихви към  местни лица",0,null,null,null,null,null,null,0,""]
[255,null,3302,"ресурс на база данък върху добавената стойност",0,0,0,0,0,0,0,0,""]
[320,3900,"Здравно-осигурителни плащания",null,0,0,0,0,0,0,0,0,{"$f":"(IF($E4396<>0,$M$2,IF($L4396<>0,$M$2,\"\")))","v":""}]
[375,null,4202,"обезщетения и помощи по социалното подпомагане",0,null,null,null,null,null,null,0,""]
[390,null,4218,"текущи трансфери за домакинства по други международни програми и споразумения",0,null,null,null,null,null,null,0,""]
[395,4300,"Субсидии и други текущи трансфери за нефинансови предприятия",null,{"$f":"SUM(E4407:E4409)","v":0},0,0,{"$f":"SUM(H4407:H4409)","v":0},0,0,0,0,""]
[399,null,4309,"други субсидии и плащания",0,null,null,null,null,null,null,0,""]
[450,null,4902,"капиталови трансфери за чужбина",{"$f":"F4415+G4415+H4415","v":0},null,null,null,null,null,null,{"$f":"I4415+J4415+K4415","v":0},""]
[495,5100,"Основен ремонт на дълготрайни материални активи",null,{"$f":"F4416+G4416+H4416","v":0},0,0,0,0,0,0,{"$f":"I4416+J4416+K4416","v":0},""]
[515,null,5203,"придобиване на друго оборудване, машини и съоръжения",0,0,0,0,0,0,0,0,""]
[640,null,5219,"придобиване на други ДМА",0,0,0,0,0,0,0,0,""]
[665,5400,"Придобиване на земя",null,{"$f":"F4428+G4428+H4428","v":0},null,0,0,0,null,0,{"$f":"I4428+J4428+K4428","v":0},""]
[675,5500,"Капиталови трансфери",null,{"$f":"SUM(E4430:E4433)","v":0},0,0,{"$f":"SUM(H4430:H4433)","v":0},0,0,0,0,""]
[715,null,5701,"плащания за попълване на държавния резерв",{"$f":"F4435+G4435+H4435","v":0},0,0,0,0,0,0,{"$f":"I4435+J4435+K4435","v":0},""]
[730,null,"Резерв за непредвидени и неотложни разходи",null,null,null,null,null,null,null,null,null,""]
[740,null,null,null,null,null,null,null,null,null,null,null,""]
[755,null,"99-99",{"$f":"+B4443","v":0},{"$f":"SUM(E4328,E4331,E4337,E4345,E4346,E4364,E4368,E4374,E4377,E4378,E4379,E4380,E4381,E4390,E4396,E4397,E4398,E4399,E4406,E4410,E4411,E4412,E4413,E4416,E4417,E4425,E4428,E4429,E4434)+E4439","v":0},0,0,0,0,0,0,0,{"$f":"(IF($E4443<>0,$M$2,IF($L4443<>0,$M$2,\"\")))","v":""},{"$f":"LEFT(C4325,1)","v":"5"}]
[785,null,null,null,null,null,null,null,null,null,null,null,{"$f":"(IF($E4580<>0,$M$2,IF($L4580<>0,$M$2,\"\")))","v":""}]
[810,{"$f":"$B$10","v":"(наименование на разпоредителя с бюджет)"},null,null,null,null,null,null,null,null,null,null,{"$f":"(IF($E4580<>0,$M$2,IF($L4580<>0,$M$2,\"\")))","v":""}]
[821,null,null,"ФИНАНСОВО-ПРАВНА ФОРМА",{"$f":"$E$15","v":0},{"$f":"$F$15","v":"БЮДЖЕТ"},null,null,null,null,null,null,{"$f":"(IF($E4580<>0,$M$2,IF($L4580<>0,$M$2,\"\")))","v":""}]
[825,"§§","под-§§","НАИМЕНОВАНИЯ НА ПАРАГРАФИТЕ И ПОДПАРАГРАФИТЕ",{"$f":"$E$20","v":"Уточнен план                Общо"},{"$f":"$F$20","v":"държавни дейности"},{"$f":"$G$20","v":"местни дейности"},{"$f":"$H$20","v":"дофинансиране"},{"$f":"$I$20","v":"държавни дейности -ОТЧЕТ"},{"$f":"$J$20","v":"местни дейности - ОТЧЕТ"},{"$f":"$K$20","v":"дофинансиране - ОТЧЕТ"},{"$f":"$L$20","v":"ОТЧЕТ                                    ОБЩО"},{"$f":"(IF($E4580<>0,$M$2,IF($L4580<>0,$M$2,\"\")))","v":""}]
[null,null,{"$f":"VLOOKUP(D4461,OP_LIST2,2,FALSE)","v":{"$error":"#N/A"}},null,null,null,null,null,null,null,null,null,{"$f":"(IF($E4580<>0,$M$2,IF($L4580<>0,$M$2,\"\")))","v":""}]
[null,null,null,"(наименование на дейността)",null,null,null,null,null,null,null,null,{"$f":"(IF($E4580<>0,$M$2,IF($L4580<>0,$M$2,\"\")))","v":""}]
[null,null,202,"за персонала по извънтрудови правоотношения",{"$f":"F4470+G4470+H4470","v":0},0,0,0,0,0,0,{"$f":"I4470+J4470+K4470","v":0},""]
[null,null,208,"обезщетения за персонала, с характер на възнаграждение",{"$f":"F4472+G4472+H4472","v":0},0,0,0,0,0,0,{"$f":"I4472+J4472+K4472","v":0},""]
[null,null,551,"осигурителни вноски от работодатели за Държавното обществено осигуряване (ДОО)",{"$f":"F4475+G4475+H4475","v":0},0,0,0,0,0,0,{"$f":"I4475+J4475+K4475","v":0},""]
[null,null,580,"вноски за допълнително задължително осигуряване от работодатели",0,0,0,0,0,0,0,0,""]
[15,null,1011,"Храна",{"$f":"F4484+G4484+H4484","v":0},0,0,0,0,0,0,{"$f":"I4484+J4484+K4484","v":0},""]
[45,null,1014,"Учебни и научно-изследователски разходи и книги за библиотеките",0,0,0,0,0,0,0,0,""]
[55,null,1016,"вода, горива и енергия",0,0,0,0,0,0,0,0,""]
[70,null,1051,"командировки в страната",0,0,0,0,0,0,0,0,""]
[80,null,1062,"разходи за застраховки",0,0,0,0,0,0,0,0,""]
[90,null,1091,"други разходи за СБКО",0,0,0,0,0,0,0,0,""]
[140,null,1981,"платени общински данъци, такси, наказателни лихви и административни санкции",{"$f":"F4503+G4503+H4503","v":0},0,0,0,0,0,0,{"$f":"I4503+J4503+K4503","v":0},""]
[160,null,2120,"отстъпки по държавни (общински) ценни книжа",{"$f":"F4507+G4507+H4507","v":0},null,null,null,null,null,null,{"$f":"I4507+J4507+K4507","v":0},""]
[185,2200,"Разходи за лихви по заеми от страната",null,{"$f":"SUM(E4512:E4513)","v":0},0,0,{"$f":"SUM(H4512:H4513)","v":0},0,0,0,0,""]
[190,null,2221,"Разходи за лихви по заеми от банки в страната",{"$f":"F4512+G4512+H4512","v":0},0,0,0,0,0,0,{"$f":"I4512+J4512+K4512","v":0},""]
[210,2700,"Разходи за лихви по заеми от банки и други финансови институции от чужбина",null,0,null,null,null,null,null,null,0,""]
[245,null,2969,"Платени лихви по активирани гаранции по заеми от международни организации и институции",0,null,null,null,null,null,null,0,""]
[225,null,2989,"Възстановени суми по платени лихви по активирани гаранции (-)",0,null,null,null,null,null,null,0,""]
[240,null,2992,"Други разходи за лихви към чуждестранни лица",0,null,null,null,null,null,null,0,""]
[270,null,3304,"традиционни собствени ресурси - мита",0,0,0,0,0,0,0,0,""]
[330,4000,"Стипендии",null,0,0,0,0,0,0,0,0,""]
[380,null,4214,"обезщетения и помощи по решение на общинския съвет",0,0,0,0,0,0,0,0,""]
[390,null,4219,"други текущи трансфери за домакинствата",0,0,0,0,0,0,0,0,""]
[397,null,4301,"за текуща дейност",{"$f":"F4544+G4544+H4544","v":0},0,0,0,0,0,0,{"$f":"I4544+J4544+K4544","v":0},""]
[400,4400,"Субсидии и други текущи трансфери за финансови институции",null,0,0,0,0,0,0,0,0,""]
[495,5100,"Основен ремонт на дълготрайни материални активи",null,{"$f":"F4553+G4553+H4553","v":0},0,0,0,0,0,0,{"$f":"I4553+J4553+K4553","v":0},""]
[505,null,5201,"придобиване на компютри и хардуер",{"$f":"F4555+G4555+H4555","v":0},0,0,0,0,0,0,{"$f":"I4555+J4555+K4555","v":0},""]
[520,null,5204,"придобиване на транспортни средства",0,0,0,0,0,0,0,0,""]
[650,null,5301,"придобиване на програмни продукти и лицензи за програмни продукти",{"$f":"F4563+G4563+H4563","v":0},0,0,0,0,0,0,{"$f":"I4563+J4563+K4563","v":0},""]
[685,null,5501,"капиталови трансфери за нефинансови предприятия",{"$f":"F4567+G4567+H4567","v":0},null,null,null,null,null,null,{"$f":"I4567+J4567+K4567","v":0},""]
[700,null,5504,"капиталови трансфери за домакинствата",{"$f":"F4570+G4570+H4570","v":0},null,null,null,null,null,null,{"$f":"I4570+J4570+K4570","v":0},""]
[710,5700,"Прираст на държавния резерв и изкупуване на земеделска продукция (включва и § 40-71)",null,{"$f":"SUM(E4572:E4574)","v":0},0,0,0,0,0,0,{"$f":"SUM(L4572:L4574)","v":0},""]
[735,98,"Резерв за непредвидени и неотложни разходи",null,{"$f":"F4576+G4576+H4576","v":0},null,null,null,0,0,0,{"$f":"I4576+J4576+K4576","v":0},""]
[745,null,null,null,null,null,null,null,null,null,null,null,""]
[760,"край на дейност",null,null,null,null,null,null,null,null,null,null,{"$f":"(IF($E4580<>0,$M$2,IF($L4580<>0,$M$2,\"\")))","v":""}]
[790,{"$f":"$B$7","v":"ОТЧЕТНИ ДАННИ ПО ЕБК ЗА ИЗПЪЛНЕНИЕТО НА БЮДЖЕТА"},null,null,null,null,null,null,null,null,null,null,{"$f":"(IF($E4717<>0,$M$2,IF($L4717<>0,$M$2,\"\")))","v":""}]
[815,null,null,null,null,null,null,null,null,null,null,null,{"$f":"(IF($E4717<>0,$M$2,IF($L4717<>0,$M$2,\"\")))","v":""}]
[822,null,null,null,null,null,null,null,null,null,null,"(в лева)",{"$f":"(IF($E4717<>0,$M$2,IF($L4717<>0,$M$2,\"\")))","v":""}]
[823,null,null,"II.1. РАЗХОДИ ПО ДЕЙНОСТИ","Уточнен план 2020",null,null,null,"Отчет 2020",null,null,null,{"$f":"(IF($E4717<>0,$M$2,IF($L4717<>0,$M$2,\"\")))","v":""}]
[null,null,{"$f":"VLOOKUP(D4600,EBK_DEIN2,2,FALSE)","v":5551},"<------          ДЕЙНОСТ    -  код  по  ЕБК",null,null,null,null,null,null,null,null,{"$f":"(IF($E4717<>0,$M$2,IF($L4717<>0,$M$2,\"\")))","v":""}]
[null,null,102,"заплати и възнаграждения на персонала нает по служебни правоотношения",{"$f":"F4604+G4604+H4604","v":0},0,0,0,0,0,0,{"$f":"I4604+J4604+K4604","v":0},""]
[null,null,202,"за персонала по извънтрудови правоотношения",{"$f":"F4607+G4607+H4607","v":0},0,0,0,0,0,0,{"$f":"I4607+J4607+K4607","v":0},""]
[null,null,209,"другиплащания и възнаграждения",{"$f":"F4610+G4610+H4610","v":0},0,0,0,0,0,0,{"$f":"I4610+J4610+K4610","v":0},""]
[null,null,552,"осигурителни вноски от работодатели за Учителския пенсионен фонд (УчПФ)",0,0,0,0,0,0,0,0,""]
[null,null,590,"задължителни вноски за чуждестранни пенсионни фондове и  схеми за сметка на осигурителя",0,null,null,null,null,null,null,0,""]
[35,null,1012,"Медикаменти",0,0,0,0,0,0,0,0,""]
[50,null,1015,"материали",0,0,0,0,0,0,0,0,""]
[60,null,1020,"разходи за външни услуги",0,0,0,0,0,0,0,0,""]
[75,null,1052,"краткосрочни командировки в чужбина",0,0,0,0,0,0,0,0,""]
[115,null,1092,"разходи за договорни санкции и неустойки, съдебни обезщетения и разноски",0,0,0,0,0,0,0,0,""]
[130,1900,"Платени данъци, такси и административни санкции",null,{"$f":"SUM(E4639:E4641)","v":0},0,0,{"$f":"SUM(H4639:H4641)","v":0},0,0,0,0,""]
[145,null,1991,"платени данъци, такси, наказателни лихви и административни санкции в чужбина",{"$f":"F4641+G4641+H4641","v":0},null,null,null,null,null,null,{"$f":"I4641+J4641+K4641","v":0},""]
[175,null,2140,"лихви по държавни ценни книжа, емитирани за структурната реформа ",{"$f":"F4646+G4646+H4646","v":0},0,0,0,0,0,0,{"$f":"I4646+J4646+K4646","v":0},""]
[190,null,2221,"Разходи за лихви по заеми от банки в страната",{"$f":"F4649+G4649+H4649","v":0},0,0,0,0,0,0,{"$f":"I4649+J4649+K4649","v":0},""]
[200,null,2224,"Разходи за лихви по други заеми от страната",0,0,0,0,0,0,0,0,""]
[215,2800,"Разходи за лихви и отстъпки по облигации, емитирани и търгувани на международните капиталови пазари",null,0,null,null,null,null,null,null,0,""]
[220,null,2970,"Платени лихви по активирани гаранции по заеми от банки и финансови институции от чужбина",0,null,null,null,null,null,null,0,""]
[235,null,2991,"Други разходи за лихви към  местни лица",0,null,null,null,null,null,null,0,""]
[245,3300,"Вноска в общия бюджет на Европейския съюз",null,{"$f":"SUM(E4665:E4669)","v":0},0,0,0,0,0,0,0,""]
[290,null,3306,"участие във финансирането на брутното намаление за Нидерландия, Швеция, Дания и Австрия",0,0,0,0,0,0,0,0,""]
[355,4200,"Текущи трансфери, обезщетения и помощи за домакинствата",null,{"$f":"SUM(E4674:E4679)","v":0},0,0,{"$f":"SUM(H4674:H4679)","v":0},0,0,0,0,""]
[385,null,4217,"текущи трансфери за домакинства от средства на Европейския съюз",0,null,null,null,null,null,null,0,""]
[390,null,4218,"текущи трансфери за домакинства по други международни програми и споразумения",0,null,null,null,null,null,null,0,""]
[398,null,4302,"за осъществяване на болнична помощ ",0,null,null,null,null,null,null,0,""]
[401,4500,"Субсидии и други текущи трансфери за юридически лица с нестопанска цел",null,0,0,0,0,0,0,0,0,""]
[500,5200,"Придобиване на дълготрайни материални активи",null,{"$f":"SUM(E4692:E4698)","v":0},0,0,{"$f":"SUM(H4692:H4698)","v":0},0,0,0,0,""]
[510,null,5202,"придобиване на сгради",0,0,0,0,0,0,0,0,""]
[525,null,5205,"придобиване на стопански инвентар",0,0,0,0,0,0,0,0,""]
[655,null,5309,"придобиване на други нематериални дълготрайни активи",{"$f":"F4701+G4701+H4701","v":0},0,0,0,0,0,0,{"$f":"I4701+J4701+K4701","v":0},""]
[690,null,5502,"капиталови трансфери за финансови институции",{"$f":"F4705+G4705+H4705","v":0},null,null,null,null,null,null,{"$f":"I4705+J4705+K4705","v":0},""]
[695,null,5503,"капиталови трансфери за организации с нестопанска цел",{"$f":"F4706+G4706+H4706","v":0},null,null,null,null,null,null,{"$f":"I4706+J4706+K4706","v":0},""]
[720,null,5702,"плащания за изкупуване на земеделска продукция",{"$f":"F4710+G4710+H4710","v":0},0,0,0,0,0,0,{"$f":"I4710+J4710+K4710","v":0},""]
[735,98,"Резерв за непредвидени и неотложни разходи",null,{"$f":"F4713+G4713+H4713","v":0},null,null,null,0,0,0,{"$f":"I4713+J4713+K4713","v":0},""]
[765,null,null,null,null,null,null,null,null,null,null,null,{"$f":"(IF($E4717<>0,$M$2,IF($L4717<>0,$M$2,\"\")))","v":""}]
[780,null,null,null,null,null,null,null,null,null,null,null,{"$f":"(IF($E4854<>0,$M$2,IF($L4854<>0,$M$2,\"\")))","v":""}]
[795,null,null,null,"за периода от ","до",null,"        II.1. РАЗХОДИ ПО ДЕЙНОСТИ",null,null,null,null,{"$f":"(IF($E4854<>0,$M$2,IF($L4854<>0,$M$2,\"\")))","v":""}]
[525,{"$f":"$B$12","v":"Поморие"},null,null,"       код по ЕБК:",{"$f":"$F$12","v":"5207"},null,null,null,null,null,null,{"$f":"(IF($E4854<>0,$M$2,IF($L4854<>0,$M$2,\"\")))","v":""}]
[823,null,null,"II.1. РАЗХОДИ ПО ДЕЙНОСТИ","Уточнен план 2020",null,null,null,"Отчет 2020",null,null,null,{"$f":"(IF($E4854<>0,$M$2,IF($L4854<>0,$M$2,\"\")))","v":""}]
[825,"§§","под-§§","НАИМЕНОВАНИЯ НА ПАРАГРАФИТЕ И ПОДПАРАГРАФИТЕ",{"$f":"$E$20","v":"Уточнен план                Общо"},{"$f":"$F$20","v":"държавни дейности"},{"$f":"$G$20","v":"местни дейности"},{"$f":"$H$20","v":"дофинансиране"},{"$f":"$I$20","v":"държавни дейности -ОТЧЕТ"},{"$f":"$J$20","v":"местни дейности - ОТЧЕТ"},{"$f":"$K$20","v":"дофинансиране - ОТЧЕТ"},{"$f":"$L$20","v":"ОТЧЕТ                                    ОБЩО"},{"$f":"(IF($E4854<>0,$M$2,IF($L4854<>0,$M$2,\"\")))","v":""}]
[null,null,{"$f":"+C4736","v":5554},"554 Защитени жилища",null,null,null,null,null,null,null,null,{"$f":"(IF($E4854<>0,$M$2,IF($L4854<>0,$M$2,\"\")))","v":""}]
[null,200,"Други възнаграждения и плащания за персонала",null,{"$f":"SUM(E4743:E4747)","v":0},0,0,{"$f":"SUM(H4743:H4747)","v":0},0,0,0,0,""]
[null,null,205,"изплатени суми от СБКО за облекло и други на персонала, с характер на възнаграждение",{"$f":"F4745+G4745+H4745","v":0},0,0,0,0,0,0,{"$f":"I4745+J4745+K4745","v":0},""]
[null,null,209,"другиплащания и възнаграждения",{"$f":"F4747+G4747+H4747","v":0},0,0,0,0,0,0,{"$f":"I4747+J4747+K4747","v":0},""]
[null,null,580,"вноски за допълнително задължително осигуряване от работодатели",0,0,0,0,0,0,0,0,""]
[5,800,"Вноски за доброволно осигуряване  ",null,0,null,null,null,null,null,null,0,""]
[40,null,1013,"Постелен инвентар и облекло",0,0,0,0,0,0,0,0,""]
[45,null,1014,"Учебни и научно-изследователски разходи и книги за библиотеките",0,0,0,0,0,0,0,0,""]
[65,null,1030,"Текущ ремонт",0,0,0,0,0,0,0,0,""]
[80,null,1053,"дългосрочни командировки в чужбина",0,0,0,0,0,0,0,0,""]
[125,null,1098,"други разходи, некласифицирани в другите параграфи и подпараграфи",0,0,0,0,0,0,0,0,""]
[135,null,1901,"платени държавни данъци, такси, наказателни лихви и административни санкции",{"$f":"F4776+G4776+H4776","v":0},0,0,0,0,0,0,{"$f":"I4776+J4776+K4776","v":0},""]
[150,2100,"Разходи за лихви по емисии на държавни (общински) ценни книжа",null,{"$f":"SUM(E4780:E4784)","v":0},0,0,{"$f":"SUM(H4780:H4784)","v":0},0,0,0,0,""]
[180,null,2190,"премии над номинала от емисии на държавни (общински) ценни книжа (-)",{"$f":"F4784+G4784+H4784","v":0},null,null,null,null,null,null,{"$f":"I4784+J4784+K4784","v":0},""]
[200,2500,"Разходи за лихви по заеми от други държави",null,0,null,null,null,null,null,null,0,""]
[205,2600,"Разходи за лихви по заеми от международни организации и институции",null,0,null,null,null,null,null,null,0,""]
[225,null,2910,"Платени лихви по финансов лизинг и търговски кредит",{"$f":"F4793+G4793+H4793","v":0},0,null,null,0,null,null,{"$f":"I4793+J4793+K4793","v":0},""]
[225,null,2989,"Възстановени суми по платени лихви по активирани гаранции (-)",0,null,null,null,null,null,null,0,""]
[250,null,3301,"ресурс на база брутен национален доход",{"$f":"F4802+G4802+H4802","v":0},0,0,0,0,0,0,{"$f":"I4802+J4802+K4802","v":0},""]
[265,null,3303,"корекция за Обединеното кралство",0,0,0,0,0,0,0,0,""]
[330,4000,"Стипендии",null,0,0,0,0,0,0,0,0,""]
[355,null,4201,"обезщетения и помощи по социалното осигуряване",{"$f":"F4811+G4811+H4811","v":0},null,null,null,null,null,null,{"$f":"I4811+J4811+K4811","v":0},""]
[390,null,4218,"текущи трансфери за домакинства по други международни програми и споразумения",0,null,null,null,null,null,null,0,""]
[390,null,4219,"други текущи трансфери за домакинствата",0,0,0,0,0,0,0,0,""]
[399,null,4309,"други субсидии и плащания",0,null,null,null,null,null,null,0,""]
[440,null,4901,"текущи трансфери за чужбина",{"$f":"F4825+G4825+H4825","v":0},null,null,null,null,null,null,{"$f":"I4825+J4825+K4825","v":0},""]
[500,5200,"Придобиване на дълготрайни материални активи",null,{"$f":"SUM(E4829:E4835)","v":0},0,0,{"$f":"SUM(H4829:H4835)","v":0},0,0,0,0,""]
[510,null,5202,"придобиване на сгради",0,0,0,0,0,0,0,0,""]
[645,5300,"Придобиване на нематериални дълготрайни активи",null,{"$f":"SUM(E4837:E4838)","v":0},0,0,{"$f":"SUM(H4837:H4838)","v":0},0,0,0,0,""]
[665,5400,"Придобиване на земя",null,{"$f":"F4839+G4839+H4839","v":0},null,0,0,0,null,0,{"$f":"I4839+J4839+K4839","v":0},""]
[695,null,5503,"капиталови трансфери за организации с нестопанска цел",{"$f":"F4843+G4843+H4843","v":0},null,null,null,null,null,null,{"$f":"I4843+J4843+K4843","v":0},""]
[700,null,5504,"капиталови трансфери за домакинствата",{"$f":"F4844+G4844+H4844","v":0},null,null,null,null,null,null,{"$f":"I4844+J4844+K4844","v":0},""]
[725,null,4071,"постъпления от продажба на държавния резерв (-)",{"$f":"F4848+G4848+H4848","v":0},0,0,0,0,0,0,{"$f":"I4848+J4848+K4848","v":0},""]
[745,null,null,null,null,null,null,null,null,null,null,null,""]
[775,null,null,null,null,null,null,null,null,null,null,null,{"$f":"(IF(E4852<>0,$G$2,IF(L4852<>0,$G$2,\"\")))","v":""}]
[785,null,null,null,null,null,null,null,null,null,null,null,{"$f":"(IF($E4991<>0,$M$2,IF($L4991<>0,$M$2,\"\")))","v":""}]
[805,{"$f":"$B$9","v":"ОУ Г.С.РАКОВСКИ-С.ГЪЛЪБЕЦ"},null,null,{"$f":"$E$9","v":"2020-01-01"},{"$f":"$F$9","v":"2020-03-31"},null,null,null,null,null,null,{"$f":"(IF($E4991<>0,$M$2,IF($L4991<>0,$M$2,\"\")))","v":""}]
[821,null,null,"ФИНАНСОВО-ПРАВНА ФОРМА",{"$f":"$E$15","v":0},{"$f":"$F$15","v":"БЮДЖЕТ"},null,null,null,null,null,null,{"$f":"(IF($E4991<>0,$M$2,IF($L4991<>0,$M$2,\"\")))","v":""}]
[null,null,null," 02 ¦",{"$f":"$E$21","v":"(1)"},{"$f":"$F$21","v":"(2)"},{"$f":"$G$21","v":"(3)"},{"$f":"$H$21","v":"(4)"},{"$f":"$I$21","v":"(5)"},{"$f":"$J$21","v":"(6)"},{"$f":"$K$21","v":"(7)"},{"$f":"$L$21","v":"(8)"},{"$f":"(IF($E4991<>0,$M$2,IF($L4991<>0,$M$2,\"\")))","v":""}]
[null,null,{"$f":"VLOOKUP(D4872,OP_LIST2,2,FALSE)","v":{"$error":"#N/A"}},null,null,null,null,null,null,null,null,null,{"$f":"(IF($E4991<>0,$M$2,IF($L4991<>0,$M$2,\"\")))","v":""}]
[null,100,"Заплати и възнаграждения за персонала, нает по трудови и служебни правоотношения",null,{"$f":"SUM(E4877:E4878)","v":0},0,0,{"$f":"SUM(H4877:H4878)","v":0},0,0,0,0,{"$f":"(IF($E4876<>0,$M$2,IF($L4876<>0,$M$2,\"\")))","v":""}]
[null,null,201,"за нещатен персонал нает по трудови правоотношения ",{"$f":"F4880+G4880+H4880","v":0},0,0,0,0,0,0,{"$f":"I4880+J4880+K4880","v":0},""]
[null,null,208,"обезщетения за персонала, с характер на възнаграждение",{"$f":"F4883+G4883+H4883","v":0},0,0,0,0,0,0,{"$f":"I4883+J4883+K4883","v":0},""]
[null,500,"Задължителни осигурителни вноски от работодатели",null,{"$f":"SUM(E4886:E4892)","v":0},0,0,{"$f":"SUM(H4886:H4892)","v":0},0,0,0,0,""]
[null,null,588,"коректив на вноски за ДЗПО за сумите по чл. 4б и 4в от КСО за сметка на осигурителя",{"$f":"F4891+G4891+H4891","v":0},0,0,0,0,0,0,{"$f":"I4891+J4891+K4891","v":0},""]
[10,1000,"Издръжка",null,{"$f":"SUM(E4895:E4911)","v":0},0,0,{"$f":"SUM(H4895:H4911)","v":0},0,0,0,0,""]
[35,null,1012,"Медикаменти",0,0,0,0,0,0,0,0,""]
[50,null,1015,"материали",0,0,0,0,0,0,0,0,""]
[70,null,1051,"командировки в страната",0,0,0,0,0,0,0,0,""]
[90,null,1069,"други финансови услуги",0,0,0,0,0,0,0,0,""]
[125,null,1098,"други разходи, некласифицирани в другите параграфи и подпараграфи",0,0,0,0,0,0,0,0,""]
[135,null,1901,"платени държавни данъци, такси, наказателни лихви и административни санкции",{"$f":"F4913+G4913+H4913","v":0},0,0,0,0,0,0,{"$f":"I4913+J4913+K4913","v":0},""]
[165,null,2125,"лихви и отстъпки по целеви емисии на държавни ценни книжа",{"$f":"F4919+G4919+H4919","v":0},0,0,0,0,0,0,{"$f":"I4919+J4919+K4919","v":0},""]
[185,2200,"Разходи за лихви по заеми от страната",null,{"$f":"SUM(E4923:E4924)","v":0},0,0,{"$f":"SUM(H4923:H4924)","v":0},0,0,0,0,""]
[205,2600,"Разходи за лихви по заеми от международни организации и институции",null,0,null,null,null,null,null,null,0,""]
[210,2700,"Разходи за лихви по заеми от банки и други финансови институции от чужбина",null,0,null,null,null,null,null,null,0,""]
[230,null,2920,"Платени лихви по активирани гаранции по заеми от  банки в страната",{"$f":"F4931+G4931+H4931","v":0},null,null,null,null,null,null,{"$f":"I4931+J4931+K4931","v":0},""]
[230,null,2990,"Платени лихви по активирани гаранции по заеми от  банки в страната",{"$f":"F4935+G4935+H4935","v":0},null,null,null,null,null,null,{"$f":"I4935+J4935+K4935","v":0},""]
[255,null,3302,"ресурс на база данък върху добавената стойност",0,0,0,0,0,0,0,0,""]
[290,null,3306,"участие във финансирането на брутното намаление за Нидерландия, Швеция, Дания и Австрия",0,0,0,0,0,0,0,0,""]
[330,4000,"Стипендии",null,0,0,0,0,0,0,0,0,""]
[380,null,4214,"обезщетения и помощи по решение на общинския съвет",0,0,0,0,0,0,0,0,""]
[395,4300,"Субсидии и други текущи трансфери за нефинансови предприятия",null,{"$f":"SUM(E4955:E4957)","v":0},0,0,{"$f":"SUM(H4955:H4957)","v":0},0,0,0,0,""]
[397,null,4301,"за текуща дейност",{"$f":"F4955+G4955+H4955","v":0},0,0,0,0,0,0,{"$f":"I4955+J4955+K4955","v":0},""]
[400,4400,"Субсидии и други текущи трансфери за финансови институции",null,0,0,0,0,0,0,0,0,""]
[450,null,4902,"капиталови трансфери за чужбина",{"$f":"F4963+G4963+H4963","v":0},null,null,null,null,null,null,{"$f":"I4963+J4963+K4963","v":0},""]
[505,null,5201,"придобиване на компютри и хардуер",{"$f":"F4966+G4966+H4966","v":0},0,0,0,0,0,0,{"$f":"I4966+J4966+K4966","v":0},""]
[515,null,5203,"придобиване на друго оборудване, машини и съоръжения",0,0,0,0,0,0,0,0,""]
[650,null,5301,"придобиване на програмни продукти и лицензи за програмни продукти",{"$f":"F4974+G4974+H4974","v":0},0,0,0,0,0,0,{"$f":"I4974+J4974+K4974","v":0},""]
[675,5500,"Капиталови трансфери",null,{"$f":"SUM(E4978:E4981)","v":0},0,0,{"$f":"SUM(H4978:H4981)","v":0},0,0,0,0,""]
[690,null,5502,"капиталови трансфери за финансови институции",{"$f":"F4979+G4979+H4979","v":0},null,null,null,null,null,null,{"$f":"I4979+J4979+K4979","v":0},""]
[710,5700,"Прираст на държавния резерв и изкупуване на земеделска продукция (включва и § 40-71)",null,{"$f":"SUM(E4983:E4985)","v":0},0,0,0,0,0,0,{"$f":"SUM(L4983:L4985)","v":0},""]
[735,98,"Резерв за непредвидени и неотложни разходи",null,{"$f":"F4987+G4987+H4987","v":0},null,null,null,0,0,0,{"$f":"I4987+J4987+K4987","v":0},""]
[755,null,"99-99",{"$f":"+B4991","v":0},{"$f":"SUM(E4876,E4879,E4885,E4893,E4894,E4912,E4916,E4922,E4925,E4926,E4927,E4928,E4929,E4938,E4944,E4945,E4946,E4947,E4954,E4958,E4959,E4960,E4961,E4964,E4965,E4973,E4976,E4977,E4982)+E4987","v":0},0,0,0,0,0,0,0,{"$f":"(IF($E4991<>0,$M$2,IF($L4991<>0,$M$2,\"\")))","v":""},{"$f":"LEFT(C4873,1)","v":"5"}]
[775,null,null,null,null,null,null,null,null,null,null,null,{"$f":"(IF(E4989<>0,$G$2,IF(L4989<>0,$G$2,\"\")))","v":""}]
[795,null,null,null,"за периода от ","до",null,"        II.1. РАЗХОДИ ПО ДЕЙНОСТИ",null,null,null,null,{"$f":"(IF($E5128<>0,$M$2,IF($L5128<>0,$M$2,\"\")))","v":""}]
[810,{"$f":"$B$10","v":"(наименование на разпоредителя с бюджет)"},null,null,null,null,null,null,null,null,null,null,{"$f":"(IF($E5128<>0,$M$2,IF($L5128<>0,$M$2,\"\")))","v":""}]
[822,null,null,null,null,null,null,null,null,null,null,"(в лева)",{"$f":"(IF($E5128<>0,$M$2,IF($L5128<>0,$M$2,\"\")))","v":""}]
[null,null,{"$f":"VLOOKUP(D5009,OP_LIST2,2,FALSE)","v":{"$error":"#N/A"}},null,null,null,null,null,null,null,null,null,{"$f":"(IF($E5128<>0,$M$2,IF($L5128<>0,$M$2,\"\")))","v":""}]
[null,null,{"$f":"VLOOKUP(D5011,EBK_DEIN2,2,FALSE)","v":6601},"<------          ДЕЙНОСТ    -  код  по  ЕБК",null,null,null,null,null,null,null,null,{"$f":"(IF($E5128<>0,$M$2,IF($L5128<>0,$M$2,\"\")))","v":""}]
[null,null,101,"заплати и възнаграждения на персонала нает по трудови правоотношения",{"$f":"F5014+G5014+H5014","v":0},0,0,0,0,0,0,{"$f":"I5014+J5014+K5014","v":0},{"$f":"(IF($E5014<>0,$M$2,IF($L5014<>0,$M$2,\"\")))","v":""}]
[null,null,202,"за персонала по извънтрудови правоотношения",{"$f":"F5018+G5018+H5018","v":0},0,0,0,0,0,0,{"$f":"I5018+J5018+K5018","v":0},""]
[null,null,551,"осигурителни вноски от работодатели за Държавното обществено осигуряване (ДОО)",{"$f":"F5023+G5023+H5023","v":0},0,0,0,0,0,0,{"$f":"I5023+J5023+K5023","v":0},""]
[null,null,560,"здравно-осигурителни вноски от работодатели",0,0,0,0,0,0,0,0,""]
[null,null,588,"коректив на вноски за ДЗПО за сумите по чл. 4б и 4в от КСО за сметка на осигурителя",{"$f":"F5028+G5028+H5028","v":0},0,0,0,0,0,0,{"$f":"I5028+J5028+K5028","v":0},""]
[35,null,1012,"Медикаменти",0,0,0,0,0,0,0,0,""]
[40,null,1013,"Постелен инвентар и облекло",0,0,0,0,0,0,0,0,""]
[55,null,1016,"вода, горива и енергия",0,0,0,0,0,0,0,0,""]
[80,null,1053,"дългосрочни командировки в чужбина",0,0,0,0,0,0,0,0,""]
[90,null,1091,"други разходи за СБКО",0,0,0,0,0,0,0,0,""]
[130,1900,"Платени данъци, такси и административни санкции",null,{"$f":"SUM(E5050:E5052)","v":0},0,0,{"$f":"SUM(H5050:H5052)","v":0},0,0,0,0,""]
[140,null,1981,"платени общински данъци, такси, наказателни лихви и административни санкции",{"$f":"F5051+G5051+H5051","v":0},0,0,0,0,0,0,{"$f":"I5051+J5051+K5051","v":0},""]
[175,null,2140,"лихви по държавни ценни книжа, емитирани за структурната реформа ",{"$f":"F5057+G5057+H5057","v":0},0,0,0,0,0,0,{"$f":"I5057+J5057+K5057","v":0},""]
[190,null,2221,"Разходи за лихви по заеми от банки в страната",{"$f":"F5060+G5060+H5060","v":0},0,0,0,0,0,0,{"$f":"I5060+J5060+K5060","v":0},""]
[200,2500,"Разходи за лихви по заеми от други държави",null,0,null,null,null,null,null,null,0,""]
[215,2800,"Разходи за лихви и отстъпки по облигации, емитирани и търгувани на международните капиталови пазари",null,0,null,null,null,null,null,null,0,""]
[220,null,2970,"Платени лихви по активирани гаранции по заеми от банки и финансови институции от чужбина",0,null,null,null,null,null,null,0,""]
[235,null,2991,"Други разходи за лихви към  местни лица",0,null,null,null,null,null,null,0,""]
[265,null,3303,"корекция за Обединеното кралство",0,0,0,0,0,0,0,0,""]
[320,3900,"Здравно-осигурителни плащания",null,0,0,0,0,0,0,0,0,{"$f":"(IF($E5081<>0,$M$2,IF($L5081<>0,$M$2,\"\")))","v":""}]
[350,4100,"Пенсии",null,0,0,0,0,0,0,0,0,""]
[375,null,4202,"обезщетения и помощи по социалното подпомагане",0,null,null,null,null,null,null,0,""]
[397,null,4301,"за текуща дейност",{"$f":"F5092+G5092+H5092","v":0},0,0,0,0,0,0,{"$f":"I5092+J5092+K5092","v":0},""]
[398,null,4302,"за осъществяване на болнична помощ ",0,null,null,null,null,null,null,0,""]
[404,4600,"Разходи за членски внос и участие в нетърговски организации и дейности",null,0,0,0,0,0,0,0,0,""]
[495,5100,"Основен ремонт на дълготрайни материални активи",null,{"$f":"F5101+G5101+H5101","v":0},0,0,0,0,0,0,{"$f":"I5101+J5101+K5101","v":0},""]
[520,null,5204,"придобиване на транспортни средства",0,0,0,0,0,0,0,0,""]
[640,null,5219,"придобиване на други ДМА",0,0,0,0,0,0,0,0,""]
[655,null,5309,"придобиване на други нематериални дълготрайни активи",{"$f":"F5112+G5112+H5112","v":0},0,0,0,0,0,0,{"$f":"I5112+J5112+K5112","v":0},""]
[685,null,5501,"капиталови трансфери за нефинансови предприятия",{"$f":"F5115+G5115+H5115","v":0},null,null,null,null,null,null,{"$f":"I5115+J5115+K5115","v":0},""]
[695,null,5503,"капиталови трансфери за организации с нестопанска цел",{"$f":"F5117+G5117+H5117","v":0},null,null,null,null,null,null,{"$f":"I5117+J5117+K5117","v":0},""]
[715,null,5701,"плащания за попълване на държавния резерв",{"$f":"F5120+G5120+H5120","v":0},0,0,0,0,0,0,{"$f":"I5120+J5120+K5120","v":0},""]
[740,null,null,null,null,null,null,null,null,null,null,null,""]
[760,"край на дейност",null,null,null,null,null,null,null,null,null,null,{"$f":"(IF($E5128<>0,$M$2,IF($L5128<>0,$M$2,\"\")))","v":""}]
[785,null,null,null,null,null,null,null,null,null,null,null,{"$f":"(IF($E5265<>0,$M$2,IF($L5265<>0,$M$2,\"\")))","v":""}]
[790,{"$f":"$B$7","v":"ОТЧЕТНИ ДАННИ ПО ЕБК ЗА ИЗПЪЛНЕНИЕТО НА БЮДЖЕТА"},null,null,null,null,null,null,null,null,null,null,{"$f":"(IF($E5265<>0,$M$2,IF($L5265<>0,$M$2,\"\")))","v":""}]
[820,{"$f":"$B$13","v":"(наименование на първостепенния разпоредител с бюджет)"},null,null,null,null,null,null,null,null,null,null,{"$f":"(IF($E5265<>0,$M$2,IF($L5265<>0,$M$2,\"\")))","v":""}]
[823,null,null,"II.1. РАЗХОДИ ПО ДЕЙНОСТИ","Уточнен план 2020",null,null,null,"Отчет 2020",null,null,null,{"$f":"(IF($E5265<>0,$M$2,IF($L5265<>0,$M$2,\"\")))","v":""}]
[null,null,null," 02 ¦",{"$f":"$E$21","v":"(1)"},{"$f":"$F$21","v":"(2)"},{"$f":"$G$21","v":"(3)"},{"$f":"$H$21","v":"(4)"},{"$f":"$I$21","v":"(5)"},{"$f":"$J$21","v":"(6)"},{"$f":"$K$21","v":"(7)"},{"$f":"$L$21","v":"(8)"},{"$f":"(IF($E5265<>0,$M$2,IF($L5265<>0,$M$2,\"\")))","v":""}]
[null,null,{"$f":"+C5147","v":6603},"603 Водоснабдяване и канализация",null,null,null,null,null,null,null,null,{"$f":"(IF($E5265<>0,$M$2,IF($L5265<>0,$M$2,\"\")))","v":""}]
[null,null,102,"заплати и възнаграждения на персонала нает по служебни правоотношения",{"$f":"F5152+G5152+H5152","v":0},0,0,0,0,0,0,{"$f":"I5152+J5152+K5152","v":0},""]
[null,null,205,"изплатени суми от СБКО за облекло и други на персонала, с характер на възнаграждение",{"$f":"F5156+G5156+H5156","v":0},0,0,0,0,0,0,{"$f":"I5156+J5156+K5156","v":0},""]
[null,null,552,"осигурителни вноски от работодатели за Учителския пенсионен фонд (УчПФ)",0,0,0,0,0,0,0,0,""]
[null,null,580,"вноски за допълнително задължително осигуряване от работодатели",0,0,0,0,0,0,0,0,""]
[null,null,590,"задължителни вноски за чуждестранни пенсионни фондове и  схеми за сметка на осигурителя",0,null,null,null,null,null,null,0,""]
[15,null,1011,"Храна",{"$f":"F5169+G5169+H5169","v":0},0,0,0,0,0,0,{"$f":"I5169+J5169+K5169","v":0},""]
[60,null,1020,"разходи за външни услуги",0,0,0,0,0,0,0,0,""]
[70,null,1051,"командировки в страната",0,0,0,0,0,0,0,0,""]
[80,null,1062,"разходи за застраховки",0,0,0,0,0,0,0,0,""]
[115,null,1092,"разходи за договорни санкции и неустойки, съдебни обезщетения и разноски",0,0,0,0,0,0,0,0,""]
[140,null,1981,"платени общински данъци, такси, наказателни лихви и административни санкции",{"$f":"F5188+G5188+H5188","v":0},0,0,0,0,0,0,{"$f":"I5188+J5188+K5188","v":0},""]
[145,null,1991,"платени данъци, такси, наказателни лихви и административни санкции в чужбина",{"$f":"F5189+G5189+H5189","v":0},null,null,null,null,null,null,{"$f":"I5189+J5189+K5189","v":0},""]
[180,null,2190,"премии над номинала от емисии на държавни (общински) ценни книжа (-)",{"$f":"F5195+G5195+H5195","v":0},null,null,null,null,null,null,{"$f":"I5195+J5195+K5195","v":0},""]
[200,null,2224,"Разходи за лихви по други заеми от страната",0,0,0,0,0,0,0,0,""]
[205,2600,"Разходи за лихви по заеми от международни организации и институции",null,0,null,null,null,null,null,null,0,""]
[220,2900,"Други разходи за лихви",null,{"$f":"SUM(E5204:E5211)","v":0},{"$f":"SUM(F5204:F5211)","v":0},{"$f":"SUM(G5204:G5211)","v":0},0,0,0,0,0,""]
[225,null,2989,"Възстановени суми по платени лихви по активирани гаранции (-)",0,null,null,null,null,null,null,0,""]
[245,3300,"Вноска в общия бюджет на Европейския съюз",null,{"$f":"SUM(E5213:E5217)","v":0},0,0,0,0,0,0,0,""]
[270,null,3304,"традиционни собствени ресурси - мита",0,0,0,0,0,0,0,0,""]
[290,null,3306,"участие във финансирането на брутното намаление за Нидерландия, Швеция, Дания и Австрия",0,0,0,0,0,0,0,0,""]
[375,null,4202,"обезщетения и помощи по социалното подпомагане",0,null,null,null,null,null,null,0,""]
[380,null,4214,"обезщетения и помощи по решение на общинския съвет",0,0,0,0,0,0,0,0,""]
[398,null,4302,"за осъществяване на болнична помощ ",0,null,null,null,null,null,null,0,""]
[400,4400,"Субсидии и други текущи трансфери за финансови институции",null,0,0,0,0,0,0,0,0,""]
[404,4900,"Предоставени текущи и капиталови трансфери за чужбина",null,{"$f":"+E5236+E5237","v":0},0,0,{"$f":"+H5236+H5237","v":0},0,0,0,0,""]
[500,5200,"Придобиване на дълготрайни материални активи",null,{"$f":"SUM(E5240:E5246)","v":0},0,0,{"$f":"SUM(H5240:H5246)","v":0},0,0,0,0,""]
[525,null,5205,"придобиване на стопански инвентар",0,0,0,0,0,0,0,0,""]
[645,5300,"Придобиване на нематериални дълготрайни активи",null,{"$f":"SUM(E5248:E5249)","v":0},0,0,{"$f":"SUM(H5248:H5249)","v":0},0,0,0,0,""]
[655,null,5309,"придобиване на други нематериални дълготрайни активи",{"$f":"F5249+G5249+H5249","v":0},0,0,0,0,0,0,{"$f":"I5249+J5249+K5249","v":0},""]
[685,null,5501,"капиталови трансфери за нефинансови предприятия",{"$f":"F5252+G5252+H5252","v":0},null,null,null,null,null,null,{"$f":"I5252+J5252+K5252","v":0},""]
[720,null,5702,"плащания за изкупуване на земеделска продукция",{"$f":"F5258+G5258+H5258","v":0},0,0,0,0,0,0,{"$f":"I5258+J5258+K5258","v":0},""]
[730,null,"Резерв за непредвидени и неотложни разходи",null,null,null,null,null,null,null,null,null,""]
[745,null,null,null,null,null,null,null,null,null,null,null,""]
[765,null,null,null,null,null,null,null,null,null,null,null,{"$f":"(IF($E5265<>0,$M$2,IF($L5265<>0,$M$2,\"\")))","v":""}]
[790,{"$f":"$B$7","v":"ОТЧЕТНИ ДАННИ ПО ЕБК ЗА ИЗПЪЛНЕНИЕТО НА БЮДЖЕТА"},null,null,null,null,null,null,null,null,null,null,{"$f":"(IF($E5402<>0,$M$2,IF($L5402<>0,$M$2,\"\")))","v":""}]
[795,null,null,null,"за периода от ","до",null,"        II.1. РАЗХОДИ ПО ДЕЙНОСТИ",null,null,null,null,{"$f":"(IF($E5402<>0,$M$2,IF($L5402<>0,$M$2,\"\")))","v":""}]
[525,{"$f":"$B$12","v":"Поморие"},null,null,"       код по ЕБК:",{"$f":"$F$12","v":"5207"},null,null,null,null,null,null,{"$f":"(IF($E5402<>0,$M$2,IF($L5402<>0,$M$2,\"\")))","v":""}]
[825,"§§","под-§§","НАИМЕНОВАНИЯ НА ПАРАГРАФИТЕ И ПОДПАРАГРАФИТЕ",{"$f":"$E$20","v":"Уточнен план                Общо"},{"$f":"$F$20","v":"държавни дейности"},{"$f":"$G$20","v":"местни дейности"},{"$f":"$H$20","v":"дофинансиране"},{"$f":"$I$20","v":"държавни дейности -ОТЧЕТ"},{"$f":"$J$20","v":"местни дейности - ОТЧЕТ"},{"$f":"$K$20","v":"дофинансиране - ОТЧЕТ"},{"$f":"$L$20","v":"ОТЧЕТ                                    ОБЩО"},{"$f":"(IF($E5402<>0,$M$2,IF($L5402<>0,$M$2,\"\")))","v":""}]
[null,null,{"$f":"VLOOKUP(D5283,OP_LIST2,2,FALSE)","v":{"$error":"#N/A"}},null,null,null,null,null,null,null,null,null,{"$f":"(IF($E5402<>0,$M$2,IF($L5402<>0,$M$2,\"\")))","v":""}]
[null,null,null,"(наименование на дейността)",null,null,null,null,null,null,null,null,{"$f":"(IF($E5402<>0,$M$2,IF($L5402<>0,$M$2,\"\")))","v":""}]
[null,null,201,"за нещатен персонал нает по трудови правоотношения ",{"$f":"F5291+G5291+H5291","v":0},0,0,0,0,0,0,{"$f":"I5291+J5291+K5291","v":0},""]
[null,null,209,"другиплащания и възнаграждения",{"$f":"F5295+G5295+H5295","v":0},0,0,0,0,0,0,{"$f":"I5295+J5295+K5295","v":0},""]
[null,null,558,"вноски по чл. 4б и 4в от КСО за сметка на осигурителя",{"$f":"F5299+G5299+H5299","v":0},0,0,0,0,0,0,{"$f":"I5299+J5299+K5299","v":0},""]
[null,null,588,"коректив на вноски за ДЗПО за сумите по чл. 4б и 4в от КСО за сметка на осигурителя",{"$f":"F5302+G5302+H5302","v":0},0,0,0,0,0,0,{"$f":"I5302+J5302+K5302","v":0},""]
[5,800,"Вноски за доброволно осигуряване  ",null,0,null,null,null,null,null,null,0,""]
[35,null,1012,"Медикаменти",0,0,0,0,0,0,0,0,""]
[65,null,1030,"Текущ ремонт",0,0,0,0,0,0,0,0,""]
[75,null,1052,"краткосрочни командировки в чужбина",0,0,0,0,0,0,0,0,""]
[85,null,1063,"такса ангажимент по заеми",0,0,0,0,0,0,0,0,""]
[130,1900,"Платени данъци, такси и административни санкции",null,{"$f":"SUM(E5324:E5326)","v":0},0,0,{"$f":"SUM(H5324:H5326)","v":0},0,0,0,0,""]
[150,2100,"Разходи за лихви по емисии на държавни (общински) ценни книжа",null,{"$f":"SUM(E5328:E5332)","v":0},0,0,{"$f":"SUM(H5328:H5332)","v":0},0,0,0,0,""]
[165,null,2125,"лихви и отстъпки по целеви емисии на държавни ценни книжа",{"$f":"F5330+G5330+H5330","v":0},0,0,0,0,0,0,{"$f":"I5330+J5330+K5330","v":0},""]
[180,null,2190,"премии над номинала от емисии на държавни (общински) ценни книжа (-)",{"$f":"F5332+G5332+H5332","v":0},null,null,null,null,null,null,{"$f":"I5332+J5332+K5332","v":0},""]
[200,null,2224,"Разходи за лихви по други заеми от страната",0,0,0,0,0,0,0,0,""]
[210,2700,"Разходи за лихви по заеми от банки и други финансови институции от чужбина",null,0,null,null,null,null,null,null,0,""]
[225,null,2910,"Платени лихви по финансов лизинг и търговски кредит",{"$f":"F5341+G5341+H5341","v":0},0,null,null,0,null,null,{"$f":"I5341+J5341+K5341","v":0},""]
[230,null,2990,"Платени лихви по активирани гаранции по заеми от  банки в страната",{"$f":"F5346+G5346+H5346","v":0},null,null,null,null,null,null,{"$f":"I5346+J5346+K5346","v":0},""]
[250,null,3301,"ресурс на база брутен национален доход",{"$f":"F5350+G5350+H5350","v":0},0,0,0,0,0,0,{"$f":"I5350+J5350+K5350","v":0},""]
[290,null,3306,"участие във финансирането на брутното намаление за Нидерландия, Швеция, Дания и Австрия",0,0,0,0,0,0,0,0,""]
[320,3900,"Здравно-осигурителни плащания",null,0,0,0,0,0,0,0,0,{"$f":"(IF($E5355<>0,$M$2,IF($L5355<>0,$M$2,\"\")))","v":""}]
[355,null,4201,"обезщетения и помощи по социалното осигуряване",{"$f":"F5359+G5359+H5359","v":0},null,null,null,null,null,null,{"$f":"I5359+J5359+K5359","v":0},""]
[390,null,4219,"други текущи трансфери за домакинствата",0,0,0,0,0,0,0,0,""]
[398,null,4302,"за осъществяване на болнична помощ ",0,null,null,null,null,null,null,0,""]
[400,4400,"Субсидии и други текущи трансфери за финансови институции",null,0,0,0,0,0,0,0,0,""]
[450,null,4902,"капиталови трансфери за чужбина",{"$f":"F5374+G5374+H5374","v":0},null,null,null,null,null,null,{"$f":"I5374+J5374+K5374","v":0},""]
[510,null,5202,"придобиване на сгради",0,0,0,0,0,0,0,0,""]
[635,null,5206,"изграждане на инфраструктурни обекти",0,0,0,0,0,0,0,0,""]
[650,null,5301,"придобиване на програмни продукти и лицензи за програмни продукти",{"$f":"F5385+G5385+H5385","v":0},0,0,0,0,0,0,{"$f":"I5385+J5385+K5385","v":0},""]
[665,5400,"Придобиване на земя",null,{"$f":"F5387+G5387+H5387","v":0},null,0,0,0,null,0,{"$f":"I5387+J5387+K5387","v":0},""]
[690,null,5502,"капиталови трансфери за финансови институции",{"$f":"F5390+G5390+H5390","v":0},null,null,null,null,null,null,{"$f":"I5390+J5390+K5390","v":0},""]
[725,null,4071,"постъпления от продажба на държавния резерв (-)",{"$f":"F5396+G5396+H5396","v":0},0,0,0,0,0,0,{"$f":"I5396+J5396+K5396","v":0},""]
[735,98,"Резерв за непредвидени и неотложни разходи",null,{"$f":"F5398+G5398+H5398","v":0},null,null,null,0,0,0,{"$f":"I5398+J5398+K5398","v":0},""]
[750,null,null,null,null,null,null,null,null,null,null,null,""]
[780,null,null,null,null,null,null,null,null,null,null,null,{"$f":"(IF($E5539<>0,$M$2,IF($L5539<>0,$M$2,\"\")))","v":""}]
[805,{"$f":"$B$9","v":"ОУ Г.С.РАКОВСКИ-С.ГЪЛЪБЕЦ"},null,null,{"$f":"$E$9","v":"2020-01-01"},{"$f":"$F$9","v":"2020-03-31"},null,null,null,null,null,null,{"$f":"(IF($E5539<>0,$M$2,IF($L5539<>0,$M$2,\"\")))","v":""}]
[810,{"$f":"$B$10","v":"(наименование на разпоредителя с бюджет)"},null,null,null,null,null,null,null,null,null,null,{"$f":"(IF($E5539<>0,$M$2,IF($L5539<>0,$M$2,\"\")))","v":""}]
[820,{"$f":"$B$13","v":"(наименование на първостепенния разпоредител с бюджет)"},null,null,null,null,null,null,null,null,null,null,{"$f":"(IF($E5539<>0,$M$2,IF($L5539<>0,$M$2,\"\")))","v":""}]
[null,null,null," 02 ¦",{"$f":"$E$21","v":"(1)"},{"$f":"$F$21","v":"(2)"},{"$f":"$G$21","v":"(3)"},{"$f":"$H$21","v":"(4)"},{"$f":"$I$21","v":"(5)"},{"$f":"$J$21","v":"(6)"},{"$f":"$K$21","v":"(7)"},{"$f":"$L$21","v":"(8)"},{"$f":"(IF($E5539<>0,$M$2,IF($L5539<>0,$M$2,\"\")))","v":""}]
[null,null,{"$f":"+C5421","v":6606},"606 Изграждане, ремонт и поддържане на уличната мрежа",null,null,null,null,null,null,null,null,{"$f":"(IF($E5539<>0,$M$2,IF($L5539<>0,$M$2,\"\")))","v":""}]
[null,100,"Заплати и възнаграждения за персонала, нает по трудови и служебни правоотношения",null,{"$f":"SUM(E5425:E5426)","v":0},0,0,{"$f":"SUM(H5425:H5426)","v":0},0,0,0,0,{"$f":"(IF($E5424<>0,$M$2,IF($L5424<>0,$M$2,\"\")))","v":""}]
[null,null,202,"за персонала по извънтрудови правоотношения",{"$f":"F5429+G5429+H5429","v":0},0,0,0,0,0,0,{"$f":"I5429+J5429+K5429","v":0},""]
[null,500,"Задължителни осигурителни вноски от работодатели",null,{"$f":"SUM(E5434:E5440)","v":0},0,0,{"$f":"SUM(H5434:H5440)","v":0},0,0,0,0,""]
[null,null,560,"здравно-осигурителни вноски от работодатели",0,0,0,0,0,0,0,0,""]
[null,null,580,"вноски за допълнително задължително осигуряване от работодатели",0,0,0,0,0,0,0,0,""]
[10,1000,"Издръжка",null,{"$f":"SUM(E5443:E5459)","v":0},0,0,{"$f":"SUM(H5443:H5459)","v":0},0,0,0,0,""]
[50,null,1015,"материали",0,0,0,0,0,0,0,0,""]
[65,null,1030,"Текущ ремонт",0,0,0,0,0,0,0,0,""]
[75,null,1052,"краткосрочни командировки в чужбина",0,0,0,0,0,0,0,0,""]
[90,null,1091,"други разходи за СБКО",0,0,0,0,0,0,0,0,""]
[135,null,1901,"платени държавни данъци, такси, наказателни лихви и административни санкции",{"$f":"F5461+G5461+H5461","v":0},0,0,0,0,0,0,{"$f":"I5461+J5461+K5461","v":0},""]
[155,null,2110,"лихви по държавни (общински) ценни книжа",{"$f":"F5465+G5465+H5465","v":0},null,null,null,null,null,null,{"$f":"I5465+J5465+K5465","v":0},""]
[160,null,2120,"отстъпки по държавни (общински) ценни книжа",{"$f":"F5466+G5466+H5466","v":0},null,null,null,null,null,null,{"$f":"I5466+J5466+K5466","v":0},""]
[185,2200,"Разходи за лихви по заеми от страната",null,{"$f":"SUM(E5471:E5472)","v":0},0,0,{"$f":"SUM(H5471:H5472)","v":0},0,0,0,0,""]
[200,2500,"Разходи за лихви по заеми от други държави",null,0,null,null,null,null,null,null,0,""]
[230,null,2920,"Платени лихви по активирани гаранции по заеми от  банки в страната",{"$f":"F5479+G5479+H5479","v":0},null,null,null,null,null,null,{"$f":"I5479+J5479+K5479","v":0},""]
[220,null,2970,"Платени лихви по активирани гаранции по заеми от банки и финансови институции от чужбина",0,null,null,null,null,null,null,0,""]
[235,null,2991,"Други разходи за лихви към  местни лица",0,null,null,null,null,null,null,0,""]
[265,null,3303,"корекция за Обединеното кралство",0,0,0,0,0,0,0,0,""]
[330,4000,"Стипендии",null,0,0,0,0,0,0,0,0,""]
[350,4100,"Пенсии",null,0,0,0,0,0,0,0,0,""]
[375,null,4202,"обезщетения и помощи по социалното подпомагане",0,null,null,null,null,null,null,0,""]
[395,4300,"Субсидии и други текущи трансфери за нефинансови предприятия",null,{"$f":"SUM(E5503:E5505)","v":0},0,0,{"$f":"SUM(H5503:H5505)","v":0},0,0,0,0,""]
[399,null,4309,"други субсидии и плащания",0,null,null,null,null,null,null,0,""]
[401,4500,"Субсидии и други текущи трансфери за юридически лица с нестопанска цел",null,0,0,0,0,0,0,0,0,""]
[500,5200,"Придобиване на дълготрайни материални активи",null,{"$f":"SUM(E5514:E5520)","v":0},0,0,{"$f":"SUM(H5514:H5520)","v":0},0,0,0,0,""]
[515,null,5203,"придобиване на друго оборудване, машини и съоръжения",0,0,0,0,0,0,0,0,""]
[640,null,5219,"придобиване на други ДМА",0,0,0,0,0,0,0,0,""]
[645,5300,"Придобиване на нематериални дълготрайни активи",null,{"$f":"SUM(E5522:E5523)","v":0},0,0,{"$f":"SUM(H5522:H5523)","v":0},0,0,0,0,""]
[675,5500,"Капиталови трансфери",null,{"$f":"SUM(E5526:E5529)","v":0},0,0,{"$f":"SUM(H5526:H5529)","v":0},0,0,0,0,""]
[710,5700,"Прираст на държавния резерв и изкупуване на земеделска продукция (включва и § 40-71)",null,{"$f":"SUM(E5531:E5533)","v":0},0,0,0,0,0,0,{"$f":"SUM(L5531:L5533)","v":0},""]
[725,null,4071,"постъпления от продажба на държавния резерв (-)",{"$f":"F5533+G5533+H5533","v":0},0,0,0,0,0,0,{"$f":"I5533+J5533+K5533","v":0},""]
[740,null,null,null,null,null,null,null,null,null,null,null,""]
[755,null,"99-99",{"$f":"+B5539","v":0},{"$f":"SUM(E5424,E5427,E5433,E5441,E5442,E5460,E5464,E5470,E5473,E5474,E5475,E5476,E5477,E5486,E5492,E5493,E5494,E5495,E5502,E5506,E5507,E5508,E5509,E5512,E5513,E5521,E5524,E5525,E5530)+E5535","v":0},0,0,0,0,0,0,0,{"$f":"(IF($E5539<>0,$M$2,IF($L5539<>0,$M$2,\"\")))","v":""},{"$f":"LEFT(C5421,1)","v":"6"}]
[785,null,null,null,null,null,null,null,null,null,null,null,{"$f":"(IF($E5676<>0,$M$2,IF($L5676<>0,$M$2,\"\")))","v":""}]
[810,{"$f":"$B$10","v":"(наименование на разпоредителя с бюджет)"},null,null,null,null,null,null,null,null,null,null,{"$f":"(IF($E5676<>0,$M$2,IF($L5676<>0,$M$2,\"\")))","v":""}]
[815,null,null,null,null,null,null,null,null,null,null,null,{"$f":"(IF($E5676<>0,$M$2,IF($L5676<>0,$M$2,\"\")))","v":""}]
[822,null,null,null,null,null,null,null,null,null,null,"(в лева)",{"$f":"(IF($E5676<>0,$M$2,IF($L5676<>0,$M$2,\"\")))","v":""}]
[null,null,{"$f":"VLOOKUP(D5557,OP_LIST2,2,FALSE)","v":{"$error":"#N/A"}},null,null,null,null,null,null,null,null,null,{"$f":"(IF($E5676<>0,$M$2,IF($L5676<>0,$M$2,\"\")))","v":""}]
[null,null,101,"заплати и възнаграждения на персонала нает по трудови правоотношения",{"$f":"F5562+G5562+H5562","v":0},0,0,0,0,0,0,{"$f":"I5562+J5562+K5562","v":0},{"$f":"(IF($E5562<>0,$M$2,IF($L5562<>0,$M$2,\"\")))","v":""}]
[null,200,"Други възнаграждения и плащания за персонала",null,{"$f":"SUM(E5565:E5569)","v":0},0,0,{"$f":"SUM(H5565:H5569)","v":0},0,0,0,0,""]
[null,null,205,"изплатени суми от СБКО за облекло и други на персонала, с характер на възнаграждение",{"$f":"F5567+G5567+H5567","v":0},0,0,0,0,0,0,{"$f":"I5567+J5567+K5567","v":0},""]
[null,null,552,"осигурителни вноски от работодатели за Учителския пенсионен фонд (УчПФ)",0,0,0,0,0,0,0,0,""]
[null,null,580,"вноски за допълнително задължително осигуряване от работодатели",0,0,0,0,0,0,0,0,""]
[null,null,588,"коректив на вноски за ДЗПО за сумите по чл. 4б и 4в от КСО за сметка на осигурителя",{"$f":"F5576+G5576+H5576","v":0},0,0,0,0,0,0,{"$f":"I5576+J5576+K5576","v":0},""]
[15,null,1011,"Храна",{"$f":"F5580+G5580+H5580","v":0},0,0,0,0,0,0,{"$f":"I5580+J5580+K5580","v":0},""]
[55,null,1016,"вода, горива и енергия",0,0,0,0,0,0,0,0,""]
[70,null,1051,"командировки в страната",0,0,0,0,0,0,0,0,""]
[80,null,1053,"дългосрочни командировки в чужбина",0,0,0,0,0,0,0,0,""]
[125,null,1098,"други разходи, некласифицирани в другите параграфи и подпараграфи",0,0,0,0,0,0,0,0,""]
[140,null,1981,"платени общински данъци, такси, наказателни лихви и административни санкции",{"$f":"F5599+G5599+H5599","v":0},0,0,0,0,0,0,{"$f":"I5599+J5599+K5599","v":0},""]
[150,2100,"Разходи за лихви по емисии на държавни (общински) ценни книжа",null,{"$f":"SUM(E5602:E5606)","v":0},0,0,{"$f":"SUM(H5602:H5606)","v":0},0,0,0,0,""]
[165,null,2125,"лихви и отстъпки по целеви емисии на държавни ценни книжа",{"$f":"F5604+G5604+H5604","v":0},0,0,0,0,0,0,{"$f":"I5604+J5604+K5604","v":0},""]
[190,null,2221,"Разходи за лихви по заеми от банки в страната",{"$f":"F5608+G5608+H5608","v":0},0,0,0,0,0,0,{"$f":"I5608+J5608+K5608","v":0},""]
[210,2700,"Разходи за лихви по заеми от банки и други финансови институции от чужбина",null,0,null,null,null,null,null,null,0,""]
[245,null,2969,"Платени лихви по активирани гаранции по заеми от международни организации и институции",0,null,null,null,null,null,null,0,""]
[225,null,2989,"Възстановени суми по платени лихви по активирани гаранции (-)",0,null,null,null,null,null,null,0,""]
[240,null,2992,"Други разходи за лихви към чуждестранни лица",0,null,null,null,null,null,null,0,""]
[270,null,3304,"традиционни собствени ресурси - мита",0,0,0,0,0,0,0,0,""]
[350,4100,"Пенсии",null,0,0,0,0,0,0,0,0,""]
[355,4200,"Текущи трансфери, обезщетения и помощи за домакинствата",null,{"$f":"SUM(E5633:E5638)","v":0},0,0,{"$f":"SUM(H5633:H5638)","v":0},0,0,0,0,""]
[385,null,4217,"текущи трансфери за домакинства от средства на Европейския съюз",0,null,null,null,null,null,null,0,""]
[397,null,4301,"за текуща дейност",{"$f":"F5640+G5640+H5640","v":0},0,0,0,0,0,0,{"$f":"I5640+J5640+K5640","v":0},""]
[404,4600,"Разходи за членски внос и участие в нетърговски организации и дейности",null,0,0,0,0,0,0,0,0,""]
[440,null,4901,"текущи трансфери за чужбина",{"$f":"F5647+G5647+H5647","v":0},null,null,null,null,null,null,{"$f":"I5647+J5647+K5647","v":0},""]
[505,null,5201,"придобиване на компютри и хардуер",{"$f":"F5651+G5651+H5651","v":0},0,0,0,0,0,0,{"$f":"I5651+J5651+K5651","v":0},""]
[520,null,5204,"придобиване на транспортни средства",0,0,0,0,0,0,0,0,""]
[635,null,5206,"изграждане на инфраструктурни обекти",0,0,0,0,0,0,0,0,""]
[650,null,5301,"придобиване на програмни продукти и лицензи за програмни продукти",{"$f":"F5659+G5659+H5659","v":0},0,0,0,0,0,0,{"$f":"I5659+J5659+K5659","v":0},""]
[685,null,5501,"капиталови трансфери за нефинансови предприятия",{"$f":"F5663+G5663+H5663","v":0},null,null,null,null,null,null,{"$f":"I5663+J5663+K5663","v":0},""]
[715,null,5701,"плащания за попълване на държавния резерв",{"$f":"F5668+G5668+H5668","v":0},0,0,0,0,0,0,{"$f":"I5668+J5668+K5668","v":0},""]
[730,null,"Резерв за непредвидени и неотложни разходи",null,null,null,null,null,null,null,null,null,""]
[740,null,null,null,null,null,null,null,null,null,null,null,""]
[775,null,null,null,null,null,null,null,null,null,null,null,{"$f":"(IF(E5674<>0,$G$2,IF(L5674<>0,$G$2,\"\")))","v":""}]
[790,{"$f":"$B$7","v":"ОТЧЕТНИ ДАННИ ПО ЕБК ЗА ИЗПЪЛНЕНИЕТО НА БЮДЖЕТА"},null,null,null,null,null,null,null,null,null,null,{"$f":"(IF($E5813<>0,$M$2,IF($L5813<>0,$M$2,\"\")))","v":""}]
[805,{"$f":"$B$9","v":"ОУ Г.С.РАКОВСКИ-С.ГЪЛЪБЕЦ"},null,null,{"$f":"$E$9","v":"2020-01-01"},{"$f":"$F$9","v":"2020-03-31"},null,null,null,null,null,null,{"$f":"(IF($E5813<>0,$M$2,IF($L5813<>0,$M$2,\"\")))","v":""}]
[525,{"$f":"$B$12","v":"Поморие"},null,null,"       код по ЕБК:",{"$f":"$F$12","v":"5207"},null,null,null,null,null,null,{"$f":"(IF($E5813<>0,$M$2,IF($L5813<>0,$M$2,\"\")))","v":""}]
[823,null,null,"II.1. РАЗХОДИ ПО ДЕЙНОСТИ","Уточнен план 2020",null,null,null,"Отчет 2020",null,null,null,{"$f":"(IF($E5813<>0,$M$2,IF($L5813<>0,$M$2,\"\")))","v":""}]
[null,null,{"$f":"VLOOKUP(D5696,EBK_DEIN2,2,FALSE)","v":6621},"<------          ДЕЙНОСТ    -  код  по  ЕБК",null,null,null,null,null,null,null,null,{"$f":"(IF($E5813<>0,$M$2,IF($L5813<>0,$M$2,\"\")))","v":""}]
[null,null,102,"заплати и възнаграждения на персонала нает по служебни правоотношения",{"$f":"F5700+G5700+H5700","v":0},0,0,0,0,0,0,{"$f":"I5700+J5700+K5700","v":0},""]
[null,null,202,"за персонала по извънтрудови правоотношения",{"$f":"F5703+G5703+H5703","v":0},0,0,0,0,0,0,{"$f":"I5703+J5703+K5703","v":0},""]
[null,null,208,"обезщетения за персонала, с характер на възнаграждение",{"$f":"F5705+G5705+H5705","v":0},0,0,0,0,0,0,{"$f":"I5705+J5705+K5705","v":0},""]
[null,null,558,"вноски по чл. 4б и 4в от КСО за сметка на осигурителя",{"$f":"F5710+G5710+H5710","v":0},0,0,0,0,0,0,{"$f":"I5710+J5710+K5710","v":0},""]
[null,null,590,"задължителни вноски за чуждестранни пенсионни фондове и  схеми за сметка на осигурителя",0,null,null,null,null,null,null,0,""]
[5,800,"Вноски за доброволно осигуряване  ",null,0,null,null,null,null,null,null,0,""]
[40,null,1013,"Постелен инвентар и облекло",0,0,0,0,0,0,0,0,""]
[60,null,1020,"разходи за външни услуги",0,0,0,0,0,0,0,0,""]
[75,null,1052,"краткосрочни командировки в чужбина",0,0,0,0,0,0,0,0,""]
[80,null,1062,"разходи за застраховки",0,0,0,0,0,0,0,0,""]
[130,1900,"Платени данъци, такси и административни санкции",null,{"$f":"SUM(E5735:E5737)","v":0},0,0,{"$f":"SUM(H5735:H5737)","v":0},0,0,0,0,""]
[145,null,1991,"платени данъци, такси, наказателни лихви и административни санкции в чужбина",{"$f":"F5737+G5737+H5737","v":0},null,null,null,null,null,null,{"$f":"I5737+J5737+K5737","v":0},""]
[155,null,2110,"лихви по държавни (общински) ценни книжа",{"$f":"F5739+G5739+H5739","v":0},null,null,null,null,null,null,{"$f":"I5739+J5739+K5739","v":0},""]
[175,null,2140,"лихви по държавни ценни книжа, емитирани за структурната реформа ",{"$f":"F5742+G5742+H5742","v":0},0,0,0,0,0,0,{"$f":"I5742+J5742+K5742","v":0},""]
[200,2500,"Разходи за лихви по заеми от други държави",null,0,null,null,null,null,null,null,0,""]
[220,2900,"Други разходи за лихви",null,{"$f":"SUM(E5752:E5759)","v":0},{"$f":"SUM(F5752:F5759)","v":0},{"$f":"SUM(G5752:G5759)","v":0},0,0,0,0,0,""]
[245,null,2969,"Платени лихви по активирани гаранции по заеми от международни организации и институции",0,null,null,null,null,null,null,0,""]
[225,null,2989,"Възстановени суми по платени лихви по активирани гаранции (-)",0,null,null,null,null,null,null,0,""]
[255,null,3302,"ресурс на база данък върху добавената стойност",0,0,0,0,0,0,0,0,""]
[290,null,3306,"участие във финансирането на брутното намаление за Нидерландия, Швеция, Дания и Австрия",0,0,0,0,0,0,0,0,""]
[355,4200,"Текущи трансфери, обезщетения и помощи за домакинствата",null,{"$f":"SUM(E5770:E5775)","v":0},0,0,{"$f":"SUM(H5770:H5775)","v":0},0,0,0,0,""]
[355,null,4201,"обезщетения и помощи по социалното осигуряване",{"$f":"F5770+G5770+H5770","v":0},null,null,null,null,null,null,{"$f":"I5770+J5770+K5770","v":0},""]
[390,null,4218,"текущи трансфери за домакинства по други международни програми и споразумения",0,null,null,null,null,null,null,0,""]
[398,null,4302,"за осъществяване на болнична помощ ",0,null,null,null,null,null,null,0,""]
[404,4900,"Предоставени текущи и капиталови трансфери за чужбина",null,{"$f":"+E5784+E5785","v":0},0,0,{"$f":"+H5784+H5785","v":0},0,0,0,0,""]
[495,5100,"Основен ремонт на дълготрайни материални активи",null,{"$f":"F5786+G5786+H5786","v":0},0,0,0,0,0,0,{"$f":"I5786+J5786+K5786","v":0},""]
[505,null,5201,"придобиване на компютри и хардуер",{"$f":"F5788+G5788+H5788","v":0},0,0,0,0,0,0,{"$f":"I5788+J5788+K5788","v":0},""]
[520,null,5204,"придобиване на транспортни средства",0,0,0,0,0,0,0,0,""]
[655,null,5309,"придобиване на други нематериални дълготрайни активи",{"$f":"F5797+G5797+H5797","v":0},0,0,0,0,0,0,{"$f":"I5797+J5797+K5797","v":0},""]
[665,5400,"Придобиване на земя",null,{"$f":"F5798+G5798+H5798","v":0},null,0,0,0,null,0,{"$f":"I5798+J5798+K5798","v":0},""]
[695,null,5503,"капиталови трансфери за организации с нестопанска цел",{"$f":"F5802+G5802+H5802","v":0},null,null,null,null,null,null,{"$f":"I5802+J5802+K5802","v":0},""]
[720,null,5702,"плащания за изкупуване на земеделска продукция",{"$f":"F5806+G5806+H5806","v":0},0,0,0,0,0,0,{"$f":"I5806+J5806+K5806","v":0},""]
[735,98,"Резерв за непредвидени и неотложни разходи",null,{"$f":"F5809+G5809+H5809","v":0},null,null,null,0,0,0,{"$f":"I5809+J5809+K5809","v":0},""]
[745,null,null,null,null,null,null,null,null,null,null,null,""]
[780,null,null,null,null,null,null,null,null,null,null,null,{"$f":"(IF($E5950<>0,$M$2,IF($L5950<>0,$M$2,\"\")))","v":""}]
[795,null,null,null,"за периода от ","до",null,"        II.1. РАЗХОДИ ПО ДЕЙНОСТИ",null,null,null,null,{"$f":"(IF($E5950<>0,$M$2,IF($L5950<>0,$M$2,\"\")))","v":""}]
[810,{"$f":"$B$10","v":"(наименование на разпоредителя с бюджет)"},null,null,null,null,null,null,null,null,null,null,{"$f":"(IF($E5950<>0,$M$2,IF($L5950<>0,$M$2,\"\")))","v":""}]
[820,{"$f":"$B$13","v":"(наименование на първостепенния разпоредител с бюджет)"},null,null,null,null,null,null,null,null,null,null,{"$f":"(IF($E5950<>0,$M$2,IF($L5950<>0,$M$2,\"\")))","v":""}]
[null,null,null," 02 ¦",{"$f":"$E$21","v":"(1)"},{"$f":"$F$21","v":"(2)"},{"$f":"$G$21","v":"(3)"},{"$f":"$H$21","v":"(4)"},{"$f":"$I$21","v":"(5)"},{"$f":"$J$21","v":"(6)"},{"$f":"$K$21","v":"(7)"},{"$f":"$L$21","v":"(8)"},{"$f":"(IF($E5950<>0,$M$2,IF($L5950<>0,$M$2,\"\")))","v":""}]
[null,null,null,"(наименование на дейността)",null,null,null,null,null,null,null,null,{"$f":"(IF($E5950<>0,$M$2,IF($L5950<>0,$M$2,\"\")))","v":""}]
[null,null,102,"заплати и възнаграждения на персонала нает по служебни правоотношения",{"$f":"F5837+G5837+H5837","v":0},0,0,0,0,0,0,{"$f":"I5837+J5837+K5837","v":0},""]
[null,null,205,"изплатени суми от СБКО за облекло и други на персонала, с характер на възнаграждение",{"$f":"F5841+G5841+H5841","v":0},0,0,0,0,0,0,{"$f":"I5841+J5841+K5841","v":0},""]
[null,null,209,"другиплащания и възнаграждения",{"$f":"F5843+G5843+H5843","v":0},0,0,0,0,0,0,{"$f":"I5843+J5843+K5843","v":0},""]
[null,null,552,"осигурителни вноски от работодатели за Учителския пенсионен фонд (УчПФ)",0,0,0,0,0,0,0,0,""]
[5,800,"Вноски за доброволно осигуряване  ",null,0,null,null,null,null,null,null,0,""]
[10,1000,"Издръжка",null,{"$f":"SUM(E5854:E5870)","v":0},0,0,{"$f":"SUM(H5854:H5870)","v":0},0,0,0,0,""]
[45,null,1014,"Учебни и научно-изследователски разходи и книги за библиотеките",0,0,0,0,0,0,0,0,""]
[65,null,1030,"Текущ ремонт",0,0,0,0,0,0,0,0,""]
[85,null,1063,"такса ангажимент по заеми",0,0,0,0,0,0,0,0,""]
[115,null,1092,"разходи за договорни санкции и неустойки, съдебни обезщетения и разноски",0,0,0,0,0,0,0,0,""]
[130,1900,"Платени данъци, такси и административни санкции",null,{"$f":"SUM(E5872:E5874)","v":0},0,0,{"$f":"SUM(H5872:H5874)","v":0},0,0,0,0,""]
[145,null,1991,"платени данъци, такси, наказателни лихви и административни санкции в чужбина",{"$f":"F5874+G5874+H5874","v":0},null,null,null,null,null,null,{"$f":"I5874+J5874+K5874","v":0},""]
[160,null,2120,"отстъпки по държавни (общински) ценни книжа",{"$f":"F5877+G5877+H5877","v":0},null,null,null,null,null,null,{"$f":"I5877+J5877+K5877","v":0},""]
[180,null,2190,"премии над номинала от емисии на държавни (общински) ценни книжа (-)",{"$f":"F5880+G5880+H5880","v":0},null,null,null,null,null,null,{"$f":"I5880+J5880+K5880","v":0},""]
[205,2600,"Разходи за лихви по заеми от международни организации и институции",null,0,null,null,null,null,null,null,0,""]
[225,null,2910,"Платени лихви по финансов лизинг и търговски кредит",{"$f":"F5889+G5889+H5889","v":0},0,null,null,0,null,null,{"$f":"I5889+J5889+K5889","v":0},""]
[225,null,2989,"Възстановени суми по платени лихви по активирани гаранции (-)",0,null,null,null,null,null,null,0,""]
[230,null,2990,"Платени лихви по активирани гаранции по заеми от  банки в страната",{"$f":"F5894+G5894+H5894","v":0},null,null,null,null,null,null,{"$f":"I5894+J5894+K5894","v":0},""]
[265,null,3303,"корекция за Обединеното кралство",0,0,0,0,0,0,0,0,""]
[320,3900,"Здравно-осигурителни плащания",null,0,0,0,0,0,0,0,0,{"$f":"(IF($E5903<>0,$M$2,IF($L5903<>0,$M$2,\"\")))","v":""}]
[350,4100,"Пенсии",null,0,0,0,0,0,0,0,0,""]
[375,null,4202,"обезщетения и помощи по социалното подпомагане",0,null,null,null,null,null,null,0,""]
[395,4300,"Субсидии и други текущи трансфери за нефинансови предприятия",null,{"$f":"SUM(E5914:E5916)","v":0},0,0,{"$f":"SUM(H5914:H5916)","v":0},0,0,0,0,""]
[399,null,4309,"други субсидии и плащания",0,null,null,null,null,null,null,0,""]
[440,null,4901,"текущи трансфери за чужбина",{"$f":"F5921+G5921+H5921","v":0},null,null,null,null,null,null,{"$f":"I5921+J5921+K5921","v":0},""]
[500,5200,"Придобиване на дълготрайни материални активи",null,{"$f":"SUM(E5925:E5931)","v":0},0,0,{"$f":"SUM(H5925:H5931)","v":0},0,0,0,0,""]
[510,null,5202,"придобиване на сгради",0,0,0,0,0,0,0,0,""]
[525,null,5205,"придобиване на стопански инвентар",0,0,0,0,0,0,0,0,""]
[665,5400,"Придобиване на земя",null,{"$f":"F5935+G5935+H5935","v":0},null,0,0,0,null,0,{"$f":"I5935+J5935+K5935","v":0},""]
[685,null,5501,"капиталови трансфери за нефинансови предприятия",{"$f":"F5937+G5937+H5937","v":0},null,null,null,null,null,null,{"$f":"I5937+J5937+K5937","v":0},""]
[700,null,5504,"капиталови трансфери за домакинствата",{"$f":"F5940+G5940+H5940","v":0},null,null,null,null,null,null,{"$f":"I5940+J5940+K5940","v":0},""]
[725,null,4071,"постъпления от продажба на държавния резерв (-)",{"$f":"F5944+G5944+H5944","v":0},0,0,0,0,0,0,{"$f":"I5944+J5944+K5944","v":0},""]
[750,null,null,null,null,null,null,null,null,null,null,null,""]
[765,null,null,null,null,null,null,null,null,null,null,null,{"$f":"(IF($E5950<>0,$M$2,IF($L5950<>0,$M$2,\"\")))","v":""}]
[785,null,null,null,null,null,null,null,null,null,null,null,{"$f":"(IF($E6087<>0,$M$2,IF($L6087<>0,$M$2,\"\")))","v":""}]
[805,{"$f":"$B$9","v":"ОУ Г.С.РАКОВСКИ-С.ГЪЛЪБЕЦ"},null,null,{"$f":"$E$9","v":"2020-01-01"},{"$f":"$F$9","v":"2020-03-31"},null,null,null,null,null,null,{"$f":"(IF($E6087<>0,$M$2,IF($L6087<>0,$M$2,\"\")))","v":""}]
[815,null,null,null,null,null,null,null,null,null,null,null,{"$f":"(IF($E6087<>0,$M$2,IF($L6087<>0,$M$2,\"\")))","v":""}]
[821,null,null,"ФИНАНСОВО-ПРАВНА ФОРМА",{"$f":"$E$15","v":0},{"$f":"$F$15","v":"БЮДЖЕТ"},null,null,null,null,null,null,{"$f":"(IF($E6087<>0,$M$2,IF($L6087<>0,$M$2,\"\")))","v":""}]
[null,null,{"$f":"VLOOKUP(D5968,OP_LIST2,2,FALSE)","v":{"$error":"#N/A"}},null,null,null,null,null,null,null,null,null,{"$f":"(IF($E6087<>0,$M$2,IF($L6087<>0,$M$2,\"\")))","v":""}]
[null,100,"Заплати и възнаграждения за персонала, нает по трудови и служебни правоотношения",null,{"$f":"SUM(E5973:E5974)","v":0},0,0,{"$f":"SUM(H5973:H5974)","v":0},0,0,0,0,{"$f":"(IF($E5972<>0,$M$2,IF($L5972<>0,$M$2,\"\")))","v":""}]
[null,null,201,"за нещатен персонал нает по трудови правоотношения ",{"$f":"F5976+G5976+H5976","v":0},0,0,0,0,0,0,{"$f":"I5976+J5976+K5976","v":0},""]
[null,null,202,"за персонала по извънтрудови правоотношения",{"$f":"F5977+G5977+H5977","v":0},0,0,0,0,0,0,{"$f":"I5977+J5977+K5977","v":0},""]
[null,500,"Задължителни осигурителни вноски от работодатели",null,{"$f":"SUM(E5982:E5988)","v":0},0,0,{"$f":"SUM(H5982:H5988)","v":0},0,0,0,0,""]
[null,null,580,"вноски за допълнително задължително осигуряване от работодатели",0,0,0,0,0,0,0,0,""]
[null,null,590,"задължителни вноски за чуждестранни пенсионни фондове и  схеми за сметка на осигурителя",0,null,null,null,null,null,null,0,""]
[35,null,1012,"Медикаменти",0,0,0,0,0,0,0,0,""]
[50,null,1015,"материали",0,0,0,0,0,0,0,0,""]
[70,null,1051,"командировки в страната",0,0,0,0,0,0,0,0,""]
[90,null,1069,"други финансови услуги",0,0,0,0,0,0,0,0,""]
[125,null,1098,"други разходи, некласифицирани в другите параграфи и подпараграфи",0,0,0,0,0,0,0,0,""]
[135,null,1901,"платени държавни данъци, такси, наказателни лихви и административни санкции",{"$f":"F6009+G6009+H6009","v":0},0,0,0,0,0,0,{"$f":"I6009+J6009+K6009","v":0},""]
[150,2100,"Разходи за лихви по емисии на държавни (общински) ценни книжа",null,{"$f":"SUM(E6013:E6017)","v":0},0,0,{"$f":"SUM(H6013:H6017)","v":0},0,0,0,0,""]
[185,2200,"Разходи за лихви по заеми от страната",null,{"$f":"SUM(E6019:E6020)","v":0},0,0,{"$f":"SUM(H6019:H6020)","v":0},0,0,0,0,""]
[200,null,2224,"Разходи за лихви по други заеми от страната",0,0,0,0,0,0,0,0,""]
[210,2700,"Разходи за лихви по заеми от банки и други финансови институции от чужбина",null,0,null,null,null,null,null,null,0,""]
[230,null,2920,"Платени лихви по активирани гаранции по заеми от  банки в страната",{"$f":"F6027+G6027+H6027","v":0},null,null,null,null,null,null,{"$f":"I6027+J6027+K6027","v":0},""]
[230,null,2990,"Платени лихви по активирани гаранции по заеми от  банки в страната",{"$f":"F6031+G6031+H6031","v":0},null,null,null,null,null,null,{"$f":"I6031+J6031+K6031","v":0},""]
[235,null,2991,"Други разходи за лихви към  местни лица",0,null,null,null,0,0,0,0,""]
[255,null,3302,"ресурс на база данък върху добавената стойност",0,0,0,0,0,0,0,0,""]
[330,4000,"Стипендии",null,0,0,0,0,0,0,0,0,""]
[355,4200,"Текущи трансфери, обезщетения и помощи за домакинствата",null,{"$f":"SUM(E6044:E6049)","v":0},0,0,{"$f":"SUM(H6044:H6049)","v":0},0,0,0,0,""]
[380,null,4214,"обезщетения и помощи по решение на общинския съвет",0,0,0,0,0,0,0,0,""]
[397,null,4301,"за текуща дейност",{"$f":"F6051+G6051+H6051","v":0},0,0,0,0,0,0,{"$f":"I6051+J6051+K6051","v":0},""]
[401,4500,"Субсидии и други текущи трансфери за юридически лица с нестопанска цел",null,0,0,0,0,0,0,0,0,""]
[450,null,4902,"капиталови трансфери за чужбина",{"$f":"F6059+G6059+H6059","v":0},null,null,null,null,null,null,{"$f":"I6059+J6059+K6059","v":0},""]
[495,5100,"Основен ремонт на дълготрайни материални активи",null,{"$f":"F6060+G6060+H6060","v":0},0,0,0,0,0,0,{"$f":"I6060+J6060+K6060","v":0},""]
[515,null,5203,"придобиване на друго оборудване, машини и съоръжения",0,0,0,0,0,0,0,0,""]
[635,null,5206,"изграждане на инфраструктурни обекти",0,0,0,0,0,0,0,0,""]
[675,5500,"Капиталови трансфери",null,{"$f":"SUM(E6074:E6077)","v":0},0,0,{"$f":"SUM(H6074:H6077)","v":0},0,0,0,0,""]
[690,null,5502,"капиталови трансфери за финансови институции",{"$f":"F6075+G6075+H6075","v":0},null,null,null,null,null,null,{"$f":"I6075+J6075+K6075","v":0},""]
[710,5700,"Прираст на държавния резерв и изкупуване на земеделска продукция (включва и § 40-71)",null,{"$f":"SUM(E6079:E6081)","v":0},0,0,0,0,0,0,{"$f":"SUM(L6079:L6081)","v":0},""]
[735,98,"Резерв за непредвидени и неотложни разходи",null,{"$f":"F6083+G6083+H6083","v":0},null,null,null,0,0,0,{"$f":"I6083+J6083+K6083","v":0},""]
[755,null,"99-99",{"$f":"+B6087","v":0},{"$f":"SUM(E5972,E5975,E5981,E5989,E5990,E6008,E6012,E6018,E6021,E6022,E6023,E6024,E6025,E6034,E6040,E6041,E6042,E6043,E6050,E6054,E6055,E6056,E6057,E6060,E6061,E6069,E6072,E6073,E6078)+E6083","v":0},0,0,0,0,0,0,0,{"$f":"(IF($E6087<>0,$M$2,IF($L6087<>0,$M$2,\"\")))","v":""},{"$f":"LEFT(C5969,1)","v":"6"}]
[775,null,null,null,null,null,null,null,null,null,null,null,{"$f":"(IF(E6085<>0,$G$2,IF(L6085<>0,$G$2,\"\")))","v":""}]
[785,null,null,null,null,null,null,null,null,null,null,null,{"$f":"(IF($E6224<>0,$M$2,IF($L6224<>0,$M$2,\"\")))","v":""}]
[805,{"$f":"$B$9","v":"ОУ Г.С.РАКОВСКИ-С.ГЪЛЪБЕЦ"},null,null,{"$f":"$E$9","v":"2020-01-01"},{"$f":"$F$9","v":"2020-03-31"},null,null,null,null,null,null,{"$f":"(IF($E6224<>0,$M$2,IF($L6224<>0,$M$2,\"\")))","v":""}]
[822,null,null,null,null,null,null,null,null,null,null,"(в лева)",{"$f":"(IF($E6224<>0,$M$2,IF($L6224<>0,$M$2,\"\")))","v":""}]
[825,"§§","под-§§","НАИМЕНОВАНИЯ НА ПАРАГРАФИТЕ И ПОДПАРАГРАФИТЕ",{"$f":"$E$20","v":"Уточнен план                Общо"},{"$f":"$F$20","v":"държавни дейности"},{"$f":"$G$20","v":"местни дейности"},{"$f":"$H$20","v":"дофинансиране"},{"$f":"$I$20","v":"държавни дейности -ОТЧЕТ"},{"$f":"$J$20","v":"местни дейности - ОТЧЕТ"},{"$f":"$K$20","v":"дофинансиране - ОТЧЕТ"},{"$f":"$L$20","v":"ОТЧЕТ                                    ОБЩО"},{"$f":"(IF($E6224<>0,$M$2,IF($L6224<>0,$M$2,\"\")))","v":""}]
[null,null,{"$f":"VLOOKUP(D6107,EBK_DEIN2,2,FALSE)","v":6629},"<------          ДЕЙНОСТ    -  код  по  ЕБК",null,null,null,null,null,null,null,null,{"$f":"(IF($E6224<>0,$M$2,IF($L6224<>0,$M$2,\"\")))","v":""}]
[null,null,101,"заплати и възнаграждения на персонала нает по трудови правоотношения",{"$f":"F6110+G6110+H6110","v":0},0,0,0,0,0,0,{"$f":"I6110+J6110+K6110","v":0},{"$f":"(IF($E6110<>0,$M$2,IF($L6110<>0,$M$2,\"\")))","v":""}]
[null,null,202,"за персонала по извънтрудови правоотношения",{"$f":"F6114+G6114+H6114","v":0},0,0,0,0,0,0,{"$f":"I6114+J6114+K6114","v":0},""]
[null,null,205,"изплатени суми от СБКО за облекло и други на персонала, с характер на възнаграждение",{"$f":"F6115+G6115+H6115","v":0},0,0,0,0,0,0,{"$f":"I6115+J6115+K6115","v":0},""]
[null,null,551,"осигурителни вноски от работодатели за Държавното обществено осигуряване (ДОО)",{"$f":"F6119+G6119+H6119","v":0},0,0,0,0,0,0,{"$f":"I6119+J6119+K6119","v":0},""]
[null,null,588,"коректив на вноски за ДЗПО за сумите по чл. 4б и 4в от КСО за сметка на осигурителя",{"$f":"F6124+G6124+H6124","v":0},0,0,0,0,0,0,{"$f":"I6124+J6124+K6124","v":0},""]
[10,1000,"Издръжка",null,{"$f":"SUM(E6128:E6144)","v":0},0,0,{"$f":"SUM(H6128:H6144)","v":0},0,0,0,0,""]
[35,null,1012,"Медикаменти",0,0,0,0,0,0,0,0,""]
[60,null,1020,"разходи за външни услуги",0,0,0,0,0,0,0,0,""]
[80,null,1053,"дългосрочни командировки в чужбина",0,0,0,0,0,0,0,0,""]
[90,null,1091,"други разходи за СБКО",0,0,0,0,0,0,0,0,""]
[115,null,1092,"разходи за договорни санкции и неустойки, съдебни обезщетения и разноски",0,0,0,0,0,0,0,0,""]
[140,null,1981,"платени общински данъци, такси, наказателни лихви и административни санкции",{"$f":"F6147+G6147+H6147","v":0},0,0,0,0,0,0,{"$f":"I6147+J6147+K6147","v":0},""]
[155,null,2110,"лихви по държавни (общински) ценни книжа",{"$f":"F6150+G6150+H6150","v":0},null,null,null,null,null,null,{"$f":"I6150+J6150+K6150","v":0},""]
[190,null,2221,"Разходи за лихви по заеми от банки в страната",{"$f":"F6156+G6156+H6156","v":0},0,0,0,0,0,0,{"$f":"I6156+J6156+K6156","v":0},""]
[200,2500,"Разходи за лихви по заеми от други държави",null,0,null,null,null,null,null,null,0,""]
[215,2800,"Разходи за лихви и отстъпки по облигации, емитирани и търгувани на международните капиталови пазари",null,0,null,null,null,null,null,null,0,""]
[220,null,2970,"Платени лихви по активирани гаранции по заеми от банки и финансови институции от чужбина",0,null,null,null,null,null,null,0,""]
[240,null,2992,"Други разходи за лихви към чуждестранни лица",0,null,null,null,null,null,null,0,""]
[245,3300,"Вноска в общия бюджет на Европейския съюз",null,{"$f":"SUM(E6172:E6176)","v":0},0,0,0,0,0,0,0,""]
[270,null,3304,"традиционни собствени ресурси - мита",0,0,0,0,0,0,0,0,""]
[330,4000,"Стипендии",null,0,0,0,0,0,0,0,0,""]
[385,null,4217,"текущи трансфери за домакинства от средства на Европейския съюз",0,null,null,null,null,null,null,0,""]
[390,null,4219,"други текущи трансфери за домакинствата",0,0,0,0,0,0,0,0,""]
[398,null,4302,"за осъществяване на болнична помощ ",0,null,null,null,null,null,null,0,""]
[404,4600,"Разходи за членски внос и участие в нетърговски организации и дейности",null,0,0,0,0,0,0,0,0,""]
[495,5100,"Основен ремонт на дълготрайни материални активи",null,{"$f":"F6197+G6197+H6197","v":0},0,0,0,0,0,0,{"$f":"I6197+J6197+K6197","v":0},""]
[500,5200,"Придобиване на дълготрайни материални активи",null,{"$f":"SUM(E6199:E6205)","v":0},0,0,{"$f":"SUM(H6199:H6205)","v":0},0,0,0,0,""]
[520,null,5204,"придобиване на транспортни средства",0,0,0,0,0,0,0,0,""]
[650,null,5301,"придобиване на програмни продукти и лицензи за програмни продукти",{"$f":"F6207+G6207+H6207","v":0},0,0,0,0,0,0,{"$f":"I6207+J6207+K6207","v":0},""]
[675,5500,"Капиталови трансфери",null,{"$f":"SUM(E6211:E6214)","v":0},0,0,{"$f":"SUM(H6211:H6214)","v":0},0,0,0,0,""]
[690,null,5502,"капиталови трансфери за финансови институции",{"$f":"F6212+G6212+H6212","v":0},null,null,null,null,null,null,{"$f":"I6212+J6212+K6212","v":0},""]
[720,null,5702,"плащания за изкупуване на земеделска продукция",{"$f":"F6217+G6217+H6217","v":0},0,0,0,0,0,0,{"$f":"I6217+J6217+K6217","v":0},""]
[740,null,null,null,null,null,null,null,null,null,null,null,""]
[760,"край на дейност",null,null,null,null,null,null,null,null,null,null,{"$f":"(IF($E6224<>0,$M$2,IF($L6224<>0,$M$2,\"\")))","v":""}]
[765,null,null,null,null,null,null,null,null,null,null,null,{"$f":"(IF($E6224<>0,$M$2,IF($L6224<>0,$M$2,\"\")))","v":""}]
[790,{"$f":"$B$7","v":"ОТЧЕТНИ ДАННИ ПО ЕБК ЗА ИЗПЪЛНЕНИЕТО НА БЮДЖЕТА"},null,null,null,null,null,null,null,null,null,null,{"$f":"(IF($E6361<>0,$M$2,IF($L6361<>0,$M$2,\"\")))","v":""}]
[810,{"$f":"$B$10","v":"(наименование на разпоредителя с бюджет)"},null,null,null,null,null,null,null,null,null,null,{"$f":"(IF($E6361<>0,$M$2,IF($L6361<>0,$M$2,\"\")))","v":""}]
[823,null,null,"II.1. РАЗХОДИ ПО ДЕЙНОСТИ","Уточнен план 2020",null,null,null,"Отчет 2020",null,null,null,{"$f":"(IF($E6361<>0,$M$2,IF($L6361<>0,$M$2,\"\")))","v":""}]
[null,null,null," 02 ¦",{"$f":"$E$21","v":"(1)"},{"$f":"$F$21","v":"(2)"},{"$f":"$G$21","v":"(3)"},{"$f":"$H$21","v":"(4)"},{"$f":"$I$21","v":"(5)"},{"$f":"$J$21","v":"(6)"},{"$f":"$K$21","v":"(7)"},{"$f":"$L$21","v":"(8)"},{"$f":"(IF($E6361<>0,$M$2,IF($L6361<>0,$M$2,\"\")))","v":""}]
[null,null,{"$f":"+C6243","v":7701},"701 Дейности по почивното дело и социалния отдих",null,null,null,null,null,null,null,null,{"$f":"(IF($E6361<>0,$M$2,IF($L6361<>0,$M$2,\"\")))","v":""}]
[null,200,"Други възнаграждения и плащания за персонала",null,{"$f":"SUM(E6250:E6254)","v":0},0,0,{"$f":"SUM(H6250:H6254)","v":0},0,0,0,0,""]
[null,null,208,"обезщетения за персонала, с характер на възнаграждение",{"$f":"F6253+G6253+H6253","v":0},0,0,0,0,0,0,{"$f":"I6253+J6253+K6253","v":0},""]
[null,null,209,"другиплащания и възнаграждения",{"$f":"F6254+G6254+H6254","v":0},0,0,0,0,0,0,{"$f":"I6254+J6254+K6254","v":0},""]
[null,null,558,"вноски по чл. 4б и 4в от КСО за сметка на осигурителя",{"$f":"F6258+G6258+H6258","v":0},0,0,0,0,0,0,{"$f":"I6258+J6258+K6258","v":0},""]
[null,null,588,"коректив на вноски за ДЗПО за сумите по чл. 4б и 4в от КСО за сметка на осигурителя",{"$f":"F6261+G6261+H6261","v":0},0,0,0,0,0,0,{"$f":"I6261+J6261+K6261","v":0},""]
[15,null,1011,"Храна",{"$f":"F6265+G6265+H6265","v":0},0,0,0,0,0,0,{"$f":"I6265+J6265+K6265","v":0},""]
[40,null,1013,"Постелен инвентар и облекло",0,0,0,0,0,0,0,0,""]
[70,null,1051,"командировки в страната",0,0,0,0,0,0,0,0,""]
[80,null,1062,"разходи за застраховки",0,0,0,0,0,0,0,0,""]
[115,null,1092,"разходи за договорни санкции и неустойки, съдебни обезщетения и разноски",0,0,0,0,0,0,0,0,""]
[125,null,1098,"други разходи, некласифицирани в другите параграфи и подпараграфи",0,0,0,0,0,0,0,0,""]
[145,null,1991,"платени данъци, такси, наказателни лихви и административни санкции в чужбина",{"$f":"F6285+G6285+H6285","v":0},null,null,null,null,null,null,{"$f":"I6285+J6285+K6285","v":0},""]
[175,null,2140,"лихви по държавни ценни книжа, емитирани за структурната реформа ",{"$f":"F6290+G6290+H6290","v":0},0,0,0,0,0,0,{"$f":"I6290+J6290+K6290","v":0},""]
[190,null,2221,"Разходи за лихви по заеми от банки в страната",{"$f":"F6293+G6293+H6293","v":0},0,0,0,0,0,0,{"$f":"I6293+J6293+K6293","v":0},""]
[200,2500,"Разходи за лихви по заеми от други държави",null,0,null,null,null,null,null,null,0,""]
[230,null,2920,"Платени лихви по активирани гаранции по заеми от  банки в страната",{"$f":"F6301+G6301+H6301","v":0},null,null,null,null,null,null,{"$f":"I6301+J6301+K6301","v":0},""]
[225,null,2989,"Възстановени суми по платени лихви по активирани гаранции (-)",0,null,null,null,null,null,null,0,""]
[245,3300,"Вноска в общия бюджет на Европейския съюз",null,{"$f":"SUM(E6309:E6313)","v":0},0,0,0,0,0,0,0,""]
[250,null,3301,"ресурс на база брутен национален доход",{"$f":"F6309+G6309+H6309","v":0},0,0,0,0,0,0,{"$f":"I6309+J6309+K6309","v":0},""]
[290,null,3306,"участие във финансирането на брутното намаление за Нидерландия, Швеция, Дания и Австрия",0,0,0,0,0,0,0,0,""]
[355,4200,"Текущи трансфери, обезщетения и помощи за домакинствата",null,{"$f":"SUM(E6318:E6323)","v":0},0,0,{"$f":"SUM(H6318:H6323)","v":0},0,0,0,0,""]
[390,null,4218,"текущи трансфери за домакинства по други международни програми и споразумения",0,null,null,null,null,null,null,0,""]
[395,4300,"Субсидии и други текущи трансфери за нефинансови предприятия",null,{"$f":"SUM(E6325:E6327)","v":0},0,0,{"$f":"SUM(H6325:H6327)","v":0},0,0,0,0,""]
[399,null,4309,"други субсидии и плащания",0,null,null,null,null,null,null,0,""]
[440,null,4901,"текущи трансфери за чужбина",{"$f":"F6332+G6332+H6332","v":0},null,null,null,null,null,null,{"$f":"I6332+J6332+K6332","v":0},""]
[505,null,5201,"придобиване на компютри и хардуер",{"$f":"F6336+G6336+H6336","v":0},0,0,0,0,0,0,{"$f":"I6336+J6336+K6336","v":0},""]
[510,null,5202,"придобиване на сгради",0,0,0,0,0,0,0,0,""]
[525,null,5205,"придобиване на стопански инвентар",0,0,0,0,0,0,0,0,""]
[655,null,5309,"придобиване на други нематериални дълготрайни активи",{"$f":"F6345+G6345+H6345","v":0},0,0,0,0,0,0,{"$f":"I6345+J6345+K6345","v":0},""]
[685,null,5501,"капиталови трансфери за нефинансови предприятия",{"$f":"F6348+G6348+H6348","v":0},null,null,null,null,null,null,{"$f":"I6348+J6348+K6348","v":0},""]
[695,null,5503,"капиталови трансфери за организации с нестопанска цел",{"$f":"F6350+G6350+H6350","v":0},null,null,null,null,null,null,{"$f":"I6350+J6350+K6350","v":0},""]
[730,null,"Резерв за непредвидени и неотложни разходи",null,null,null,null,null,null,null,null,null,""]
[745,null,null,null,null,null,null,null,null,null,null,null,""]
[755,null,"99-99",{"$f":"+B6361","v":0},{"$f":"SUM(E6246,E6249,E6255,E6263,E6264,E6282,E6286,E6292,E6295,E6296,E6297,E6298,E6299,E6308,E6314,E6315,E6316,E6317,E6324,E6328,E6329,E6330,E6331,E6334,E6335,E6343,E6346,E6347,E6352)+E6357","v":0},0,0,0,0,0,0,0,{"$f":"(IF($E6361<>0,$M$2,IF($L6361<>0,$M$2,\"\")))","v":""},{"$f":"LEFT(C6243,1)","v":"7"}]
[775,null,null,null,null,null,null,null,null,null,null,null,{"$f":"(IF(E6359<>0,$G$2,IF(L6359<>0,$G$2,\"\")))","v":""}]
[795,null,null,null,"за периода от ","до",null,"        II.1. РАЗХОДИ ПО ДЕЙНОСТИ",null,null,null,null,{"$f":"(IF($E6498<>0,$M$2,IF($L6498<>0,$M$2,\"\")))","v":""}]
[820,{"$f":"$B$13","v":"(наименование на първостепенния разпоредител с бюджет)"},null,null,null,null,null,null,null,null,null,null,{"$f":"(IF($E6498<>0,$M$2,IF($L6498<>0,$M$2,\"\")))","v":""}]
[823,null,null,"II.1. РАЗХОДИ ПО ДЕЙНОСТИ","Уточнен план 2020",null,null,null,"Отчет 2020",null,null,null,{"$f":"(IF($E6498<>0,$M$2,IF($L6498<>0,$M$2,\"\")))","v":""}]
[null,null,{"$f":"VLOOKUP(D6379,OP_LIST2,2,FALSE)","v":{"$error":"#N/A"}},null,null,null,null,null,null,null,null,null,{"$f":"(IF($E6498<>0,$M$2,IF($L6498<>0,$M$2,\"\")))","v":""}]
[null,null,null,"(наименование на дейността)",null,null,null,null,null,null,null,null,{"$f":"(IF($E6498<>0,$M$2,IF($L6498<>0,$M$2,\"\")))","v":""}]
[null,null,201,"за нещатен персонал нает по трудови правоотношения ",{"$f":"F6387+G6387+H6387","v":0},0,0,0,0,0,0,{"$f":"I6387+J6387+K6387","v":0},""]
[null,null,209,"другиплащания и възнаграждения",{"$f":"F6391+G6391+H6391","v":0},0,0,0,0,0,0,{"$f":"I6391+J6391+K6391","v":0},""]
[null,500,"Задължителни осигурителни вноски от работодатели",null,{"$f":"SUM(E6393:E6399)","v":0},0,0,{"$f":"SUM(H6393:H6399)","v":0},0,0,0,0,""]
[null,null,560,"здравно-осигурителни вноски от работодатели",0,0,0,0,0,0,0,0,""]
[5,800,"Вноски за доброволно осигуряване  ",null,0,null,null,null,null,null,null,0,""]
[45,null,1014,"Учебни и научно-изследователски разходи и книги за библиотеките",0,0,0,0,0,0,0,0,""]
[60,null,1020,"разходи за външни услуги",0,0,0,0,0,0,0,0,""]
[70,null,1051,"командировки в страната",0,0,0,0,0,0,0,0,""]
[90,null,1069,"други финансови услуги",0,0,0,0,0,0,0,0,""]
[90,null,1091,"други разходи за СБКО",0,0,0,0,0,0,0,0,""]
[130,1900,"Платени данъци, такси и административни санкции",null,{"$f":"SUM(E6420:E6422)","v":0},0,0,{"$f":"SUM(H6420:H6422)","v":0},0,0,0,0,""]
[150,2100,"Разходи за лихви по емисии на държавни (общински) ценни книжа",null,{"$f":"SUM(E6424:E6428)","v":0},0,0,{"$f":"SUM(H6424:H6428)","v":0},0,0,0,0,""]
[180,null,2190,"премии над номинала от емисии на държавни (общински) ценни книжа (-)",{"$f":"F6428+G6428+H6428","v":0},null,null,null,null,null,null,{"$f":"I6428+J6428+K6428","v":0},""]
[200,null,2224,"Разходи за лихви по други заеми от страната",0,0,0,0,0,0,0,0,""]
[205,2600,"Разходи за лихви по заеми от международни организации и институции",null,0,null,null,null,null,null,null,0,""]
[245,null,2969,"Платени лихви по активирани гаранции по заеми от международни организации и институции",0,null,null,null,null,null,null,0,""]
[230,null,2990,"Платени лихви по активирани гаранции по заеми от  банки в страната",{"$f":"F6442+G6442+H6442","v":0},null,null,null,null,null,null,{"$f":"I6442+J6442+K6442","v":0},""]
[240,null,2992,"Други разходи за лихви към чуждестранни лица",0,null,null,null,null,null,null,0,""]
[255,null,3302,"ресурс на база данък върху добавената стойност",0,0,0,0,0,0,0,0,""]
[320,3900,"Здравно-осигурителни плащания",null,0,0,0,0,0,0,0,0,{"$f":"(IF($E6451<>0,$M$2,IF($L6451<>0,$M$2,\"\")))","v":""}]
[355,null,4201,"обезщетения и помощи по социалното осигуряване",{"$f":"F6455+G6455+H6455","v":0},null,null,null,null,null,null,{"$f":"I6455+J6455+K6455","v":0},""]
[390,null,4219,"други текущи трансфери за домакинствата",0,0,0,0,0,0,0,0,""]
[398,null,4302,"за осъществяване на болнична помощ ",0,null,null,null,null,null,null,0,""]
[400,4400,"Субсидии и други текущи трансфери за финансови институции",null,0,0,0,0,0,0,0,0,""]
[450,null,4902,"капиталови трансфери за чужбина",{"$f":"F6470+G6470+H6470","v":0},null,null,null,null,null,null,{"$f":"I6470+J6470+K6470","v":0},""]
[510,null,5202,"придобиване на сгради",0,0,0,0,0,0,0,0,""]
[515,null,5203,"придобиване на друго оборудване, машини и съоръжения",0,0,0,0,0,0,0,0,""]
[640,null,5219,"придобиване на други ДМА",0,0,0,0,0,0,0,0,""]
[665,5400,"Придобиване на земя",null,{"$f":"F6483+G6483+H6483","v":0},null,0,0,0,null,0,{"$f":"I6483+J6483+K6483","v":0},""]
[700,null,5504,"капиталови трансфери за домакинствата",{"$f":"F6488+G6488+H6488","v":0},null,null,null,null,null,null,{"$f":"I6488+J6488+K6488","v":0},""]
[720,null,5702,"плащания за изкупуване на земеделска продукция",{"$f":"F6491+G6491+H6491","v":0},0,0,0,0,0,0,{"$f":"I6491+J6491+K6491","v":0},""]
[735,98,"Резерв за непредвидени и неотложни разходи",null,{"$f":"F6494+G6494+H6494","v":0},null,null,null,0,0,0,{"$f":"I6494+J6494+K6494","v":0},""]
[750,null,null,null,null,null,null,null,null,null,null,null,""]
[760,"край на дейност",null,null,null,null,null,null,null,null,null,null,{"$f":"(IF($E6498<>0,$M$2,IF($L6498<>0,$M$2,\"\")))","v":""}]
[780,null,null,null,null,null,null,null,null,null,null,null,{"$f":"(IF($E6635<>0,$M$2,IF($L6635<>0,$M$2,\"\")))","v":""}]
[810,{"$f":"$B$10","v":"(наименование на разпоредителя с бюджет)"},null,null,null,null,null,null,null,null,null,null,{"$f":"(IF($E6635<>0,$M$2,IF($L6635<>0,$M$2,\"\")))","v":""}]
[821,null,null,"ФИНАНСОВО-ПРАВНА ФОРМА",{"$f":"$E$15","v":0},{"$f":"$F$15","v":"БЮДЖЕТ"},null,null,null,null,null,null,{"$f":"(IF($E6635<>0,$M$2,IF($L6635<>0,$M$2,\"\")))","v":""}]
[825,"§§","под-§§","НАИМЕНОВАНИЯ НА ПАРАГРАФИТЕ И ПОДПАРАГРАФИТЕ",{"$f":"$E$20","v":"Уточнен план                Общо"},{"$f":"$F$20","v":"държавни дейности"},{"$f":"$G$20","v":"местни дейности"},{"$f":"$H$20","v":"дофинансиране"},{"$f":"$I$20","v":"държавни дейности -ОТЧЕТ"},{"$f":"$J$20","v":"местни дейности - ОТЧЕТ"},{"$f":"$K$20","v":"дофинансиране - ОТЧЕТ"},{"$f":"$L$20","v":"ОТЧЕТ                                    ОБЩО"},{"$f":"(IF($E6635<>0,$M$2,IF($L6635<>0,$M$2,\"\")))","v":""}]
[null,null,{"$f":"VLOOKUP(D6516,OP_LIST2,2,FALSE)","v":{"$error":"#N/A"}},null,null,null,null,null,null,null,null,null,{"$f":"(IF($E6635<>0,$M$2,IF($L6635<>0,$M$2,\"\")))","v":""}]
[null,null,102,"заплати и възнаграждения на персонала нает по служебни правоотношения",{"$f":"F6522+G6522+H6522","v":0},0,0,0,0,0,0,{"$f":"I6522+J6522+K6522","v":0},""]
[null,null,202,"за персонала по извънтрудови правоотношения",{"$f":"F6525+G6525+H6525","v":0},0,0,0,0,0,0,{"$f":"I6525+J6525+K6525","v":0},""]
[null,null,208,"обезщетения за персонала, с характер на възнаграждение",{"$f":"F6527+G6527+H6527","v":0},0,0,0,0,0,0,{"$f":"I6527+J6527+K6527","v":0},""]
[null,null,551,"осигурителни вноски от работодатели за Държавното обществено осигуряване (ДОО)",{"$f":"F6530+G6530+H6530","v":0},0,0,0,0,0,0,{"$f":"I6530+J6530+K6530","v":0},""]
[null,null,580,"вноски за допълнително задължително осигуряване от работодатели",0,0,0,0,0,0,0,0,""]
[10,1000,"Издръжка",null,{"$f":"SUM(E6539:E6555)","v":0},0,0,{"$f":"SUM(H6539:H6555)","v":0},0,0,0,0,""]
[50,null,1015,"материали",0,0,0,0,0,0,0,0,""]
[65,null,1030,"Текущ ремонт",0,0,0,0,0,0,0,0,""]
[75,null,1052,"краткосрочни командировки в чужбина",0,0,0,0,0,0,0,0,""]
[85,null,1063,"такса ангажимент по заеми",0,0,0,0,0,0,0,0,""]
[135,null,1901,"платени държавни данъци, такси, наказателни лихви и административни санкции",{"$f":"F6557+G6557+H6557","v":0},0,0,0,0,0,0,{"$f":"I6557+J6557+K6557","v":0},""]
[140,null,1981,"платени общински данъци, такси, наказателни лихви и административни санкции",{"$f":"F6558+G6558+H6558","v":0},0,0,0,0,0,0,{"$f":"I6558+J6558+K6558","v":0},""]
[160,null,2120,"отстъпки по държавни (общински) ценни книжа",{"$f":"F6562+G6562+H6562","v":0},null,null,null,null,null,null,{"$f":"I6562+J6562+K6562","v":0},""]
[185,2200,"Разходи за лихви по заеми от страната",null,{"$f":"SUM(E6567:E6568)","v":0},0,0,{"$f":"SUM(H6567:H6568)","v":0},0,0,0,0,""]
[200,2500,"Разходи за лихви по заеми от други държави",null,0,null,null,null,null,null,null,0,""]
[210,2700,"Разходи за лихви по заеми от банки и други финансови институции от чужбина",null,0,null,null,null,null,null,null,0,""]
[220,null,2970,"Платени лихви по активирани гаранции по заеми от банки и финансови институции от чужбина",0,null,null,null,null,null,null,0,""]
[235,null,2991,"Други разходи за лихви към  местни лица",0,null,null,null,null,null,null,0,""]
[245,3300,"Вноска в общия бюджет на Европейския съюз",null,{"$f":"SUM(E6583:E6587)","v":0},0,0,0,0,0,0,0,""]
[265,null,3303,"корекция за Обединеното кралство",0,0,0,0,0,0,0,0,""]
[350,4100,"Пенсии",null,0,0,0,0,0,0,0,0,""]
[380,null,4214,"обезщетения и помощи по решение на общинския съвет",0,0,0,0,0,0,0,0,""]
[395,4300,"Субсидии и други текущи трансфери за нефинансови предприятия",null,{"$f":"SUM(E6599:E6601)","v":0},0,0,{"$f":"SUM(H6599:H6601)","v":0},0,0,0,0,""]
[397,null,4301,"за текуща дейност",{"$f":"F6599+G6599+H6599","v":0},0,0,0,0,0,0,{"$f":"I6599+J6599+K6599","v":0},""]
[404,4900,"Предоставени текущи и капиталови трансфери за чужбина",null,{"$f":"+E6606+E6607","v":0},0,0,{"$f":"+H6606+H6607","v":0},0,0,0,0,""]
[440,null,4901,"текущи трансфери за чужбина",{"$f":"F6606+G6606+H6606","v":0},null,null,null,null,null,null,{"$f":"I6606+J6606+K6606","v":0},""]
[515,null,5203,"придобиване на друго оборудване, машини и съоръжения",0,0,0,0,0,0,0,0,""]
[520,null,5204,"придобиване на транспортни средства",0,0,0,0,0,0,0,0,""]
[645,5300,"Придобиване на нематериални дълготрайни активи",null,{"$f":"SUM(E6618:E6619)","v":0},0,0,{"$f":"SUM(H6618:H6619)","v":0},0,0,0,0,""]
[675,5500,"Капиталови трансфери",null,{"$f":"SUM(E6622:E6625)","v":0},0,0,{"$f":"SUM(H6622:H6625)","v":0},0,0,0,0,""]
[710,5700,"Прираст на държавния резерв и изкупуване на земеделска продукция (включва и § 40-71)",null,{"$f":"SUM(E6627:E6629)","v":0},0,0,0,0,0,0,{"$f":"SUM(L6627:L6629)","v":0},""]
[725,null,4071,"постъпления от продажба на държавния резерв (-)",{"$f":"F6629+G6629+H6629","v":0},0,0,0,0,0,0,{"$f":"I6629+J6629+K6629","v":0},""]
[735,98,"Резерв за непредвидени и неотложни разходи",null,{"$f":"F6631+G6631+H6631","v":0},null,null,null,0,0,0,{"$f":"I6631+J6631+K6631","v":0},""]
[750,null,null,null,null,null,null,null,null,null,null,null,""]
[785,null,null,null,null,null,null,null,null,null,null,null,{"$f":"(IF($E6772<>0,$M$2,IF($L6772<>0,$M$2,\"\")))","v":""}]
[790,{"$f":"$B$7","v":"ОТЧЕТНИ ДАННИ ПО ЕБК ЗА ИЗПЪЛНЕНИЕТО НА БЮДЖЕТА"},null,null,null,null,null,null,null,null,null,null,{"$f":"(IF($E6772<>0,$M$2,IF($L6772<>0,$M$2,\"\")))","v":""}]
[815,null,null,null,null,null,null,null,null,null,null,null,{"$f":"(IF($E6772<>0,$M$2,IF($L6772<>0,$M$2,\"\")))","v":""}]
[822,null,null,null,null,null,null,null,null,null,null,"(в лева)",{"$f":"(IF($E6772<>0,$M$2,IF($L6772<>0,$M$2,\"\")))","v":""}]
[null,null,{"$f":"VLOOKUP(D6653,OP_LIST2,2,FALSE)","v":{"$error":"#N/A"}},null,null,null,null,null,null,null,null,null,{"$f":"(IF($E6772<>0,$M$2,IF($L6772<>0,$M$2,\"\")))","v":""}]
[null,null,{"$f":"VLOOKUP(D6655,EBK_DEIN2,2,FALSE)","v":7732},"<------          ДЕЙНОСТ    -  код  по  ЕБК",null,null,null,null,null,null,null,null,{"$f":"(IF($E6772<>0,$M$2,IF($L6772<>0,$M$2,\"\")))","v":""}]
[null,200,"Други възнаграждения и плащания за персонала",null,{"$f":"SUM(E6661:E6665)","v":0},0,0,{"$f":"SUM(H6661:H6665)","v":0},0,0,0,0,""]
[null,null,205,"изплатени суми от СБКО за облекло и други на персонала, с характер на възнаграждение",{"$f":"F6663+G6663+H6663","v":0},0,0,0,0,0,0,{"$f":"I6663+J6663+K6663","v":0},""]
[null,null,209,"другиплащания и възнаграждения",{"$f":"F6665+G6665+H6665","v":0},0,0,0,0,0,0,{"$f":"I6665+J6665+K6665","v":0},""]
[null,null,552,"осигурителни вноски от работодатели за Учителския пенсионен фонд (УчПФ)",0,0,0,0,0,0,0,0,""]
[null,null,590,"задължителни вноски за чуждестранни пенсионни фондове и  схеми за сметка на осигурителя",0,null,null,null,null,null,null,0,""]
[35,null,1012,"Медикаменти",0,0,0,0,0,0,0,0,""]
[55,null,1016,"вода, горива и енергия",0,0,0,0,0,0,0,0,""]
[70,null,1051,"командировки в страната",0,0,0,0,0,0,0,0,""]
[80,null,1053,"дългосрочни командировки в чужбина",0,0,0,0,0,0,0,0,""]
[90,null,1069,"други финансови услуги",0,0,0,0,0,0,0,0,""]
[140,null,1981,"платени общински данъци, такси, наказателни лихви и административни санкции",{"$f":"F6695+G6695+H6695","v":0},0,0,0,0,0,0,{"$f":"I6695+J6695+K6695","v":0},""]
[150,2100,"Разходи за лихви по емисии на държавни (общински) ценни книжа",null,{"$f":"SUM(E6698:E6702)","v":0},0,0,{"$f":"SUM(H6698:H6702)","v":0},0,0,0,0,""]
[165,null,2125,"лихви и отстъпки по целеви емисии на държавни ценни книжа",{"$f":"F6700+G6700+H6700","v":0},0,0,0,0,0,0,{"$f":"I6700+J6700+K6700","v":0},""]
[190,null,2221,"Разходи за лихви по заеми от банки в страната",{"$f":"F6704+G6704+H6704","v":0},0,0,0,0,0,0,{"$f":"I6704+J6704+K6704","v":0},""]
[215,2800,"Разходи за лихви и отстъпки по облигации, емитирани и търгувани на международните капиталови пазари",null,0,null,null,null,null,null,null,0,""]
[230,null,2920,"Платени лихви по активирани гаранции по заеми от  банки в страната",{"$f":"F6712+G6712+H6712","v":0},null,null,null,null,null,null,{"$f":"I6712+J6712+K6712","v":0},""]
[220,null,2970,"Платени лихви по активирани гаранции по заеми от банки и финансови институции от чужбина",0,null,null,null,null,null,null,0,""]
[235,null,2991,"Други разходи за лихви към  местни лица",0,null,null,null,null,null,null,0,""]
[250,null,3301,"ресурс на база брутен национален доход",{"$f":"F6720+G6720+H6720","v":0},0,0,0,0,0,0,{"$f":"I6720+J6720+K6720","v":0},""]
[270,null,3304,"традиционни собствени ресурси - мита",0,0,0,0,0,0,0,0,""]
[355,4200,"Текущи трансфери, обезщетения и помощи за домакинствата",null,{"$f":"SUM(E6729:E6734)","v":0},0,0,{"$f":"SUM(H6729:H6734)","v":0},0,0,0,0,""]
[385,null,4217,"текущи трансфери за домакинства от средства на Европейския съюз",0,null,null,null,null,null,null,0,""]
[397,null,4301,"за текуща дейност",{"$f":"F6736+G6736+H6736","v":0},0,0,0,0,0,0,{"$f":"I6736+J6736+K6736","v":0},""]
[398,null,4302,"за осъществяване на болнична помощ ",0,null,null,null,null,null,null,0,""]
[404,4600,"Разходи за членски внос и участие в нетърговски организации и дейности",null,0,0,0,0,0,0,0,0,""]
[500,5200,"Придобиване на дълготрайни материални активи",null,{"$f":"SUM(E6747:E6753)","v":0},0,0,{"$f":"SUM(H6747:H6753)","v":0},0,0,0,0,""]
[510,null,5202,"придобиване на сгради",0,0,0,0,0,0,0,0,""]
[525,null,5205,"придобиване на стопански инвентар",0,0,0,0,0,0,0,0,""]
[655,null,5309,"придобиване на други нематериални дълготрайни активи",{"$f":"F6756+G6756+H6756","v":0},0,0,0,0,0,0,{"$f":"I6756+J6756+K6756","v":0},""]
[685,null,5501,"капиталови трансфери за нефинансови предприятия",{"$f":"F6759+G6759+H6759","v":0},null,null,null,null,null,null,{"$f":"I6759+J6759+K6759","v":0},""]
[715,null,5701,"плащания за попълване на държавния резерв",{"$f":"F6764+G6764+H6764","v":0},0,0,0,0,0,0,{"$f":"I6764+J6764+K6764","v":0},""]
[730,null,"Резерв за непредвидени и неотложни разходи",null,null,null,null,null,null,null,null,null,""]
[740,null,null,null,null,null,null,null,null,null,null,null,""]
[755,null,"99-99",{"$f":"+B6772","v":0},{"$f":"SUM(E6657,E6660,E6666,E6674,E6675,E6693,E6697,E6703,E6706,E6707,E6708,E6709,E6710,E6719,E6725,E6726,E6727,E6728,E6735,E6739,E6740,E6741,E6742,E6745,E6746,E6754,E6757,E6758,E6763)+E6768","v":0},0,0,0,0,0,0,0,{"$f":"(IF($E6772<>0,$M$2,IF($L6772<>0,$M$2,\"\")))","v":""},{"$f":"LEFT(C6654,1)","v":"7"}]
[790,{"$f":"$B$7","v":"ОТЧЕТНИ ДАННИ ПО ЕБК ЗА ИЗПЪЛНЕНИЕТО НА БЮДЖЕТА"},null,null,null,null,null,null,null,null,null,null,{"$f":"(IF($E6909<>0,$M$2,IF($L6909<>0,$M$2,\"\")))","v":""}]
[805,{"$f":"$B$9","v":"ОУ Г.С.РАКОВСКИ-С.ГЪЛЪБЕЦ"},null,null,{"$f":"$E$9","v":"2020-01-01"},{"$f":"$F$9","v":"2020-03-31"},null,null,null,null,null,null,{"$f":"(IF($E6909<>0,$M$2,IF($L6909<>0,$M$2,\"\")))","v":""}]
[525,{"$f":"$B$12","v":"Поморие"},null,null,"       код по ЕБК:",{"$f":"$F$12","v":"5207"},null,null,null,null,null,null,{"$f":"(IF($E6909<>0,$M$2,IF($L6909<>0,$M$2,\"\")))","v":""}]
[825,"§§","под-§§","НАИМЕНОВАНИЯ НА ПАРАГРАФИТЕ И ПОДПАРАГРАФИТЕ",{"$f":"$E$20","v":"Уточнен план                Общо"},{"$f":"$F$20","v":"държавни дейности"},{"$f":"$G$20","v":"местни дейности"},{"$f":"$H$20","v":"дофинансиране"},{"$f":"$I$20","v":"държавни дейности -ОТЧЕТ"},{"$f":"$J$20","v":"местни дейности - ОТЧЕТ"},{"$f":"$K$20","v":"дофинансиране - ОТЧЕТ"},{"$f":"$L$20","v":"ОТЧЕТ                                    ОБЩО"},{"$f":"(IF($E6909<>0,$M$2,IF($L6909<>0,$M$2,\"\")))","v":""}]
[null,null,{"$f":"+C6791","v":7737},"737 Оркестри и ансамбли",null,null,null,null,null,null,null,null,{"$f":"(IF($E6909<>0,$M$2,IF($L6909<>0,$M$2,\"\")))","v":""}]
[null,null,101,"заплати и възнаграждения на персонала нает по трудови правоотношения",{"$f":"F6795+G6795+H6795","v":0},0,0,0,0,0,0,{"$f":"I6795+J6795+K6795","v":0},{"$f":"(IF($E6795<>0,$M$2,IF($L6795<>0,$M$2,\"\")))","v":""}]
[null,null,102,"заплати и възнаграждения на персонала нает по служебни правоотношения",{"$f":"F6796+G6796+H6796","v":0},0,0,0,0,0,0,{"$f":"I6796+J6796+K6796","v":0},""]
[null,null,208,"обезщетения за персонала, с характер на възнаграждение",{"$f":"F6801+G6801+H6801","v":0},0,0,0,0,0,0,{"$f":"I6801+J6801+K6801","v":0},""]
[null,500,"Задължителни осигурителни вноски от работодатели",null,{"$f":"SUM(E6804:E6810)","v":0},0,0,{"$f":"SUM(H6804:H6810)","v":0},0,0,0,0,""]
[null,null,558,"вноски по чл. 4б и 4в от КСО за сметка на осигурителя",{"$f":"F6806+G6806+H6806","v":0},0,0,0,0,0,0,{"$f":"I6806+J6806+K6806","v":0},""]
[5,800,"Вноски за доброволно осигуряване  ",null,0,null,null,null,null,null,null,0,""]
[40,null,1013,"Постелен инвентар и облекло",0,0,0,0,0,0,0,0,""]
[60,null,1020,"разходи за външни услуги",0,0,0,0,0,0,0,0,""]
[65,null,1030,"Текущ ремонт",0,0,0,0,0,0,0,0,""]
[80,null,1062,"разходи за застраховки",0,0,0,0,0,0,0,0,""]
[125,null,1098,"други разходи, некласифицирани в другите параграфи и подпараграфи",0,0,0,0,0,0,0,0,""]
[135,null,1901,"платени държавни данъци, такси, наказателни лихви и административни санкции",{"$f":"F6831+G6831+H6831","v":0},0,0,0,0,0,0,{"$f":"I6831+J6831+K6831","v":0},""]
[150,2100,"Разходи за лихви по емисии на държавни (общински) ценни книжа",null,{"$f":"SUM(E6835:E6839)","v":0},0,0,{"$f":"SUM(H6835:H6839)","v":0},0,0,0,0,""]
[180,null,2190,"премии над номинала от емисии на държавни (общински) ценни книжа (-)",{"$f":"F6839+G6839+H6839","v":0},null,null,null,null,null,null,{"$f":"I6839+J6839+K6839","v":0},""]
[200,2500,"Разходи за лихви по заеми от други държави",null,0,null,null,null,null,null,null,0,""]
[220,2900,"Други разходи за лихви",null,{"$f":"SUM(E6848:E6855)","v":0},{"$f":"SUM(F6848:F6855)","v":0},{"$f":"SUM(G6848:G6855)","v":0},0,0,0,0,0,""]
[245,null,2969,"Платени лихви по активирани гаранции по заеми от международни организации и институции",0,null,null,null,null,null,null,0,""]
[225,null,2989,"Възстановени суми по платени лихви по активирани гаранции (-)",0,null,null,null,null,null,null,0,""]
[240,null,2992,"Други разходи за лихви към чуждестранни лица",0,null,null,null,null,null,null,0,""]
[290,null,3306,"участие във финансирането на брутното намаление за Нидерландия, Швеция, Дания и Австрия",0,0,0,0,0,0,0,0,""]
[330,4000,"Стипендии",null,0,0,0,0,0,0,0,0,""]
[355,null,4201,"обезщетения и помощи по социалното осигуряване",{"$f":"F6866+G6866+H6866","v":0},null,null,null,null,null,null,{"$f":"I6866+J6866+K6866","v":0},""]
[390,null,4219,"други текущи трансфери за домакинствата",0,0,0,0,0,0,0,0,""]
[399,null,4309,"други субсидии и плащания",0,null,null,null,null,null,null,0,""]
[404,4600,"Разходи за членски внос и участие в нетърговски организации и дейности",null,0,0,0,0,0,0,0,0,""]
[404,4900,"Предоставени текущи и капиталови трансфери за чужбина",null,{"$f":"+E6880+E6881","v":0},0,0,{"$f":"+H6880+H6881","v":0},0,0,0,0,""]
[505,null,5201,"придобиване на компютри и хардуер",{"$f":"F6884+G6884+H6884","v":0},0,0,0,0,0,0,{"$f":"I6884+J6884+K6884","v":0},""]
[520,null,5204,"придобиване на транспортни средства",0,0,0,0,0,0,0,0,""]
[635,null,5206,"изграждане на инфраструктурни обекти",0,0,0,0,0,0,0,0,""]
[665,5400,"Придобиване на земя",null,{"$f":"F6894+G6894+H6894","v":0},null,0,0,0,null,0,{"$f":"I6894+J6894+K6894","v":0},""]
[695,null,5503,"капиталови трансфери за организации с нестопанска цел",{"$f":"F6898+G6898+H6898","v":0},null,null,null,null,null,null,{"$f":"I6898+J6898+K6898","v":0},""]
[720,null,5702,"плащания за изкупуване на земеделска продукция",{"$f":"F6902+G6902+H6902","v":0},0,0,0,0,0,0,{"$f":"I6902+J6902+K6902","v":0},""]
[725,null,4071,"постъпления от продажба на държавния резерв (-)",{"$f":"F6903+G6903+H6903","v":0},0,0,0,0,0,0,{"$f":"I6903+J6903+K6903","v":0},""]
[745,null,null,null,null,null,null,null,null,null,null,null,""]
[775,null,null,null,null,null,null,null,null,null,null,null,{"$f":"(IF(E6907<>0,$G$2,IF(L6907<>0,$G$2,\"\")))","v":""}]
[790,{"$f":"$B$7","v":"ОТЧЕТНИ ДАННИ ПО ЕБК ЗА ИЗПЪЛНЕНИЕТО НА БЮДЖЕТА"},null,null,null,null,null,null,null,null,null,null,{"$f":"(IF($E7046<>0,$M$2,IF($L7046<>0,$M$2,\"\")))","v":""}]
[810,{"$f":"$B$10","v":"(наименование на разпоредителя с бюджет)"},null,null,null,null,null,null,null,null,null,null,{"$f":"(IF($E7046<>0,$M$2,IF($L7046<>0,$M$2,\"\")))","v":""}]
[820,{"$f":"$B$13","v":"(наименование на първостепенния разпоредител с бюджет)"},null,null,null,null,null,null,null,null,null,null,{"$f":"(IF($E7046<>0,$M$2,IF($L7046<>0,$M$2,\"\")))","v":""}]
[null,null,null," 02 ¦",{"$f":"$E$21","v":"(1)"},{"$f":"$F$21","v":"(2)"},{"$f":"$G$21","v":"(3)"},{"$f":"$H$21","v":"(4)"},{"$f":"$I$21","v":"(5)"},{"$f":"$J$21","v":"(6)"},{"$f":"$K$21","v":"(7)"},{"$f":"$L$21","v":"(8)"},{"$f":"(IF($E7046<>0,$M$2,IF($L7046<>0,$M$2,\"\")))","v":""}]
[null,null,null,"(наименование на дейността)",null,null,null,null,null,null,null,null,{"$f":"(IF($E7046<>0,$M$2,IF($L7046<>0,$M$2,\"\")))","v":""}]
[null,100,"Заплати и възнаграждения за персонала, нает по трудови и служебни правоотношения",null,{"$f":"SUM(E6932:E6933)","v":0},0,0,{"$f":"SUM(H6932:H6933)","v":0},0,0,0,0,{"$f":"(IF($E6931<>0,$M$2,IF($L6931<>0,$M$2,\"\")))","v":""}]
[null,null,201,"за нещатен персонал нает по трудови правоотношения ",{"$f":"F6935+G6935+H6935","v":0},0,0,0,0,0,0,{"$f":"I6935+J6935+K6935","v":0},""]
[null,null,208,"обезщетения за персонала, с характер на възнаграждение",{"$f":"F6938+G6938+H6938","v":0},0,0,0,0,0,0,{"$f":"I6938+J6938+K6938","v":0},""]
[null,null,560,"здравно-осигурителни вноски от работодатели",0,0,0,0,0,0,0,0,""]
[null,null,588,"коректив на вноски за ДЗПО за сумите по чл. 4б и 4в от КСО за сметка на осигурителя",{"$f":"F6946+G6946+H6946","v":0},0,0,0,0,0,0,{"$f":"I6946+J6946+K6946","v":0},""]
[10,1000,"Издръжка",null,{"$f":"SUM(E6950:E6966)","v":0},0,0,{"$f":"SUM(H6950:H6966)","v":0},0,0,0,0,""]
[50,null,1015,"материали",0,0,0,0,0,0,0,0,""]
[65,null,1030,"Текущ ремонт",0,0,0,0,0,0,0,0,""]
[70,null,1051,"командировки в страната",0,0,0,0,0,0,0,0,""]
[85,null,1063,"такса ангажимент по заеми",0,0,0,0,0,0,0,0,""]
[130,1900,"Платени данъци, такси и административни санкции",null,{"$f":"SUM(E6968:E6970)","v":0},0,0,{"$f":"SUM(H6968:H6970)","v":0},0,0,0,0,""]
[145,null,1991,"платени данъци, такси, наказателни лихви и административни санкции в чужбина",{"$f":"F6970+G6970+H6970","v":0},null,null,null,null,null,null,{"$f":"I6970+J6970+K6970","v":0},""]
[155,null,2110,"лихви по държавни (общински) ценни книжа",{"$f":"F6972+G6972+H6972","v":0},null,null,null,null,null,null,{"$f":"I6972+J6972+K6972","v":0},""]
[190,null,2221,"Разходи за лихви по заеми от банки в страната",{"$f":"F6978+G6978+H6978","v":0},0,0,0,0,0,0,{"$f":"I6978+J6978+K6978","v":0},""]
[205,2600,"Разходи за лихви по заеми от международни организации и институции",null,0,null,null,null,null,null,null,0,""]
[225,null,2910,"Платени лихви по финансов лизинг и търговски кредит",{"$f":"F6985+G6985+H6985","v":0},0,null,null,0,null,null,{"$f":"I6985+J6985+K6985","v":0},""]
[230,null,2920,"Платени лихви по активирани гаранции по заеми от  банки в страната",{"$f":"F6986+G6986+H6986","v":0},null,null,null,null,null,null,{"$f":"I6986+J6986+K6986","v":0},""]
[230,null,2990,"Платени лихви по активирани гаранции по заеми от  банки в страната",{"$f":"F6990+G6990+H6990","v":0},null,null,null,null,null,null,{"$f":"I6990+J6990+K6990","v":0},""]
[245,3300,"Вноска в общия бюджет на Европейския съюз",null,{"$f":"SUM(E6994:E6998)","v":0},0,0,0,0,0,0,0,""]
[320,3900,"Здравно-осигурителни плащания",null,0,0,0,0,0,0,0,0,{"$f":"(IF($E6999<>0,$M$2,IF($L6999<>0,$M$2,\"\")))","v":""}]
[350,4100,"Пенсии",null,0,0,0,0,0,0,0,0,""]
[375,null,4202,"обезщетения и помощи по социалното подпомагане",0,null,null,null,null,null,null,0,""]
[395,4300,"Субсидии и други текущи трансфери за нефинансови предприятия",null,{"$f":"SUM(E7010:E7012)","v":0},0,0,{"$f":"SUM(H7010:H7012)","v":0},0,0,0,0,""]
[400,4400,"Субсидии и други текущи трансфери за финансови институции",null,0,0,0,0,0,0,0,0,""]
[401,4500,"Субсидии и други текущи трансфери за юридически лица с нестопанска цел",null,0,0,0,0,0,0,0,0,""]
[450,null,4902,"капиталови трансфери за чужбина",{"$f":"F7018+G7018+H7018","v":0},null,null,null,null,null,null,{"$f":"I7018+J7018+K7018","v":0},""]
[505,null,5201,"придобиване на компютри и хардуер",{"$f":"F7021+G7021+H7021","v":0},0,0,0,0,0,0,{"$f":"I7021+J7021+K7021","v":0},""]
[640,null,5219,"придобиване на други ДМА",0,0,0,0,0,0,0,0,""]
[650,null,5301,"придобиване на програмни продукти и лицензи за програмни продукти",{"$f":"F7029+G7029+H7029","v":0},0,0,0,0,0,0,{"$f":"I7029+J7029+K7029","v":0},""]
[685,null,5501,"капиталови трансфери за нефинансови предприятия",{"$f":"F7033+G7033+H7033","v":0},0,0,0,0,0,0,{"$f":"I7033+J7033+K7033","v":0},""]
[700,null,5504,"капиталови трансфери за домакинствата",{"$f":"F7036+G7036+H7036","v":0},null,null,null,null,null,null,{"$f":"I7036+J7036+K7036","v":0},""]
[725,null,4071,"постъпления от продажба на държавния резерв (-)",{"$f":"F7040+G7040+H7040","v":0},0,0,0,0,0,0,{"$f":"I7040+J7040+K7040","v":0},""]
[730,null,"Резерв за непредвидени и неотложни разходи",null,null,null,null,null,null,null,null,null,""]
[750,null,null,null,null,null,null,null,null,null,null,null,""]
[780,null,null,null,null,null,null,null,null,null,null,null,{"$f":"(IF($E7183<>0,$M$2,IF($L7183<>0,$M$2,\"\")))","v":""}]
[795,null,null,null,"за периода от ","до",null,"        II.1. РАЗХОДИ ПО ДЕЙНОСТИ",null,null,null,null,{"$f":"(IF($E7183<>0,$M$2,IF($L7183<>0,$M$2,\"\")))","v":""}]
[810,{"$f":"$B$10","v":"(наименование на разпоредителя с бюджет)"},null,null,null,null,null,null,null,null,null,null,{"$f":"(IF($E7183<>0,$M$2,IF($L7183<>0,$M$2,\"\")))","v":""}]
[823,null,null,"II.1. РАЗХОДИ ПО ДЕЙНОСТИ","Уточнен план 2020",null,null,null,"Отчет 2020",null,null,null,{"$f":"(IF($E7183<>0,$M$2,IF($L7183<>0,$M$2,\"\")))","v":""}]
[null,null,{"$f":"VLOOKUP(D7064,OP_LIST2,2,FALSE)","v":{"$error":"#N/A"}},null,null,null,null,null,null,null,null,null,{"$f":"(IF($E7183<>0,$M$2,IF($L7183<>0,$M$2,\"\")))","v":""}]
[null,100,"Заплати и възнаграждения за персонала, нает по трудови и служебни правоотношения",null,{"$f":"SUM(E7069:E7070)","v":0},0,0,{"$f":"SUM(H7069:H7070)","v":0},0,0,0,0,{"$f":"(IF($E7068<>0,$M$2,IF($L7068<>0,$M$2,\"\")))","v":""}]
[null,null,101,"заплати и възнаграждения на персонала нает по трудови правоотношения",{"$f":"F7069+G7069+H7069","v":0},0,0,0,0,0,0,{"$f":"I7069+J7069+K7069","v":0},{"$f":"(IF($E7069<>0,$M$2,IF($L7069<>0,$M$2,\"\")))","v":""}]
[null,null,202,"за персонала по извънтрудови правоотношения",{"$f":"F7073+G7073+H7073","v":0},0,0,0,0,0,0,{"$f":"I7073+J7073+K7073","v":0},""]
[null,500,"Задължителни осигурителни вноски от работодатели",null,{"$f":"SUM(E7078:E7084)","v":0},0,0,{"$f":"SUM(H7078:H7084)","v":0},0,0,0,0,""]
[null,null,580,"вноски за допълнително задължително осигуряване от работодатели",0,0,0,0,0,0,0,0,""]
[null,null,590,"задължителни вноски за чуждестранни пенсионни фондове и  схеми за сметка на осигурителя",0,null,null,null,null,null,null,0,""]
[15,null,1011,"Храна",{"$f":"F7087+G7087+H7087","v":0},0,0,0,0,0,0,{"$f":"I7087+J7087+K7087","v":0},""]
[55,null,1016,"вода, горива и енергия",0,0,0,0,0,0,0,0,""]
[75,null,1052,"краткосрочни командировки в чужбина",0,0,0,0,0,0,0,0,""]
[80,null,1053,"дългосрочни командировки в чужбина",0,0,0,0,0,0,0,0,""]
[90,null,1091,"други разходи за СБКО",0,0,0,0,0,0,0,0,""]
[135,null,1901,"платени държавни данъци, такси, наказателни лихви и административни санкции",{"$f":"F7105+G7105+H7105","v":0},0,0,0,0,0,0,{"$f":"I7105+J7105+K7105","v":0},""]
[150,2100,"Разходи за лихви по емисии на държавни (общински) ценни книжа",null,{"$f":"SUM(E7109:E7113)","v":0},0,0,{"$f":"SUM(H7109:H7113)","v":0},0,0,0,0,""]
[160,null,2120,"отстъпки по държавни (общински) ценни книжа",{"$f":"F7110+G7110+H7110","v":0},null,null,null,null,null,null,{"$f":"I7110+J7110+K7110","v":0},""]
[200,null,2224,"Разходи за лихви по други заеми от страната",0,0,0,0,0,0,0,0,""]
[210,2700,"Разходи за лихви по заеми от банки и други финансови институции от чужбина",null,0,null,null,null,null,null,null,0,""]
[220,2900,"Други разходи за лихви",null,{"$f":"SUM(E7122:E7129)","v":0},{"$f":"SUM(F7122:F7129)","v":0},{"$f":"SUM(G7122:G7129)","v":0},0,0,0,0,0,""]
[245,null,2969,"Платени лихви по активирани гаранции по заеми от международни организации и институции",0,null,null,null,null,null,null,0,""]
[235,null,2991,"Други разходи за лихви към  местни лица",0,null,null,null,null,null,null,0,""]
[265,null,3303,"корекция за Обединеното кралство",0,0,0,0,0,0,0,0,""]
[320,3900,"Здравно-осигурителни плащания",null,0,0,0,0,0,0,0,0,{"$f":"(IF($E7136<>0,$M$2,IF($L7136<>0,$M$2,\"\")))","v":""}]
[350,4100,"Пенсии",null,0,0,0,0,0,0,0,0,""]
[390,null,4218,"текущи трансфери за домакинства по други международни програми и споразумения",0,null,null,null,null,null,null,0,""]
[397,null,4301,"за текуща дейност",{"$f":"F7147+G7147+H7147","v":0},0,0,0,0,0,0,{"$f":"I7147+J7147+K7147","v":0},""]
[401,4500,"Субсидии и други текущи трансфери за юридически лица с нестопанска цел",null,0,0,0,0,0,0,0,0,""]
[404,4600,"Разходи за членски внос и участие в нетърговски организации и дейности",null,0,0,0,0,0,0,0,0,""]
[495,5100,"Основен ремонт на дълготрайни материални активи",null,{"$f":"F7156+G7156+H7156","v":0},0,0,0,0,0,0,{"$f":"I7156+J7156+K7156","v":0},""]
[515,null,5203,"придобиване на друго оборудване, машини и съоръжения",0,0,0,0,0,0,0,0,""]
[645,5300,"Придобиване на нематериални дълготрайни активи",null,{"$f":"SUM(E7166:E7167)","v":0},0,0,{"$f":"SUM(H7166:H7167)","v":0},0,0,0,0,""]
[665,5400,"Придобиване на земя",null,{"$f":"F7168+G7168+H7168","v":0},null,0,0,0,null,0,{"$f":"I7168+J7168+K7168","v":0},""]
[685,null,5501,"капиталови трансфери за нефинансови предприятия",{"$f":"F7170+G7170+H7170","v":0},null,null,null,null,null,null,{"$f":"I7170+J7170+K7170","v":0},""]
[715,null,5701,"плащания за попълване на държавния резерв",{"$f":"F7175+G7175+H7175","v":0},0,0,0,0,0,0,{"$f":"I7175+J7175+K7175","v":0},""]
[735,98,"Резерв за непредвидени и неотложни разходи",null,{"$f":"F7179+G7179+H7179","v":0},null,null,null,0,0,0,{"$f":"I7179+J7179+K7179","v":0},""]
[740,null,null,null,null,null,null,null,null,null,null,null,""]
[755,null,"99-99",{"$f":"+B7183","v":0},{"$f":"SUM(E7068,E7071,E7077,E7085,E7086,E7104,E7108,E7114,E7117,E7118,E7119,E7120,E7121,E7130,E7136,E7137,E7138,E7139,E7146,E7150,E7151,E7152,E7153,E7156,E7157,E7165,E7168,E7169,E7174)+E7179","v":0},0,0,0,0,0,0,0,{"$f":"(IF($E7183<>0,$M$2,IF($L7183<>0,$M$2,\"\")))","v":""},{"$f":"LEFT(C7065,1)","v":"7"}]
[785,null,null,null,null,null,null,null,null,null,null,null,{"$f":"(IF($E7320<>0,$M$2,IF($L7320<>0,$M$2,\"\")))","v":""}]
[805,{"$f":"$B$9","v":"ОУ Г.С.РАКОВСКИ-С.ГЪЛЪБЕЦ"},null,null,{"$f":"$E$9","v":"2020-01-01"},{"$f":"$F$9","v":"2020-03-31"},null,null,null,null,null,null,{"$f":"(IF($E7320<>0,$M$2,IF($L7320<>0,$M$2,\"\")))","v":""}]
[815,null,null,null,null,null,null,null,null,null,null,null,{"$f":"(IF($E7320<>0,$M$2,IF($L7320<>0,$M$2,\"\")))","v":""}]
[825,"§§","под-§§","НАИМЕНОВАНИЯ НА ПАРАГРАФИТЕ И ПОДПАРАГРАФИТЕ",{"$f":"$E$20","v":"Уточнен план                Общо"},{"$f":"$F$20","v":"държавни дейности"},{"$f":"$G$20","v":"местни дейности"},{"$f":"$H$20","v":"дофинансиране"},{"$f":"$I$20","v":"държавни дейности -ОТЧЕТ"},{"$f":"$J$20","v":"местни дейности - ОТЧЕТ"},{"$f":"$K$20","v":"дофинансиране - ОТЧЕТ"},{"$f":"$L$20","v":"ОТЧЕТ                                    ОБЩО"},{"$f":"(IF($E7320<>0,$M$2,IF($L7320<>0,$M$2,\"\")))","v":""}]
[null,null,{"$f":"VLOOKUP(D7203,EBK_DEIN2,2,FALSE)","v":7741},"<------          ДЕЙНОСТ    -  код  по  ЕБК",null,null,null,null,null,null,null,null,{"$f":"(IF($E7320<>0,$M$2,IF($L7320<>0,$M$2,\"\")))","v":""}]
[null,null,null,"(наименование на дейността)",null,null,null,null,null,null,null,null,{"$f":"(IF($E7320<>0,$M$2,IF($L7320<>0,$M$2,\"\")))","v":""}]
[null,null,102,"заплати и възнаграждения на персонала нает по служебни правоотношения",{"$f":"F7207+G7207+H7207","v":0},0,0,0,0,0,0,{"$f":"I7207+J7207+K7207","v":0},""]
[null,null,208,"обезщетения за персонала, с характер на възнаграждение",{"$f":"F7212+G7212+H7212","v":0},0,0,0,0,0,0,{"$f":"I7212+J7212+K7212","v":0},""]
[null,null,552,"осигурителни вноски от работодатели за Учителския пенсионен фонд (УчПФ)",0,0,0,0,0,0,0,0,""]
[null,null,580,"вноски за допълнително задължително осигуряване от работодатели",0,0,0,0,0,0,0,0,""]
[10,1000,"Издръжка",null,{"$f":"SUM(E7224:E7240)","v":0},0,0,{"$f":"SUM(H7224:H7240)","v":0},0,0,0,0,""]
[35,null,1012,"Медикаменти",0,0,0,0,0,0,0,0,""]
[60,null,1020,"разходи за външни услуги",0,0,0,0,0,0,0,0,""]
[80,null,1053,"дългосрочни командировки в чужбина",0,0,0,0,0,0,0,0,""]
[80,null,1062,"разходи за застраховки",0,0,0,0,0,0,0,0,""]
[115,null,1092,"разходи за договорни санкции и неустойки, съдебни обезщетения и разноски",0,0,0,0,0,0,0,0,""]
[140,null,1981,"платени общински данъци, такси, наказателни лихви и административни санкции",{"$f":"F7243+G7243+H7243","v":0},0,0,0,0,0,0,{"$f":"I7243+J7243+K7243","v":0},""]
[165,null,2125,"лихви и отстъпки по целеви емисии на държавни ценни книжа",{"$f":"F7248+G7248+H7248","v":0},0,0,0,0,0,0,{"$f":"I7248+J7248+K7248","v":0},""]
[185,2200,"Разходи за лихви по заеми от страната",null,{"$f":"SUM(E7252:E7253)","v":0},0,0,{"$f":"SUM(H7252:H7253)","v":0},0,0,0,0,""]
[200,null,2224,"Разходи за лихви по други заеми от страната",0,0,0,0,0,0,0,0,""]
[220,2900,"Други разходи за лихви",null,{"$f":"SUM(E7259:E7266)","v":0},{"$f":"SUM(F7259:F7266)","v":0},{"$f":"SUM(G7259:G7266)","v":0},0,0,0,0,0,""]
[225,null,2910,"Платени лихви по финансов лизинг и търговски кредит",{"$f":"F7259+G7259+H7259","v":0},0,null,null,0,null,null,{"$f":"I7259+J7259+K7259","v":0},""]
[220,null,2970,"Платени лихви по активирани гаранции по заеми от банки и финансови институции от чужбина",0,null,null,null,null,null,null,0,""]
[245,3300,"Вноска в общия бюджет на Европейския съюз",null,{"$f":"SUM(E7268:E7272)","v":0},0,0,0,0,0,0,0,""]
[270,null,3304,"традиционни собствени ресурси - мита",0,0,0,0,0,0,0,0,""]
[330,4000,"Стипендии",null,0,0,0,0,0,0,0,0,""]
[355,4200,"Текущи трансфери, обезщетения и помощи за домакинствата",null,{"$f":"SUM(E7277:E7282)","v":0},0,0,{"$f":"SUM(H7277:H7282)","v":0},0,0,0,0,""]
[390,null,4219,"други текущи трансфери за домакинствата",0,0,0,0,0,0,0,0,""]
[398,null,4302,"за осъществяване на болнична помощ ",0,null,null,null,null,null,null,0,""]
[400,4400,"Субсидии и други текущи трансфери за финансови институции",null,0,0,0,0,0,0,0,0,""]
[404,4900,"Предоставени текущи и капиталови трансфери за чужбина",null,{"$f":"+E7291+E7292","v":0},0,0,{"$f":"+H7291+H7292","v":0},0,0,0,0,""]
[505,null,5201,"придобиване на компютри и хардуер",{"$f":"F7295+G7295+H7295","v":0},0,0,0,0,0,0,{"$f":"I7295+J7295+K7295","v":0},""]
[520,null,5204,"придобиване на транспортни средства",0,0,0,0,0,0,0,0,""]
[650,null,5301,"придобиване на програмни продукти и лицензи за програмни продукти",{"$f":"F7303+G7303+H7303","v":0},0,0,0,0,0,0,{"$f":"I7303+J7303+K7303","v":0},""]
[675,5500,"Капиталови трансфери",null,{"$f":"SUM(E7307:E7310)","v":0},0,0,{"$f":"SUM(H7307:H7310)","v":0},0,0,0,0,""]
[690,null,5502,"капиталови трансфери за финансови институции",{"$f":"F7308+G7308+H7308","v":0},null,null,null,null,null,null,{"$f":"I7308+J7308+K7308","v":0},""]
[710,5700,"Прираст на държавния резерв и изкупуване на земеделска продукция (включва и § 40-71)",null,{"$f":"SUM(E7312:E7314)","v":0},0,0,0,0,0,0,{"$f":"SUM(L7312:L7314)","v":0},""]
[740,null,null,null,null,null,null,null,null,null,null,null,""]
[745,null,null,null,null,null,null,null,null,null,null,null,""]
[765,null,null,null,null,null,null,null,null,null,null,null,{"$f":"(IF($E7320<>0,$M$2,IF($L7320<>0,$M$2,\"\")))","v":""}]
[790,{"$f":"$B$7","v":"ОТЧЕТНИ ДАННИ ПО ЕБК ЗА ИЗПЪЛНЕНИЕТО НА БЮДЖЕТА"},null,null,null,null,null,null,null,null,null,null,{"$f":"(IF($E7457<>0,$M$2,IF($L7457<>0,$M$2,\"\")))","v":""}]
[525,{"$f":"$B$12","v":"Поморие"},null,null,"       код по ЕБК:",{"$f":"$F$12","v":"5207"},null,null,null,null,null,null,{"$f":"(IF($E7457<>0,$M$2,IF($L7457<>0,$M$2,\"\")))","v":""}]
[822,null,null,null,null,null,null,null,null,null,null,"(в лева)",{"$f":"(IF($E7457<>0,$M$2,IF($L7457<>0,$M$2,\"\")))","v":""}]
[null,null,null," 02 ¦",{"$f":"$E$21","v":"(1)"},{"$f":"$F$21","v":"(2)"},{"$f":"$G$21","v":"(3)"},{"$f":"$H$21","v":"(4)"},{"$f":"$I$21","v":"(5)"},{"$f":"$J$21","v":"(6)"},{"$f":"$K$21","v":"(7)"},{"$f":"$L$21","v":"(8)"},{"$f":"(IF($E7457<>0,$M$2,IF($L7457<>0,$M$2,\"\")))","v":""}]
[null,null,{"$f":"+C7339","v":7745},"745 Обредни домове и зали",null,null,null,null,null,null,null,null,{"$f":"(IF($E7457<>0,$M$2,IF($L7457<>0,$M$2,\"\")))","v":""}]
[null,100,"Заплати и възнаграждения за персонала, нает по трудови и служебни правоотношения",null,{"$f":"SUM(E7343:E7344)","v":0},0,0,{"$f":"SUM(H7343:H7344)","v":0},0,0,0,0,{"$f":"(IF($E7342<>0,$M$2,IF($L7342<>0,$M$2,\"\")))","v":""}]
[null,200,"Други възнаграждения и плащания за персонала",null,{"$f":"SUM(E7346:E7350)","v":0},0,0,{"$f":"SUM(H7346:H7350)","v":0},0,0,0,0,""]
[null,null,209,"другиплащания и възнаграждения",{"$f":"F7350+G7350+H7350","v":0},0,0,0,0,0,0,{"$f":"I7350+J7350+K7350","v":0},""]
[null,null,558,"вноски по чл. 4б и 4в от КСО за сметка на осигурителя",{"$f":"F7354+G7354+H7354","v":0},0,0,0,0,0,0,{"$f":"I7354+J7354+K7354","v":0},""]
[null,null,590,"задължителни вноски за чуждестранни пенсионни фондове и  схеми за сметка на осигурителя",0,null,null,null,null,null,null,0,""]
[5,800,"Вноски за доброволно осигуряване  ",null,0,null,null,null,null,null,null,0,""]
[50,null,1015,"материали",0,0,0,0,0,0,0,0,""]
[65,null,1030,"Текущ ремонт",0,0,0,0,0,0,0,0,""]
[75,null,1052,"краткосрочни командировки в чужбина",0,0,0,0,0,0,0,0,""]
[85,null,1063,"такса ангажимент по заеми",0,0,0,0,0,0,0,0,""]
[125,null,1098,"други разходи, некласифицирани в другите параграфи и подпараграфи",0,0,0,0,0,0,0,0,""]
[145,null,1991,"платени данъци, такси, наказателни лихви и административни санкции в чужбина",{"$f":"F7381+G7381+H7381","v":0},null,null,null,null,null,null,{"$f":"I7381+J7381+K7381","v":0},""]
[175,null,2140,"лихви по държавни ценни книжа, емитирани за структурната реформа ",{"$f":"F7386+G7386+H7386","v":0},0,0,0,0,0,0,{"$f":"I7386+J7386+K7386","v":0},""]
[190,null,2221,"Разходи за лихви по заеми от банки в страната",{"$f":"F7389+G7389+H7389","v":0},0,0,0,0,0,0,{"$f":"I7389+J7389+K7389","v":0},""]
[200,2500,"Разходи за лихви по заеми от други държави",null,0,null,null,null,null,null,null,0,""]
[215,2800,"Разходи за лихви и отстъпки по облигации, емитирани и търгувани на международните капиталови пазари",null,0,null,null,null,null,null,null,0,""]
[225,null,2989,"Възстановени суми по платени лихви по активирани гаранции (-)",0,null,null,null,null,null,null,0,""]
[235,null,2991,"Други разходи за лихви към  местни лица",0,null,null,null,null,null,null,0,""]
[250,null,3301,"ресурс на база брутен национален доход",{"$f":"F7405+G7405+H7405","v":0},0,0,0,0,0,0,{"$f":"I7405+J7405+K7405","v":0},""]
[290,null,3306,"участие във финансирането на брутното намаление за Нидерландия, Швеция, Дания и Австрия",0,0,0,0,0,0,0,0,""]
[355,4200,"Текущи трансфери, обезщетения и помощи за домакинствата",null,{"$f":"SUM(E7414:E7419)","v":0},0,0,{"$f":"SUM(H7414:H7419)","v":0},0,0,0,0,""]
[355,null,4201,"обезщетения и помощи по социалното осигуряване",{"$f":"F7414+G7414+H7414","v":0},null,null,null,null,null,null,{"$f":"I7414+J7414+K7414","v":0},""]
[395,4300,"Субсидии и други текущи трансфери за нефинансови предприятия",null,{"$f":"SUM(E7421:E7423)","v":0},0,0,{"$f":"SUM(H7421:H7423)","v":0},0,0,0,0,""]
[399,null,4309,"други субсидии и плащания",0,null,null,null,null,null,null,0,""]
[401,4500,"Субсидии и други текущи трансфери за юридически лица с нестопанска цел",null,0,0,0,0,0,0,0,0,""]
[440,null,4901,"текущи трансфери за чужбина",{"$f":"F7428+G7428+H7428","v":0},null,null,null,null,null,null,{"$f":"I7428+J7428+K7428","v":0},""]
[510,null,5202,"придобиване на сгради",0,0,0,0,0,0,0,0,""]
[635,null,5206,"изграждане на инфраструктурни обекти",0,0,0,0,0,0,0,0,""]
[655,null,5309,"придобиване на други нематериални дълготрайни активи",{"$f":"F7441+G7441+H7441","v":0},0,0,0,0,0,0,{"$f":"I7441+J7441+K7441","v":0},""]
[665,5400,"Придобиване на земя",null,{"$f":"F7442+G7442+H7442","v":0},null,0,0,0,null,0,{"$f":"I7442+J7442+K7442","v":0},""]
[710,5700,"Прираст на държавния резерв и изкупуване на земеделска продукция (включва и § 40-71)",null,{"$f":"SUM(E7449:E7451)","v":0},0,0,0,0,0,0,{"$f":"SUM(L7449:L7451)","v":0},""]
[715,null,5701,"плащания за попълване на държавния резерв",{"$f":"F7449+G7449+H7449","v":0},0,0,0,0,0,0,{"$f":"I7449+J7449+K7449","v":0},""]
[745,null,null,null,null,null,null,null,null,null,null,null,""]
[755,null,"99-99",{"$f":"+B7457","v":0},{"$f":"SUM(E7342,E7345,E7351,E7359,E7360,E7378,E7382,E7388,E7391,E7392,E7393,E7394,E7395,E7404,E7410,E7411,E7412,E7413,E7420,E7424,E7425,E7426,E7427,E7430,E7431,E7439,E7442,E7443,E7448)+E7453","v":0},0,0,0,0,0,0,0,{"$f":"(IF($E7457<>0,$M$2,IF($L7457<>0,$M$2,\"\")))","v":""},{"$f":"LEFT(C7339,1)","v":"7"}]
[775,null,null,null,null,null,null,null,null,null,null,null,{"$f":"(IF(E7455<>0,$G$2,IF(L7455<>0,$G$2,\"\")))","v":""}]
[795,null,null,null,"за периода от ","до",null,"        II.1. РАЗХОДИ ПО ДЕЙНОСТИ",null,null,null,null,{"$f":"(IF($E7594<>0,$M$2,IF($L7594<>0,$M$2,\"\")))","v":""}]
[820,{"$f":"$B$13","v":"(наименование на първостепенния разпоредител с бюджет)"},null,null,null,null,null,null,null,null,null,null,{"$f":"(IF($E7594<>0,$M$2,IF($L7594<>0,$M$2,\"\")))","v":""}]
[823,null,null,"II.1. РАЗХОДИ ПО ДЕЙНОСТИ","Уточнен план 2020",null,null,null,"Отчет 2020",null,null,null,{"$f":"(IF($E7594<>0,$M$2,IF($L7594<>0,$M$2,\"\")))","v":""}]
[null,null,null," 02 ¦",{"$f":"$E$21","v":"(1)"},{"$f":"$F$21","v":"(2)"},{"$f":"$G$21","v":"(3)"},{"$f":"$H$21","v":"(4)"},{"$f":"$I$21","v":"(5)"},{"$f":"$J$21","v":"(6)"},{"$f":"$K$21","v":"(7)"},{"$f":"$L$21","v":"(8)"},{"$f":"(IF($E7594<>0,$M$2,IF($L7594<>0,$M$2,\"\")))","v":""}]
[null,null,{"$f":"+C7476","v":7759},"759 Други дейности по културата",null,null,null,null,null,null,null,null,{"$f":"(IF($E7594<>0,$M$2,IF($L7594<>0,$M$2,\"\")))","v":""}]
[null,null,201,"за нещатен персонал нает по трудови правоотношения ",{"$f":"F7483+G7483+H7483","v":0},0,0,0,0,0,0,{"$f":"I7483+J7483+K7483","v":0},""]
[null,null,205,"изплатени суми от СБКО за облекло и други на персонала, с характер на възнаграждение",{"$f":"F7485+G7485+H7485","v":0},0,0,0,0,0,0,{"$f":"I7485+J7485+K7485","v":0},""]
[null,500,"Задължителни осигурителни вноски от работодатели",null,{"$f":"SUM(E7489:E7495)","v":0},0,0,{"$f":"SUM(H7489:H7495)","v":0},0,0,0,0,""]
[null,null,560,"здравно-осигурителни вноски от работодатели",0,0,0,0,0,0,0,0,""]
[5,800,"Вноски за доброволно осигуряване  ",null,0,null,null,null,null,null,null,0,""]
[10,1000,"Издръжка",null,{"$f":"SUM(E7498:E7514)","v":0},0,0,{"$f":"SUM(H7498:H7514)","v":0},0,0,0,0,""]
[45,null,1014,"Учебни и научно-изследователски разходи и книги за библиотеките",0,0,0,0,0,0,0,0,""]
[70,null,1051,"командировки в страната",0,0,0,0,0,0,0,0,""]
[80,null,1053,"дългосрочни командировки в чужбина",0,0,0,0,0,0,0,0,""]
[90,null,1069,"други финансови услуги",0,0,0,0,0,0,0,0,""]
[135,null,1901,"платени държавни данъци, такси, наказателни лихви и административни санкции",{"$f":"F7516+G7516+H7516","v":0},0,0,0,0,0,0,{"$f":"I7516+J7516+K7516","v":0},""]
[155,null,2110,"лихви по държавни (общински) ценни книжа",{"$f":"F7520+G7520+H7520","v":0},null,null,null,null,null,null,{"$f":"I7520+J7520+K7520","v":0},""]
[180,null,2190,"премии над номинала от емисии на държавни (общински) ценни книжа (-)",{"$f":"F7524+G7524+H7524","v":0},null,null,null,null,null,null,{"$f":"I7524+J7524+K7524","v":0},""]
[185,2200,"Разходи за лихви по заеми от страната",null,{"$f":"SUM(E7526:E7527)","v":0},0,0,{"$f":"SUM(H7526:H7527)","v":0},0,0,0,0,""]
[205,2600,"Разходи за лихви по заеми от международни организации и институции",null,0,null,null,null,null,null,null,0,""]
[220,2900,"Други разходи за лихви",null,{"$f":"SUM(E7533:E7540)","v":0},{"$f":"SUM(F7533:F7540)","v":0},{"$f":"SUM(G7533:G7540)","v":0},0,0,0,0,0,""]
[230,null,2990,"Платени лихви по активирани гаранции по заеми от  банки в страната",{"$f":"F7538+G7538+H7538","v":0},null,null,null,null,null,null,{"$f":"I7538+J7538+K7538","v":0},""]
[240,null,2992,"Други разходи за лихви към чуждестранни лица",0,null,null,null,null,null,null,0,""]
[255,null,3302,"ресурс на база данък върху добавената стойност",0,0,0,0,0,0,0,0,""]
[330,4000,"Стипендии",null,0,0,0,0,0,0,0,0,""]
[375,null,4202,"обезщетения и помощи по социалното подпомагане",0,null,null,null,null,null,null,0,""]
[390,null,4218,"текущи трансфери за домакинства по други международни програми и споразумения",0,null,null,null,null,null,null,0,""]
[395,4300,"Субсидии и други текущи трансфери за нефинансови предприятия",null,{"$f":"SUM(E7558:E7560)","v":0},0,0,{"$f":"SUM(H7558:H7560)","v":0},0,0,0,0,""]
[399,null,4309,"други субсидии и плащания",0,null,null,null,null,null,null,0,""]
[450,null,4902,"капиталови трансфери за чужбина",{"$f":"F7566+G7566+H7566","v":0},null,null,null,null,null,null,{"$f":"I7566+J7566+K7566","v":0},""]
[500,5200,"Придобиване на дълготрайни материални активи",null,{"$f":"SUM(E7569:E7575)","v":0},0,0,{"$f":"SUM(H7569:H7575)","v":0},0,0,0,0,""]
[515,null,5203,"придобиване на друго оборудване, машини и съоръжения",0,0,0,0,0,0,0,0,""]
[640,null,5219,"придобиване на други ДМА",0,0,0,0,0,0,0,0,""]
[665,5400,"Придобиване на земя",null,{"$f":"F7579+G7579+H7579","v":0},null,0,0,0,null,0,{"$f":"I7579+J7579+K7579","v":0},""]
[675,5500,"Капиталови трансфери",null,{"$f":"SUM(E7581:E7584)","v":0},0,0,{"$f":"SUM(H7581:H7584)","v":0},0,0,0,0,""]
[700,null,5504,"капиталови трансфери за домакинствата",{"$f":"F7584+G7584+H7584","v":0},null,null,null,null,null,null,{"$f":"I7584+J7584+K7584","v":0},""]
[730,null,"Резерв за непредвидени и неотложни разходи",null,null,null,null,null,null,null,null,null,""]
[745,null,null,null,null,null,null,null,null,null,null,null,""]
[755,null,"99-99",{"$f":"+B7594","v":0},{"$f":"SUM(E7479,E7482,E7488,E7496,E7497,E7515,E7519,E7525,E7528,E7529,E7530,E7531,E7532,E7541,E7547,E7548,E7549,E7550,E7557,E7561,E7562,E7563,E7564,E7567,E7568,E7576,E7579,E7580,E7585)+E7590","v":0},0,0,0,0,0,0,0,{"$f":"(IF($E7594<>0,$M$2,IF($L7594<>0,$M$2,\"\")))","v":""},{"$f":"LEFT(C7476,1)","v":"7"}]
[785,null,null,null,null,null,null,null,null,null,null,null,{"$f":"(IF($E7731<>0,$M$2,IF($L7731<>0,$M$2,\"\")))","v":""}]
[810,{"$f":"$B$10","v":"(наименование на разпоредителя с бюджет)"},null,null,null,null,null,null,null,null,null,null,{"$f":"(IF($E7731<>0,$M$2,IF($L7731<>0,$M$2,\"\")))","v":""}]
[821,null,null,"ФИНАНСОВО-ПРАВНА ФОРМА",{"$f":"$E$15","v":0},{"$f":"$F$15","v":"БЮДЖЕТ"},null,null,null,null,null,null,{"$f":"(IF($E7731<>0,$M$2,IF($L7731<>0,$M$2,\"\")))","v":""}]
[825,"§§","под-§§","НАИМЕНОВАНИЯ НА ПАРАГРАФИТЕ И ПОДПАРАГРАФИТЕ",{"$f":"$E$20","v":"Уточнен план                Общо"},{"$f":"$F$20","v":"държавни дейности"},{"$f":"$G$20","v":"местни дейности"},{"$f":"$H$20","v":"дофинансиране"},{"$f":"$I$20","v":"държавни дейности -ОТЧЕТ"},{"$f":"$J$20","v":"местни дейности - ОТЧЕТ"},{"$f":"$K$20","v":"дофинансиране - ОТЧЕТ"},{"$f":"$L$20","v":"ОТЧЕТ                                    ОБЩО"},{"$f":"(IF($E7731<>0,$M$2,IF($L7731<>0,$M$2,\"\")))","v":""}]
[null,null,{"$f":"VLOOKUP(D7612,OP_LIST2,2,FALSE)","v":{"$error":"#N/A"}},null,null,null,null,null,null,null,null,null,{"$f":"(IF($E7731<>0,$M$2,IF($L7731<>0,$M$2,\"\")))","v":""}]
[null,null,null,"(наименование на дейността)",null,null,null,null,null,null,null,null,{"$f":"(IF($E7731<>0,$M$2,IF($L7731<>0,$M$2,\"\")))","v":""}]
[null,null,202,"за персонала по извънтрудови правоотношения",{"$f":"F7621+G7621+H7621","v":0},0,0,0,0,0,0,{"$f":"I7621+J7621+K7621","v":0},""]
[null,null,208,"обезщетения за персонала, с характер на възнаграждение",{"$f":"F7623+G7623+H7623","v":0},0,0,0,0,0,0,{"$f":"I7623+J7623+K7623","v":0},""]
[null,null,551,"осигурителни вноски от работодатели за Държавното обществено осигуряване (ДОО)",{"$f":"F7626+G7626+H7626","v":0},0,0,0,0,0,0,{"$f":"I7626+J7626+K7626","v":0},""]
[null,null,588,"коректив на вноски за ДЗПО за сумите по чл. 4б и 4в от КСО за сметка на осигурителя",{"$f":"F7631+G7631+H7631","v":0},0,0,0,0,0,0,{"$f":"I7631+J7631+K7631","v":0},""]
[15,null,1011,"Храна",{"$f":"F7635+G7635+H7635","v":0},0,0,0,0,0,0,{"$f":"I7635+J7635+K7635","v":0},""]
[45,null,1014,"Учебни и научно-изследователски разходи и книги за библиотеките",0,0,0,0,0,0,0,0,""]
[55,null,1016,"вода, горива и енергия",0,0,0,0,0,0,0,0,""]
[70,null,1051,"командировки в страната",0,0,0,0,0,0,0,0,""]
[85,null,1063,"такса ангажимент по заеми",0,0,0,0,0,0,0,0,""]
[90,null,1091,"други разходи за СБКО",0,0,0,0,0,0,0,0,""]
[140,null,1981,"платени общински данъци, такси, наказателни лихви и административни санкции",{"$f":"F7654+G7654+H7654","v":0},0,0,0,0,0,0,{"$f":"I7654+J7654+K7654","v":0},""]
[160,null,2120,"отстъпки по държавни (общински) ценни книжа",{"$f":"F7658+G7658+H7658","v":0},null,null,null,null,null,null,{"$f":"I7658+J7658+K7658","v":0},""]
[185,2200,"Разходи за лихви по заеми от страната",null,{"$f":"SUM(E7663:E7664)","v":0},0,0,{"$f":"SUM(H7663:H7664)","v":0},0,0,0,0,""]
[190,null,2221,"Разходи за лихви по заеми от банки в страната",{"$f":"F7663+G7663+H7663","v":0},0,0,0,0,0,0,{"$f":"I7663+J7663+K7663","v":0},""]
[210,2700,"Разходи за лихви по заеми от банки и други финансови институции от чужбина",null,0,null,null,null,null,null,null,0,""]
[245,null,2969,"Платени лихви по активирани гаранции по заеми от международни организации и институции",0,null,null,null,null,null,null,0,""]
[230,null,2990,"Платени лихви по активирани гаранции по заеми от  банки в страната",{"$f":"F7675+G7675+H7675","v":0},null,null,null,null,null,null,{"$f":"I7675+J7675+K7675","v":0},""]
[240,null,2992,"Други разходи за лихви към чуждестранни лица",0,null,null,null,null,null,null,0,""]
[270,null,3304,"традиционни собствени ресурси - мита",0,0,0,0,0,0,0,0,""]
[350,4100,"Пенсии",null,0,0,0,0,0,0,0,0,""]
[380,null,4214,"обезщетения и помощи по решение на общинския съвет",0,0,0,0,0,0,0,0,""]
[385,null,4217,"текущи трансфери за домакинства от средства на Европейския съюз",0,null,null,null,null,null,null,0,""]
[397,null,4301,"за текуща дейност",{"$f":"F7695+G7695+H7695","v":0},0,0,0,0,0,0,{"$f":"I7695+J7695+K7695","v":0},""]
[400,4400,"Субсидии и други текущи трансфери за финансови институции",null,0,0,0,0,0,0,0,0,""]
[495,5100,"Основен ремонт на дълготрайни материални активи",null,{"$f":"F7704+G7704+H7704","v":0},0,0,0,0,0,0,{"$f":"I7704+J7704+K7704","v":0},""]
[505,null,5201,"придобиване на компютри и хардуер",{"$f":"F7706+G7706+H7706","v":0},0,0,0,0,0,0,{"$f":"I7706+J7706+K7706","v":0},""]
[520,null,5204,"придобиване на транспортни средства",0,0,0,0,0,0,0,0,""]
[650,null,5301,"придобиване на програмни продукти и лицензи за програмни продукти",{"$f":"F7714+G7714+H7714","v":0},0,0,0,0,0,0,{"$f":"I7714+J7714+K7714","v":0},""]
[685,null,5501,"капиталови трансфери за нефинансови предприятия",{"$f":"F7718+G7718+H7718","v":0},null,null,null,null,null,null,{"$f":"I7718+J7718+K7718","v":0},""]
[690,null,5502,"капиталови трансфери за финансови институции",{"$f":"F7719+G7719+H7719","v":0},null,null,null,null,null,null,{"$f":"I7719+J7719+K7719","v":0},""]
[710,5700,"Прираст на държавния резерв и изкупуване на земеделска продукция (включва и § 40-71)",null,{"$f":"SUM(E7723:E7725)","v":0},0,0,0,0,0,0,{"$f":"SUM(L7723:L7725)","v":0},""]
[735,98,"Резерв за непредвидени и неотложни разходи",null,{"$f":"F7727+G7727+H7727","v":0},null,null,null,0,0,0,{"$f":"I7727+J7727+K7727","v":0},""]
[750,null,null,null,null,null,null,null,null,null,null,null,""]
[760,"край на дейност",null,null,null,null,null,null,null,null,null,null,{"$f":"(IF($E7731<>0,$M$2,IF($L7731<>0,$M$2,\"\")))","v":""}]
[795,null,null,null,"за периода от ","до",null,"        II.1. РАЗХОДИ ПО ДЕЙНОСТИ",null,null,null,null,{"$f":"(IF($E7868<>0,$M$2,IF($L7868<>0,$M$2,\"\")))","v":""}]
[815,null,null,null,null,null,null,null,null,null,null,null,{"$f":"(IF($E7868<>0,$M$2,IF($L7868<>0,$M$2,\"\")))","v":""}]
[822,null,null,null,null,null,null,null,null,null,null,"(в лева)",{"$f":"(IF($E7868<>0,$M$2,IF($L7868<>0,$M$2,\"\")))","v":""}]
[823,null,null,"II.1. РАЗХОДИ ПО ДЕЙНОСТИ","Уточнен план 2020",null,null,null,"Отчет 2020",null,null,null,{"$f":"(IF($E7868<>0,$M$2,IF($L7868<>0,$M$2,\"\")))","v":""}]
[null,null,{"$f":"VLOOKUP(D7751,EBK_DEIN2,2,FALSE)","v":8829},"<------          ДЕЙНОСТ    -  код  по  ЕБК",null,null,null,null,null,null,null,null,{"$f":"(IF($E7868<>0,$M$2,IF($L7868<>0,$M$2,\"\")))","v":""}]
[null,null,102,"заплати и възнаграждения на персонала нает по служебни правоотношения",{"$f":"F7755+G7755+H7755","v":0},0,0,0,0,0,0,{"$f":"I7755+J7755+K7755","v":0},""]
[null,null,202,"за персонала по извънтрудови правоотношения",{"$f":"F7758+G7758+H7758","v":0},0,0,0,0,0,0,{"$f":"I7758+J7758+K7758","v":0},""]
[null,null,209,"другиплащания и възнаграждения",{"$f":"F7761+G7761+H7761","v":0},0,0,0,0,0,0,{"$f":"I7761+J7761+K7761","v":0},""]
[null,null,552,"осигурителни вноски от работодатели за Учителския пенсионен фонд (УчПФ)",0,0,0,0,0,0,0,0,""]
[null,null,590,"задължителни вноски за чуждестранни пенсионни фондове и  схеми за сметка на осигурителя",0,null,null,null,null,null,null,0,""]
[35,null,1012,"Медикаменти",0,0,0,0,0,0,0,0,""]
[40,null,1013,"Постелен инвентар и облекло",0,0,0,0,0,0,0,0,""]
[60,null,1020,"разходи за външни услуги",0,0,0,0,0,0,0,0,""]
[80,null,1053,"дългосрочни командировки в чужбина",0,0,0,0,0,0,0,0,""]
[115,null,1092,"разходи за договорни санкции и неустойки, съдебни обезщетения и разноски",0,0,0,0,0,0,0,0,""]
[130,1900,"Платени данъци, такси и административни санкции",null,{"$f":"SUM(E7790:E7792)","v":0},0,0,{"$f":"SUM(H7790:H7792)","v":0},0,0,0,0,""]
[145,null,1991,"платени данъци, такси, наказателни лихви и административни санкции в чужбина",{"$f":"F7792+G7792+H7792","v":0},null,null,null,null,null,null,{"$f":"I7792+J7792+K7792","v":0},""]
[175,null,2140,"лихви по държавни ценни книжа, емитирани за структурната реформа ",{"$f":"F7797+G7797+H7797","v":0},0,0,0,0,0,0,{"$f":"I7797+J7797+K7797","v":0},""]
[190,null,2221,"Разходи за лихви по заеми от банки в страната",{"$f":"F7800+G7800+H7800","v":0},0,0,0,0,0,0,{"$f":"I7800+J7800+K7800","v":0},""]
[200,null,2224,"Разходи за лихви по други заеми от страната",0,0,0,0,0,0,0,0,""]
[215,2800,"Разходи за лихви и отстъпки по облигации, емитирани и търгувани на международните капиталови пазари",null,0,null,null,null,null,null,null,0,""]
[220,null,2970,"Платени лихви по активирани гаранции по заеми от банки и финансови институции от чужбина",0,null,null,null,null,null,null,0,""]
[235,null,2991,"Други разходи за лихви към  местни лица",0,null,null,null,null,null,null,0,""]
[245,3300,"Вноска в общия бюджет на Европейския съюз",null,{"$f":"SUM(E7816:E7820)","v":0},0,0,0,0,0,0,0,""]
[320,3900,"Здравно-осигурителни плащания",null,0,0,0,0,0,0,0,0,{"$f":"(IF($E7821<>0,$M$2,IF($L7821<>0,$M$2,\"\")))","v":""}]
[355,4200,"Текущи трансфери, обезщетения и помощи за домакинствата",null,{"$f":"SUM(E7825:E7830)","v":0},0,0,{"$f":"SUM(H7825:H7830)","v":0},0,0,0,0,""]
[385,null,4217,"текущи трансфери за домакинства от средства на Европейския съюз",0,null,null,null,null,null,null,0,""]
[390,null,4218,"текущи трансфери за домакинства по други международни програми и споразумения",0,null,null,null,null,null,null,0,""]
[398,null,4302,"за осъществяване на болнична помощ ",0,null,null,null,null,null,null,0,""]
[404,4600,"Разходи за членски внос и участие в нетърговски организации и дейности",null,0,0,0,0,0,0,0,0,""]
[500,5200,"Придобиване на дълготрайни материални активи",null,{"$f":"SUM(E7843:E7849)","v":0},0,0,{"$f":"SUM(H7843:H7849)","v":0},0,0,0,0,""]
[510,null,5202,"придобиване на сгради",0,0,0,0,0,0,0,0,""]
[525,null,5205,"придобиване на стопански инвентар",0,0,0,0,0,0,0,0,""]
[655,null,5309,"придобиване на други нематериални дълготрайни активи",{"$f":"F7852+G7852+H7852","v":0},0,0,0,0,0,0,{"$f":"I7852+J7852+K7852","v":0},""]
[690,null,5502,"капиталови трансфери за финансови институции",{"$f":"F7856+G7856+H7856","v":0},null,null,null,null,null,null,{"$f":"I7856+J7856+K7856","v":0},""]
[695,null,5503,"капиталови трансфери за организации с нестопанска цел",{"$f":"F7857+G7857+H7857","v":0},null,null,null,null,null,null,{"$f":"I7857+J7857+K7857","v":0},""]
[720,null,5702,"плащания за изкупуване на земеделска продукция",{"$f":"F7861+G7861+H7861","v":0},0,0,0,0,0,0,{"$f":"I7861+J7861+K7861","v":0},""]
[740,null,null,null,null,null,null,null,null,null,null,null,""]
[765,null,null,null,null,null,null,null,null,null,null,null,{"$f":"(IF($E7868<>0,$M$2,IF($L7868<>0,$M$2,\"\")))","v":""}]
[780,null,null,null,null,null,null,null,null,null,null,null,{"$f":"(IF($E8005<>0,$M$2,IF($L8005<>0,$M$2,\"\")))","v":""}]
[805,{"$f":"$B$9","v":"ОУ Г.С.РАКОВСКИ-С.ГЪЛЪБЕЦ"},null,null,{"$f":"$E$9","v":"2020-01-01"},{"$f":"$F$9","v":"2020-03-31"},null,null,null,null,null,null,{"$f":"(IF($E8005<>0,$M$2,IF($L8005<>0,$M$2,\"\")))","v":""}]
[525,{"$f":"$B$12","v":"Поморие"},null,null,"       код по ЕБК:",{"$f":"$F$12","v":"5207"},null,null,null,null,null,null,{"$f":"(IF($E8005<>0,$M$2,IF($L8005<>0,$M$2,\"\")))","v":""}]
[821,null,null,"ФИНАНСОВО-ПРАВНА ФОРМА",{"$f":"$E$15","v":0},{"$f":"$F$15","v":"БЮДЖЕТ"},null,null,null,null,null,null,{"$f":"(IF($E8005<>0,$M$2,IF($L8005<>0,$M$2,\"\")))","v":""}]
[825,"§§","под-§§","НАИМЕНОВАНИЯ НА ПАРАГРАФИТЕ И ПОДПАРАГРАФИТЕ",{"$f":"$E$20","v":"Уточнен план                Общо"},{"$f":"$F$20","v":"държавни дейности"},{"$f":"$G$20","v":"местни дейности"},{"$f":"$H$20","v":"дофинансиране"},{"$f":"$I$20","v":"държавни дейности -ОТЧЕТ"},{"$f":"$J$20","v":"местни дейности - ОТЧЕТ"},{"$f":"$K$20","v":"дофинансиране - ОТЧЕТ"},{"$f":"$L$20","v":"ОТЧЕТ                                    ОБЩО"},{"$f":"(IF($E8005<>0,$M$2,IF($L8005<>0,$M$2,\"\")))","v":""}]
[null,null,{"$f":"+C7887","v":8831},"831 Управление,контрол и регулиране на дейностите по транспорта и пътищата",null,null,null,null,null,null,null,null,{"$f":"(IF($E8005<>0,$M$2,IF($L8005<>0,$M$2,\"\")))","v":""}]
[null,200,"Други възнаграждения и плащания за персонала",null,{"$f":"SUM(E7894:E7898)","v":0},0,0,{"$f":"SUM(H7894:H7898)","v":0},0,0,0,0,""]
[null,null,205,"изплатени суми от СБКО за облекло и други на персонала, с характер на възнаграждение",{"$f":"F7896+G7896+H7896","v":0},0,0,0,0,0,0,{"$f":"I7896+J7896+K7896","v":0},""]
[null,null,209,"другиплащания и възнаграждения",{"$f":"F7898+G7898+H7898","v":0},0,0,0,0,0,0,{"$f":"I7898+J7898+K7898","v":0},""]
[null,null,580,"вноски за допълнително задължително осигуряване от работодатели",0,0,0,0,0,0,0,0,""]
[5,800,"Вноски за доброволно осигуряване  ",null,0,null,null,null,null,null,null,0,""]
[15,null,1011,"Храна",{"$f":"F7909+G7909+H7909","v":0},0,0,0,0,0,0,{"$f":"I7909+J7909+K7909","v":0},""]
[45,null,1014,"Учебни и научно-изследователски разходи и книги за библиотеките",0,0,0,0,0,0,0,0,""]
[65,null,1030,"Текущ ремонт",0,0,0,0,0,0,0,0,""]
[80,null,1062,"разходи за застраховки",0,0,0,0,0,0,0,0,""]
[125,null,1098,"други разходи, некласифицирани в другите параграфи и подпараграфи",0,0,0,0,0,0,0,0,""]
[140,null,1981,"платени общински данъци, такси, наказателни лихви и административни санкции",{"$f":"F7928+G7928+H7928","v":0},0,0,0,0,0,0,{"$f":"I7928+J7928+K7928","v":0},""]
[150,2100,"Разходи за лихви по емисии на държавни (общински) ценни книжа",null,{"$f":"SUM(E7931:E7935)","v":0},0,0,{"$f":"SUM(H7931:H7935)","v":0},0,0,0,0,""]
[180,null,2190,"премии над номинала от емисии на държавни (общински) ценни книжа (-)",{"$f":"F7935+G7935+H7935","v":0},null,null,null,null,null,null,{"$f":"I7935+J7935+K7935","v":0},""]
[200,2500,"Разходи за лихви по заеми от други държави",null,0,null,null,null,null,null,null,0,""]
[205,2600,"Разходи за лихви по заеми от международни организации и институции",null,0,null,null,null,null,null,null,0,""]
[225,null,2910,"Платени лихви по финансов лизинг и търговски кредит",{"$f":"F7944+G7944+H7944","v":0},0,null,null,0,null,null,{"$f":"I7944+J7944+K7944","v":0},""]
[225,null,2989,"Възстановени суми по платени лихви по активирани гаранции (-)",0,null,null,null,null,null,null,0,""]
[240,null,2992,"Други разходи за лихви към чуждестранни лица",0,null,null,null,null,null,null,0,""]
[250,null,3301,"ресурс на база брутен национален доход",{"$f":"F7953+G7953+H7953","v":0},0,0,0,0,0,0,{"$f":"I7953+J7953+K7953","v":0},""]
[330,4000,"Стипендии",null,0,0,0,0,0,0,0,0,""]
[355,null,4201,"обезщетения и помощи по социалното осигуряване",{"$f":"F7962+G7962+H7962","v":0},null,null,null,null,null,null,{"$f":"I7962+J7962+K7962","v":0},""]
[380,null,4214,"обезщетения и помощи по решение на общинския съвет",0,0,0,0,0,0,0,0,""]
[390,null,4219,"други текущи трансфери за домакинствата",0,0,0,0,0,0,0,0,""]
[400,4400,"Субсидии и други текущи трансфери за финансови институции",null,0,0,0,0,0,0,0,0,""]
[440,null,4901,"текущи трансфери за чужбина",{"$f":"F7976+G7976+H7976","v":0},null,null,null,null,null,null,{"$f":"I7976+J7976+K7976","v":0},""]
[500,5200,"Придобиване на дълготрайни материални активи",null,{"$f":"SUM(E7980:E7986)","v":0},0,0,{"$f":"SUM(H7980:H7986)","v":0},0,0,0,0,""]
[510,null,5202,"придобиване на сгради",0,0,0,0,0,0,0,0,""]
[645,5300,"Придобиване на нематериални дълготрайни активи",null,{"$f":"SUM(E7988:E7989)","v":0},0,0,{"$f":"SUM(H7988:H7989)","v":0},0,0,0,0,""]
[665,5400,"Придобиване на земя",null,{"$f":"F7990+G7990+H7990","v":0},null,0,0,0,null,0,{"$f":"I7990+J7990+K7990","v":0},""]
[695,null,5503,"капиталови трансфери за организации с нестопанска цел",{"$f":"F7994+G7994+H7994","v":0},null,null,null,null,null,null,{"$f":"I7994+J7994+K7994","v":0},""]
[700,null,5504,"капиталови трансфери за домакинствата",{"$f":"F7995+G7995+H7995","v":0},null,null,null,null,null,null,{"$f":"I7995+J7995+K7995","v":0},""]
[725,null,4071,"постъпления от продажба на държавния резерв (-)",{"$f":"F7999+G7999+H7999","v":0},0,0,0,0,0,0,{"$f":"I7999+J7999+K7999","v":0},""]
[745,null,null,null,null,null,null,null,null,null,null,null,""]
[775,null,null,null,null,null,null,null,null,null,null,null,{"$f":"(IF(E8003<>0,$G$2,IF(L8003<>0,$G$2,\"\")))","v":""}]
[790,{"$f":"$B$7","v":"ОТЧЕТНИ ДАННИ ПО ЕБК ЗА ИЗПЪЛНЕНИЕТО НА БЮДЖЕТА"},null,null,null,null,null,null,null,null,null,null,{"$f":"(IF($E8142<>0,$M$2,IF($L8142<>0,$M$2,\"\")))","v":""}]
[805,{"$f":"$B$9","v":"ОУ Г.С.РАКОВСКИ-С.ГЪЛЪБЕЦ"},null,null,{"$f":"$E$9","v":"2020-01-01"},{"$f":"$F$9","v":"2020-03-31"},null,null,null,null,null,null,{"$f":"(IF($E8142<>0,$M$2,IF($L8142<>0,$M$2,\"\")))","v":""}]
[525,{"$f":"$B$12","v":"Поморие"},null,null,"       код по ЕБК:",{"$f":"$F$12","v":"5207"},null,null,null,null,null,null,{"$f":"(IF($E8142<>0,$M$2,IF($L8142<>0,$M$2,\"\")))","v":""}]
[null,null,null," 02 ¦",{"$f":"$E$21","v":"(1)"},{"$f":"$F$21","v":"(2)"},{"$f":"$G$21","v":"(3)"},{"$f":"$H$21","v":"(4)"},{"$f":"$I$21","v":"(5)"},{"$f":"$J$21","v":"(6)"},{"$f":"$K$21","v":"(7)"},{"$f":"$L$21","v":"(8)"},{"$f":"(IF($E8142<>0,$M$2,IF($L8142<>0,$M$2,\"\")))","v":""}]
[null,null,{"$f":"VLOOKUP(D8023,OP_LIST2,2,FALSE)","v":{"$error":"#N/A"}},null,null,null,null,null,null,null,null,null,{"$f":"(IF($E8142<>0,$M$2,IF($L8142<>0,$M$2,\"\")))","v":""}]
[null,100,"Заплати и възнаграждения за персонала, нает по трудови и служебни правоотношения",null,{"$f":"SUM(E8028:E8029)","v":0},0,0,{"$f":"SUM(H8028:H8029)","v":0},0,0,0,0,{"$f":"(IF($E8027<>0,$M$2,IF($L8027<>0,$M$2,\"\")))","v":""}]
[null,null,201,"за нещатен персонал нает по трудови правоотношения ",{"$f":"F8031+G8031+H8031","v":0},0,0,0,0,0,0,{"$f":"I8031+J8031+K8031","v":0},""]
[null,null,208,"обезщетения за персонала, с характер на възнаграждение",{"$f":"F8034+G8034+H8034","v":0},0,0,0,0,0,0,{"$f":"I8034+J8034+K8034","v":0},""]
[null,500,"Задължителни осигурителни вноски от работодатели",null,{"$f":"SUM(E8037:E8043)","v":0},0,0,{"$f":"SUM(H8037:H8043)","v":0},0,0,0,0,""]
[null,null,588,"коректив на вноски за ДЗПО за сумите по чл. 4б и 4в от КСО за сметка на осигурителя",{"$f":"F8042+G8042+H8042","v":0},0,0,0,0,0,0,{"$f":"I8042+J8042+K8042","v":0},""]
[10,1000,"Издръжка",null,{"$f":"SUM(E8046:E8062)","v":0},0,0,{"$f":"SUM(H8046:H8062)","v":0},0,0,0,0,""]
[35,null,1012,"Медикаменти",0,0,0,0,0,0,0,0,""]
[50,null,1015,"материали",0,0,0,0,0,0,0,0,""]
[75,null,1052,"краткосрочни командировки в чужбина",0,0,0,0,0,0,0,0,""]
[90,null,1069,"други финансови услуги",0,0,0,0,0,0,0,0,""]
[125,null,1098,"други разходи, некласифицирани в другите параграфи и подпараграфи",0,0,0,0,0,0,0,0,""]
[145,null,1991,"платени данъци, такси, наказателни лихви и административни санкции в чужбина",{"$f":"F8066+G8066+H8066","v":0},null,null,null,null,null,null,{"$f":"I8066+J8066+K8066","v":0},""]
[155,null,2110,"лихви по държавни (общински) ценни книжа",{"$f":"F8068+G8068+H8068","v":0},null,null,null,null,null,null,{"$f":"I8068+J8068+K8068","v":0},""]
[175,null,2140,"лихви по държавни ценни книжа, емитирани за структурната реформа ",{"$f":"F8071+G8071+H8071","v":0},0,0,0,0,0,0,{"$f":"I8071+J8071+K8071","v":0},""]
[205,2600,"Разходи за лихви по заеми от международни организации и институции",null,0,null,null,null,null,null,null,0,""]
[210,2700,"Разходи за лихви по заеми от банки и други финансови институции от чужбина",null,0,null,null,null,null,null,null,0,""]
[230,null,2920,"Платени лихви по активирани гаранции по заеми от  банки в страната",{"$f":"F8082+G8082+H8082","v":0},null,null,null,null,null,null,{"$f":"I8082+J8082+K8082","v":0},""]
[230,null,2990,"Платени лихви по активирани гаранции по заеми от  банки в страната",{"$f":"F8086+G8086+H8086","v":0},null,null,null,null,null,null,{"$f":"I8086+J8086+K8086","v":0},""]
[255,null,3302,"ресурс на база данък върху добавената стойност",0,0,0,0,0,0,0,0,""]
[290,null,3306,"участие във финансирането на брутното намаление за Нидерландия, Швеция, Дания и Австрия",0,0,0,0,0,0,0,0,""]
[330,4000,"Стипендии",null,0,0,0,0,0,0,0,0,""]
[355,null,4201,"обезщетения и помощи по социалното осигуряване",{"$f":"F8099+G8099+H8099","v":0},null,null,null,null,null,null,{"$f":"I8099+J8099+K8099","v":0},""]
[385,null,4217,"текущи трансфери за домакинства от средства на Европейския съюз",0,null,null,null,null,null,null,0,""]
[395,4300,"Субсидии и други текущи трансфери за нефинансови предприятия",null,{"$f":"SUM(E8106:E8108)","v":0},0,0,{"$f":"SUM(H8106:H8108)","v":0},0,0,0,0,""]
[401,4500,"Субсидии и други текущи трансфери за юридически лица с нестопанска цел",null,0,0,0,0,0,0,0,0,""]
[450,null,4902,"капиталови трансфери за чужбина",{"$f":"F8114+G8114+H8114","v":0},null,null,null,null,null,null,{"$f":"I8114+J8114+K8114","v":0},""]
[510,null,5202,"придобиване на сгради",0,0,0,0,0,0,0,0,""]
[515,null,5203,"придобиване на друго оборудване, машини и съоръжения",0,0,0,0,0,0,0,0,""]
[650,null,5301,"придобиване на програмни продукти и лицензи за програмни продукти",{"$f":"F8125+G8125+H8125","v":0},0,0,0,0,0,0,{"$f":"I8125+J8125+K8125","v":0},""]
[675,5500,"Капиталови трансфери",null,{"$f":"SUM(E8129:E8132)","v":0},0,0,{"$f":"SUM(H8129:H8132)","v":0},0,0,0,0,""]
[690,null,5502,"капиталови трансфери за финансови институции",{"$f":"F8130+G8130+H8130","v":0},null,null,null,null,null,null,{"$f":"I8130+J8130+K8130","v":0},""]
[710,5700,"Прираст на държавния резерв и изкупуване на земеделска продукция (включва и § 40-71)",null,{"$f":"SUM(E8134:E8136)","v":0},0,0,0,0,0,0,{"$f":"SUM(L8134:L8136)","v":0},""]
[735,98,"Резерв за непредвидени и неотложни разходи",null,{"$f":"F8138+G8138+H8138","v":0},null,null,null,0,0,0,{"$f":"I8138+J8138+K8138","v":0},""]
[750,null,null,null,null,null,null,null,null,null,null,null,""]
[780,null,null,null,null,null,null,null,null,null,null,null,{"$f":"(IF($E8279<>0,$M$2,IF($L8279<>0,$M$2,\"\")))","v":""}]
[795,null,null,null,"за периода от ","до",null,"        II.1. РАЗХОДИ ПО ДЕЙНОСТИ",null,null,null,null,{"$f":"(IF($E8279<>0,$M$2,IF($L8279<>0,$M$2,\"\")))","v":""}]
[810,{"$f":"$B$10","v":"(наименование на разпоредителя с бюджет)"},null,null,null,null,null,null,null,null,null,null,{"$f":"(IF($E8279<>0,$M$2,IF($L8279<>0,$M$2,\"\")))","v":""}]
[820,{"$f":"$B$13","v":"(наименование на първостепенния разпоредител с бюджет)"},null,null,null,null,null,null,null,null,null,null,{"$f":"(IF($E8279<>0,$M$2,IF($L8279<>0,$M$2,\"\")))","v":""}]
[null,null,{"$f":"VLOOKUP(D8160,OP_LIST2,2,FALSE)","v":{"$error":"#N/A"}},null,null,null,null,null,null,null,null,null,{"$f":"(IF($E8279<>0,$M$2,IF($L8279<>0,$M$2,\"\")))","v":""}]
[null,null,{"$f":"+C8161","v":8837},"837 Дейности по водния транспорт",null,null,null,null,null,null,null,null,{"$f":"(IF($E8279<>0,$M$2,IF($L8279<>0,$M$2,\"\")))","v":""}]
[null,null,101,"заплати и възнаграждения на персонала нает по трудови правоотношения",{"$f":"F8165+G8165+H8165","v":0},0,0,0,0,0,0,{"$f":"I8165+J8165+K8165","v":0},{"$f":"(IF($E8165<>0,$M$2,IF($L8165<>0,$M$2,\"\")))","v":""}]
[null,null,202,"за персонала по извънтрудови правоотношения",{"$f":"F8169+G8169+H8169","v":0},0,0,0,0,0,0,{"$f":"I8169+J8169+K8169","v":0},""]
[null,null,551,"осигурителни вноски от работодатели за Държавното обществено осигуряване (ДОО)",{"$f":"F8174+G8174+H8174","v":0},0,0,0,0,0,0,{"$f":"I8174+J8174+K8174","v":0},""]
[null,null,560,"здравно-осигурителни вноски от работодатели",0,0,0,0,0,0,0,0,""]
[null,null,590,"задължителни вноски за чуждестранни пенсионни фондове и  схеми за сметка на осигурителя",0,null,null,null,null,null,null,0,""]
[15,null,1011,"Храна",{"$f":"F8183+G8183+H8183","v":0},0,0,0,0,0,0,{"$f":"I8183+J8183+K8183","v":0},""]
[40,null,1013,"Постелен инвентар и облекло",0,0,0,0,0,0,0,0,""]
[55,null,1016,"вода, горива и енергия",0,0,0,0,0,0,0,0,""]
[80,null,1053,"дългосрочни командировки в чужбина",0,0,0,0,0,0,0,0,""]
[90,null,1091,"други разходи за СБКО",0,0,0,0,0,0,0,0,""]
[135,null,1901,"платени държавни данъци, такси, наказателни лихви и административни санкции",{"$f":"F8201+G8201+H8201","v":0},0,0,0,0,0,0,{"$f":"I8201+J8201+K8201","v":0},""]
[140,null,1981,"платени общински данъци, такси, наказателни лихви и административни санкции",{"$f":"F8202+G8202+H8202","v":0},0,0,0,0,0,0,{"$f":"I8202+J8202+K8202","v":0},""]
[160,null,2120,"отстъпки по държавни (общински) ценни книжа",{"$f":"F8206+G8206+H8206","v":0},null,null,null,null,null,null,{"$f":"I8206+J8206+K8206","v":0},""]
[190,null,2221,"Разходи за лихви по заеми от банки в страната",{"$f":"F8211+G8211+H8211","v":0},0,0,0,0,0,0,{"$f":"I8211+J8211+K8211","v":0},""]
[200,2500,"Разходи за лихви по заеми от други държави",null,0,null,null,null,null,null,null,0,""]
[215,2800,"Разходи за лихви и отстъпки по облигации, емитирани и търгувани на международните капиталови пазари",null,0,null,null,null,null,null,null,0,""]
[220,null,2970,"Платени лихви по активирани гаранции по заеми от банки и финансови институции от чужбина",0,null,null,null,null,null,null,0,""]
[235,null,2991,"Други разходи за лихви към  местни лица",0,null,null,null,null,null,null,0,""]
[265,null,3303,"корекция за Обединеното кралство",0,0,0,0,0,0,0,0,""]
[320,3900,"Здравно-осигурителни плащания",null,0,0,0,0,0,0,0,0,{"$f":"(IF($E8232<>0,$M$2,IF($L8232<>0,$M$2,\"\")))","v":""}]
[350,4100,"Пенсии",null,0,0,0,0,0,0,0,0,""]
[375,null,4202,"обезщетения и помощи по социалното подпомагане",0,null,null,null,null,null,null,0,""]
[397,null,4301,"за текуща дейност",{"$f":"F8243+G8243+H8243","v":0},0,0,0,0,0,0,{"$f":"I8243+J8243+K8243","v":0},""]
[399,null,4309,"други субсидии и плащания",0,null,null,null,null,null,null,0,""]
[404,4600,"Разходи за членски внос и участие в нетърговски организации и дейности",null,0,0,0,0,0,0,0,0,""]
[495,5100,"Основен ремонт на дълготрайни материални активи",null,{"$f":"F8252+G8252+H8252","v":0},0,0,0,0,0,0,{"$f":"I8252+J8252+K8252","v":0},""]
[520,null,5204,"придобиване на транспортни средства",0,0,0,0,0,0,0,0,""]
[640,null,5219,"придобиване на други ДМА",0,0,0,0,0,0,0,0,""]
[645,5300,"Придобиване на нематериални дълготрайни активи",null,{"$f":"SUM(E8262:E8263)","v":0},0,0,{"$f":"SUM(H8262:H8263)","v":0},0,0,0,0,""]
[685,null,5501,"капиталови трансфери за нефинансови предприятия",{"$f":"F8266+G8266+H8266","v":0},null,null,null,null,null,null,{"$f":"I8266+J8266+K8266","v":0},""]
[695,null,5503,"капиталови трансфери за организации с нестопанска цел",{"$f":"F8268+G8268+H8268","v":0},null,null,null,null,null,null,{"$f":"I8268+J8268+K8268","v":0},""]
[715,null,5701,"плащания за попълване на държавния резерв",{"$f":"F8271+G8271+H8271","v":0},0,0,0,0,0,0,{"$f":"I8271+J8271+K8271","v":0},""]
[740,null,null,null,null,null,null,null,null,null,null,null,""]
[760,"край на дейност",null,null,null,null,null,null,null,null,null,null,{"$f":"(IF($E8279<>0,$M$2,IF($L8279<>0,$M$2,\"\")))","v":""}]
[785,null,null,null,null,null,null,null,null,null,null,null,{"$f":"(IF($E8416<>0,$M$2,IF($L8416<>0,$M$2,\"\")))","v":""}]
[790,{"$f":"$B$7","v":"ОТЧЕТНИ ДАННИ ПО ЕБК ЗА ИЗПЪЛНЕНИЕТО НА БЮДЖЕТА"},null,null,null,null,null,null,null,null,null,null,{"$f":"(IF($E8416<>0,$M$2,IF($L8416<>0,$M$2,\"\")))","v":""}]
[815,null,null,null,null,null,null,null,null,null,null,null,{"$f":"(IF($E8416<>0,$M$2,IF($L8416<>0,$M$2,\"\")))","v":""}]
[823,null,null,"II.1. РАЗХОДИ ПО ДЕЙНОСТИ","Уточнен план 2020",null,null,null,"Отчет 2020",null,null,null,{"$f":"(IF($E8416<>0,$M$2,IF($L8416<>0,$M$2,\"\")))","v":""}]
[null,null,null," 02 ¦",{"$f":"$E$21","v":"(1)"},{"$f":"$F$21","v":"(2)"},{"$f":"$G$21","v":"(3)"},{"$f":"$H$21","v":"(4)"},{"$f":"$I$21","v":"(5)"},{"$f":"$J$21","v":"(6)"},{"$f":"$K$21","v":"(7)"},{"$f":"$L$21","v":"(8)"},{"$f":"(IF($E8416<>0,$M$2,IF($L8416<>0,$M$2,\"\")))","v":""}]
[null,null,null,"(наименование на дейността)",null,null,null,null,null,null,null,null,{"$f":"(IF($E8416<>0,$M$2,IF($L8416<>0,$M$2,\"\")))","v":""}]
[null,null,102,"заплати и възнаграждения на персонала нает по служебни правоотношения",{"$f":"F8303+G8303+H8303","v":0},0,0,0,0,0,0,{"$f":"I8303+J8303+K8303","v":0},""]
[null,null,208,"обезщетения за персонала, с характер на възнаграждение",{"$f":"F8308+G8308+H8308","v":0},0,0,0,0,0,0,{"$f":"I8308+J8308+K8308","v":0},""]
[null,null,552,"осигурителни вноски от работодатели за Учителския пенсионен фонд (УчПФ)",0,0,0,0,0,0,0,0,""]
[null,null,580,"вноски за допълнително задължително осигуряване от работодатели",0,0,0,0,0,0,0,0,""]
[null,null,590,"задължителни вноски за чуждестранни пенсионни фондове и  схеми за сметка на осигурителя",0,null,null,null,null,null,null,0,""]
[15,null,1011,"Храна",{"$f":"F8320+G8320+H8320","v":0},0,0,0,0,0,0,{"$f":"I8320+J8320+K8320","v":0},""]
[60,null,1020,"разходи за външни услуги",0,0,0,0,0,0,0,0,""]
[70,null,1051,"командировки в страната",0,0,0,0,0,0,0,0,""]
[80,null,1062,"разходи за застраховки",0,0,0,0,0,0,0,0,""]
[125,null,1098,"други разходи, некласифицирани в другите параграфи и подпараграфи",0,0,0,0,0,0,0,0,""]
[140,null,1981,"платени общински данъци, такси, наказателни лихви и административни санкции",{"$f":"F8339+G8339+H8339","v":0},0,0,0,0,0,0,{"$f":"I8339+J8339+K8339","v":0},""]
[145,null,1991,"платени данъци, такси, наказателни лихви и административни санкции в чужбина",{"$f":"F8340+G8340+H8340","v":0},null,null,null,null,null,null,{"$f":"I8340+J8340+K8340","v":0},""]
[165,null,2125,"лихви и отстъпки по целеви емисии на държавни ценни книжа",{"$f":"F8344+G8344+H8344","v":0},0,0,0,0,0,0,{"$f":"I8344+J8344+K8344","v":0},""]
[200,null,2224,"Разходи за лихви по други заеми от страната",0,0,0,0,0,0,0,0,""]
[210,2700,"Разходи за лихви по заеми от банки и други финансови институции от чужбина",null,0,null,null,null,null,null,null,0,""]
[220,2900,"Други разходи за лихви",null,{"$f":"SUM(E8355:E8362)","v":0},{"$f":"SUM(F8355:F8362)","v":0},{"$f":"SUM(G8355:G8362)","v":0},0,0,0,0,0,""]
[225,null,2989,"Възстановени суми по платени лихви по активирани гаранции (-)",0,null,null,null,null,null,null,0,""]
[245,3300,"Вноска в общия бюджет на Европейския съюз",null,{"$f":"SUM(E8364:E8368)","v":0},0,0,0,0,0,0,0,""]
[270,null,3304,"традиционни собствени ресурси - мита",0,0,0,0,0,0,0,0,""]
[290,null,3306,"участие във финансирането на брутното намаление за Нидерландия, Швеция, Дания и Австрия",0,0,0,0,0,0,0,0,""]
[355,4200,"Текущи трансфери, обезщетения и помощи за домакинствата",null,{"$f":"SUM(E8373:E8378)","v":0},0,0,{"$f":"SUM(H8373:H8378)","v":0},0,0,0,0,""]
[380,null,4214,"обезщетения и помощи по решение на общинския съвет",0,0,0,0,0,0,0,0,""]
[398,null,4302,"за осъществяване на болнична помощ ",0,null,null,null,null,null,null,0,""]
[400,4400,"Субсидии и други текущи трансфери за финансови институции",null,0,0,0,0,0,0,0,0,""]
[404,4900,"Предоставени текущи и капиталови трансфери за чужбина",null,{"$f":"+E8387+E8388","v":0},0,0,{"$f":"+H8387+H8388","v":0},0,0,0,0,""]
[505,null,5201,"придобиване на компютри и хардуер",{"$f":"F8391+G8391+H8391","v":0},0,0,0,0,0,0,{"$f":"I8391+J8391+K8391","v":0},""]
[525,null,5205,"придобиване на стопански инвентар",0,0,0,0,0,0,0,0,""]
[635,null,5206,"изграждане на инфраструктурни обекти",0,0,0,0,0,0,0,0,""]
[655,null,5309,"придобиване на други нематериални дълготрайни активи",{"$f":"F8400+G8400+H8400","v":0},0,0,0,0,0,0,{"$f":"I8400+J8400+K8400","v":0},""]
[685,null,5501,"капиталови трансфери за нефинансови предприятия",{"$f":"F8403+G8403+H8403","v":0},null,null,null,null,null,null,{"$f":"I8403+J8403+K8403","v":0},""]
[720,null,5702,"плащания за изкупуване на земеделска продукция",{"$f":"F8409+G8409+H8409","v":0},0,0,0,0,0,0,{"$f":"I8409+J8409+K8409","v":0},""]
[730,null,"Резерв за непредвидени и неотложни разходи",null,null,null,null,null,null,null,null,null,""]
[745,null,null,null,null,null,null,null,null,null,null,null,""]
[765,null,null,null,null,null,null,null,null,null,null,null,{"$f":"(IF($E8416<>0,$M$2,IF($L8416<>0,$M$2,\"\")))","v":""}]
[790,{"$f":"$B$7","v":"ОТЧЕТНИ ДАННИ ПО ЕБК ЗА ИЗПЪЛНЕНИЕТО НА БЮДЖЕТА"},null,null,null,null,null,null,null,null,null,null,{"$f":"(IF($E8553<>0,$M$2,IF($L8553<>0,$M$2,\"\")))","v":""}]
[795,null,null,null,"за периода от ","до",null,"        II.1. РАЗХОДИ ПО ДЕЙНОСТИ",null,null,null,null,{"$f":"(IF($E8553<>0,$M$2,IF($L8553<>0,$M$2,\"\")))","v":""}]
[525,{"$f":"$B$12","v":"Поморие"},null,null,"       код по ЕБК:",{"$f":"$F$12","v":"5207"},null,null,null,null,null,null,{"$f":"(IF($E8553<>0,$M$2,IF($L8553<>0,$M$2,\"\")))","v":""}]
[825,"§§","под-§§","НАИМЕНОВАНИЯ НА ПАРАГРАФИТЕ И ПОДПАРАГРАФИТЕ",{"$f":"$E$20","v":"Уточнен план                Общо"},{"$f":"$F$20","v":"държавни дейности"},{"$f":"$G$20","v":"местни дейности"},{"$f":"$H$20","v":"дофинансиране"},{"$f":"$I$20","v":"държавни дейности -ОТЧЕТ"},{"$f":"$J$20","v":"местни дейности - ОТЧЕТ"},{"$f":"$K$20","v":"дофинансиране - ОТЧЕТ"},{"$f":"$L$20","v":"ОТЧЕТ                                    ОБЩО"},{"$f":"(IF($E8553<>0,$M$2,IF($L8553<>0,$M$2,\"\")))","v":""}]
[null,null,{"$f":"VLOOKUP(D8436,EBK_DEIN2,2,FALSE)","v":8865},"<------          ДЕЙНОСТ    -  код  по  ЕБК",null,null,null,null,null,null,null,null,{"$f":"(IF($E8553<>0,$M$2,IF($L8553<>0,$M$2,\"\")))","v":""}]
[null,null,null,"(наименование на дейността)",null,null,null,null,null,null,null,null,{"$f":"(IF($E8553<>0,$M$2,IF($L8553<>0,$M$2,\"\")))","v":""}]
[null,null,201,"за нещатен персонал нает по трудови правоотношения ",{"$f":"F8442+G8442+H8442","v":0},0,0,0,0,0,0,{"$f":"I8442+J8442+K8442","v":0},""]
[null,null,209,"другиплащания и възнаграждения",{"$f":"F8446+G8446+H8446","v":0},0,0,0,0,0,0,{"$f":"I8446+J8446+K8446","v":0},""]
[null,null,558,"вноски по чл. 4б и 4в от КСО за сметка на осигурителя",{"$f":"F8450+G8450+H8450","v":0},0,0,0,0,0,0,{"$f":"I8450+J8450+K8450","v":0},""]
[null,null,560,"здравно-осигурителни вноски от работодатели",0,0,0,0,0,0,0,0,""]
[5,800,"Вноски за доброволно осигуряване  ",null,0,null,null,null,null,null,null,0,""]
[35,null,1012,"Медикаменти",0,0,0,0,0,0,0,0,""]
[65,null,1030,"Текущ ремонт",0,0,0,0,0,0,0,0,""]
[75,null,1052,"краткосрочни командировки в чужбина",0,0,0,0,0,0,0,0,""]
[85,null,1063,"такса ангажимент по заеми",0,0,0,0,0,0,0,0,""]
[130,1900,"Платени данъци, такси и административни санкции",null,{"$f":"SUM(E8475:E8477)","v":0},0,0,{"$f":"SUM(H8475:H8477)","v":0},0,0,0,0,""]
[150,2100,"Разходи за лихви по емисии на държавни (общински) ценни книжа",null,{"$f":"SUM(E8479:E8483)","v":0},0,0,{"$f":"SUM(H8479:H8483)","v":0},0,0,0,0,""]
[155,null,2110,"лихви по държавни (общински) ценни книжа",{"$f":"F8479+G8479+H8479","v":0},null,null,null,null,null,null,{"$f":"I8479+J8479+K8479","v":0},""]
[180,null,2190,"премии над номинала от емисии на държавни (общински) ценни книжа (-)",{"$f":"F8483+G8483+H8483","v":0},null,null,null,null,null,null,{"$f":"I8483+J8483+K8483","v":0},""]
[200,null,2224,"Разходи за лихви по други заеми от страната",0,0,0,0,0,0,0,0,""]
[215,2800,"Разходи за лихви и отстъпки по облигации, емитирани и търгувани на международните капиталови пазари",null,0,null,null,null,null,null,null,0,""]
[225,null,2910,"Платени лихви по финансов лизинг и търговски кредит",{"$f":"F8492+G8492+H8492","v":0},0,null,null,0,null,null,{"$f":"I8492+J8492+K8492","v":0},""]
[235,null,2991,"Други разходи за лихви към  местни лица",0,null,null,null,null,null,null,0,""]
[250,null,3301,"ресурс на база брутен национален доход",{"$f":"F8501+G8501+H8501","v":0},0,0,0,0,0,0,{"$f":"I8501+J8501+K8501","v":0},""]
[290,null,3306,"участие във финансирането на брутното намаление за Нидерландия, Швеция, Дания и Австрия",0,0,0,0,0,0,0,0,""]
[320,3900,"Здравно-осигурителни плащания",null,0,0,0,0,0,0,0,0,{"$f":"(IF($E8506<>0,$M$2,IF($L8506<>0,$M$2,\"\")))","v":""}]
[355,null,4201,"обезщетения и помощи по социалното осигуряване",{"$f":"F8510+G8510+H8510","v":0},null,null,null,null,null,null,{"$f":"I8510+J8510+K8510","v":0},""]
[390,null,4219,"други текущи трансфери за домакинствата",0,0,0,0,0,0,0,0,""]
[398,null,4302,"за осъществяване на болнична помощ ",0,null,null,null,null,null,null,0,""]
[400,4400,"Субсидии и други текущи трансфери за финансови институции",null,0,0,0,0,0,0,0,0,""]
[495,5100,"Основен ремонт на дълготрайни материални активи",null,{"$f":"F8526+G8526+H8526","v":0},0,0,0,0,0,0,{"$f":"I8526+J8526+K8526","v":0},""]
[510,null,5202,"придобиване на сгради",0,0,0,0,0,0,0,0,""]
[635,null,5206,"изграждане на инфраструктурни обекти",0,0,0,0,0,0,0,0,""]
[640,null,5219,"придобиване на други ДМА",0,0,0,0,0,0,0,0,""]
[665,5400,"Придобиване на земя",null,{"$f":"F8538+G8538+H8538","v":0},null,0,0,0,null,0,{"$f":"I8538+J8538+K8538","v":0},""]
[695,null,5503,"капиталови трансфери за организации с нестопанска цел",{"$f":"F8542+G8542+H8542","v":0},null,null,null,null,null,null,{"$f":"I8542+J8542+K8542","v":0},""]
[725,null,4071,"постъпления от продажба на държавния резерв (-)",{"$f":"F8547+G8547+H8547","v":0},0,0,0,0,0,0,{"$f":"I8547+J8547+K8547","v":0},""]
[735,98,"Резерв за непредвидени и неотложни разходи",null,{"$f":"F8549+G8549+H8549","v":0},null,null,null,0,0,0,{"$f":"I8549+J8549+K8549","v":0},""]
[750,null,null,null,null,null,null,null,null,null,null,null,""]
[780,null,null,null,null,null,null,null,null,null,null,null,{"$f":"(IF($E8690<>0,$M$2,IF($L8690<>0,$M$2,\"\")))","v":""}]
[805,{"$f":"$B$9","v":"ОУ Г.С.РАКОВСКИ-С.ГЪЛЪБЕЦ"},null,null,{"$f":"$E$9","v":"2020-01-01"},{"$f":"$F$9","v":"2020-03-31"},null,null,null,null,null,null,{"$f":"(IF($E8690<>0,$M$2,IF($L8690<>0,$M$2,\"\")))","v":""}]
[810,{"$f":"$B$10","v":"(наименование на разпоредителя с бюджет)"},null,null,null,null,null,null,null,null,null,null,{"$f":"(IF($E8690<>0,$M$2,IF($L8690<>0,$M$2,\"\")))","v":""}]
[820,{"$f":"$B$13","v":"(наименование на първостепенния разпоредител с бюджет)"},null,null,null,null,null,null,null,null,null,null,{"$f":"(IF($E8690<>0,$M$2,IF($L8690<>0,$M$2,\"\")))","v":""}]
[null,null,null," 02 ¦",{"$f":"$E$21","v":"(1)"},{"$f":"$F$21","v":"(2)"},{"$f":"$G$21","v":"(3)"},{"$f":"$H$21","v":"(4)"},{"$f":"$I$21","v":"(5)"},{"$f":"$J$21","v":"(6)"},{"$f":"$K$21","v":"(7)"},{"$f":"$L$21","v":"(8)"},{"$f":"(IF($E8690<>0,$M$2,IF($L8690<>0,$M$2,\"\")))","v":""}]
[null,null,{"$f":"+C8572","v":8866},"866 Общински пазари и тържища",null,null,null,null,null,null,null,null,{"$f":"(IF($E8690<>0,$M$2,IF($L8690<>0,$M$2,\"\")))","v":""}]
[null,100,"Заплати и възнаграждения за персонала, нает по трудови и служебни правоотношения",null,{"$f":"SUM(E8576:E8577)","v":0},0,0,{"$f":"SUM(H8576:H8577)","v":0},0,0,0,0,{"$f":"(IF($E8575<>0,$M$2,IF($L8575<>0,$M$2,\"\")))","v":""}]
[null,null,205,"изплатени суми от СБКО за облекло и други на персонала, с характер на възнаграждение",{"$f":"F8581+G8581+H8581","v":0},0,0,0,0,0,0,{"$f":"I8581+J8581+K8581","v":0},""]
[null,500,"Задължителни осигурителни вноски от работодатели",null,{"$f":"SUM(E8585:E8591)","v":0},0,0,{"$f":"SUM(H8585:H8591)","v":0},0,0,0,0,""]
[null,null,552,"осигурителни вноски от работодатели за Учителския пенсионен фонд (УчПФ)",0,0,0,0,0,0,0,0,""]
[null,null,580,"вноски за допълнително задължително осигуряване от работодатели",0,0,0,0,0,0,0,0,""]
[10,1000,"Издръжка",null,{"$f":"SUM(E8594:E8610)","v":0},0,0,{"$f":"SUM(H8594:H8610)","v":0},0,0,0,0,""]
[50,null,1015,"материали",0,0,0,0,0,0,0,0,""]
[65,null,1030,"Текущ ремонт",0,0,0,0,0,0,0,0,""]
[80,null,1053,"дългосрочни командировки в чужбина",0,0,0,0,0,0,0,0,""]
[90,null,1069,"други финансови услуги",0,0,0,0,0,0,0,0,""]
[135,null,1901,"платени държавни данъци, такси, наказателни лихви и административни санкции",{"$f":"F8612+G8612+H8612","v":0},0,0,0,0,0,0,{"$f":"I8612+J8612+K8612","v":0},""]
[155,null,2110,"лихви по държавни (общински) ценни книжа",{"$f":"F8616+G8616+H8616","v":0},null,null,null,null,null,null,{"$f":"I8616+J8616+K8616","v":0},""]
[160,null,2120,"отстъпки по държавни (общински) ценни книжа",{"$f":"F8617+G8617+H8617","v":0},null,null,null,null,null,null,{"$f":"I8617+J8617+K8617","v":0},""]
[185,2200,"Разходи за лихви по заеми от страната",null,{"$f":"SUM(E8622:E8623)","v":0},0,0,{"$f":"SUM(H8622:H8623)","v":0},0,0,0,0,""]
[205,2600,"Разходи за лихви по заеми от международни организации и институции",null,0,null,null,null,null,null,null,0,""]
[230,null,2920,"Платени лихви по активирани гаранции по заеми от  банки в страната",{"$f":"F8630+G8630+H8630","v":0},null,null,null,null,null,null,{"$f":"I8630+J8630+K8630","v":0},""]
[220,null,2970,"Платени лихви по активирани гаранции по заеми от банки и финансови институции от чужбина",0,null,null,null,null,null,null,0,""]
[235,null,2991,"Други разходи за лихви към  местни лица",0,null,null,null,null,null,null,0,""]
[265,null,3303,"корекция за Обединеното кралство",0,0,0,0,0,0,0,0,""]
[270,null,3304,"традиционни собствени ресурси - мита",0,0,0,0,0,0,0,0,""]
[330,4000,"Стипендии",null,0,0,0,0,0,0,0,0,""]
[375,null,4202,"обезщетения и помощи по социалното подпомагане",0,null,null,null,null,null,null,0,""]
[395,4300,"Субсидии и други текущи трансфери за нефинансови предприятия",null,{"$f":"SUM(E8654:E8656)","v":0},0,0,{"$f":"SUM(H8654:H8656)","v":0},0,0,0,0,""]
[399,null,4309,"други субсидии и плащания",0,null,null,null,null,null,null,0,""]
[401,4500,"Субсидии и други текущи трансфери за юридически лица с нестопанска цел",null,0,0,0,0,0,0,0,0,""]
[500,5200,"Придобиване на дълготрайни материални активи",null,{"$f":"SUM(E8665:E8671)","v":0},0,0,{"$f":"SUM(H8665:H8671)","v":0},0,0,0,0,""]
[515,null,5203,"придобиване на друго оборудване, машини и съоръжения",0,0,0,0,0,0,0,0,""]
[525,null,5205,"придобиване на стопански инвентар",0,0,0,0,0,0,0,0,""]
[645,5300,"Придобиване на нематериални дълготрайни активи",null,{"$f":"SUM(E8673:E8674)","v":0},0,0,{"$f":"SUM(H8673:H8674)","v":0},0,0,0,0,""]
[675,5500,"Капиталови трансфери",null,{"$f":"SUM(E8677:E8680)","v":0},0,0,{"$f":"SUM(H8677:H8680)","v":0},0,0,0,0,""]
[700,null,5504,"капиталови трансфери за домакинствата",{"$f":"F8680+G8680+H8680","v":0},null,null,null,null,null,null,{"$f":"I8680+J8680+K8680","v":0},""]
[730,null,"Резерв за непредвидени и неотложни разходи",null,null,null,null,null,null,null,null,null,""]
[745,null,null,null,null,null,null,null,null,null,null,null,""]
[755,null,"99-99",{"$f":"+B8690","v":0},{"$f":"SUM(E8575,E8578,E8584,E8592,E8593,E8611,E8615,E8621,E8624,E8625,E8626,E8627,E8628,E8637,E8643,E8644,E8645,E8646,E8653,E8657,E8658,E8659,E8660,E8663,E8664,E8672,E8675,E8676,E8681)+E8686","v":0},0,0,0,0,0,0,0,{"$f":"(IF($E8690<>0,$M$2,IF($L8690<>0,$M$2,\"\")))","v":""},{"$f":"LEFT(C8572,1)","v":"8"}]
[785,null,null,null,null,null,null,null,null,null,null,null,{"$f":"(IF($E8827<>0,$M$2,IF($L8827<>0,$M$2,\"\")))","v":""}]
[810,{"$f":"$B$10","v":"(наименование на разпоредителя с бюджет)"},null,null,null,null,null,null,null,null,null,null,{"$f":"(IF($E8827<>0,$M$2,IF($L8827<>0,$M$2,\"\")))","v":""}]
[815,null,null,null,null,null,null,null,null,null,null,null,{"$f":"(IF($E8827<>0,$M$2,IF($L8827<>0,$M$2,\"\")))","v":""}]
[822,null,null,null,null,null,null,null,null,null,null,"(в лева)",{"$f":"(IF($E8827<>0,$M$2,IF($L8827<>0,$M$2,\"\")))","v":""}]
[null,null,{"$f":"VLOOKUP(D8708,OP_LIST2,2,FALSE)","v":{"$error":"#N/A"}},null,null,null,null,null,null,null,null,null,{"$f":"(IF($E8827<>0,$M$2,IF($L8827<>0,$M$2,\"\")))","v":""}]
[null,null,101,"заплати и възнаграждения на персонала нает по трудови правоотношения",{"$f":"F8713+G8713+H8713","v":0},0,0,0,0,0,0,{"$f":"I8713+J8713+K8713","v":0},{"$f":"(IF($E8713<>0,$M$2,IF($L8713<>0,$M$2,\"\")))","v":""}]
[null,null,201,"за нещатен персонал нает по трудови правоотношения ",{"$f":"F8716+G8716+H8716","v":0},0,0,0,0,0,0,{"$f":"I8716+J8716+K8716","v":0},""]
[null,null,208,"обезщетения за персонала, с характер на възнаграждение",{"$f":"F8719+G8719+H8719","v":0},0,0,0,0,0,0,{"$f":"I8719+J8719+K8719","v":0},""]
[null,null,551,"осигурителни вноски от работодатели за Държавното обществено осигуряване (ДОО)",{"$f":"F8722+G8722+H8722","v":0},0,0,0,0,0,0,{"$f":"I8722+J8722+K8722","v":0},""]
[null,null,558,"вноски по чл. 4б и 4в от КСО за сметка на осигурителя",{"$f":"F8724+G8724+H8724","v":0},0,0,0,0,0,0,{"$f":"I8724+J8724+K8724","v":0},""]
[null,null,588,"коректив на вноски за ДЗПО за сумите по чл. 4б и 4в от КСО за сметка на осигурителя",{"$f":"F8727+G8727+H8727","v":0},0,0,0,0,0,0,{"$f":"I8727+J8727+K8727","v":0},""]
[35,null,1012,"Медикаменти",0,0,0,0,0,0,0,0,""]
[55,null,1016,"вода, горива и енергия",0,0,0,0,0,0,0,0,""]
[70,null,1051,"командировки в страната",0,0,0,0,0,0,0,0,""]
[80,null,1053,"дългосрочни командировки в чужбина",0,0,0,0,0,0,0,0,""]
[125,null,1098,"други разходи, некласифицирани в другите параграфи и подпараграфи",0,0,0,0,0,0,0,0,""]
[140,null,1981,"платени общински данъци, такси, наказателни лихви и административни санкции",{"$f":"F8750+G8750+H8750","v":0},0,0,0,0,0,0,{"$f":"I8750+J8750+K8750","v":0},""]
[150,2100,"Разходи за лихви по емисии на държавни (общински) ценни книжа",null,{"$f":"SUM(E8753:E8757)","v":0},0,0,{"$f":"SUM(H8753:H8757)","v":0},0,0,0,0,""]
[165,null,2125,"лихви и отстъпки по целеви емисии на държавни ценни книжа",{"$f":"F8755+G8755+H8755","v":0},0,0,0,0,0,0,{"$f":"I8755+J8755+K8755","v":0},""]
[190,null,2221,"Разходи за лихви по заеми от банки в страната",{"$f":"F8759+G8759+H8759","v":0},0,0,0,0,0,0,{"$f":"I8759+J8759+K8759","v":0},""]
[210,2700,"Разходи за лихви по заеми от банки и други финансови институции от чужбина",null,0,null,null,null,null,null,null,0,""]
[245,null,2969,"Платени лихви по активирани гаранции по заеми от международни организации и институции",0,null,null,null,null,null,null,0,""]
[230,null,2990,"Платени лихви по активирани гаранции по заеми от  банки в страната",{"$f":"F8771+G8771+H8771","v":0},null,null,null,null,null,null,{"$f":"I8771+J8771+K8771","v":0},""]
[240,null,2992,"Други разходи за лихви към чуждестранни лица",0,null,null,null,null,null,null,0,""]
[255,null,3302,"ресурс на база данък върху добавената стойност",0,0,0,0,0,0,0,0,""]
[350,4100,"Пенсии",null,0,0,0,0,0,0,0,0,""]
[355,4200,"Текущи трансфери, обезщетения и помощи за домакинствата",null,{"$f":"SUM(E8784:E8789)","v":0},0,0,{"$f":"SUM(H8784:H8789)","v":0},0,0,0,0,""]
[385,null,4217,"текущи трансфери за домакинства от средства на Европейския съюз",0,null,null,null,null,null,null,0,""]
[397,null,4301,"за текуща дейност",{"$f":"F8791+G8791+H8791","v":0},0,0,0,0,0,0,{"$f":"I8791+J8791+K8791","v":0},""]
[400,4400,"Субсидии и други текущи трансфери за финансови институции",null,0,0,0,0,0,0,0,0,""]
[404,4600,"Разходи за членски внос и участие в нетърговски организации и дейности",null,0,0,0,0,0,0,0,0,""]
[505,null,5201,"придобиване на компютри и хардуер",{"$f":"F8802+G8802+H8802","v":0},0,0,0,0,0,0,{"$f":"I8802+J8802+K8802","v":0},""]
[520,null,5204,"придобиване на транспортни средства",0,0,0,0,0,0,0,0,""]
[635,null,5206,"изграждане на инфраструктурни обекти",0,0,0,0,0,0,0,0,""]
[650,null,5301,"придобиване на програмни продукти и лицензи за програмни продукти",{"$f":"F8810+G8810+H8810","v":0},0,0,0,0,0,0,{"$f":"I8810+J8810+K8810","v":0},""]
[690,null,5502,"капиталови трансфери за финансови институции",{"$f":"F8815+G8815+H8815","v":0},null,null,null,null,null,null,{"$f":"I8815+J8815+K8815","v":0},""]
[715,null,5701,"плащания за попълване на държавния резерв",{"$f":"F8819+G8819+H8819","v":0},0,0,0,0,0,0,{"$f":"I8819+J8819+K8819","v":0},""]
[735,98,"Резерв за непредвидени и неотложни разходи",null,{"$f":"F8823+G8823+H8823","v":0},null,null,null,0,0,0,{"$f":"I8823+J8823+K8823","v":0},""]
[740,null,null,null,null,null,null,null,null,null,null,null,""]
[775,null,null,null,null,null,null,null,null,null,null,null,{"$f":"(IF(E8825<>0,$G$2,IF(L8825<>0,$G$2,\"\")))","v":""}]
[780,null,null,null,null,null,null,null,null,null,null,null,{"$f":"(IF($E8964<>0,$M$2,IF($L8964<>0,$M$2,\"\")))","v":""}]
[815,null,null,null,null,null,null,null,null,null,null,null,{"$f":"(IF($E8964<>0,$M$2,IF($L8964<>0,$M$2,\"\")))","v":""}]
[525,{"$f":"$B$12","v":"Поморие"},null,null,"       код по ЕБК:",{"$f":"$F$12","v":"5207"},null,null,null,null,null,null,{"$f":"(IF($E8964<>0,$M$2,IF($L8964<>0,$M$2,\"\")))","v":""}]
[823,null,null,"II.1. РАЗХОДИ ПО ДЕЙНОСТИ","Уточнен план 2020",null,null,null,"Отчет 2020",null,null,null,{"$f":"(IF($E8964<>0,$M$2,IF($L8964<>0,$M$2,\"\")))","v":""}]
[null,null,{"$f":"VLOOKUP(D8847,EBK_DEIN2,2,FALSE)","v":8898},"<------          ДЕЙНОСТ    -  код  по  ЕБК",null,null,null,null,null,null,null,null,{"$f":"(IF($E8964<>0,$M$2,IF($L8964<>0,$M$2,\"\")))","v":""}]
[null,null,102,"заплати и възнаграждения на персонала нает по служебни правоотношения",{"$f":"F8851+G8851+H8851","v":0},0,0,0,0,0,0,{"$f":"I8851+J8851+K8851","v":0},""]
[null,null,202,"за персонала по извънтрудови правоотношения",{"$f":"F8854+G8854+H8854","v":0},0,0,0,0,0,0,{"$f":"I8854+J8854+K8854","v":0},""]
[null,null,208,"обезщетения за персонала, с характер на възнаграждение",{"$f":"F8856+G8856+H8856","v":0},0,0,0,0,0,0,{"$f":"I8856+J8856+K8856","v":0},""]
[null,null,551,"осигурителни вноски от работодатели за Държавното обществено осигуряване (ДОО)",{"$f":"F8859+G8859+H8859","v":0},0,0,0,0,0,0,{"$f":"I8859+J8859+K8859","v":0},""]
[null,null,590,"задължителни вноски за чуждестранни пенсионни фондове и  схеми за сметка на осигурителя",0,null,null,null,null,null,null,0,""]
[5,800,"Вноски за доброволно осигуряване  ",null,0,null,null,null,null,null,null,0,""]
[40,null,1013,"Постелен инвентар и облекло",0,0,0,0,0,0,0,0,""]
[60,null,1020,"разходи за външни услуги",0,0,0,0,0,0,0,0,""]
[80,null,1053,"дългосрочни командировки в чужбина",0,0,0,0,0,0,0,0,""]
[80,null,1062,"разходи за застраховки",0,0,0,0,0,0,0,0,""]
[130,1900,"Платени данъци, такси и административни санкции",null,{"$f":"SUM(E8886:E8888)","v":0},0,0,{"$f":"SUM(H8886:H8888)","v":0},0,0,0,0,""]
[145,null,1991,"платени данъци, такси, наказателни лихви и административни санкции в чужбина",{"$f":"F8888+G8888+H8888","v":0},null,null,null,null,null,null,{"$f":"I8888+J8888+K8888","v":0},""]
[155,null,2110,"лихви по държавни (общински) ценни книжа",{"$f":"F8890+G8890+H8890","v":0},null,null,null,null,null,null,{"$f":"I8890+J8890+K8890","v":0},""]
[175,null,2140,"лихви по държавни ценни книжа, емитирани за структурната реформа ",{"$f":"F8893+G8893+H8893","v":0},0,0,0,0,0,0,{"$f":"I8893+J8893+K8893","v":0},""]
[200,2500,"Разходи за лихви по заеми от други държави",null,0,null,null,null,null,null,null,0,""]
[220,2900,"Други разходи за лихви",null,{"$f":"SUM(E8903:E8910)","v":0},{"$f":"SUM(F8903:F8910)","v":0},{"$f":"SUM(G8903:G8910)","v":0},0,0,0,0,0,""]
[220,null,2970,"Платени лихви по активирани гаранции по заеми от банки и финансови институции от чужбина",0,null,null,null,null,null,null,0,""]
[225,null,2989,"Възстановени суми по платени лихви по активирани гаранции (-)",0,null,null,null,null,null,null,0,""]
[245,3300,"Вноска в общия бюджет на Европейския съюз",null,{"$f":"SUM(E8912:E8916)","v":0},0,0,0,0,0,0,0,""]
[250,null,3301,"ресурс на база брутен национален доход",{"$f":"F8912+G8912+H8912","v":0},0,0,0,0,0,0,{"$f":"I8912+J8912+K8912","v":0},""]
[255,null,3302,"ресурс на база данък върху добавената стойност",0,0,0,0,0,0,0,0,""]
[265,null,3303,"корекция за Обединеното кралство",0,0,0,0,0,0,0,0,""]
[270,null,3304,"традиционни собствени ресурси - мита",0,0,0,0,0,0,0,0,""]
[290,null,3306,"участие във финансирането на брутното намаление за Нидерландия, Швеция, Дания и Австрия",0,0,0,0,0,0,0,0,""]
[320,3900,"Здравно-осигурителни плащания",null,0,0,0,0,0,0,0,0,{"$f":"(IF($E8917<>0,$M$2,IF($L8917<>0,$M$2,\"\")))","v":""}]
[330,4000,"Стипендии",null,0,0,0,0,0,0,0,0,""]
[350,4100,"Пенсии",null,0,0,0,0,0,0,0,0,""]
[355,4200,"Текущи трансфери, обезщетения и помощи за домакинствата",null,{"$f":"SUM(E8921:E8926)","v":0},0,0,{"$f":"SUM(H8921:H8926)","v":0},0,0,0,0,""]
[355,null,4201,"обезщетения и помощи по социалното осигуряване",{"$f":"F8921+G8921+H8921","v":0},null,null,null,null,null,null,{"$f":"I8921+J8921+K8921","v":0},""]
[375,null,4202,"обезщетения и помощи по социалното подпомагане",0,null,null,null,null,null,null,0,""]
[380,null,4214,"обезщетения и помощи по решение на общинския съвет",0,0,0,0,0,0,0,0,""]
[385,null,4217,"текущи трансфери за домакинства от средства на Европейския съюз",0,null,null,null,null,null,null,0,""]
[390,null,4218,"текущи трансфери за домакинства по други международни програми и споразумения",0,null,null,null,null,null,null,0,""]
[390,null,4219,"други текущи трансфери за домакинствата",0,0,0,0,0,0,0,0,""]
[395,4300,"Субсидии и други текущи трансфери за нефинансови предприятия",null,{"$f":"SUM(E8928:E8930)","v":0},0,0,{"$f":"SUM(H8928:H8930)","v":0},0,0,0,0,""]
[397,null,4301,"за текуща дейност",{"$f":"F8928+G8928+H8928","v":0},0,0,0,0,0,0,{"$f":"I8928+J8928+K8928","v":0},""]
[398,null,4302,"за осъществяване на болнична помощ ",0,null,null,null,null,null,null,0,""]
[399,null,4309,"други субсидии и плащания",0,null,null,null,null,null,null,0,""]
[400,4400,"Субсидии и други текущи трансфери за финансови институции",null,0,0,0,0,0,0,0,0,""]
[401,4500,"Субсидии и други текущи трансфери за юридически лица с нестопанска цел",null,0,0,0,0,0,0,0,0,""]
[404,4600,"Разходи за членски внос и участие в нетърговски организации и дейности",null,0,0,0,0,0,0,0,0,""]
[404,4900,"Предоставени текущи и капиталови трансфери за чужбина",null,{"$f":"+E8935+E8936","v":0},0,0,{"$f":"+H8935+H8936","v":0},0,0,0,0,""]
[440,null,4901,"текущи трансфери за чужбина",{"$f":"F8935+G8935+H8935","v":0},null,null,null,null,null,null,{"$f":"I8935+J8935+K8935","v":0},""]
[450,null,4902,"капиталови трансфери за чужбина",{"$f":"F8936+G8936+H8936","v":0},null,null,null,null,null,null,{"$f":"I8936+J8936+K8936","v":0},""]
[495,5100,"Основен ремонт на дълготрайни материални активи",null,{"$f":"F8937+G8937+H8937","v":0},0,0,0,0,0,0,{"$f":"I8937+J8937+K8937","v":0},""]
[500,5200,"Придобиване на дълготрайни материални активи",null,{"$f":"SUM(E8939:E8945)","v":0},0,0,{"$f":"SUM(H8939:H8945)","v":0},0,0,0,0,""]
[505,null,5201,"придобиване на компютри и хардуер",{"$f":"F8939+G8939+H8939","v":0},0,0,0,0,0,0,{"$f":"I8939+J8939+K8939","v":0},""]
[510,null,5202,"придобиване на сгради",0,0,0,0,0,0,0,0,""]
[515,null,5203,"придобиване на друго оборудване, машини и съоръжения",0,0,0,0,0,0,0,0,""]
[520,null,5204,"придобиване на транспортни средства",0,0,0,0,0,0,0,0,""]
[525,null,5205,"придобиване на стопански инвентар",0,0,0,0,0,0,0,0,""]
[635,null,5206,"изграждане на инфраструктурни обекти",0,0,0,0,0,0,0,0,""]
[640,null,5219,"придобиване на други ДМА",0,0,0,0,0,0,0,0,""]
[645,5300,"Придобиване на нематериални дълготрайни активи",null,{"$f":"SUM(E8947:E8948)","v":0},0,0,{"$f":"SUM(H8947:H8948)","v":0},0,0,0,0,""]
[650,null,5301,"придобиване на програмни продукти и лицензи за програмни продукти",{"$f":"F8947+G8947+H8947","v":0},0,0,0,0,0,0,{"$f":"I8947+J8947+K8947","v":0},""]
[655,null,5309,"придобиване на други нематериални дълготрайни активи",{"$f":"F8948+G8948+H8948","v":0},0,0,0,0,0,0,{"$f":"I8948+J8948+K8948","v":0},""]
[665,5400,"Придобиване на земя",null,{"$f":"F8949+G8949+H8949","v":0},null,0,0,0,null,0,{"$f":"I8949+J8949+K8949","v":0},""]
[675,5500,"Капиталови трансфери",null,{"$f":"SUM(E8951:E8954)","v":0},0,0,{"$f":"SUM(H8951:H8954)","v":0},0,0,0,0,""]
[685,null,5501,"капиталови трансфери за нефинансови предприятия",{"$f":"F8951+G8951+H8951","v":0},null,null,null,null,null,null,{"$f":"I8951+J8951+K8951","v":0},""]
[690,null,5502,"капиталови трансфери за финансови институции",{"$f":"F8952+G8952+H8952","v":0},null,null,null,null,null,null,{"$f":"I8952+J8952+K8952","v":0},""]
[695,null,5503,"капиталови трансфери за организации с нестопанска цел",{"$f":"F8953+G8953+H8953","v":0},null,null,null,null,null,null,{"$f":"I8953+J8953+K8953","v":0},""]
[700,null,5504,"капиталови трансфери за домакинствата",{"$f":"F8954+G8954+H8954","v":0},null,null,null,null,null,null,{"$f":"I8954+J8954+K8954","v":0},""]
[710,5700,"Прираст на държавния резерв и изкупуване на земеделска продукция (включва и § 40-71)",null,{"$f":"SUM(E8956:E8958)","v":0},0,0,0,0,0,0,{"$f":"SUM(L8956:L8958)","v":0},""]
[715,null,5701,"плащания за попълване на държавния резерв",{"$f":"F8956+G8956+H8956","v":0},0,0,0,0,0,0,{"$f":"I8956+J8956+K8956","v":0},""]
[720,null,5702,"плащания за изкупуване на земеделска продукция",{"$f":"F8957+G8957+H8957","v":0},0,0,0,0,0,0,{"$f":"I8957+J8957+K8957","v":0},""]
[725,null,4071,"постъпления от продажба на държавния резерв (-)",{"$f":"F8958+G8958+H8958","v":0},0,0,0,0,0,0,{"$f":"I8958+J8958+K8958","v":0},""]
[730,null,"Резерв за непредвидени и неотложни разходи",null,null,null,null,null,null,null,null,null,""]
[735,98,"Резерв за непредвидени и неотложни разходи",null,{"$f":"F8960+G8960+H8960","v":0},null,null,null,0,0,0,{"$f":"I8960+J8960+K8960","v":0},""]
[740,null,null,null,null,null,null,null,null,null,null,null,""]
[745,null,null,null,null,null,null,null,null,null,null,null,""]
[750,null,null,null,null,null,null,null,null,null,null,null,""]
[755,null,"99-99",{"$f":"+B8964","v":0},{"$f":"SUM(E8849,E8852,E8858,E8866,E8867,E8885,E8889,E8895,E8898,E8899,E8900,E8901,E8902,E8911,E8917,E8918,E8919,E8920,E8927,E8931,E8932,E8933,E8934,E8937,E8938,E8946,E8949,E8950,E8955)+E8960","v":0},0,0,0,0,0,0,0,{"$f":"(IF($E8964<>0,$M$2,IF($L8964<>0,$M$2,\"\")))","v":""},{"$f":"LEFT(C8846,1)","v":"8"}]
[760,"край на дейност",null,null,null,null,null,null,null,null,null,null,{"$f":"(IF($E8964<>0,$M$2,IF($L8964<>0,$M$2,\"\")))","v":""}]
[765,null,null,null,null,null,null,null,null,null,null,null,{"$f":"(IF($E8964<>0,$M$2,IF($L8964<>0,$M$2,\"\")))","v":""}]
[775,null,null,null,null,null,null,null,null,null,null,null,{"$f":"(IF(E8962<>0,$G$2,IF(L8962<>0,$G$2,\"\")))","v":""}]
[780,null,null,null,null,null,null,null,null,null,null,null,{"$f":"(IF($E9101<>0,$M$2,IF($L9101<>0,$M$2,\"\")))","v":""}]
[785,null,null,null,null,null,null,null,null,null,null,null,{"$f":"(IF($E9101<>0,$M$2,IF($L9101<>0,$M$2,\"\")))","v":""}]
[790,{"$f":"$B$7","v":"ОТЧЕТНИ ДАННИ ПО ЕБК ЗА ИЗПЪЛНЕНИЕТО НА БЮДЖЕТА"},null,null,null,null,null,null,null,null,null,null,{"$f":"(IF($E9101<>0,$M$2,IF($L9101<>0,$M$2,\"\")))","v":""}]
[795,null,null,null,"за периода от ","до",null,"        II.1. РАЗХОДИ ПО ДЕЙНОСТИ",null,null,null,null,{"$f":"(IF($E9101<>0,$M$2,IF($L9101<>0,$M$2,\"\")))","v":""}]
[805,{"$f":"$B$9","v":"ОУ Г.С.РАКОВСКИ-С.ГЪЛЪБЕЦ"},null,null,{"$f":"$E$9","v":"2020-01-01"},{"$f":"$F$9","v":"2020-03-31"},null,null,null,null,null,null,{"$f":"(IF($E9101<>0,$M$2,IF($L9101<>0,$M$2,\"\")))","v":""}]
[810,{"$f":"$B$10","v":"(наименование на разпоредителя с бюджет)"},null,null,null,null,null,null,null,null,null,null,{"$f":"(IF($E9101<>0,$M$2,IF($L9101<>0,$M$2,\"\")))","v":""}]
[815,null,null,null,null,null,null,null,null,null,null,null,{"$f":"(IF($E9101<>0,$M$2,IF($L9101<>0,$M$2,\"\")))","v":""}]
[525,{"$f":"$B$12","v":"Поморие"},null,null,"       код по ЕБК:",{"$f":"$F$12","v":"5207"},null,null,null,null,null,null,{"$f":"(IF($E9101<>0,$M$2,IF($L9101<>0,$M$2,\"\")))","v":""}]
[820,{"$f":"$B$13","v":"(наименование на първостепенния разпоредител с бюджет)"},null,null,null,null,null,null,null,null,null,null,{"$f":"(IF($E9101<>0,$M$2,IF($L9101<>0,$M$2,\"\")))","v":""}]
[821,null,null,"ФИНАНСОВО-ПРАВНА ФОРМА",{"$f":"$E$15","v":0},{"$f":"$F$15","v":"БЮДЖЕТ"},null,null,null,null,null,null,{"$f":"(IF($E9101<>0,$M$2,IF($L9101<>0,$M$2,\"\")))","v":""}]
[822,null,null,null,null,null,null,null,null,null,null,"(в лева)",{"$f":"(IF($E9101<>0,$M$2,IF($L9101<>0,$M$2,\"\")))","v":""}]
[823,null,null,"II.1. РАЗХОДИ ПО ДЕЙНОСТИ","Уточнен план 2020",null,null,null,"Отчет 2020",null,null,null,{"$f":"(IF($E9101<>0,$M$2,IF($L9101<>0,$M$2,\"\")))","v":""}]
[825,"§§","под-§§","НАИМЕНОВАНИЯ НА ПАРАГРАФИТЕ И ПОДПАРАГРАФИТЕ",{"$f":"$E$20","v":"Уточнен план                Общо"},{"$f":"$F$20","v":"държавни дейности"},{"$f":"$G$20","v":"местни дейности"},{"$f":"$H$20","v":"дофинансиране"},{"$f":"$I$20","v":"държавни дейности -ОТЧЕТ"},{"$f":"$J$20","v":"местни дейности - ОТЧЕТ"},{"$f":"$K$20","v":"дофинансиране - ОТЧЕТ"},{"$f":"$L$20","v":"ОТЧЕТ                                    ОБЩО"},{"$f":"(IF($E9101<>0,$M$2,IF($L9101<>0,$M$2,\"\")))","v":""}]
[null,null,null," 02 ¦",{"$f":"$E$21","v":"(1)"},{"$f":"$F$21","v":"(2)"},{"$f":"$G$21","v":"(3)"},{"$f":"$H$21","v":"(4)"},{"$f":"$I$21","v":"(5)"},{"$f":"$J$21","v":"(6)"},{"$f":"$K$21","v":"(7)"},{"$f":"$L$21","v":"(8)"},{"$f":"(IF($E9101<>0,$M$2,IF($L9101<>0,$M$2,\"\")))","v":""}]
[null,null,{"$f":"VLOOKUP(D8982,OP_LIST2,2,FALSE)","v":{"$error":"#N/A"}},null,null,null,null,null,null,null,null,null,{"$f":"(IF($E9101<>0,$M$2,IF($L9101<>0,$M$2,\"\")))","v":""}]
[null,null,{"$f":"VLOOKUP(D8984,EBK_DEIN2,2,FALSE)","v":9910},"<------          ДЕЙНОСТ    -  код  по  ЕБК",null,null,null,null,null,null,null,null,{"$f":"(IF($E9101<>0,$M$2,IF($L9101<>0,$M$2,\"\")))","v":""}]
[null,null,{"$f":"+C8983","v":9910},"910 Разходи за лихви",null,null,null,null,null,null,null,null,{"$f":"(IF($E9101<>0,$M$2,IF($L9101<>0,$M$2,\"\")))","v":""}]
[null,null,null,"(наименование на дейността)",null,null,null,null,null,null,null,null,{"$f":"(IF($E9101<>0,$M$2,IF($L9101<>0,$M$2,\"\")))","v":""}]
[null,100,"Заплати и възнаграждения за персонала, нает по трудови и служебни правоотношения",null,{"$f":"SUM(E8987:E8988)","v":0},0,0,{"$f":"SUM(H8987:H8988)","v":0},0,0,0,0,{"$f":"(IF($E8986<>0,$M$2,IF($L8986<>0,$M$2,\"\")))","v":""}]
[null,null,101,"заплати и възнаграждения на персонала нает по трудови правоотношения",{"$f":"F8987+G8987+H8987","v":0},0,0,0,0,0,0,{"$f":"I8987+J8987+K8987","v":0},{"$f":"(IF($E8987<>0,$M$2,IF($L8987<>0,$M$2,\"\")))","v":""}]
[null,null,102,"заплати и възнаграждения на персонала нает по служебни правоотношения",{"$f":"F8988+G8988+H8988","v":0},0,0,0,0,0,0,{"$f":"I8988+J8988+K8988","v":0},""]
[null,200,"Други възнаграждения и плащания за персонала",null,{"$f":"SUM(E8990:E8994)","v":0},0,0,{"$f":"SUM(H8990:H8994)","v":0},0,0,0,0,""]
[null,null,201,"за нещатен персонал нает по трудови правоотношения ",{"$f":"F8990+G8990+H8990","v":0},0,0,0,0,0,0,{"$f":"I8990+J8990+K8990","v":0},""]
[null,null,202,"за персонала по извънтрудови правоотношения",{"$f":"F8991+G8991+H8991","v":0},0,0,0,0,0,0,{"$f":"I8991+J8991+K8991","v":0},""]
[null,null,205,"изплатени суми от СБКО за облекло и други на персонала, с характер на възнаграждение",{"$f":"F8992+G8992+H8992","v":0},0,0,0,0,0,0,{"$f":"I8992+J8992+K8992","v":0},""]
[null,null,208,"обезщетения за персонала, с характер на възнаграждение",{"$f":"F8993+G8993+H8993","v":0},0,0,0,0,0,0,{"$f":"I8993+J8993+K8993","v":0},""]
[null,null,209,"другиплащания и възнаграждения",{"$f":"F8994+G8994+H8994","v":0},0,0,0,0,0,0,{"$f":"I8994+J8994+K8994","v":0},""]
[null,500,"Задължителни осигурителни вноски от работодатели",null,{"$f":"SUM(E8996:E9002)","v":0},0,0,{"$f":"SUM(H8996:H9002)","v":0},0,0,0,0,""]
[null,null,551,"осигурителни вноски от работодатели за Държавното обществено осигуряване (ДОО)",{"$f":"F8996+G8996+H8996","v":0},0,0,0,0,0,0,{"$f":"I8996+J8996+K8996","v":0},""]
[null,null,552,"осигурителни вноски от работодатели за Учителския пенсионен фонд (УчПФ)",0,0,0,0,0,0,0,0,""]
[null,null,558,"вноски по чл. 4б и 4в от КСО за сметка на осигурителя",{"$f":"F8998+G8998+H8998","v":0},0,0,0,0,0,0,{"$f":"I8998+J8998+K8998","v":0},""]
[null,null,560,"здравно-осигурителни вноски от работодатели",0,0,0,0,0,0,0,0,""]
[null,null,580,"вноски за допълнително задължително осигуряване от работодатели",0,0,0,0,0,0,0,0,""]
[null,null,588,"коректив на вноски за ДЗПО за сумите по чл. 4б и 4в от КСО за сметка на осигурителя",{"$f":"F9001+G9001+H9001","v":0},0,0,0,0,0,0,{"$f":"I9001+J9001+K9001","v":0},""]
[null,null,590,"задължителни вноски за чуждестранни пенсионни фондове и  схеми за сметка на осигурителя",0,null,null,null,null,null,null,0,""]
[5,800,"Вноски за доброволно осигуряване  ",null,0,null,null,null,null,null,null,0,""]
[10,1000,"Издръжка",null,{"$f":"SUM(E9005:E9021)","v":0},0,0,{"$f":"SUM(H9005:H9021)","v":0},0,0,0,0,""]
[15,null,1011,"Храна",{"$f":"F9005+G9005+H9005","v":0},0,0,0,0,0,0,{"$f":"I9005+J9005+K9005","v":0},""]
[35,null,1012,"Медикаменти",0,0,0,0,0,0,0,0,""]
[40,null,1013,"Постелен инвентар и облекло",0,0,0,0,0,0,0,0,""]
[45,null,1014,"Учебни и научно-изследователски разходи и книги за библиотеките",0,0,0,0,0,0,0,0,""]
[50,null,1015,"материали",0,0,0,0,0,0,0,0,""]
[55,null,1016,"вода, горива и енергия",0,0,0,0,0,0,0,0,""]
[60,null,1020,"разходи за външни услуги",0,0,0,0,0,0,0,0,""]
[65,null,1030,"Текущ ремонт",0,0,0,0,0,0,0,0,""]
[70,null,1051,"командировки в страната",0,0,0,0,0,0,0,0,""]
[75,null,1052,"краткосрочни командировки в чужбина",0,0,null,null,0,null,null,0,""]
[80,null,1053,"дългосрочни командировки в чужбина",0,null,null,null,null,null,null,0,""]
[80,null,1062,"разходи за застраховки",0,0,0,0,0,0,0,0,""]
[85,null,1063,"такса ангажимент по заеми",0,0,0,0,0,0,0,0,""]
[90,null,1069,"други финансови услуги",0,0,0,0,0,0,0,0,""]
[90,null,1091,"други разходи за СБКО",0,0,0,0,0,0,0,0,""]
[115,null,1092,"разходи за договорни санкции и неустойки, съдебни обезщетения и разноски",0,0,0,0,0,0,0,0,""]
[125,null,1098,"други разходи, некласифицирани в другите параграфи и подпараграфи",0,0,0,0,0,0,0,0,""]
[130,1900,"Платени данъци, такси и административни санкции",null,{"$f":"SUM(E9023:E9025)","v":0},0,0,{"$f":"SUM(H9023:H9025)","v":0},0,0,0,0,""]
[135,null,1901,"платени държавни данъци, такси, наказателни лихви и административни санкции",{"$f":"F9023+G9023+H9023","v":0},0,0,0,0,0,0,{"$f":"I9023+J9023+K9023","v":0},""]
[140,null,1981,"платени общински данъци, такси, наказателни лихви и административни санкции",{"$f":"F9024+G9024+H9024","v":0},0,0,0,0,0,0,{"$f":"I9024+J9024+K9024","v":0},""]
[145,null,1991,"платени данъци, такси, наказателни лихви и административни санкции в чужбина",{"$f":"F9025+G9025+H9025","v":0},null,null,null,null,null,null,{"$f":"I9025+J9025+K9025","v":0},""]
[150,2100,"Разходи за лихви по емисии на държавни (общински) ценни книжа",null,{"$f":"SUM(E9027:E9031)","v":0},0,0,{"$f":"SUM(H9027:H9031)","v":0},0,0,0,0,""]
[155,null,2110,"лихви по държавни (общински) ценни книжа",{"$f":"F9027+G9027+H9027","v":0},0,0,0,0,0,0,{"$f":"I9027+J9027+K9027","v":0},""]
[160,null,2120,"отстъпки по държавни (общински) ценни книжа",{"$f":"F9028+G9028+H9028","v":0},null,null,null,null,null,null,{"$f":"I9028+J9028+K9028","v":0},""]
[165,null,2125,"лихви и отстъпки по целеви емисии на държавни ценни книжа",{"$f":"F9029+G9029+H9029","v":0},0,0,0,0,0,0,{"$f":"I9029+J9029+K9029","v":0},""]
[175,null,2140,"лихви по държавни ценни книжа, емитирани за структурната реформа ",{"$f":"F9030+G9030+H9030","v":0},0,0,0,0,0,0,{"$f":"I9030+J9030+K9030","v":0},""]
[180,null,2190,"премии над номинала от емисии на държавни (общински) ценни книжа (-)",{"$f":"F9031+G9031+H9031","v":0},null,null,null,null,null,null,{"$f":"I9031+J9031+K9031","v":0},""]
[185,2200,"Разходи за лихви по заеми от страната",null,{"$f":"SUM(E9033:E9034)","v":0},0,0,{"$f":"SUM(H9033:H9034)","v":0},0,0,0,0,""]
[190,null,2221,"Разходи за лихви по заеми от банки в страната",{"$f":"F9033+G9033+H9033","v":0},0,0,0,0,0,0,{"$f":"I9033+J9033+K9033","v":0},""]
[200,null,2224,"Разходи за лихви по други заеми от страната",0,0,0,0,0,0,0,0,""]
[200,2500,"Разходи за лихви по заеми от други държави",null,0,null,null,null,null,null,null,0,""]
[205,2600,"Разходи за лихви по заеми от международни организации и институции",null,0,null,null,null,null,null,null,0,""]
[210,2700,"Разходи за лихви по заеми от банки и други финансови институции от чужбина",null,0,null,null,null,null,null,null,0,""]
[215,2800,"Разходи за лихви и отстъпки по облигации, емитирани и търгувани на международните капиталови пазари",null,0,null,null,null,null,null,null,0,""]
[220,2900,"Други разходи за лихви",null,{"$f":"SUM(E9040:E9047)","v":0},{"$f":"SUM(F9040:F9047)","v":0},{"$f":"SUM(G9040:G9047)","v":0},0,0,0,0,0,""]
[225,null,2910,"Платени лихви по финансов лизинг и търговски кредит",{"$f":"F9040+G9040+H9040","v":0},0,null,null,0,null,null,{"$f":"I9040+J9040+K9040","v":0},""]
[230,null,2920,"Платени лихви по активирани гаранции по заеми от  банки в страната",{"$f":"F9041+G9041+H9041","v":0},null,null,null,null,null,null,{"$f":"I9041+J9041+K9041","v":0},""]
[245,null,2969,"Платени лихви по активирани гаранции по заеми от международни организации и институции",0,null,null,null,null,null,null,0,""]
[220,null,2970,"Платени лихви по активирани гаранции по заеми от банки и финансови институции от чужбина",0,null,null,null,null,null,null,0,""]
[225,null,2989,"Възстановени суми по платени лихви по активирани гаранции (-)",0,null,null,null,null,null,null,0,""]
[230,null,2990,"Платени лихви по активирани гаранции по заеми от  банки в страната",{"$f":"F9045+G9045+H9045","v":0},null,null,null,null,null,null,{"$f":"I9045+J9045+K9045","v":0},""]
[235,null,2991,"Други разходи за лихви към  местни лица",0,null,null,null,0,0,0,0,""]
[240,null,2992,"Други разходи за лихви към чуждестранни лица",0,null,null,null,null,null,null,0,""]
[245,3300,"Вноска в общия бюджет на Европейския съюз",null,{"$f":"SUM(E9049:E9053)","v":0},0,0,0,0,0,0,0,""]
[250,null,3301,"ресурс на база брутен национален доход",{"$f":"F9049+G9049+H9049","v":0},0,0,0,0,0,0,{"$f":"I9049+J9049+K9049","v":0},""]
[255,null,3302,"ресурс на база данък върху добавената стойност",0,0,0,0,0,0,0,0,""]
[265,null,3303,"корекция за Обединеното кралство",0,0,0,0,0,0,0,0,""]
[270,null,3304,"традиционни собствени ресурси - мита",0,0,0,0,0,0,0,0,""]
[290,null,3306,"участие във финансирането на брутното намаление за Нидерландия, Швеция, Дания и Австрия",0,0,0,0,0,0,0,0,""]
[320,3900,"Здравно-осигурителни плащания",null,0,0,0,0,0,0,0,0,{"$f":"(IF($E9054<>0,$M$2,IF($L9054<>0,$M$2,\"\")))","v":""}]
[330,4000,"Стипендии",null,0,0,0,0,0,0,0,0,""]
[350,4100,"Пенсии",null,0,0,0,0,0,0,0,0,""]
[355,4200,"Текущи трансфери, обезщетения и помощи за домакинствата",null,{"$f":"SUM(E9058:E9063)","v":0},0,0,{"$f":"SUM(H9058:H9063)","v":0},0,0,0,0,""]
[355,null,4201,"обезщетения и помощи по социалното осигуряване",{"$f":"F9058+G9058+H9058","v":0},null,null,null,null,null,null,{"$f":"I9058+J9058+K9058","v":0},""]
[375,null,4202,"обезщетения и помощи по социалното подпомагане",0,null,null,null,null,null,null,0,""]
[380,null,4214,"обезщетения и помощи по решение на общинския съвет",0,0,0,0,0,0,0,0,""]
[385,null,4217,"текущи трансфери за домакинства от средства на Европейския съюз",0,null,null,null,null,null,null,0,""]
[390,null,4218,"текущи трансфери за домакинства по други международни програми и споразумения",0,null,null,null,null,null,null,0,""]
[390,null,4219,"други текущи трансфери за домакинствата",0,0,0,0,0,0,0,0,""]
[395,4300,"Субсидии и други текущи трансфери за нефинансови предприятия",null,{"$f":"SUM(E9065:E9067)","v":0},0,0,{"$f":"SUM(H9065:H9067)","v":0},0,0,0,0,""]
[397,null,4301,"за текуща дейност",{"$f":"F9065+G9065+H9065","v":0},0,0,0,0,0,0,{"$f":"I9065+J9065+K9065","v":0},""]
[398,null,4302,"за осъществяване на болнична помощ ",0,null,null,null,null,null,null,0,""]
[399,null,4309,"други субсидии и плащания",0,null,null,null,null,null,null,0,""]
[400,4400,"Субсидии и други текущи трансфери за финансови институции",null,0,0,0,0,0,0,0,0,""]
[401,4500,"Субсидии и други текущи трансфери за юридически лица с нестопанска цел",null,0,0,0,0,0,0,0,0,""]
[404,4600,"Разходи за членски внос и участие в нетърговски организации и дейности",null,0,0,0,0,0,0,0,0,""]
[404,4900,"Предоставени текущи и капиталови трансфери за чужбина",null,{"$f":"+E9072+E9073","v":0},0,0,{"$f":"+H9072+H9073","v":0},0,0,0,0,""]
[440,null,4901,"текущи трансфери за чужбина",{"$f":"F9072+G9072+H9072","v":0},null,null,null,null,null,null,{"$f":"I9072+J9072+K9072","v":0},""]
[450,null,4902,"капиталови трансфери за чужбина",{"$f":"F9073+G9073+H9073","v":0},null,null,null,null,null,null,{"$f":"I9073+J9073+K9073","v":0},""]
[495,5100,"Основен ремонт на дълготрайни материални активи",null,{"$f":"F9074+G9074+H9074","v":0},0,0,0,0,0,0,{"$f":"I9074+J9074+K9074","v":0},""]
[500,5200,"Придобиване на дълготрайни материални активи",null,{"$f":"SUM(E9076:E9082)","v":0},0,0,{"$f":"SUM(H9076:H9082)","v":0},0,0,0,0,""]
[505,null,5201,"придобиване на компютри и хардуер",{"$f":"F9076+G9076+H9076","v":0},0,0,0,0,0,0,{"$f":"I9076+J9076+K9076","v":0},""]
[510,null,5202,"придобиване на сгради",0,0,0,0,0,0,0,0,""]
[515,null,5203,"придобиване на друго оборудване, машини и съоръжения",0,0,0,0,0,0,0,0,""]
[520,null,5204,"придобиване на транспортни средства",0,0,0,0,0,0,0,0,""]
[525,null,5205,"придобиване на стопански инвентар",0,0,0,0,0,0,0,0,""]
[635,null,5206,"изграждане на инфраструктурни обекти",0,0,0,0,0,0,0,0,""]
[640,null,5219,"придобиване на други ДМА",0,0,0,0,0,0,0,0,""]
[645,5300,"Придобиване на нематериални дълготрайни активи",null,{"$f":"SUM(E9084:E9085)","v":0},0,0,{"$f":"SUM(H9084:H9085)","v":0},0,0,0,0,""]
[650,null,5301,"придобиване на програмни продукти и лицензи за програмни продукти",{"$f":"F9084+G9084+H9084","v":0},0,0,0,0,0,0,{"$f":"I9084+J9084+K9084","v":0},""]
[655,null,5309,"придобиване на други нематериални дълготрайни активи",{"$f":"F9085+G9085+H9085","v":0},0,0,0,0,0,0,{"$f":"I9085+J9085+K9085","v":0},""]
[665,5400,"Придобиване на земя",null,{"$f":"F9086+G9086+H9086","v":0},null,0,0,0,null,0,{"$f":"I9086+J9086+K9086","v":0},""]
[675,5500,"Капиталови трансфери",null,{"$f":"SUM(E9088:E9091)","v":0},0,0,{"$f":"SUM(H9088:H9091)","v":0},0,0,0,0,""]
[685,null,5501,"капиталови трансфери за нефинансови предприятия",{"$f":"F9088+G9088+H9088","v":0},null,null,null,null,null,null,{"$f":"I9088+J9088+K9088","v":0},""]
[690,null,5502,"капиталови трансфери за финансови институции",{"$f":"F9089+G9089+H9089","v":0},null,null,null,null,null,null,{"$f":"I9089+J9089+K9089","v":0},""]
[695,null,5503,"капиталови трансфери за организации с нестопанска цел",{"$f":"F9090+G9090+H9090","v":0},null,null,null,null,null,null,{"$f":"I9090+J9090+K9090","v":0},""]
[700,null,5504,"капиталови трансфери за домакинствата",{"$f":"F9091+G9091+H9091","v":0},null,null,null,null,null,null,{"$f":"I9091+J9091+K9091","v":0},""]
[710,5700,"Прираст на държавния резерв и изкупуване на земеделска продукция (включва и § 40-71)",null,{"$f":"SUM(E9093:E9095)","v":0},0,0,0,0,0,0,{"$f":"SUM(L9093:L9095)","v":0},""]
[715,null,5701,"плащания за попълване на държавния резерв",{"$f":"F9093+G9093+H9093","v":0},0,0,0,0,0,0,{"$f":"I9093+J9093+K9093","v":0},""]
[720,null,5702,"плащания за изкупуване на земеделска продукция",{"$f":"F9094+G9094+H9094","v":0},0,0,0,0,0,0,{"$f":"I9094+J9094+K9094","v":0},""]
[725,null,4071,"постъпления от продажба на държавния резерв (-)",{"$f":"F9095+G9095+H9095","v":0},0,0,0,0,0,0,{"$f":"I9095+J9095+K9095","v":0},""]
[730,null,"Резерв за непредвидени и неотложни разходи",null,null,null,null,null,null,null,null,null,""]
[735,98,"Резерв за непредвидени и неотложни разходи",null,{"$f":"F9097+G9097+H9097","v":0},null,null,null,0,0,0,{"$f":"I9097+J9097+K9097","v":0},""]
[740,null,null,null,null,null,null,null,null,null,null,null,""]
[745,null,null,null,null,null,null,null,null,null,null,null,""]
[750,null,null,null,null,null,null,null,null,null,null,null,""]
[755,null,"99-99",{"$f":"+B9101","v":0},{"$f":"SUM(E8986,E8989,E8995,E9003,E9004,E9022,E9026,E9032,E9035,E9036,E9037,E9038,E9039,E9048,E9054,E9055,E9056,E9057,E9064,E9068,E9069,E9070,E9071,E9074,E9075,E9083,E9086,E9087,E9092)+E9097","v":0},0,0,0,0,0,0,0,{"$f":"(IF($E9101<>0,$M$2,IF($L9101<>0,$M$2,\"\")))","v":""},{"$f":"LEFT(C8983,1)","v":"9"}]
[760,"край на дейност",null,null,null,null,null,null,null,null,null,null,{"$f":"(IF($E9101<>0,$M$2,IF($L9101<>0,$M$2,\"\")))","v":""}]
[765,null,null,null,null,null,null,null,null,null,null,null,{"$f":"(IF($E9101<>0,$M$2,IF($L9101<>0,$M$2,\"\")))","v":""}]
[775,null,null,null,null,null,null,null,null,null,null,null,{"$f":"(IF(E9099<>0,$G$2,IF(L9099<>0,$G$2,\"\")))","v":""}]
[780,null,null,null,null,null,null,null,null,null,null,null,{"$f":"(IF($E9238<>0,$M$2,IF($L9238<>0,$M$2,\"\")))","v":""}]
[785,null,null,null,null,null,null,null,null,null,null,null,{"$f":"(IF($E9238<>0,$M$2,IF($L9238<>0,$M$2,\"\")))","v":""}]
[790,{"$f":"$B$7","v":"ОТЧЕТНИ ДАННИ ПО ЕБК ЗА ИЗПЪЛНЕНИЕТО НА БЮДЖЕТА"},null,null,null,null,null,null,null,null,null,null,{"$f":"(IF($E9238<>0,$M$2,IF($L9238<>0,$M$2,\"\")))","v":""}]
[795,null,null,null,"за периода от ","до",null,"        II.1. РАЗХОДИ ПО ДЕЙНОСТИ",null,null,null,null,{"$f":"(IF($E9238<>0,$M$2,IF($L9238<>0,$M$2,\"\")))","v":""}]
[805,{"$f":"$B$9","v":"ОУ Г.С.РАКОВСКИ-С.ГЪЛЪБЕЦ"},null,null,{"$f":"$E$9","v":"2020-01-01"},{"$f":"$F$9","v":"2020-03-31"},null,null,null,null,null,null,{"$f":"(IF($E9238<>0,$M$2,IF($L9238<>0,$M$2,\"\")))","v":""}]
[810,{"$f":"$B$10","v":"(наименование на разпоредителя с бюджет)"},null,null,null,null,null,null,null,null,null,null,{"$f":"(IF($E9238<>0,$M$2,IF($L9238<>0,$M$2,\"\")))","v":""}]
[815,null,null,null,null,null,null,null,null,null,null,null,{"$f":"(IF($E9238<>0,$M$2,IF($L9238<>0,$M$2,\"\")))","v":""}]
[525,{"$f":"$B$12","v":"Поморие"},null,null,"       код по ЕБК:",{"$f":"$F$12","v":"5207"},null,null,null,null,null,null,{"$f":"(IF($E9238<>0,$M$2,IF($L9238<>0,$M$2,\"\")))","v":""}]
[820,{"$f":"$B$13","v":"(наименование на първостепенния разпоредител с бюджет)"},null,null,null,null,null,null,null,null,null,null,{"$f":"(IF($E9238<>0,$M$2,IF($L9238<>0,$M$2,\"\")))","v":""}]
[821,null,null,"ФИНАНСОВО-ПРАВНА ФОРМА",{"$f":"$E$15","v":0},{"$f":"$F$15","v":"БЮДЖЕТ"},null,null,null,null,null,null,{"$f":"(IF($E9238<>0,$M$2,IF($L9238<>0,$M$2,\"\")))","v":""}]
[822,null,null,null,null,null,null,null,null,null,null,"(в лева)",{"$f":"(IF($E9238<>0,$M$2,IF($L9238<>0,$M$2,\"\")))","v":""}]
[823,null,null,"II.1. РАЗХОДИ ПО ДЕЙНОСТИ","Уточнен план 2020",null,null,null,"Отчет 2020",null,null,null,{"$f":"(IF($E9238<>0,$M$2,IF($L9238<>0,$M$2,\"\")))","v":""}]
[825,"§§","под-§§","НАИМЕНОВАНИЯ НА ПАРАГРАФИТЕ И ПОДПАРАГРАФИТЕ",{"$f":"$E$20","v":"Уточнен план                Общо"},{"$f":"$F$20","v":"държавни дейности"},{"$f":"$G$20","v":"местни дейности"},{"$f":"$H$20","v":"дофинансиране"},{"$f":"$I$20","v":"държавни дейности -ОТЧЕТ"},{"$f":"$J$20","v":"местни дейности - ОТЧЕТ"},{"$f":"$K$20","v":"дофинансиране - ОТЧЕТ"},{"$f":"$L$20","v":"ОТЧЕТ                                    ОБЩО"},{"$f":"(IF($E9238<>0,$M$2,IF($L9238<>0,$M$2,\"\")))","v":""}]
[null,null,null," 02 ¦",{"$f":"$E$21","v":"(1)"},{"$f":"$F$21","v":"(2)"},{"$f":"$G$21","v":"(3)"},{"$f":"$H$21","v":"(4)"},{"$f":"$I$21","v":"(5)"},{"$f":"$J$21","v":"(6)"},{"$f":"$K$21","v":"(7)"},{"$f":"$L$21","v":"(8)"},{"$f":"(IF($E9238<>0,$M$2,IF($L9238<>0,$M$2,\"\")))","v":""}]
[null,null,{"$f":"VLOOKUP(D9119,OP_LIST2,2,FALSE)","v":{"$error":"#N/A"}},null,null,null,null,null,null,null,null,null,{"$f":"(IF($E9238<>0,$M$2,IF($L9238<>0,$M$2,\"\")))","v":""}]
[null,null,{"$f":"VLOOKUP(D9121,EBK_DEIN2,2,FALSE)","v":9998},"<------          ДЕЙНОСТ    -  код  по  ЕБК",null,null,null,null,null,null,null,null,{"$f":"(IF($E9238<>0,$M$2,IF($L9238<>0,$M$2,\"\")))","v":""}]
[null,null,{"$f":"+C9120","v":9998},"998 Резерв ",null,null,null,null,null,null,null,null,{"$f":"(IF($E9238<>0,$M$2,IF($L9238<>0,$M$2,\"\")))","v":""}]
[null,null,null,"(наименование на дейността)",null,null,null,null,null,null,null,null,{"$f":"(IF($E9238<>0,$M$2,IF($L9238<>0,$M$2,\"\")))","v":""}]
[null,100,"Заплати и възнаграждения за персонала, нает по трудови и служебни правоотношения",null,{"$f":"SUM(E9124:E9125)","v":0},0,0,{"$f":"SUM(H9124:H9125)","v":0},0,0,0,0,{"$f":"(IF($E9123<>0,$M$2,IF($L9123<>0,$M$2,\"\")))","v":""}]
[null,null,101,"заплати и възнаграждения на персонала нает по трудови правоотношения",{"$f":"F9124+G9124+H9124","v":0},0,0,0,0,0,0,{"$f":"I9124+J9124+K9124","v":0},{"$f":"(IF($E9124<>0,$M$2,IF($L9124<>0,$M$2,\"\")))","v":""}]
[null,null,102,"заплати и възнаграждения на персонала нает по служебни правоотношения",{"$f":"F9125+G9125+H9125","v":0},0,0,0,0,0,0,{"$f":"I9125+J9125+K9125","v":0},""]
[null,200,"Други възнаграждения и плащания за персонала",null,{"$f":"SUM(E9127:E9131)","v":0},0,0,{"$f":"SUM(H9127:H9131)","v":0},0,0,0,0,""]
[null,null,201,"за нещатен персонал нает по трудови правоотношения ",{"$f":"F9127+G9127+H9127","v":0},0,0,0,0,0,0,{"$f":"I9127+J9127+K9127","v":0},""]
[null,null,202,"за персонала по извънтрудови правоотношения",{"$f":"F9128+G9128+H9128","v":0},0,0,0,0,0,0,{"$f":"I9128+J9128+K9128","v":0},""]
[null,null,205,"изплатени суми от СБКО за облекло и други на персонала, с характер на възнаграждение",{"$f":"F9129+G9129+H9129","v":0},0,0,0,0,0,0,{"$f":"I9129+J9129+K9129","v":0},""]
[null,null,208,"обезщетения за персонала, с характер на възнаграждение",{"$f":"F9130+G9130+H9130","v":0},0,0,0,0,0,0,{"$f":"I9130+J9130+K9130","v":0},""]
[null,null,209,"другиплащания и възнаграждения",{"$f":"F9131+G9131+H9131","v":0},0,0,0,0,0,0,{"$f":"I9131+J9131+K9131","v":0},""]
[null,500,"Задължителни осигурителни вноски от работодатели",null,{"$f":"SUM(E9133:E9139)","v":0},0,0,{"$f":"SUM(H9133:H9139)","v":0},0,0,0,0,""]
[null,null,551,"осигурителни вноски от работодатели за Държавното обществено осигуряване (ДОО)",{"$f":"F9133+G9133+H9133","v":0},0,0,0,0,0,0,{"$f":"I9133+J9133+K9133","v":0},""]
[null,null,552,"осигурителни вноски от работодатели за Учителския пенсионен фонд (УчПФ)",0,0,0,0,0,0,0,0,""]
[null,null,558,"вноски по чл. 4б и 4в от КСО за сметка на осигурителя",{"$f":"F9135+G9135+H9135","v":0},0,0,0,0,0,0,{"$f":"I9135+J9135+K9135","v":0},""]
[null,null,560,"здравно-осигурителни вноски от работодатели",0,0,0,0,0,0,0,0,""]
[null,null,580,"вноски за допълнително задължително осигуряване от работодатели",0,0,0,0,0,0,0,0,""]
[null,null,588,"коректив на вноски за ДЗПО за сумите по чл. 4б и 4в от КСО за сметка на осигурителя",{"$f":"F9138+G9138+H9138","v":0},0,0,0,0,0,0,{"$f":"I9138+J9138+K9138","v":0},""]
[null,null,590,"задължителни вноски за чуждестранни пенсионни фондове и  схеми за сметка на осигурителя",0,null,null,null,null,null,null,0,""]
[5,800,"Вноски за доброволно осигуряване  ",null,0,null,null,null,null,null,null,0,""]
[10,1000,"Издръжка",null,{"$f":"SUM(E9142:E9158)","v":0},0,0,{"$f":"SUM(H9142:H9158)","v":0},0,0,0,0,""]
[15,null,1011,"Храна",{"$f":"F9142+G9142+H9142","v":0},0,0,0,0,0,0,{"$f":"I9142+J9142+K9142","v":0},""]
[35,null,1012,"Медикаменти",0,0,0,0,0,0,0,0,""]
[40,null,1013,"Постелен инвентар и облекло",0,0,0,0,0,0,0,0,""]
[45,null,1014,"Учебни и научно-изследователски разходи и книги за библиотеките",0,0,0,0,0,0,0,0,""]
[50,null,1015,"материали",0,0,0,0,0,0,0,0,""]
[55,null,1016,"вода, горива и енергия",0,0,0,0,0,0,0,0,""]
[60,null,1020,"разходи за външни услуги",0,0,0,0,0,0,0,0,""]
[65,null,1030,"Текущ ремонт",0,0,0,0,0,0,0,0,""]
[70,null,1051,"командировки в страната",0,0,0,0,0,0,0,0,""]
[75,null,1052,"краткосрочни командировки в чужбина",0,0,null,null,0,null,null,0,""]
[80,null,1053,"дългосрочни командировки в чужбина",0,null,null,null,null,null,null,0,""]
[80,null,1062,"разходи за застраховки",0,0,0,0,0,0,0,0,""]
[85,null,1063,"такса ангажимент по заеми",0,0,0,0,0,0,0,0,""]
[90,null,1069,"други финансови услуги",0,0,0,0,0,0,0,0,""]
[90,null,1091,"други разходи за СБКО",0,0,0,0,0,0,0,0,""]
[115,null,1092,"разходи за договорни санкции и неустойки, съдебни обезщетения и разноски",0,0,0,0,0,0,0,0,""]
[125,null,1098,"други разходи, некласифицирани в другите параграфи и подпараграфи",0,0,0,0,0,0,0,0,""]
[130,1900,"Платени данъци, такси и административни санкции",null,{"$f":"SUM(E9160:E9162)","v":0},0,0,{"$f":"SUM(H9160:H9162)","v":0},0,0,0,0,""]
[135,null,1901,"платени държавни данъци, такси, наказателни лихви и административни санкции",{"$f":"F9160+G9160+H9160","v":0},0,0,0,0,0,0,{"$f":"I9160+J9160+K9160","v":0},""]
[140,null,1981,"платени общински данъци, такси, наказателни лихви и административни санкции",{"$f":"F9161+G9161+H9161","v":0},0,0,0,0,0,0,{"$f":"I9161+J9161+K9161","v":0},""]
[145,null,1991,"платени данъци, такси, наказателни лихви и административни санкции в чужбина",{"$f":"F9162+G9162+H9162","v":0},null,null,null,null,null,null,{"$f":"I9162+J9162+K9162","v":0},""]
[150,2100,"Разходи за лихви по емисии на държавни (общински) ценни книжа",null,{"$f":"SUM(E9164:E9168)","v":0},0,0,{"$f":"SUM(H9164:H9168)","v":0},0,0,0,0,""]
[155,null,2110,"лихви по държавни (общински) ценни книжа",{"$f":"F9164+G9164+H9164","v":0},null,null,null,null,null,null,{"$f":"I9164+J9164+K9164","v":0},""]
[160,null,2120,"отстъпки по държавни (общински) ценни книжа",{"$f":"F9165+G9165+H9165","v":0},null,null,null,null,null,null,{"$f":"I9165+J9165+K9165","v":0},""]
[165,null,2125,"лихви и отстъпки по целеви емисии на държавни ценни книжа",{"$f":"F9166+G9166+H9166","v":0},0,0,0,0,0,0,{"$f":"I9166+J9166+K9166","v":0},""]
[175,null,2140,"лихви по държавни ценни книжа, емитирани за структурната реформа ",{"$f":"F9167+G9167+H9167","v":0},0,0,0,0,0,0,{"$f":"I9167+J9167+K9167","v":0},""]
[180,null,2190,"премии над номинала от емисии на държавни (общински) ценни книжа (-)",{"$f":"F9168+G9168+H9168","v":0},null,null,null,null,null,null,{"$f":"I9168+J9168+K9168","v":0},""]
[185,2200,"Разходи за лихви по заеми от страната",null,{"$f":"SUM(E9170:E9171)","v":0},0,0,{"$f":"SUM(H9170:H9171)","v":0},0,0,0,0,""]
[190,null,2221,"Разходи за лихви по заеми от банки в страната",{"$f":"F9170+G9170+H9170","v":0},0,0,0,0,0,0,{"$f":"I9170+J9170+K9170","v":0},""]
[200,null,2224,"Разходи за лихви по други заеми от страната",0,0,0,0,0,0,0,0,""]
[200,2500,"Разходи за лихви по заеми от други държави",null,0,null,null,null,null,null,null,0,""]
[205,2600,"Разходи за лихви по заеми от международни организации и институции",null,0,null,null,null,null,null,null,0,""]
[210,2700,"Разходи за лихви по заеми от банки и други финансови институции от чужбина",null,0,null,null,null,null,null,null,0,""]
[215,2800,"Разходи за лихви и отстъпки по облигации, емитирани и търгувани на международните капиталови пазари",null,0,null,null,null,null,null,null,0,""]
[220,2900,"Други разходи за лихви",null,{"$f":"SUM(E9177:E9184)","v":0},{"$f":"SUM(F9177:F9184)","v":0},{"$f":"SUM(G9177:G9184)","v":0},0,0,0,0,0,""]
[225,null,2910,"Платени лихви по финансов лизинг и търговски кредит",{"$f":"F9177+G9177+H9177","v":0},0,null,null,0,null,null,{"$f":"I9177+J9177+K9177","v":0},""]
[230,null,2920,"Платени лихви по активирани гаранции по заеми от  банки в страната",{"$f":"F9178+G9178+H9178","v":0},null,null,null,null,null,null,{"$f":"I9178+J9178+K9178","v":0},""]
[245,null,2969,"Платени лихви по активирани гаранции по заеми от международни организации и институции",0,null,null,null,null,null,null,0,""]
[220,null,2970,"Платени лихви по активирани гаранции по заеми от банки и финансови институции от чужбина",0,null,null,null,null,null,null,0,""]
[225,null,2989,"Възстановени суми по платени лихви по активирани гаранции (-)",0,null,null,null,null,null,null,0,""]
[230,null,2990,"Платени лихви по активирани гаранции по заеми от  банки в страната",{"$f":"F9182+G9182+H9182","v":0},null,null,null,null,null,null,{"$f":"I9182+J9182+K9182","v":0},""]
[235,null,2991,"Други разходи за лихви към  местни лица",0,null,null,null,null,null,null,0,""]
[240,null,2992,"Други разходи за лихви към чуждестранни лица",0,null,null,null,null,null,null,0,""]
[245,3300,"Вноска в общия бюджет на Европейския съюз",null,{"$f":"SUM(E9186:E9190)","v":0},0,0,0,0,0,0,0,""]
[250,null,3301,"ресурс на база брутен национален доход",{"$f":"F9186+G9186+H9186","v":0},0,0,0,0,0,0,{"$f":"I9186+J9186+K9186","v":0},""]
[255,null,3302,"ресурс на база данък върху добавената стойност",0,0,0,0,0,0,0,0,""]
[265,null,3303,"корекция за Обединеното кралство",0,0,0,0,0,0,0,0,""]
[270,null,3304,"традиционни собствени ресурси - мита",0,0,0,0,0,0,0,0,""]
[290,null,3306,"участие във финансирането на брутното намаление за Нидерландия, Швеция, Дания и Австрия",0,0,0,0,0,0,0,0,""]
[320,3900,"Здравно-осигурителни плащания",null,0,0,0,0,0,0,0,0,{"$f":"(IF($E9191<>0,$M$2,IF($L9191<>0,$M$2,\"\")))","v":""}]
[330,4000,"Стипендии",null,0,0,0,0,0,0,0,0,""]
[350,4100,"Пенсии",null,0,0,0,0,0,0,0,0,""]
[355,4200,"Текущи трансфери, обезщетения и помощи за домакинствата",null,{"$f":"SUM(E9195:E9200)","v":0},0,0,{"$f":"SUM(H9195:H9200)","v":0},0,0,0,0,""]
[355,null,4201,"обезщетения и помощи по социалното осигуряване",{"$f":"F9195+G9195+H9195","v":0},null,null,null,null,null,null,{"$f":"I9195+J9195+K9195","v":0},""]
[375,null,4202,"обезщетения и помощи по социалното подпомагане",0,null,null,null,null,null,null,0,""]
[380,null,4214,"обезщетения и помощи по решение на общинския съвет",0,0,0,0,0,0,0,0,""]
[385,null,4217,"текущи трансфери за домакинства от средства на Европейския съюз",0,null,null,null,null,null,null,0,""]
[390,null,4218,"текущи трансфери за домакинства по други международни програми и споразумения",0,null,null,null,null,null,null,0,""]
[390,null,4219,"други текущи трансфери за домакинствата",0,0,0,0,0,0,0,0,""]
[395,4300,"Субсидии и други текущи трансфери за нефинансови предприятия",null,{"$f":"SUM(E9202:E9204)","v":0},0,0,{"$f":"SUM(H9202:H9204)","v":0},0,0,0,0,""]
[397,null,4301,"за текуща дейност",{"$f":"F9202+G9202+H9202","v":0},0,0,0,0,0,0,{"$f":"I9202+J9202+K9202","v":0},""]
[398,null,4302,"за осъществяване на болнична помощ ",0,null,null,null,null,null,null,0,""]
[399,null,4309,"други субсидии и плащания",0,null,null,null,null,null,null,0,""]
[400,4400,"Субсидии и други текущи трансфери за финансови институции",null,0,0,0,0,0,0,0,0,""]
[401,4500,"Субсидии и други текущи трансфери за юридически лица с нестопанска цел",null,0,0,0,0,0,0,0,0,""]
[404,4600,"Разходи за членски внос и участие в нетърговски организации и дейности",null,0,0,0,0,0,0,0,0,""]
[404,4900,"Предоставени текущи и капиталови трансфери за чужбина",null,{"$f":"+E9209+E9210","v":0},0,0,{"$f":"+H9209+H9210","v":0},0,0,0,0,""]
[440,null,4901,"текущи трансфери за чужбина",{"$f":"F9209+G9209+H9209","v":0},null,null,null,null,null,null,{"$f":"I9209+J9209+K9209","v":0},""]
[450,null,4902,"капиталови трансфери за чужбина",{"$f":"F9210+G9210+H9210","v":0},null,null,null,null,null,null,{"$f":"I9210+J9210+K9210","v":0},""]
[495,5100,"Основен ремонт на дълготрайни материални активи",null,{"$f":"F9211+G9211+H9211","v":0},0,0,0,0,0,0,{"$f":"I9211+J9211+K9211","v":0},""]
[500,5200,"Придобиване на дълготрайни материални активи",null,{"$f":"SUM(E9213:E9219)","v":0},0,0,{"$f":"SUM(H9213:H9219)","v":0},0,0,0,0,""]
[505,null,5201,"придобиване на компютри и хардуер",{"$f":"F9213+G9213+H9213","v":0},0,0,0,0,0,0,{"$f":"I9213+J9213+K9213","v":0},""]
[510,null,5202,"придобиване на сгради",0,0,0,0,0,0,0,0,""]
[515,null,5203,"придобиване на друго оборудване, машини и съоръжения",0,0,0,0,0,0,0,0,""]
[520,null,5204,"придобиване на транспортни средства",0,0,0,0,0,0,0,0,""]
[525,null,5205,"придобиване на стопански инвентар",0,0,0,0,0,0,0,0,""]
[635,null,5206,"изграждане на инфраструктурни обекти",0,0,0,0,0,0,0,0,""]
[640,null,5219,"придобиване на други ДМА",0,0,0,0,0,0,0,0,""]
[645,5300,"Придобиване на нематериални дълготрайни активи",null,{"$f":"SUM(E9221:E9222)","v":0},0,0,{"$f":"SUM(H9221:H9222)","v":0},0,0,0,0,""]
[650,null,5301,"придобиване на програмни продукти и лицензи за програмни продукти",{"$f":"F9221+G9221+H9221","v":0},0,0,0,0,0,0,{"$f":"I9221+J9221+K9221","v":0},""]
[655,null,5309,"придобиване на други нематериални дълготрайни активи",{"$f":"F9222+G9222+H9222","v":0},0,0,0,0,0,0,{"$f":"I9222+J9222+K9222","v":0},""]
[665,5400,"Придобиване на земя",null,{"$f":"F9223+G9223+H9223","v":0},null,0,0,0,null,0,{"$f":"I9223+J9223+K9223","v":0},""]
[675,5500,"Капиталови трансфери",null,{"$f":"SUM(E9225:E9228)","v":0},0,0,{"$f":"SUM(H9225:H9228)","v":0},0,0,0,0,""]
[685,null,5501,"капиталови трансфери за нефинансови предприятия",{"$f":"F9225+G9225+H9225","v":0},null,null,null,null,null,null,{"$f":"I9225+J9225+K9225","v":0},""]
[690,null,5502,"капиталови трансфери за финансови институции",{"$f":"F9226+G9226+H9226","v":0},null,null,null,null,null,null,{"$f":"I9226+J9226+K9226","v":0},""]
[695,null,5503,"капиталови трансфери за организации с нестопанска цел",{"$f":"F9227+G9227+H9227","v":0},null,null,null,null,null,null,{"$f":"I9227+J9227+K9227","v":0},""]
[700,null,5504,"капиталови трансфери за домакинствата",{"$f":"F9228+G9228+H9228","v":0},null,null,null,null,null,null,{"$f":"I9228+J9228+K9228","v":0},""]
[710,5700,"Прираст на държавния резерв и изкупуване на земеделска продукция (включва и § 40-71)",null,{"$f":"SUM(E9230:E9232)","v":0},0,0,0,0,0,0,{"$f":"SUM(L9230:L9232)","v":0},""]
[715,null,5701,"плащания за попълване на държавния резерв",{"$f":"F9230+G9230+H9230","v":0},0,0,0,0,0,0,{"$f":"I9230+J9230+K9230","v":0},""]
[720,null,5702,"плащания за изкупуване на земеделска продукция",{"$f":"F9231+G9231+H9231","v":0},0,0,0,0,0,0,{"$f":"I9231+J9231+K9231","v":0},""]
[725,null,4071,"постъпления от продажба на държавния резерв (-)",{"$f":"F9232+G9232+H9232","v":0},0,0,0,0,0,0,{"$f":"I9232+J9232+K9232","v":0},""]
[730,null,"Резерв за непредвидени и неотложни разходи",null,null,null,null,null,null,null,null,null,""]
[735,98,"Резерв за непредвидени и неотложни разходи",null,{"$f":"F9234+G9234+H9234","v":0},0,0,0,0,0,0,{"$f":"I9234+J9234+K9234","v":0},""]
[740,null,null,null,null,null,null,null,null,null,null,null,""]
[745,null,null,null,null,null,null,null,null,null,null,null,""]
[750,null,null,null,null,null,null,null,null,null,null,null,""]
[755,null,"99-99",{"$f":"+B9238","v":0},{"$f":"SUM(E9123,E9126,E9132,E9140,E9141,E9159,E9163,E9169,E9172,E9173,E9174,E9175,E9176,E9185,E9191,E9192,E9193,E9194,E9201,E9205,E9206,E9207,E9208,E9211,E9212,E9220,E9223,E9224,E9229)+E9234","v":0},0,0,0,0,0,0,0,{"$f":"(IF($E9238<>0,$M$2,IF($L9238<>0,$M$2,\"\")))","v":""},{"$f":"LEFT(C9120,1)","v":"9"}]
[760,"край на дейност",null,null,null,null,null,null,null,null,null,null,{"$f":"(IF($E9238<>0,$M$2,IF($L9238<>0,$M$2,\"\")))","v":""}]
[765,null,null,null,null,null,null,null,null,null,null,null,{"$f":"(IF($E9238<>0,$M$2,IF($L9238<>0,$M$2,\"\")))","v":""}]
[775,null,null,null,null,null,null,null,null,null,null,null,{"$f":"(IF(E9236<>0,$G$2,IF(L9236<>0,$G$2,\"\")))","v":""}]
[780,null,null,null,null,null,null,null,null,null,null,null,{"$f":"(IF($E9375<>0,$M$2,IF($L9375<>0,$M$2,\"\")))","v":""}]
[785,null,null,null,null,null,null,null,null,null,null,null,{"$f":"(IF($E9375<>0,$M$2,IF($L9375<>0,$M$2,\"\")))","v":""}]
[790,{"$f":"$B$7","v":"ОТЧЕТНИ ДАННИ ПО ЕБК ЗА ИЗПЪЛНЕНИЕТО НА БЮДЖЕТА"},null,null,null,null,null,null,null,null,null,null,{"$f":"(IF($E9375<>0,$M$2,IF($L9375<>0,$M$2,\"\")))","v":""}]
[795,null,null,null,"за периода от ","до",null,"        II.1. РАЗХОДИ ПО ДЕЙНОСТИ",null,null,null,null,{"$f":"(IF($E9375<>0,$M$2,IF($L9375<>0,$M$2,\"\")))","v":""}]
[805,{"$f":"$B$9","v":"ОУ Г.С.РАКОВСКИ-С.ГЪЛЪБЕЦ"},null,null,{"$f":"$E$9","v":"2020-01-01"},{"$f":"$F$9","v":"2020-03-31"},null,null,null,null,null,null,{"$f":"(IF($E9375<>0,$M$2,IF($L9375<>0,$M$2,\"\")))","v":""}]
[810,{"$f":"$B$10","v":"(наименование на разпоредителя с бюджет)"},null,null,null,null,null,null,null,null,null,null,{"$f":"(IF($E9375<>0,$M$2,IF($L9375<>0,$M$2,\"\")))","v":""}]
[815,null,null,null,null,null,null,null,null,null,null,null,{"$f":"(IF($E9375<>0,$M$2,IF($L9375<>0,$M$2,\"\")))","v":""}]
[525,{"$f":"$B$12","v":"Поморие"},null,null,"       код по ЕБК:",{"$f":"$F$12","v":"5207"},null,null,null,null,null,null,{"$f":"(IF($E9375<>0,$M$2,IF($L9375<>0,$M$2,\"\")))","v":""}]
[820,{"$f":"$B$13","v":"(наименование на първостепенния разпоредител с бюджет)"},null,null,null,null,null,null,null,null,null,null,{"$f":"(IF($E9375<>0,$M$2,IF($L9375<>0,$M$2,\"\")))","v":""}]
[821,null,null,"ФИНАНСОВО-ПРАВНА ФОРМА",{"$f":"$E$15","v":0},{"$f":"$F$15","v":"БЮДЖЕТ"},null,null,null,null,null,null,{"$f":"(IF($E9375<>0,$M$2,IF($L9375<>0,$M$2,\"\")))","v":""}]
[822,null,null,null,null,null,null,null,null,null,null,"(в лева)",{"$f":"(IF($E9375<>0,$M$2,IF($L9375<>0,$M$2,\"\")))","v":""}]
[823,null,null,"II.1. РАЗХОДИ ПО ДЕЙНОСТИ","Уточнен план 2020",null,null,null,"Отчет 2020",null,null,null,{"$f":"(IF($E9375<>0,$M$2,IF($L9375<>0,$M$2,\"\")))","v":""}]
[825,"§§","под-§§","НАИМЕНОВАНИЯ НА ПАРАГРАФИТЕ И ПОДПАРАГРАФИТЕ",{"$f":"$E$20","v":"Уточнен план                Общо"},{"$f":"$F$20","v":"държавни дейности"},{"$f":"$G$20","v":"местни дейности"},{"$f":"$H$20","v":"дофинансиране"},{"$f":"$I$20","v":"държавни дейности -ОТЧЕТ"},{"$f":"$J$20","v":"местни дейности - ОТЧЕТ"},{"$f":"$K$20","v":"дофинансиране - ОТЧЕТ"},{"$f":"$L$20","v":"ОТЧЕТ                                    ОБЩО"},{"$f":"(IF($E9375<>0,$M$2,IF($L9375<>0,$M$2,\"\")))","v":""}]
[null,null,null," 02 ¦",{"$f":"$E$21","v":"(1)"},{"$f":"$F$21","v":"(2)"},{"$f":"$G$21","v":"(3)"},{"$f":"$H$21","v":"(4)"},{"$f":"$I$21","v":"(5)"},{"$f":"$J$21","v":"(6)"},{"$f":"$K$21","v":"(7)"},{"$f":"$L$21","v":"(8)"},{"$f":"(IF($E9375<>0,$M$2,IF($L9375<>0,$M$2,\"\")))","v":""}]
[null,null,{"$f":"VLOOKUP(D9256,OP_LIST2,2,FALSE)","v":{"$error":"#N/A"}},null,null,null,null,null,null,null,null,null,{"$f":"(IF($E9375<>0,$M$2,IF($L9375<>0,$M$2,\"\")))","v":""}]
[null,null,{"$f":"VLOOKUP(D9258,EBK_DEIN2,2,FALSE)","v":5562},"<------          ДЕЙНОСТ    -  код  по  ЕБК",null,null,null,null,null,null,null,null,{"$f":"(IF($E9375<>0,$M$2,IF($L9375<>0,$M$2,\"\")))","v":""}]
[null,null,{"$f":"+C9257","v":5562},"562 Асистенти за лична помощ",null,null,null,null,null,null,null,null,{"$f":"(IF($E9375<>0,$M$2,IF($L9375<>0,$M$2,\"\")))","v":""}]
[null,null,null,"(наименование на дейността)",null,null,null,null,null,null,null,null,{"$f":"(IF($E9375<>0,$M$2,IF($L9375<>0,$M$2,\"\")))","v":""}]
[null,100,"Заплати и възнаграждения за персонала, нает по трудови и служебни правоотношения",null,{"$f":"SUM(E9261:E9262)","v":0},0,0,{"$f":"SUM(H9261:H9262)","v":0},0,0,0,0,{"$f":"(IF($E9260<>0,$M$2,IF($L9260<>0,$M$2,\"\")))","v":""}]
[null,null,101,"заплати и възнаграждения на персонала нает по трудови правоотношения",{"$f":"F9261+G9261+H9261","v":0},0,0,0,0,0,0,{"$f":"I9261+J9261+K9261","v":0},{"$f":"(IF($E9261<>0,$M$2,IF($L9261<>0,$M$2,\"\")))","v":""}]
[null,null,102,"заплати и възнаграждения на персонала нает по служебни правоотношения",{"$f":"F9262+G9262+H9262","v":0},0,0,0,0,0,0,{"$f":"I9262+J9262+K9262","v":0},""]
[null,200,"Други възнаграждения и плащания за персонала",null,{"$f":"SUM(E9264:E9268)","v":0},0,0,{"$f":"SUM(H9264:H9268)","v":0},0,0,0,0,""]
[null,null,201,"за нещатен персонал нает по трудови правоотношения ",{"$f":"F9264+G9264+H9264","v":0},0,0,0,0,0,0,{"$f":"I9264+J9264+K9264","v":0},""]
[null,null,202,"за персонала по извънтрудови правоотношения",{"$f":"F9265+G9265+H9265","v":0},0,0,0,0,0,0,{"$f":"I9265+J9265+K9265","v":0},""]
[null,null,205,"изплатени суми от СБКО за облекло и други на персонала, с характер на възнаграждение",{"$f":"F9266+G9266+H9266","v":0},0,0,0,0,0,0,{"$f":"I9266+J9266+K9266","v":0},""]
[null,null,208,"обезщетения за персонала, с характер на възнаграждение",{"$f":"F9267+G9267+H9267","v":0},0,0,0,0,0,0,{"$f":"I9267+J9267+K9267","v":0},""]
[null,null,209,"другиплащания и възнаграждения",{"$f":"F9268+G9268+H9268","v":0},0,0,0,0,0,0,{"$f":"I9268+J9268+K9268","v":0},""]
[null,500,"Задължителни осигурителни вноски от работодатели",null,{"$f":"SUM(E9270:E9276)","v":0},0,0,{"$f":"SUM(H9270:H9276)","v":0},0,0,0,0,""]
[null,null,551,"осигурителни вноски от работодатели за Държавното обществено осигуряване (ДОО)",{"$f":"F9270+G9270+H9270","v":0},0,0,0,0,0,0,{"$f":"I9270+J9270+K9270","v":0},""]
[null,null,552,"осигурителни вноски от работодатели за Учителския пенсионен фонд (УчПФ)",0,0,0,0,0,0,0,0,""]
[null,null,558,"вноски по чл. 4б и 4в от КСО за сметка на осигурителя",{"$f":"F9272+G9272+H9272","v":0},0,0,0,0,0,0,{"$f":"I9272+J9272+K9272","v":0},""]
[null,null,560,"здравно-осигурителни вноски от работодатели",0,0,0,0,0,0,0,0,""]
[null,null,580,"вноски за допълнително задължително осигуряване от работодатели",0,0,0,0,0,0,0,0,""]
[null,null,588,"коректив на вноски за ДЗПО за сумите по чл. 4б и 4в от КСО за сметка на осигурителя",{"$f":"F9275+G9275+H9275","v":0},0,0,0,0,0,0,{"$f":"I9275+J9275+K9275","v":0},""]
[null,null,590,"задължителни вноски за чуждестранни пенсионни фондове и  схеми за сметка на осигурителя",0,null,null,null,null,null,null,0,""]
[5,800,"Вноски за доброволно осигуряване  ",null,0,null,null,null,null,null,null,0,""]
[10,1000,"Издръжка",null,{"$f":"SUM(E9279:E9295)","v":0},0,0,{"$f":"SUM(H9279:H9295)","v":0},0,0,0,0,""]
[15,null,1011,"Храна",{"$f":"F9279+G9279+H9279","v":0},0,0,0,0,0,0,{"$f":"I9279+J9279+K9279","v":0},""]
[35,null,1012,"Медикаменти",0,0,0,0,0,0,0,0,""]
[40,null,1013,"Постелен инвентар и облекло",0,0,0,0,0,0,0,0,""]
[45,null,1014,"Учебни и научно-изследователски разходи и книги за библиотеките",0,0,0,0,0,0,0,0,""]
[50,null,1015,"материали",0,0,0,0,0,0,0,0,""]
[55,null,1016,"вода, горива и енергия",0,0,0,0,0,0,0,0,""]
[60,null,1020,"разходи за външни услуги",0,0,0,0,0,0,0,0,""]
[65,null,1030,"Текущ ремонт",0,0,0,0,0,0,0,0,""]
[70,null,1051,"командировки в страната",0,0,0,0,0,0,0,0,""]
[75,null,1052,"краткосрочни командировки в чужбина",0,0,0,0,0,0,0,0,""]
[80,null,1053,"дългосрочни командировки в чужбина",0,null,null,null,null,null,null,0,""]
[80,null,1062,"разходи за застраховки",0,0,0,0,0,0,0,0,""]
[85,null,1063,"такса ангажимент по заеми",0,0,0,0,0,0,0,0,""]
[90,null,1069,"други финансови услуги",0,0,0,0,0,0,0,0,""]
[90,null,1091,"други разходи за СБКО",0,0,0,0,0,0,0,0,""]
[115,null,1092,"разходи за договорни санкции и неустойки, съдебни обезщетения и разноски",0,0,0,0,0,0,0,0,""]
[125,null,1098,"други разходи, некласифицирани в другите параграфи и подпараграфи",0,0,0,0,0,0,0,0,""]
[130,1900,"Платени данъци, такси и административни санкции",null,{"$f":"SUM(E9297:E9299)","v":0},0,0,{"$f":"SUM(H9297:H9299)","v":0},0,0,0,0,""]
[135,null,1901,"платени държавни данъци, такси, наказателни лихви и административни санкции",{"$f":"F9297+G9297+H9297","v":0},0,0,0,0,0,0,{"$f":"I9297+J9297+K9297","v":0},""]
[140,null,1981,"платени общински данъци, такси, наказателни лихви и административни санкции",{"$f":"F9298+G9298+H9298","v":0},0,0,0,0,0,0,{"$f":"I9298+J9298+K9298","v":0},""]
[145,null,1991,"платени данъци, такси, наказателни лихви и административни санкции в чужбина",{"$f":"F9299+G9299+H9299","v":0},null,null,null,null,null,null,{"$f":"I9299+J9299+K9299","v":0},""]
[150,2100,"Разходи за лихви по емисии на държавни (общински) ценни книжа",null,{"$f":"SUM(E9301:E9305)","v":0},0,0,{"$f":"SUM(H9301:H9305)","v":0},0,0,0,0,""]
[155,null,2110,"лихви по държавни (общински) ценни книжа",{"$f":"F9301+G9301+H9301","v":0},0,0,0,0,0,0,{"$f":"I9301+J9301+K9301","v":0},""]
[160,null,2120,"отстъпки по държавни (общински) ценни книжа",{"$f":"F9302+G9302+H9302","v":0},null,null,null,null,null,null,{"$f":"I9302+J9302+K9302","v":0},""]
[165,null,2125,"лихви и отстъпки по целеви емисии на държавни ценни книжа",{"$f":"F9303+G9303+H9303","v":0},0,0,0,0,0,0,{"$f":"I9303+J9303+K9303","v":0},""]
[175,null,2140,"лихви по държавни ценни книжа, емитирани за структурната реформа ",{"$f":"F9304+G9304+H9304","v":0},0,0,0,0,0,0,{"$f":"I9304+J9304+K9304","v":0},""]
[180,null,2190,"премии над номинала от емисии на държавни (общински) ценни книжа (-)",{"$f":"F9305+G9305+H9305","v":0},null,null,null,null,null,null,{"$f":"I9305+J9305+K9305","v":0},""]
[185,2200,"Разходи за лихви по заеми от страната",null,{"$f":"SUM(E9307:E9308)","v":0},0,0,{"$f":"SUM(H9307:H9308)","v":0},0,0,0,0,""]
[190,null,2221,"Разходи за лихви по заеми от банки в страната",{"$f":"F9307+G9307+H9307","v":0},0,0,0,0,0,0,{"$f":"I9307+J9307+K9307","v":0},""]
[200,null,2224,"Разходи за лихви по други заеми от страната",0,0,0,0,0,0,0,0,""]
[200,2500,"Разходи за лихви по заеми от други държави",null,0,null,null,null,null,null,null,0,""]
[205,2600,"Разходи за лихви по заеми от международни организации и институции",null,0,null,null,null,null,null,null,0,""]
[210,2700,"Разходи за лихви по заеми от банки и други финансови институции от чужбина",null,0,null,null,null,null,null,null,0,""]
[215,2800,"Разходи за лихви и отстъпки по облигации, емитирани и търгувани на международните капиталови пазари",null,0,null,null,null,null,null,null,0,""]
[220,2900,"Други разходи за лихви",null,{"$f":"SUM(E9314:E9321)","v":0},{"$f":"SUM(F9314:F9321)","v":0},{"$f":"SUM(G9314:G9321)","v":0},0,0,0,0,0,""]
[225,null,2910,"Платени лихви по финансов лизинг и търговски кредит",{"$f":"F9314+G9314+H9314","v":0},0,null,null,0,null,null,{"$f":"I9314+J9314+K9314","v":0},""]
[230,null,2920,"Платени лихви по активирани гаранции по заеми от  банки в страната",{"$f":"F9315+G9315+H9315","v":0},null,null,null,null,null,null,{"$f":"I9315+J9315+K9315","v":0},""]
[245,null,2969,"Платени лихви по активирани гаранции по заеми от международни организации и институции",0,null,null,null,null,null,null,0,""]
[220,null,2970,"Платени лихви по активирани гаранции по заеми от банки и финансови институции от чужбина",0,null,null,null,null,null,null,0,""]
[225,null,2989,"Възстановени суми по платени лихви по активирани гаранции (-)",0,null,null,null,null,null,null,0,""]
[230,null,2990,"Платени лихви по активирани гаранции по заеми от  банки в страната",{"$f":"F9319+G9319+H9319","v":0},null,null,null,null,null,null,{"$f":"I9319+J9319+K9319","v":0},""]
[235,null,2991,"Други разходи за лихви към  местни лица",0,0,0,0,0,0,0,0,""]
[240,null,2992,"Други разходи за лихви към чуждестранни лица",0,null,null,null,null,null,null,0,""]
[245,3300,"Вноска в общия бюджет на Европейския съюз",null,{"$f":"SUM(E9323:E9327)","v":0},0,0,0,0,0,0,0,""]
[250,null,3301,"ресурс на база брутен национален доход",{"$f":"F9323+G9323+H9323","v":0},0,0,0,0,0,0,{"$f":"I9323+J9323+K9323","v":0},""]
[255,null,3302,"ресурс на база данък върху добавената стойност",0,0,0,0,0,0,0,0,""]
[265,null,3303,"корекция за Обединеното кралство",0,0,0,0,0,0,0,0,""]
[270,null,3304,"традиционни собствени ресурси - мита",0,0,0,0,0,0,0,0,""]
[290,null,3306,"участие във финансирането на брутното намаление за Нидерландия, Швеция, Дания и Австрия",0,0,0,0,0,0,0,0,""]
[320,3900,"Здравно-осигурителни плащания",null,0,0,0,0,0,0,0,0,{"$f":"(IF($E9328<>0,$M$2,IF($L9328<>0,$M$2,\"\")))","v":""}]
[330,4000,"Стипендии",null,0,0,0,0,0,0,0,0,""]
[350,4100,"Пенсии",null,0,0,0,0,0,0,0,0,""]
[355,4200,"Текущи трансфери, обезщетения и помощи за домакинствата",null,{"$f":"SUM(E9332:E9337)","v":0},0,0,{"$f":"SUM(H9332:H9337)","v":0},0,0,0,0,""]
[355,null,4201,"обезщетения и помощи по социалното осигуряване",{"$f":"F9332+G9332+H9332","v":0},null,null,null,null,null,null,{"$f":"I9332+J9332+K9332","v":0},""]
[375,null,4202,"обезщетения и помощи по социалното подпомагане",0,null,null,null,null,null,null,0,""]
[380,null,4214,"обезщетения и помощи по решение на общинския съвет",0,0,0,0,0,0,0,0,""]
[385,null,4217,"текущи трансфери за домакинства от средства на Европейския съюз",0,null,null,null,null,null,null,0,""]
[390,null,4218,"текущи трансфери за домакинства по други международни програми и споразумения",0,null,null,null,null,null,null,0,""]
[390,null,4219,"други текущи трансфери за домакинствата",0,0,0,0,0,0,0,0,""]
[395,4300,"Субсидии и други текущи трансфери за нефинансови предприятия",null,{"$f":"SUM(E9339:E9341)","v":0},0,0,{"$f":"SUM(H9339:H9341)","v":0},0,0,0,0,""]
[397,null,4301,"за текуща дейност",{"$f":"F9339+G9339+H9339","v":0},0,0,0,0,0,0,{"$f":"I9339+J9339+K9339","v":0},""]
[398,null,4302,"за осъществяване на болнична помощ ",0,null,null,null,null,null,null,0,""]
[399,null,4309,"други субсидии и плащания",0,null,null,null,null,null,null,0,""]
[400,4400,"Субсидии и други текущи трансфери за финансови институции",null,0,0,0,0,0,0,0,0,""]
[401,4500,"Субсидии и други текущи трансфери за юридически лица с нестопанска цел",null,0,0,0,0,0,0,0,0,""]
[404,4600,"Разходи за членски внос и участие в нетърговски организации и дейности",null,0,0,0,0,0,0,0,0,""]
[404,4900,"Предоставени текущи и капиталови трансфери за чужбина",null,{"$f":"+E9346+E9347","v":0},0,0,{"$f":"+H9346+H9347","v":0},0,0,0,0,""]
[440,null,4901,"текущи трансфери за чужбина",{"$f":"F9346+G9346+H9346","v":0},null,null,null,null,null,null,{"$f":"I9346+J9346+K9346","v":0},""]
[450,null,4902,"капиталови трансфери за чужбина",{"$f":"F9347+G9347+H9347","v":0},null,null,null,null,null,null,{"$f":"I9347+J9347+K9347","v":0},""]
[495,5100,"Основен ремонт на дълготрайни материални активи",null,{"$f":"F9348+G9348+H9348","v":0},0,0,0,0,0,0,{"$f":"I9348+J9348+K9348","v":0},""]
[500,5200,"Придобиване на дълготрайни материални активи",null,{"$f":"SUM(E9350:E9356)","v":0},0,0,{"$f":"SUM(H9350:H9356)","v":0},0,0,0,0,""]
[505,null,5201,"придобиване на компютри и хардуер",{"$f":"F9350+G9350+H9350","v":0},0,0,0,0,0,0,{"$f":"I9350+J9350+K9350","v":0},""]
[510,null,5202,"придобиване на сгради",0,0,0,0,0,0,0,0,""]
[515,null,5203,"придобиване на друго оборудване, машини и съоръжения",0,0,0,0,0,0,0,0,""]
[520,null,5204,"придобиване на транспортни средства",0,0,0,0,0,0,0,0,""]
[525,null,5205,"придобиване на стопански инвентар",0,0,0,0,0,0,0,0,""]
[635,null,5206,"изграждане на инфраструктурни обекти",0,0,0,0,0,0,0,0,""]
[640,null,5219,"придобиване на други ДМА",0,0,0,0,0,0,0,0,""]
[645,5300,"Придобиване на нематериални дълготрайни активи",null,{"$f":"SUM(E9358:E9359)","v":0},0,0,{"$f":"SUM(H9358:H9359)","v":0},0,0,0,0,""]
[650,null,5301,"придобиване на програмни продукти и лицензи за програмни продукти",{"$f":"F9358+G9358+H9358","v":0},0,0,0,0,0,0,{"$f":"I9358+J9358+K9358","v":0},""]
[655,null,5309,"придобиване на други нематериални дълготрайни активи",{"$f":"F9359+G9359+H9359","v":0},0,0,0,0,0,0,{"$f":"I9359+J9359+K9359","v":0},""]
[665,5400,"Придобиване на земя",null,{"$f":"F9360+G9360+H9360","v":0},null,0,0,0,null,0,{"$f":"I9360+J9360+K9360","v":0},""]
[675,5500,"Капиталови трансфери",null,{"$f":"SUM(E9362:E9365)","v":0},0,0,{"$f":"SUM(H9362:H9365)","v":0},0,0,0,0,""]
[685,null,5501,"капиталови трансфери за нефинансови предприятия",{"$f":"F9362+G9362+H9362","v":0},null,null,null,null,null,null,{"$f":"I9362+J9362+K9362","v":0},""]
[690,null,5502,"капиталови трансфери за финансови институции",{"$f":"F9363+G9363+H9363","v":0},null,null,null,null,null,null,{"$f":"I9363+J9363+K9363","v":0},""]
[695,null,5503,"капиталови трансфери за организации с нестопанска цел",{"$f":"F9364+G9364+H9364","v":0},null,null,null,null,null,null,{"$f":"I9364+J9364+K9364","v":0},""]
[700,null,5504,"капиталови трансфери за домакинствата",{"$f":"F9365+G9365+H9365","v":0},null,null,null,null,null,null,{"$f":"I9365+J9365+K9365","v":0},""]
[710,5700,"Прираст на държавния резерв и изкупуване на земеделска продукция (включва и § 40-71)",null,{"$f":"SUM(E9367:E9369)","v":0},0,0,0,0,0,0,{"$f":"SUM(L9367:L9369)","v":0},""]
[715,null,5701,"плащания за попълване на държавния резерв",{"$f":"F9367+G9367+H9367","v":0},0,0,0,0,0,0,{"$f":"I9367+J9367+K9367","v":0},""]
[720,null,5702,"плащания за изкупуване на земеделска продукция",{"$f":"F9368+G9368+H9368","v":0},0,0,0,0,0,0,{"$f":"I9368+J9368+K9368","v":0},""]
[725,null,4071,"постъпления от продажба на държавния резерв (-)",{"$f":"F9369+G9369+H9369","v":0},0,0,0,0,0,0,{"$f":"I9369+J9369+K9369","v":0},""]
[730,null,"Резерв за непредвидени и неотложни разходи",null,null,null,null,null,null,null,null,null,""]
[735,98,"Резерв за непредвидени и неотложни разходи",null,{"$f":"F9371+G9371+H9371","v":0},null,null,null,0,0,0,{"$f":"I9371+J9371+K9371","v":0},""]
[740,null,null,null,null,null,null,null,null,null,null,null,""]
[745,null,null,null,null,null,null,null,null,null,null,null,""]
[750,null,null,null,null,null,null,null,null,null,null,null,""]
[755,null,"99-99",{"$f":"+B9375","v":0},{"$f":"SUM(E9260,E9263,E9269,E9277,E9278,E9296,E9300,E9306,E9309,E9310,E9311,E9312,E9313,E9322,E9328,E9329,E9330,E9331,E9338,E9342,E9343,E9344,E9345,E9348,E9349,E9357,E9360,E9361,E9366)+E9371","v":0},0,0,0,0,0,0,0,{"$f":"(IF($E9375<>0,$M$2,IF($L9375<>0,$M$2,\"\")))","v":""},{"$f":"LEFT(C9257,1)","v":"5"}]
[760,"край на дейност",null,null,null,null,null,null,null,null,null,null,{"$f":"(IF($E9375<>0,$M$2,IF($L9375<>0,$M$2,\"\")))","v":""}]
[765,null,null,null,null,null,null,null,null,null,null,null,{"$f":"(IF($E9375<>0,$M$2,IF($L9375<>0,$M$2,\"\")))","v":""}]
[775,null,null,null,null,null,null,null,null,null,null,null,{"$f":"(IF(E9373<>0,$G$2,IF(L9373<>0,$G$2,\"\")))","v":""}]
[780,null,null,null,null,null,null,null,null,null,null,null,{"$f":"(IF(E9374<>0,$G$2,IF(L9374<>0,$G$2,\"\")))","v":""}]
[785]
[790]
[795]
[805]
[810]
[815]
[525]
[820]
[821]
[822]
[823]
[825]
[]
[]
[]
[]
[]
[]
[]
[]
[]
[]
[]
[]
[]
[]
[]
[905]
[906]
[]
[907]

{"sheet":"list","index":3,"n_rows":725,"n_cols":3,"rows_kept":725,"cut":false,"hidden":true,"merged":[]}
["Name:","SMETKA"]
[0,"ОТЧЕТНИ ДАННИ ПО ЕБК ЗА ИЗПЪЛНЕНИЕТО НА БЮДЖЕТА","                                  ОТЧЕТ ЗА КАСОВОТО ИЗПЪЛНЕНИЕ НА БЮДЖЕТА"]
[33,"ОТЧЕТНИ ДАННИ ПО ЕБК ЗА СМЕТКИТЕ ЗА ЧУЖДИ СРЕДСТВА","                   ОТЧЕТ ЗА КАСОВОТО ИЗПЪЛНЕНИЕ НА СМЕТКИТЕ ЗА ЧУЖДИ СРЕДСТВА"]
[42,"ОТЧЕТНИ ДАННИ ПО ЕБК ЗА СМЕТКИТЕ ЗА СРЕДСТВАТА ОТ ЕВРОПЕЙСКИЯ СЪЮЗ - РА","ОТЧЕТ ЗА КАСОВОТО ИЗПЪЛНЕНИЕ НА СМЕТКИТЕ ЗА СРЕДСТВАТА ОТ ЕВРОПЕЙСКИЯ СЪЮЗ - РА"]
[96,"ОТЧЕТНИ ДАННИ ПО ЕБК ЗА СМЕТКИТЕ ЗА СРЕДСТВАТА ОТ ЕВРОПЕЙСКИЯ СЪЮЗ - ДЕС","ОТЧЕТ ЗА КАСОВОТО ИЗПЪЛНЕНИЕ НА СМЕТКИТЕ ЗА СРЕДСТВАТА ОТ ЕВРОПЕЙСКИЯ СЪЮЗ - ДЕС"]
[97,"ОТЧЕТНИ ДАННИ ПО ЕБК ЗА СМЕТКИТЕ ЗА СРЕДСТВАТА ОТ ЕВРОПЕЙСКИЯ СЪЮЗ - ДМП","ОТЧЕТ ЗА КАСОВОТО ИЗПЪЛНЕНИЕ НА СМЕТКИТЕ ЗА СРЕДСТВАТА ОТ ЕВРОПЕЙСКИЯ СЪЮЗ - ДМП"]
[98,"ОТЧЕТНИ ДАННИ ПО ЕБК ЗА СМЕТКИТЕ ЗА СРЕДСТВАТА ОТ ЕВРОПЕЙСКИЯ СЪЮЗ - КСФ","ОТЧЕТ ЗА КАСОВОТО ИЗПЪЛНЕНИЕ НА СМЕТКИТЕ ЗА СРЕДСТВАТА ОТ ЕВРОПЕЙСКИЯ СЪЮЗ - КСФ"]
[]
[]
["Name:","\"EBK_DEIN\" и \"EBK_DEIN2\""]
[null,"ИЗБЕРЕТЕ ДЕЙНОСТ"]
[1101,"101 Централни държавни органи",1101]
[1103,"103 Централни държавни органи по образованието",1103]
[1104,"104 Централни държавни органи по здравеопазването",1104]
[1105,"105 Централни държавни органи по социалното осигуряването",1105]
[1106,"106 Централни държавни органи по регионалното развитие и благоустройство",1106]
[1107,"107 Централни държавни органи по културата и спорта",1107]
[1108,"108 Централни държавни органи по икономическите дейности и услуги",1108]
[1111,"111 Контролни органи",1111]
[1115,"115 Управление, контрол и регулиране на външните работи",1115]
[1116,"116 Посолства, консулства, представителства и мисии в чужбина",1116]
[1117,"117 Държавни и общински служби и дейности по изборите",1117]
[1121,"121 Областни администрации",1121]
[1122,"122 Общинска администрация",1122]
[1123,"123 Общински съвети ",1123]
[1125,"125 Членове на Европейския парламент от Република България",1125]
[1128,"128 Международни програми и споразумения, дарения и помощи от чужбина",1128]
[1139,"139 Други изпълнителни и законодателни органи",1139]
[1141,"141 Статистически институт,служби и дейности,социологически проучвания и анкети",1141]
[1142,"142 Общоикономическо и социално програмиране и прогнозиране",1142]
[1143,"143 Регистрация и контрол на чуждестранните инвестиции",1143]
[1144,"144 Служби и дейности за връзки с българите в чужбина",1144]
[1145,"145 Служби и дейности за подпомагане на бежанците",1145]
[1146,"146 Управление и администриране на получена чуждестранна помощ",1146]
[1147,"147 Управление на държавния резерв и военновременните запаси",1147]
[1148,"148 Управление на гражд.администрация и административнообслужване на населението",1148]
[1149,"149 Други общи служби",1149]
[1151,"151 Ликвидационна комисия за закрити бюджетни организации",1151]
[1158,"158 Международни програми и споразумения, дарения и помощи от чужбина",1158]
[1161,"161 Организация и управление на научните изследвания и дейности",1161]
[1162,"162 Научноизследователско дело",1162]
[1163,"163 Научноизследователски институти и центрове",1163]
[1168,"168 Международни програми и споразумения, дарения и помощи от чужбина",1168]
[1179,"179 Други дейности на науката",1179]
[2201,"201 Дейности по отбраната",2201]
[2205,"205 Участие на Република България в НАТО",2205]
[2206,"206 Мироопазващи мисии в чужбина",2206]
[2215,"215 Приложни научни изследвания в областта на отбраната",2215]
[2218,"218 Международни програми и споразумения, дарения и помощи от чужбина",2218]
[2219,"219 Други дейности по отбраната",2219]
[2221,"221 Полиция и вътрешен ред",2221]
[2222,"222 Национална служба за охрана",2222]
[2223,"223 Държавна агенция \"Разузнаване\"",2223]
[2224,"224 Противопожарна охрана",2224]
[2225,"225 Приложни научни изследвания в областта на вътрешния ред и сигурност",2225]
[2228,"228 Международни програми и споразумения, дарения и помощи от чужбина",2228]
[2239,"239 Други дейности по вътрешната сигурност",2239]
[2241,"241 Висш съдебен съвет",2241]
[2242,"242 Върховен административен съд",2242]
[2243,"243 Върховен касационен съд",2243]
[2244,"244 Прокуратура",2244]
[2245,"245 Национална следствена служба",2245]
[2246,"246 Съдилища",2246]
[2247,"247 Окръжни следствени служби",2247]
[2248,"248 Инспекторат към Висшия съдебен съвет",2248]
[2249,"249 Национален институт на правосъдието",2249]
[2258,"258 Международни програми и споразумения, дарения и помощи от чужбина",2258]
[2259,"259 Други дейности на съдебната власт",2259]
[2261,"261 Места за лишаване от свобода",2261]
[2268,"268 Международни програми и споразумения, дарения и помощи от чужбина",2268]
[2279,"279 Други дейности на администрацията на затворите",2279]
[2281,"281 Неотложна дейност по защита на населението и националното стопанство",2281]
[2282,"282 Отбранително-мобилизационна подготовка, поддържане на запаси и мощности",2282]
[2283,"283 Превантивна дейност за намаляване на вредните последствия от бедствия и аварии",2283]
[2284,"284 Ликвидиране на последици от стихийни бедствия и производствени аварии",2284]
[2285,"285 Доброволни формирования за защита при бедствия",2285]
[2288,"288 Международни програми и споразумения, дарения и помощи от чужбина",2288]
[2289,"289 Други дейности за защита на населението при стихийни бедствия и аварии",2289]
[3301,"301 Управление, контрол, регулиране и лицензиране на дейности по образованието",3301]
[3311,"311 Детски градини",3311]
[3312,"312 Специални групи в детски градини за деца със СОП",3312]
[3318,"318 Подготвителна група в училище",3318]
[3321,"321 Специални училища и центрове за специална образователна подкрепа",3321]
[3322,"322 Неспециализирани училища, без професионални гимназии",3322]
[3323,"323 Училища по културата и училища по изкуствата",3323]
[3324,"324 Спортни училища",3324]
[3325,"325 Български училища в чужбина",3325]
[3326,"326 Професионални гимназии и паралелки за професионална подготовка",3326]
[3327,"327 Училища в места за лишаване от свобода",3327]
[3332,"332 Общежития",3332]
[3333,"333 Ученически почивни лагери",3333]
[3334,"334 Повишаване на квалификацията",3334]
[3336,"336 Столове",3336]
[3337,"337 Център за подкрепа за личностно развитие",3337]
[3338,"338 Ресурсно подпомагане",3338]
[3341,"341 Академии, университети и висши училища",3341]
[3349,"349 Приложни научни изследвания в областта на образованието",3349]
[3359,"359 Други дейности за децата",3359]
[3369,"369 Други дейности за младежта",3369]
[3388,"388 Международни програми и споразумения, дарения и помощи от чужбина",3388]
[3389,"389 Други дейности по образованието",3389]
[4401,"401 Управление, контрол и регулиране на дейности по здравеопазването",4401]
[4412,"412 Многопрофилни болници за активно лечение ",4412]
[4415,"415 Домове за медико-социални грижи ",4415]
[4418,"418 Психиатрични болници",4418]
[4429,"429 Центрове за спешна медицинска помощ",4429]
[4431,"431 Детски ясли, детски кухни и яслени групи в детска градина",4431]
[4433,"433 Рехабилитация",4433]
[4436,"436 Национални центрове",4436]
[4437,"437 Здравен кабинет в детски градини и училища",4437]
[4448,"448 Центрове за комплексно обслужване на деца с увреждания и хронични заболявания",4448]
[4450,"450 Преобразувани лечебни заведения",4450]
[4451,"451 Плащания за първична извънболнична медицинска помощ",4451]
[4452,"452 Плащания за специализирана извънболнична медицинска помощ",4452]
[4453,"453 Плащания за дентална помощ",4453]
[4454,"454 Плащания за медико-диагностична дейност",4454]
[4455,"455 Плащания за лекарствени продукти, медицински изделия и диетични храни за специални медицински цели за домашно лечение на територията на страната",4455]
[4456,"456 Плащания за болнична медицинска помощ",4456]
[4457,"457 Плащания за медицински изделия прилагани в болничната медицинска помощ",4457]
[4458,"458 Плащания за лекарствени продукти в условия на болнична медицинска помощ",4458]
[4459,"459 Други здравноосигурителни плащания",4459]
[4465,"465 Приложни научни изследвания в областта на здравеопазването",4465]
[4467,"467 Национални програми",4467]
[4468,"468 Международни програми и споразумения, дарения и помощи от чужбина",4468]
[4469,"469 Други дейности по здравеопазването",4469]
[5501,"501 Пенсии",5501]
[5511,"511 Помощи по Закона за семейните помощи за деца",5511]
[5512,"512 Помощи по Закона за социално подпомагане",5512]
[5513,"513 Помощи по Закона за хората с увреждания",5513]
[5514,"514 Помощи за диагностика и лечение на социално слаби лица",5514]
[5515,"515 Помощи по Закона за закрила на детето",5515]
[5516,"516 Помощи по Закона за ветераните от войните на Република България",5516]
[5517,"517 Помощи по Закона за военноинвалидите и военнопострадалите",5517]
[5518,"518 Социални помощи и обезщетения по международни програми, помощи и дарения",5518]
[5519,"519 Други помощи и обезщетения",5519]
[5521,"521 Служби по социалното осигуряване (ДОО и др.)",5521]
[5522,"522 Дирекции за социално подпомагане",5522]
[5524,"524 Домашен социален патронаж",5524]
[5525,"525 Клубове на пенсионера, инвалида и др.",5525]
[5526,"526 Центрове за обществена подкрепа",5526]
[5527,"527 Звена \"Майка и бебе\"",5527]
[5528,"528 Център за работа с деца на улицата",5528]
[5529,"529 Кризисен център",5529]
[5530,"530 Център за настаняване от семеен тип",5530]
[5531,"531 Дейности за предотвратяване на трудови злополуки и професионални болести",5531]
[5532,"532 Програми за временна заетост",5532]
[5533,"533 Други програми и дейности за осигуряване на заетост",5533]
[5534,"534 Наблюдавани жилища",5534]
[5535,"535 Преходни жилища",5535]
[5538,"538 Програми за закрила на детето",5538]
[5540,"540 Домове за стари хора",5540]
[5541,"541 Домове за възрастни хора с увреждания",5541]
[5545,"545 Социален учебно-професионален център",5545]
[5546,"546 Домове за деца",5546]
[5547,"547 Център за временно настаняване",5547]
[5548,"548 Дневни центрове за стари хора",5548]
[5550,"550 Центрове за социална рехабилитация и интеграция",5550]
[5551,"551 Дневни центрове за лица с увреждания",5551]
[5553,"553 Приюти",5553]
[5554,"554 Защитени жилища",5554]
[5556,"556 Приложни научни изследвания в областта на социалното осигуряване и подпомагане",5556]
[5561,"561 Социални услуги в домашна среда",5561]
[5562,"562 Асистенти за лична помощ",5562]
[5588,"588 Международни програми и споразумения, дарения и помощи от чужбина",5588]
[5589,"589 Други служби и дейности по социалното осигуряване, подпомагане и заетостта",5589]
[6601,"601 Управление, контрол и регулиране на дейностите по жил. строителство и териториално развитие",6601]
[6602,"602 Служби по кадастър, геодезия и регистрация на недвижимата собственост",6602]
[6603,"603 Водоснабдяване и канализация",6603]
[6604,"604 Осветление на улици и площади",6604]
[6605,"605 Бани и перални",6605]
[6606,"606 Изграждане, ремонт и поддържане на уличната мрежа",6606]
[6618,"618 Международни програми и споразумения, дарения и помощи от чужбина",6618]
[6619,"619 Други дейности по жилищното строителство, благоустройството и регионалното развитие",6619]
[6621,"621 Управление, контрол и регулиране на дейностите по опазване на околната среда",6621]
[6622,"622 Озеленяване",6622]
[6623,"623 Чистота",6623]
[6624,"624 Геозащита",6624]
[6625,"625 Приложни и научни изследвания  в областта на опазване на околната среда",6625]
[6626,"626 Пречистване на отпадъчните води от населените места",6626]
[6627,"627 Управление на дейностите по отпадъците",6627]
[6628,"628 Международни програми и споразумения, дарения и помощи от чужбина",6628]
[6629,"629 Други дейности по опазване на околната среда",6629]
[7701,"701 Дейности по почивното дело и социалния отдих",7701]
[7708,"708 Международни програми и споразумения, дарения и помощи от чужбина",7708]
[7711,"711 Управление, контрол и регулиране на дейностите по спорта",7711]
[7712,"712 Детски и специализирани спортни школи",7712]
[7713,"713 Спорт за всички",7713]
[7714,"714 Спортни бази за спорт за всички",7714]
[7718,"718 Международни програми и споразумения, дарения и помощи от чужбина",7718]
[7719,"719 Други дейности по спорта и физическата култура",7719]
[7731,"731 Управление, контрол и регулиране на дейностите по културата",7731]
[7732,"732 Културни дейности",7732]
[7733,"733 Български културни институти в чужбина",7733]
[7735,"735 Театри",7735]
[7736,"736 Оперно - филхармонични дружества и опери",7736]
[7737,"737 Оркестри и ансамбли",7737]
[7738,"738 Читалища",7738]
[7739,"739 Музеи, худ. галерии, паметници на културата и етногр. комплекси с национален и регионален харакер",7739]
[7740,"740 Музеи, художествени галерии, паметници на културата и етнографски комплекси с местен харакер",7740]
[7741,"741 Радиотранслационни възли",7741]
[7742,"742 Радио",7742]
[7743,"743 Телевизия",7743]
[7744,"744 Филмотечно и фонотечно дело",7744]
[7745,"745 Обредни домове и зали",7745]
[7746,"746 Зоопаркове",7746]
[7747,"747 Държавен архив и териториални архиви",7747]
[7748,"748 Подпомагане развитието на културата",7748]
[7751,"751 Библиотеки с национален и регионален характер",7751]
[7752,"752 Градски библиотеки",7752]
[7755,"755 Приложни и научни изследвания  в областта на опазване на културата",7755]
[7758,"758 Международни програми и споразумения, дарения и помощи от чужбина",7758]
[7759,"759 Други дейности по културата",7759]
[7761,"761 Контрол и регулиране на дейностите по религиозно дело",7761]
[7762,"762 Субсидии и други разходи за дейности по религиозно дело",7762]
[7768,"768 Международни програми и споразумения, дарения и помощи от чужбина",7768]
[8801,"801 Управление, контрол и регулиране на минното дело и дейностите по енергетиката",8801]
[8802,"802 Изследвания, измервания и анализи на горивата и енергията",8802]
[8803,"803 Безопасност и съхраняване на радиоактивни отпадъци",8803]
[8804,"804 Извеждане на ядрени съоръжения от експлоатация",8804]
[8805,"805 Приложни и научни изследвания  в областта на минното дело, горивата и енергията",8805]
[8807,"807 Международни програми и споразумения, дарения и помощи от чужбина",8807]
[8808,"808 Други дейности по минното дело",8808]
[8809,"809 Други дейности по горивата и енергията",8809]
[8811,"811 Управление, контрол и регулиране на дейностите по растениевъдство",8811]
[8813,"813 Областни земеделски служби",8813]
[8814,"814 Управление, контрол и регулиране на дейностите по горското стопанство",8814]
[8815,"815 Управление, контрол и регулиране на дейностите по лова и риболова",8815]
[8816,"816 Машинно-изпитателни центрове и контролно технически инспекции",8816]
[8817,"817 Ветеринарно-медицински служби",8817]
[8821,"821 Други служби по поземлената реформа",8821]
[8824,"824 Национални доплащания и съфинансиране към директните плащания за земеделски производители",8824]
[8825,"825 Приложни и научни изследвания  в областта на земеделието и горите",8825]
[8826,"826 Рибарство",8826]
[8827,"827 Развитие на селските райони",8827]
[8828,"828 Международни програми и споразумения, дарения и помощи от чужбина",8828]
[8829,"829 Други дейности по селско и горско стопанство, лов и риболов",8829]
[8831,"831 Управление,контрол и регулиране на дейностите по транспорта и пътищата",8831]
[8832,"832 Служби и дейности по поддържане, ремонт и изграждане на пътищата",8832]
[8833,"833 Проучвания, измервания и анализи на пътната мрежа",8833]
[8834,"834 Дейности по автомобилния транспорт",8834]
[8835,"835 Дейности по железопътния транспорт",8835]
[8836,"836 Дейности по въздушния транспорт",8836]
[8837,"837 Дейности по водния транспорт",8837]
[8838,"838 Управление, контрол и регулиране на дейностите по комуникациите",8838]
[8839,"839 Пощи и далекосъобщения",8839]
[8845,"845 Приложни и научни изследвания  в областта на транспорта и съобщенията",8845]
[8848,"848 Международни програми и споразумения, дарения и помощи от чужбина",8848]
[8849,"849 Други дейности по транспорта,пътищата,пощите и далекосъобщенията",8849]
[8851,"851 Управление, контрол и регулиране на дейностите по промишлеността",8851]
[8852,"852 Управление, контрол и регулиране на дейностите по строителството",8852]
[8853,"853 Международни програми и споразумения, дарения и помощи от чужбина",8853]
[8855,"855 Приложни и научни изследвания  в областта на промишлеността и строителството",8855]
[8858,"858 Други дейности по промишлеността",8858]
[8859,"859 Други дейности по строителството",8859]
[8861,"861 Управление, контрол и регулиране на дейностите по туризма",8861]
[8862,"862 Туристически бази",8862]
[8863,"863 Специализирани спортно-туристически школи",8863]
[8864,"864 Международни програми и споразумения, дарения и помощи от чужбина",8864]
[8865,"865 Други дейности по туризма",8865]
[8866,"866 Общински пазари и тържища",8866]
[8867,"867 Реклама и маркетинг",8867]
[8868,"868 Информационно-изчислителни центрове",8868]
[8869,"869 Издателска дейност и печатни бази",8869]
[8871,"871 Помощни стопанства, столове и други спомагателни дейности",8871]
[8872,"872 Дворци, резиденции и стопанства",8872]
[8873,"873 Оздравителни програми за предприятия в изолация и ликвидация",8873]
[8875,"875 Органи и дейности по приватизация",8875]
[8876,"876 Органи по стандартизация и метрология",8876]
[8877,"877 Патентно дело",8877]
[8878,"878 Приюти за безстопанствени животни",8878]
[8885,"885 Приложни и научни изследвания  в други дейности по икономиката",8885]
[8888,"888 Структурни реформи",8888]
[8897,"897 Международни програми и споразумения, дарения и помощи от чужбина",8897]
[8898,"898 Други дейности по икономиката",8898]
[9910,"910 Разходи за лихви",9910]
[9997,"997 Други разходи некласифицирани по другите функции",9997]
[9998,"998 Резерв ",9998]
[]
[]
[]
[]
["Name:","\"OP_LIST\"  и \"OP_LIST2\""]
["ИЗБЕРЕТЕ ОПЕРАТИВНА ПРОГРАМА "]
["ПЕРИОД 2014-2020"]
["КФ - ОП \"Транспорт и транспортна инфраструктура\"","98111"]
["КФ - ОП \"Околна среда\"","98112"]
["ЕФРР - ОП \"Транспорт и транспортна инфраструктура\"","98211"]
["ЕФРР - ОП \"Региони в растеж\"","98212"]
["ЕФРР - ОП \"Наука и образование за интелигентен растеж\"","98213"]
["ЕФРР - ОП \"Иновации и конкурентоспособност \"","98214"]
["ЕФРР - ОП \"Околна среда\"","98215"]
["ЕФРР - ОП \"Инициатива за малки и средни предприятия\"","98224"]
["ЕСФ - ОП \"Развитие на човешките ресурси\"","98311"]
["ЕСФ - ОП \"Добро управление\"","98312"]
["ЕСФ - ОП \"Наука и образование за интелигентен растеж\"","98313"]
["ОП \"Фонд за европейско подпомагане на най-нуждаещите се лица\" ",98315]
["ПЕРИОД 2007-2013"]
["КФ - ОП \"ТРАНСПОРТ\"","98101"]
["КФ - ОП \"ОКОЛНА СРЕДА\"","98102"]
["ЕФРР - ОП \"ТРАНСПОРТ\"","98201"]
["ЕФРР - ОП \"РЕГИОНАЛНО РАЗВИТИЕ\"","98202"]
["ЕФРР - ОП \"КОНКУРЕНТНОСПОСОБНОСТ\"","98204"]
["ЕФРР - ОП \"ОКОЛНА СРЕДА\"","98205"]
["ЕФРР - ОП \"ТЕХНИЧЕСКА ПОМОЩ\"","98210"]
["ЕСФ - ОП \"ЧОВЕШКИ РЕСУРСИ\"","98301"]
["ЕСФ - ОП \"АДМИНИСТРАТИВЕН КАПАЦИТЕТ\"","98302"]
[]
[]
["Name:","\"PRBK\""]
[null,"А ) Кодове на бюджетни организации от подсектор \"централно управление\" (подсектор \"ЦУ\")"]
[null,"    А.1) Кодове на централния бюджет и разпоредителите с бюджет по държавния бюджет"]
["0100","Народно събрание"]
["0200","Администрация на президентството"]
["0300","Министерски съвет "]
["0400","Конституционен съд"]
["0500","Сметна палата"]
["0600","Висш съдебен съвет"]
["1000","Министерство на финансите"]
["1100","Министерство на външните работи"]
["1200","Министерство на отбраната"]
["1300","Министерство на вътрешните работи"]
["1400","Министерство на правосъдието"]
["1500","Министерство на труда и социалната политика"]
["1600","Министерство на здравеопазването"]
["1700","Министерство на образованието и науката "]
["1800","Министерство на културата"]
["1900","Министерство на околната среда и водите"]
["2000","Министерство на икономиката"]
["2100","Министерство на регионалното развитие и благоустройство"]
["2200","Министерство на земеделието и храните"]
["2300","Министерство на транспорта, информационните технологии и съобщенията"]
["2400","Министерство на енергетиката"]
["2500","Министерство на младежта и спорта"]
["3000","Държавна агенция  \"Национална сигурност\""]
["3200","Комисия за разкриване на документите и за обявяване на принадлежност на български граждани към Държавна сигурност и разузнавателните служби на Българската народна армия"]
["3300","Комисия за защита от дискриминация"]
["3400","Комисия за защита на личните данни"]
["3500","Държавна агенция “Електронно управление”"]
["3700","Комисия за отнемане на незаконно придобито имущество"]
["3800","Национална служба за охрана"]
["3900","Държавна агенция \"Разузнаване\""]
["4000","Омбудсман"]
["4100","Национален статистически институт"]
["4200","Комисия за защита на конкуренцията"]
["4300","Комисия за регулиране на съобщенията"]
["4400","Съвет за електронни медии"]
["4500","Комисия за енергийно и водно регулиране"]
["4600","Агенция за ядрено регулиране"]
["4700","Комисия за финансов надзор"]
["4800","Държавна комисия по сигурността на информацията"]
["5300","Държавна агенция \"Държавен резерв и военновременни запаси\""]
["6100","Българска национална телевизия"]
["6200","Българско национално радио"]
["6300","Българска телеграфна агенция"]
["7100","Министерство на туризма"]
["7900","Министерство за Българското председателство на Съвета на Европейския съюз 2018"]
["8200","Централна избирателна комисия"]
["8300","Комисия за публичен надзор над регистрираните одитори"]
["8400","Държавен фонд \"Земеделие\""]
["8500","Национално бюро за контрол на специалните разузнавателни средства"]
["8600","Държавна агенция „Технически операции”"]
["9900","Централен бюджет"]
[null,"     А.2) Кодове на други бюджетни организации от подсектор \"централно управление\""]
[null,"    А.2.1) кодове на държавните висши училища и Българската академия на науките"]
[null,"        А.2.1а) кодове на ДВУ и БАН, финансирани от Министерството на образованието и науката"]
["1701","Софийски университет \"Климент Охридски\" - София"]
["1702","Пловдивски университет \"Паисий Хилендарски\" - Пловдив"]
["1703","Университет \"Проф. д-р Асен Златаров\" - Бургас"]
["1704","Великотърновки университет \"Св. св . Кирил и Методий\" - В. Търново"]
["1705","Югозападен университет \"Неофит Рилски\" - Благоевград"]
["1706","Шуменски университет \"Епископ Константин Преславски\" - Шумен"]
["1711","Русенски университет \"Ангел Кънчев\" - Русе"]
["1712","Технически университет - София"]
["1713","Технически университет - София - филиал Пловдив"]
["1714","Технически университет - Варна"]
["1715","Технически университет - Габрово"]
["1716","Университет по архитектура, строителство и геодезия - София"]
["1717","Минно-геоложки университет \"Св. Ив. Рилски\" - София"]
["1718","Лесотехнически университет - София"]
["1719","Химико-технологичен и металургичен университет - София",""]
["1721","Университет по хранителни технологии - Пловдив",""]
["1722","Аграрен университет - Пловдив",""]
["1723","Тракийски университет - Стара Загора",""]
["1731","Медицински университет - София",""]
["1732","Медицински университет - Пловдив",""]
["1733","Медицински университет \"Проф. д-р Параскев Иванов Стоянов\" - Варна",""]
["1734","Тракийски университет - Стара Загора - медицински факултет",""]
["1735","Медицински университет - Плевен",""]
["1741","Университет за национално и световно стопанство - София",""]
["1742","Икономически университет - Варна",""]
["1743","Стопанска академия \"Димитър Ценов\" - Свищов",""]
["1751","Държавна музикална академия \"Панчо Владигеров\" - София",""]
["1752","Национална академия за театрално и филмово изкуство \"Кр. Сарафов\" - София",""]
["1753","Национална художествена академия - София",""]
["1754","Академия за музикално, танцово и изобразително изкуство - Пловдив",""]
["1759","Национална спортна академия \"Васил Левски\" - София",""]
["1767","Висше строително училище \"Любен Каравелов\" - София",""]
["1768","Висше транспортно училище \"Тодор Каблешков\" - София",""]
["1771","Университет по библиотекознание и информационни технологии - София ",""]
["1772","Висше училище по телекомуникации и пощи - София",""]
["1790","Българска академия на науките - София",""]
["","        А.2.1.б) кодове на ДВУ и ВА \"Г. С. Раковски\", финансирани от Министерството на отбраната",""]
["1281","Военна академия \"Г. С. Раковски\" - София",""]
["1282","Национален военен университет \"Васил Левски\" - Велико Търново",""]
["1283","Висше военноморско училище \"Н. Й. Вапцаров\" - Варна",""]
["","    А.2.2) кодове на други разпоредители с бюджет по чл. 13, ал. 3 от ЗПФ",""]
["6100","Българска национална телевизия",""]
["6200","Българско национално радио",""]
["6300","Българска телеграфна агенция",""]
["","    А.2.3) кодове на разпоредители с бюджет по чл. 13, ал. 4 от ЗПФ",""]
["1313","Държавно предприятие „Център за предоставяне на услуги”",""]
["3535","Държавно предприятие „Единен системен оператор“ ",""]
["1950","Предприятие за управление на дейностите по опазване на околната среда (ПУДООС)                    - чл. 60 от ЗООС",""]
["2170","Национална компания \"Стратегически инфраструктурни проекти\"                                                      - чл. 28a от Закона за пътищата",""]
["2480","Фонд \"Сигурност на електроенергийната система\"",""]
["9817","Национален фонд към Министерството на финансите",""]
["2220","Държавен фонд \"Земеделие\" - Разплащателна агенция",""]
["1060","Сметка към министъра на финансите за средствата от продажбата на предписани емисионни единици (§ 10, ал. 1 от ЗПФ)",""]
["5500","Национален осигурителен институт - Държавно обществено осигуряване",""]
["5591","Национален осигурителен институт - Учителски пенсионен фонд",""]
["5592","Национален осигрителен инститт - фонд \"Гарантирани вземания на работници и служители\"",""]
["5600","Национална здравноосигурителна каса",""]
["5101","Банско",""]
["5102","Белица",""]
["5103","Благоевград",""]
["5104","Гоце Делчев",""]
["5105","Гърмен",""]
["5106","Кресна",""]
["5107","Петрич",""]
["5108","Разлог",""]
["5109","Сандански",""]
["5110","Сатовча",""]
["5111","Симитли",""]
["5112","Струмяни",""]
["5113","Хаджидимово",""]
["5114","Якоруда",""]
["5201","Айтос",""]
["5202","Бургас ",""]
["5203","Камено",""]
["5204","Карнобат",""]
["5205","Малко Търново",""]
["5206","Несебър",""]
["5207","Поморие",""]
["5208","Приморско",""]
["5209","Руен",""]
["5210","Созопол",""]
["5211","Средец",""]
["5212","Сунгурларе",""]
["5213","Царево",""]
["5301","Аврен",""]
["5302","Аксаково",""]
["5303","Белослав",""]
["5304","Бяла",""]
["5305","Варна",""]
["5306","Ветрино",""]
["5307","Вълчидол",""]
["5308","Девня",""]
["5309","Долни Чифлик",""]
["5310","Дългопол",""]
["5311","Провадия",""]
["5312","Суворово",""]
["5401","Велико Търново",""]
["5402","Горна Оряховица",""]
["5403","Елена",""]
["5404","Златарица",""]
["5405","Лясковец",""]
["5406","Павликени",""]
["5407","Полски Тръмбеш",""]
["5408","Свищов",""]
["5409","Стражица",""]
["5410","Сухиндол",""]
["5501","Белоградчик",""]
["5502","Бойница",""]
["5503","Брегово",""]
["5504","Видин",""]
["5505","Грамада",""]
["5506","Димово",""]
["5507","Кула",""]
["5508","Макреш",""]
["5509","Ново село",""]
["5510","Ружинци",""]
["5511","Чупрене",""]
["5601","Борован",""]
["5602","Бяла Слатина",""]
["5603","Враца",""]
["5605","Козлодуй",""]
["5606","Криводол",""]
["5607","Мездра",""]
["5608","Мизия",""]
["5609","Оряхово",""]
["5610","Роман",""]
["5611","Хайредин",""]
["5701","Габрово",""]
["5702","Дряново",""]
["5703","Севлиево",""]
["5704","Трявна",""]
["5801","Балчик",""]
["5802","Генерал Тошево",""]
["5803","Добрич",""]
["5804","Добричка",""]
["5805","Каварна",""]
["5806","Крушари",""]
["5807","Тервел",""]
["5808","Шабла",""]
["5901","Ардино",""]
["5902","Джебел",""]
["5903","Кирково",""]
["5904","Крумовград",""]
["5905","Кърджали",""]
["5906","Момчилград",""]
["5907","Черноочене",""]
["6001","Бобовдол",""]
["6002","Бобошево",""]
["6003","Дупница",""]
["6004","Кочериново",""]
["6005","Кюстендил",""]
["6006","Невестино",""]
["6007","Рила",""]
["6008","Сапарева баня",""]
["6009","Трекляно",""]
["6101","Априлци",""]
["6102","Летница",""]
["6103","Ловеч",""]
["6104","Луковит",""]
["6105","Тетевен",""]
["6106","Троян",""]
["6107","Угърчин",""]
["6108","Ябланица",""]
["6201","Берковица",""]
["6202","Бойчиновци",""]
["6203","Брусарци",""]
["6204","Вълчедръм",""]
["6205","Вършец",""]
["6206","Георги Дамяново",""]
["6207","Лом",""]
["6208","Медковец",""]
["6209","Монтана",""]
["6210","Чипровци",""]
["6211","Якимово",""]
["6301","Батак",""]
["6302","Белово",""]
["6303","Брацигово",""]
["6304","Велинград",""]
["6305","Лесичово",""]
["6306","Пазарджик",""]
["6307","Панагюрище",""]
["6308","Пещера",""]
["6309","Ракитово",""]
["6310","Септември",""]
["6311","Стрелча",""]
["6312","Сърница",""]
["6401","Брезник",""]
["6402","Земен",""]
["6403","Ковачевци",""]
["6404","Перник",""]
["6405","Радомир",""]
["6406","Трън",""]
["6501","Белене",""]
["6502","Гулянци",""]
["6503","Долна Митрополия",""]
["6504","Долни Дъбник",""]
["6505","Искър",""]
["6506","Левски",""]
["6507","Никопол",""]
["6508","Плевен",""]
["6509","Пордим",""]
["6510","Червен бряг",""]
["6511","Кнежа",""]
["6601","Асеновград",""]
["6602","Брезово",""]
["6603","Калояново",""]
["6604","Карлово",""]
["6605","Кричим",""]
["6606","Лъки",""]
["6607","Марица",""]
["6608","Перущица",""]
["6609","Пловдив",""]
["6610","Първомай",""]
["6611","Раковски",""]
["6612","Родопи",""]
["6613","Садово",""]
["6614","Стамболийски",""]
["6615","Съединение",""]
["6616","Хисаря",""]
["6617","Куклен",""]
["6618","Сопот",""]
["6701","Завет",""]
["6702","Исперих",""]
["6703","Кубрат",""]
["6704","Лозница",""]
["6705","Разград",""]
["6706","Самуил",""]
["6707","Цар Калоян",""]
["6801","Борово",""]
["6802","Бяла",""]
["6803","Ветово",""]
["6804","Две могили",""]
["6805","Иваново",""]
["6806","Русе",""]
["6807","Сливо поле",""]
["6808","Ценово",""]
["6901","Алфатар",""]
["6902","Главиница",""]
["6903","Дулово",""]
["6904","Кайнарджа",""]
["6905","Силистра",""]
["6906","Ситово",""]
["6907","Тутракан",""]
["7001","Котел",""]
["7002","Нова Загора",""]
["7003","Сливен",""]
["7004","Твърдица",""]
["7101","Баните",""]
["7102","Борино",""]
["7103","Девин",""]
["7104","Доспат",""]
["7105","Златоград",""]
["7106","Мадан",""]
["7107","Неделино",""]
["7108","Рудозем",""]
["7109","Смолян",""]
["7110","Чепеларе",""]
["7201","Район Банкя",""]
["7202","Район Витоша",""]
["7203","Район Възраждане ",""]
["7204","Район Връбница",""]
["7205","Район Илинден",""]
["7206","Район Искър",""]
["7207","Район Изгрев",""]
["7208","Район Красна Поляна",""]
["7209","Район Красно село",""]
["7210","Район Кремиковци",""]
["7211","Район Лозенец",""]
["7212","Район Люлин",""]
["7213","Район Младост",""]
["7214","Район Надежда",""]
["7215","Район Нови Искър",""]
["7216","Район Оборище",""]
["7217","Район Овча Купел",""]
["7218","Район Панчарево",""]
["7219","Район Подуяне",""]
["7220","Район Сердика",""]
["7221","Район Слатина",""]
["7222","Район Средец",""]
["7223","Район Студентска",""]
["7224","Район Триадица",""]
["7225","Столична община",""]
["7301","Антон",""]
["7302","Божурище",""]
["7303","Ботевград",""]
["7304","Годеч",""]
["7305","Горна Малина",""]
["7306","Долна Баня",""]
["7307","Драгоман ",""]
["7308","Елин Пелин",""]
["7309","Етрополе",""]
["7310","Златица",""]
["7311","Ихтиман",""]
["7312","Копривщица",""]
["7313","Костенец",""]
["7314","Костинброд",""]
["7315","Мирково",""]
["7316","Пирдоп",""]
["7317","Правец",""]
["7318","Самоков",""]
["7319","Своге",""]
["7320","Сливница",""]
["7321","Чавдар",""]
["7322","Челопеч",""]
["7401","Братя Даскалови",""]
["7402","Гурково",""]
["7403","Гълъбово",""]
["7404","Казанлък",""]
["7405","Мъглиж",""]
["7406","Николаево",""]
["7407","Опан",""]
["7408","Павел баня",""]
["7409","Раднево",""]
["7410","Стара Загора",""]
["7411","Чирпан",""]
["7501","Антоново",""]
["7502","Омуртаг",""]
["7503","Опака",""]
["7504","Попово",""]
["7505","Търговище",""]
["7601","Димитровград",""]
["7602","Ивайловград",""]
["7603","Любимец",""]
["7604","Маджарово",""]
["7605","Минерални Бани",""]
["7606","Свиленград",""]
["7607","Симеоновград",""]
["7608","Стамболово",""]
["7609","Тополовград",""]
["7610","Харманли",""]
["7611","Хасково",""]
["7701","Велики Преслав",""]
["7702","Венец",""]
["7703","Върбица",""]
["7704","Каолиново",""]
["7705","Каспичан",""]
["7706","Никола Козлево",""]
["7707","Нови пазар",""]
["7708","Смядово",""]
["7709","Хитрино",""]
["7710","Шумен",""]
["7801","Болярово",""]
["7802","Елхово",""]
["7803","Стралджа",""]
["7804","Тунджа",""]
["7805","Ямбол",""]
[]
["Name:","Date","Name:"]
[null,"2020-01-31","януари"]
[null,"2020-02-29","февруари"]
[null,"2020-03-31","март"]
[null,"2020-04-30","април"]
[null,"2020-05-31","май"]
[null,"2020-06-30","юни"]
[null,"2020-07-31","юли"]
[null,"2020-08-31","август"]
[null,"2020-09-30","септември"]
[null,"2020-10-31","октомври"]
[null,"2020-11-30","ноември"]
[null,"2020-12-31","декември"]

{"sheet":"INF","index":4,"n_rows":154,"n_cols":21,"rows_kept":154,"cut":false,"hidden":true,"merged":[[13,8,13,10],[15,8,15,10],[18,8,18,10],[22,11,22,14],[22,15,22,18],[80,9,80,10],[29,9,29,10],[32,9,32,10],[38,9,38,10],[46,9,46,10],[47,9,47,10],[65,9,65,10],[69,9,69,10],[75,9,75,10],[78,9,78,10],[79,9,79,10],[81,9,81,10],[82,9,82,10],[97,9,97,10],[98,9,98,10],[99,9,99,10],[100,9,100,10],[107,9,107,10],[111,9,111,10],[112,9,112,10],[113,9,113,10],[114,9,114,10],[140,9,140,10],[117,9,117,10],[118,9,118,10],[126,9,126,10],[129,9,129,10],[130,9,130,10],[135,9,135,10],[139,9,139,10]]}
["step",137]
["gotocell","c9551"]
["nextcell","b9379"]
["INF copyrf","i12:u149"]
["dejKN"]
[]
[]
[null,"d9258"]
[]
[]
["Step:"]
[1,null,null,null,null,null,null,null,null,null,null,null,null,null,null,null,null,null,null,{"$f":"(IF($E145<>0,$M$2,IF($L145<>0,$M$2,\"\")))","v":""}]
[2,null,null,null,null,null,null,null,null,null,null,null,null,null,null,null,null,null,null,{"$f":"(IF($E145<>0,$M$2,IF($L145<>0,$M$2,\"\")))","v":""}]
[3,null,null,null,null,null,null,null,{"$f":"$B$7","v":0},null,null,null,null,null,null,null,null,null,null,{"$f":"(IF($E145<>0,$M$2,IF($L145<>0,$M$2,\"\")))","v":""}]
[4,null,null,null,null,null,null,null,null,null,null,"за периода от ","до",null,"        II.1. РАЗХОДИ ПО ДЕЙНОСТИ",null,null,null,null,{"$f":"(IF($E145<>0,$M$2,IF($L145<>0,$M$2,\"\")))","v":""}]
[5,null,null,null,null,null,null,null,{"$f":"$B$9","v":0},null,null,{"$f":"$E$9","v":"00:00:00"},{"$f":"$F$9","v":"00:00:00"},null,null,null,null,null,null,{"$f":"(IF($E145<>0,$M$2,IF($L145<>0,$M$2,\"\")))","v":""}]
[6,null,null,null,null,null,null,null,{"$f":"$B$10","v":0},null,null,null,null,null,null,null,null,null,null,{"$f":"(IF($E145<>0,$M$2,IF($L145<>0,$M$2,\"\")))","v":""}]
[7,null,null,null,null,null,null,null,null,null,null,null,null,null,null,null,null,null,null,{"$f":"(IF($E145<>0,$M$2,IF($L145<>0,$M$2,\"\")))","v":""}]
[8,null,null,null,null,null,null,null,{"$f":"$B$12","v":0},null,null,"       код по ЕБК:",{"$f":"$F$12","v":0},null,null,null,null,null,null,{"$f":"(IF($E145<>0,$M$2,IF($L145<>0,$M$2,\"\")))","v":""}]
[9,null,null,null,null,null,null,null,{"$f":"$B$13","v":0},null,null,null,null,null,null,null,null,null,null,{"$f":"(IF($E145<>0,$M$2,IF($L145<>0,$M$2,\"\")))","v":""}]
[10,null,null,null,null,null,null,null,null,null,"ФИНАНСОВО-ПРАВНА ФОРМА",{"$f":"$E$15","v":0},{"$f":"$F$15","v":0},null,null,null,null,null,null,{"$f":"(IF($E145<>0,$M$2,IF($L145<>0,$M$2,\"\")))","v":""}]
[11,null,null,null,null,null,null,null,null,null,null,null,null,null,null,null,null,null,"(в лева)",{"$f":"(IF($E145<>0,$M$2,IF($L145<>0,$M$2,\"\")))","v":""}]
[12,null,null,null,null,null,null,null,null,null,"II.1. РАЗХОДИ ПО ДЕЙНОСТИ","Уточнен план 2020",null,null,null,"Отчет 2020",null,null,null,{"$f":"(IF($E145<>0,$M$2,IF($L145<>0,$M$2,\"\")))","v":""}]
[13,null,null,null,null,null,null,null,"§§","под-§§","НАИМЕНОВАНИЯ НА ПАРАГРАФИТЕ И ПОДПАРАГРАФИТЕ",{"$f":"$E$20","v":0},{"$f":"$F$20","v":0},{"$f":"$G$20","v":0},{"$f":"$H$20","v":0},{"$f":"$I$20","v":0},{"$f":"$J$20","v":0},{"$f":"$K$20","v":0},{"$f":"$L$20","v":0},{"$f":"(IF($E145<>0,$M$2,IF($L145<>0,$M$2,\"\")))","v":""}]
[14,null,null,null,null,null,null,null,null,null," 02 ¦",{"$f":"$E$21","v":0},{"$f":"$F$21","v":0},{"$f":"$G$21","v":0},{"$f":"$H$21","v":0},{"$f":"$I$21","v":0},{"$f":"$J$21","v":0},{"$f":"$K$21","v":"ФИНАНСОВО-ПРАВНА ФОРМА"},{"$f":"$L$21","v":0},{"$f":"(IF($E145<>0,$M$2,IF($L145<>0,$M$2,\"\")))","v":""}]
[15,null,null,null,null,null,null,null,null,{"$f":"VLOOKUP(K26,OP_LIST2,2,FALSE)","v":{"$error":"#N/A"}},null,null,null,null,null,null,null,null,null,{"$f":"(IF($E145<>0,$M$2,IF($L145<>0,$M$2,\"\")))","v":""}]
[16,null,null,null,null,null,null,null,null,{"$f":"VLOOKUP(K28,EBK_DEIN2,2,FALSE)","v":0},"<------          ДЕЙНОСТ    -  код  по  ЕБК",null,null,null,null,null,null,null,null,{"$f":"(IF($E145<>0,$M$2,IF($L145<>0,$M$2,\"\")))","v":""}]
[17,null,null,null,null,null,null,null,null,{"$f":"+J27","v":0},"ИЗБЕРЕТЕ ДЕЙНОСТ",null,null,null,null,null,null,null,null,{"$f":"(IF($E145<>0,$M$2,IF($L145<>0,$M$2,\"\")))","v":""}]
[18,null,null,null,null,null,null,null,null,null,"(наименование на дейността)",null,null,null,null,null,null,null,null,{"$f":"(IF($E145<>0,$M$2,IF($L145<>0,$M$2,\"\")))","v":""}]
[19,null,null,null,null,null,null,null,100,"Заплати и възнаграждения за персонала, нает по трудови и служебни правоотношения",null,{"$f":"SUM(L31:L32)","v":0},0,0,{"$f":"SUM(O31:O32)","v":0},0,0,0,0,{"$f":"(IF($E30<>0,$M$2,IF($L30<>0,$M$2,\"\")))","v":""}]
[20,null,null,null,null,null,null,null,null,101,"заплати и възнаграждения на персонала нает по трудови правоотношения",{"$f":"M31+N31+O31","v":0},null,null,null,null,null,null,{"$f":"P31+Q31+R31","v":0},{"$f":"(IF($E31<>0,$M$2,IF($L31<>0,$M$2,\"\")))","v":""}]
[21,null,null,null,null,null,null,null,null,102,"заплати и възнаграждения на персонала нает по служебни правоотношения",{"$f":"M32+N32+O32","v":0},null,null,null,null,null,null,{"$f":"P32+Q32+R32","v":0},""]
[22,null,null,null,null,null,null,null,200,"Други възнаграждения и плащания за персонала",null,{"$f":"SUM(L34:L38)","v":0},0,0,{"$f":"SUM(O34:O38)","v":0},0,0,0,0,""]
[23,null,null,null,null,null,null,null,null,201,"за нещатен персонал нает по трудови правоотношения ",{"$f":"M34+N34+O34","v":0},null,null,null,null,null,null,{"$f":"P34+Q34+R34","v":0},""]
[24,null,null,null,null,null,null,null,null,202,"за персонала по извънтрудови правоотношения",{"$f":"M35+N35+O35","v":0},null,null,null,null,null,null,{"$f":"P35+Q35+R35","v":0},""]
[25,null,null,null,null,null,null,null,null,205,"изплатени суми от СБКО за облекло и други на персонала, с характер на възнаграждение",{"$f":"M36+N36+O36","v":0},null,null,null,null,null,null,{"$f":"P36+Q36+R36","v":0},""]
[26,null,null,null,null,null,null,null,null,208,"обезщетения за персонала, с характер на възнаграждение",{"$f":"M37+N37+O37","v":0},null,null,null,null,null,null,{"$f":"P37+Q37+R37","v":0},""]
[27,null,null,null,null,null,null,null,null,209,"другиплащания и възнаграждения",{"$f":"M38+N38+O38","v":0},null,null,null,null,null,null,{"$f":"P38+Q38+R38","v":0},""]
[28,null,null,null,null,null,null,null,500,"Задължителни осигурителни вноски от работодатели",null,{"$f":"SUM(L40:L46)","v":0},0,0,{"$f":"SUM(O40:O46)","v":0},0,0,0,0,""]
[29,null,null,null,null,null,null,null,null,551,"осигурителни вноски от работодатели за Държавното обществено осигуряване (ДОО)",{"$f":"M40+N40+O40","v":0},null,null,null,null,null,null,{"$f":"P40+Q40+R40","v":0},""]
[30,null,null,null,null,null,null,null,null,552,"осигурителни вноски от работодатели за Учителския пенсионен фонд (УчПФ)",0,null,null,null,null,null,null,0,""]
[31,null,null,null,null,null,null,null,null,558,"вноски по чл. 4б и 4в от КСО за сметка на осигурителя",{"$f":"M42+N42+O42","v":0},0,0,0,0,0,0,{"$f":"P42+Q42+R42","v":0},""]
[31,null,null,null,null,null,null,null,null,560,"здравно-осигурителни вноски от работодатели",0,null,null,null,null,null,null,0,""]
[32,null,null,null,null,null,null,null,null,580,"вноски за допълнително задължително осигуряване от работодатели",0,null,null,null,null,null,null,0,""]
[33,null,null,null,null,null,null,null,null,588,"коректив на вноски за ДЗПО за сумите по чл. 4б и 4в от КСО за сметка на осигурителя",{"$f":"M45+N45+O45","v":0},0,0,0,0,0,0,{"$f":"P45+Q45+R45","v":0},""]
[33,null,null,null,null,null,null,null,null,590,"задължителни вноски за чуждестранни пенсионни фондове и  схеми за сметка на осигурителя",0,null,null,null,null,null,null,0,""]
[34,null,null,null,null,null,null,null,800,"Вноски за доброволно осигуряване  ",null,0,null,null,null,null,null,null,0,""]
[35,null,null,null,null,null,null,null,1000,"Издръжка",null,{"$f":"SUM(L49:L65)","v":0},0,0,{"$f":"SUM(O49:O65)","v":0},0,0,0,0,""]
[36,null,null,null,null,null,null,null,null,1011,"Храна",{"$f":"M49+N49+O49","v":0},null,null,null,null,null,null,{"$f":"P49+Q49+R49","v":0},""]
[37,null,null,null,null,null,null,null,null,1012,"Медикаменти",0,null,null,null,null,null,null,0,""]
[38,null,null,null,null,null,null,null,null,1013,"Постелен инвентар и облекло",0,null,null,null,null,null,null,0,""]
[39,null,null,null,null,null,null,null,null,1014,"Учебни и научно-изследователски разходи и книги за библиотеките",0,null,null,null,null,null,null,0,""]
[40,null,null,null,null,null,null,null,null,1015,"материали",0,null,null,null,null,null,null,0,""]
[41,null,null,null,null,null,null,null,null,1016,"вода, горива и енергия",0,null,null,null,null,null,null,0,""]
[42,null,null,null,null,null,null,null,null,1020,"разходи за външни услуги",0,null,null,null,null,null,null,0,""]
[43,null,null,null,null,null,null,null,null,1030,"Текущ ремонт",0,null,null,null,null,null,null,0,""]
[44,null,null,null,null,null,null,null,null,1051,"командировки в страната",0,null,null,null,null,null,null,0,""]
[45,null,null,null,null,null,null,null,null,1052,"краткосрочни командировки в чужбина",0,null,null,null,null,null,null,0,""]
[46,null,null,null,null,null,null,null,null,1053,"дългосрочни командировки в чужбина",0,null,null,null,null,null,null,0,""]
[47,null,null,null,null,null,null,null,null,1062,"разходи за застраховки",0,null,null,null,null,null,null,0,""]
[48,null,null,null,null,null,null,null,null,1063,"такса ангажимент по заеми",0,null,null,null,null,null,null,0,""]
[49,null,null,null,null,null,null,null,null,1069,"други финансови услуги",0,null,null,null,null,null,null,0,""]
[50,null,null,null,null,null,null,null,null,1091,"други разходи за СБКО",0,null,null,null,null,null,null,0,""]
[51,null,null,null,null,null,null,null,null,1092,"разходи за договорни санкции и неустойки, съдебни обезщетения и разноски",0,null,null,null,null,null,null,0,""]
[52,null,null,null,null,null,null,null,null,1098,"други разходи, некласифицирани в другите параграфи и подпараграфи",0,null,null,null,null,null,null,0,""]
[53,null,null,null,null,null,null,null,1900,"Платени данъци, такси и административни санкции",null,{"$f":"SUM(L67:L69)","v":0},0,0,{"$f":"SUM(O67:O69)","v":0},0,0,0,0,""]
[54,null,null,null,null,null,null,null,null,1901,"платени държавни данъци, такси, наказателни лихви и административни санкции",{"$f":"M67+N67+O67","v":0},null,null,null,null,null,null,{"$f":"P67+Q67+R67","v":0},""]
[55,null,null,null,null,null,null,null,null,1981,"платени общински данъци, такси, наказателни лихви и административни санкции",{"$f":"M68+N68+O68","v":0},null,null,null,null,null,null,{"$f":"P68+Q68+R68","v":0},""]
[56,null,null,null,null,null,null,null,null,1991,"платени данъци, такси, наказателни лихви и административни санкции в чужбина",{"$f":"M69+N69+O69","v":0},null,null,null,null,null,null,{"$f":"P69+Q69+R69","v":0},""]
[57,null,null,null,null,null,null,null,2100,"Разходи за лихви по емисии на държавни (общински) ценни книжа",null,{"$f":"SUM(L71:L75)","v":0},0,0,{"$f":"SUM(O71:O75)","v":0},0,0,0,0,""]
[58,null,null,null,null,null,null,null,null,2110,"лихви по държавни (общински) ценни книжа",{"$f":"M71+N71+O71","v":0},null,null,null,null,null,null,{"$f":"P71+Q71+R71","v":0},""]
[59,null,null,null,null,null,null,null,null,2120,"отстъпки по държавни (общински) ценни книжа",{"$f":"M72+N72+O72","v":0},null,null,null,null,null,null,{"$f":"P72+Q72+R72","v":0},""]
[60,null,null,null,null,null,null,null,null,2125,"лихви и отстъпки по целеви емисии на държавни ценни книжа",{"$f":"M73+N73+O73","v":0},0,0,0,0,0,0,{"$f":"P73+Q73+R73","v":0},""]
[61,null,null,null,null,null,null,null,null,2140,"лихви по държавни ценни книжа, емитирани за структурната реформа ",{"$f":"M74+N74+O74","v":0},0,0,0,0,0,0,{"$f":"P74+Q74+R74","v":0},""]
[62,null,null,null,null,null,null,null,null,2190,"премии над номинала от емисии на държавни (общински) ценни книжа (-)",{"$f":"M75+N75+O75","v":0},null,null,null,null,null,null,{"$f":"P75+Q75+R75","v":0},""]
[63,null,null,null,null,null,null,null,2200,"Разходи за лихви по заеми от страната",null,{"$f":"SUM(L77:L78)","v":0},0,0,{"$f":"SUM(O77:O78)","v":0},0,0,0,0,""]
[64,null,null,null,null,null,null,null,null,2221,"Разходи за лихви по заеми от банки в страната",{"$f":"M77+N77+O77","v":0},null,null,null,null,null,null,{"$f":"P77+Q77+R77","v":0},""]
[65,null,null,null,null,null,null,null,null,2224,"Разходи за лихви по други заеми от страната",0,null,null,null,null,null,null,0,""]
[66,null,null,null,null,null,null,null,2500,"Разходи за лихви по заеми от други държави",null,0,null,null,null,null,null,null,0,""]
[67,null,null,null,null,null,null,null,2600,"Разходи за лихви по заеми от международни организации и институции",null,0,null,null,null,null,null,null,0,""]
[68,null,null,null,null,null,null,null,2700,"Разходи за лихви по заеми от банки и други финансови институции от чужбина",null,0,null,null,null,null,null,null,0,""]
[69,null,null,null,null,null,null,null,2800,"Разходи за лихви и отстъпки по облигации, емитирани и търгувани на международните капиталови пазари",null,0,null,null,null,null,null,null,0,""]
[70,null,null,null,null,null,null,null,2900,"Други разходи за лихви",null,{"$f":"SUM(L84:L91)","v":0},{"$f":"SUM(M84:M91)","v":0},{"$f":"SUM(N84:N91)","v":0},0,0,0,0,0,""]
[71,null,null,null,null,null,null,null,null,2910,"Платени лихви по финансов лизинг и търговски кредит",{"$f":"M84+N84+O84","v":0},null,null,null,null,null,null,{"$f":"P84+Q84+R84","v":0},""]
[71,null,null,null,null,null,null,null,null,2920,"Платени лихви по активирани гаранции по заеми от  банки в страната",{"$f":"M85+N85+O85","v":0},null,null,null,null,null,null,{"$f":"P85+Q85+R85","v":0},""]
[72,null,null,null,null,null,null,null,null,2969,"Платени лихви по активирани гаранции по заеми от международни организации и институции",0,null,null,null,null,null,null,0,""]
[73,null,null,null,null,null,null,null,null,2970,"Платени лихви по активирани гаранции по заеми от банки и финансови институции от чужбина",0,null,null,null,null,null,null,0,""]
[74,null,null,null,null,null,null,null,null,2989,"Възстановени суми по платени лихви по активирани гаранции (-)",0,null,null,null,null,null,null,0,""]
[75,null,null,null,null,null,null,null,null,2990,"Платени лихви по активирани гаранции по заеми от  банки в страната",{"$f":"M89+N89+O89","v":0},null,null,null,null,null,null,{"$f":"P89+Q89+R89","v":0},""]
[75,null,null,null,null,null,null,null,null,2991,"Други разходи за лихви към  местни лица",0,null,null,null,null,null,null,0,""]
[76,null,null,null,null,null,null,null,null,2992,"Други разходи за лихви към чуждестранни лица",0,null,null,null,null,null,null,0,""]
[77,null,null,null,null,null,null,null,3300,"Вноска в общия бюджет на Европейския съюз",null,{"$f":"SUM(L93:L97)","v":0},0,0,0,0,0,0,0,""]
[78,null,null,null,null,null,null,null,null,3301,"ресурс на база брутен национален доход",{"$f":"M93+N93+O93","v":0},0,0,0,0,0,0,{"$f":"P93+Q93+R93","v":0},""]
[79,null,null,null,null,null,null,null,null,3302,"ресурс на база данък върху добавената стойност",0,0,0,0,0,0,0,0,""]
[80,null,null,null,null,null,null,null,null,3303,"корекция за Обединеното кралство",0,0,0,0,0,0,0,0,""]
[81,null,null,null,null,null,null,null,null,3304,"традиционни собствени ресурси - мита",0,0,0,0,0,0,0,0,""]
[83,null,null,null,null,null,null,null,null,3306,"участие във финансирането на брутното намаление за Нидерландия, Швеция, Дания и Австрия",0,0,0,0,0,0,0,0,""]
[84,null,null,null,null,null,null,null,3900,"Здравно-осигурителни плащания",null,0,0,0,0,0,0,0,0,{"$f":"(IF($E98<>0,$M$2,IF($L98<>0,$M$2,\"\")))","v":""}]
[85,null,null,null,null,null,null,null,4000,"Стипендии",null,0,null,null,null,null,null,null,0,""]
[86,null,null,null,null,null,null,null,4100,"Пенсии",null,0,0,0,0,0,0,0,0,""]
[87,null,null,null,null,null,null,null,4200,"Текущи трансфери, обезщетения и помощи за домакинствата",null,{"$f":"SUM(L102:L107)","v":0},0,0,{"$f":"SUM(O102:O107)","v":0},0,0,0,0,""]
[88,null,null,null,null,null,null,null,null,4201,"обезщетения и помощи по социалното осигуряване",{"$f":"M102+N102+O102","v":0},null,null,null,null,null,null,{"$f":"P102+Q102+R102","v":0},""]
[89,null,null,null,null,null,null,null,null,4202,"обезщетения и помощи по социалното подпомагане",0,null,null,null,null,null,null,0,""]
[90,null,null,null,null,null,null,null,null,4214,"обезщетения и помощи по решение на общинския съвет",0,null,null,null,null,null,null,0,""]
[91,null,null,null,null,null,null,null,null,4217,"текущи трансфери за домакинства от средства на Европейския съюз",0,null,null,null,null,null,null,0,""]
[92,null,null,null,null,null,null,null,null,4218,"текущи трансфери за домакинства по други международни програми и споразумения",0,null,null,null,null,null,null,0,""]
[93,null,null,null,null,null,null,null,null,4219,"други текущи трансфери за домакинствата",0,null,null,null,null,null,null,0,""]
[94,null,null,null,null,null,null,null,4300,"Субсидии и други текущи трансфери за нефинансови предприятия",null,{"$f":"SUM(L109:L111)","v":0},0,0,{"$f":"SUM(O109:O111)","v":0},0,0,0,0,""]
[95,null,null,null,null,null,null,null,null,4301,"за текуща дейност",{"$f":"M109+N109+O109","v":0},null,null,null,null,null,null,{"$f":"P109+Q109+R109","v":0},""]
[96,null,null,null,null,null,null,null,null,4302,"за осъществяване на болнична помощ ",0,null,null,null,null,null,null,0,""]
[97,null,null,null,null,null,null,null,null,4309,"други субсидии и плащания",0,null,null,null,null,null,null,0,""]
[98,null,null,null,null,null,null,null,4400,"Субсидии и други текущи трансфери за финансови институции",null,0,null,null,null,null,null,null,0,""]
[99,null,null,null,null,null,null,null,4500,"Субсидии и други текущи трансфери за юридически лица с нестопанска цел",null,0,null,null,null,null,null,null,0,""]
[100,null,null,null,null,null,null,null,4600,"Разходи за членски внос и участие в нетърговски организации и дейности",null,0,null,null,null,null,null,null,0,""]
[101,null,null,null,null,null,null,null,4900,"Предоставени текущи и капиталови трансфери за чужбина",null,{"$f":"+L116+L117","v":0},0,0,{"$f":"+O116+O117","v":0},0,0,0,0,""]
[102,null,null,null,null,null,null,null,null,4901,"текущи трансфери за чужбина",{"$f":"M116+N116+O116","v":0},null,null,null,null,null,null,{"$f":"P116+Q116+R116","v":0},""]
[103,null,null,null,null,null,null,null,null,4902,"капиталови трансфери за чужбина",{"$f":"M117+N117+O117","v":0},null,null,null,null,null,null,{"$f":"P117+Q117+R117","v":0},""]
[104,null,null,null,null,null,null,null,5100,"Основен ремонт на дълготрайни материални активи",null,{"$f":"M118+N118+O118","v":0},null,null,null,null,null,null,{"$f":"P118+Q118+R118","v":0},""]
[105,null,null,null,null,null,null,null,5200,"Придобиване на дълготрайни материални активи",null,{"$f":"SUM(L120:L126)","v":0},0,0,{"$f":"SUM(O120:O126)","v":0},0,0,0,0,""]
[106,null,null,null,null,null,null,null,null,5201,"придобиване на компютри и хардуер",{"$f":"M120+N120+O120","v":0},null,null,null,null,null,null,{"$f":"P120+Q120+R120","v":0},""]
[107,null,null,null,null,null,null,null,null,5202,"придобиване на сгради",0,null,null,null,null,null,null,0,""]
[108,null,null,null,null,null,null,null,null,5203,"придобиване на друго оборудване, машини и съоръжения",0,null,null,null,null,null,null,0,""]
[109,null,null,null,null,null,null,null,null,5204,"придобиване на транспортни средства",0,null,null,null,null,null,null,0,""]
[110,null,null,null,null,null,null,null,null,5205,"придобиване на стопански инвентар",0,null,null,null,null,null,null,0,""]
[111,null,null,null,null,null,null,null,null,5206,"изграждане на инфраструктурни обекти",0,null,null,null,null,null,null,0,""]
[112,null,null,null,null,null,null,null,null,5219,"придобиване на други ДМА",0,null,null,null,null,null,null,0,""]
[113,null,null,null,null,null,null,null,5300,"Придобиване на нематериални дълготрайни активи",null,{"$f":"SUM(L128:L129)","v":0},0,0,{"$f":"SUM(O128:O129)","v":0},0,0,0,0,""]
[114,null,null,null,null,null,null,null,null,5301,"придобиване на програмни продукти и лицензи за програмни продукти",{"$f":"M128+N128+O128","v":0},null,null,null,null,null,null,{"$f":"P128+Q128+R128","v":0},""]
[115,null,null,null,null,null,null,null,null,5309,"придобиване на други нематериални дълготрайни активи",{"$f":"M129+N129+O129","v":0},null,null,null,null,null,null,{"$f":"P129+Q129+R129","v":0},""]
[116,null,null,null,null,null,null,null,5400,"Придобиване на земя",null,{"$f":"M130+N130+O130","v":0},null,null,null,null,null,null,{"$f":"P130+Q130+R130","v":0},""]
[117,null,null,null,null,null,null,null,5500,"Капиталови трансфери",null,{"$f":"SUM(L132:L135)","v":0},0,0,{"$f":"SUM(O132:O135)","v":0},0,0,0,0,""]
[118,null,null,null,null,null,null,null,null,5501,"капиталови трансфери за нефинансови предприятия",{"$f":"M132+N132+O132","v":0},null,null,null,null,null,null,{"$f":"P132+Q132+R132","v":0},""]
[119,null,null,null,null,null,null,null,null,5502,"капиталови трансфери за финансови институции",{"$f":"M133+N133+O133","v":0},null,null,null,null,null,null,{"$f":"P133+Q133+R133","v":0},""]
[120,null,null,null,null,null,null,null,null,5503,"капиталови трансфери за организации с нестопанска цел",{"$f":"M134+N134+O134","v":0},null,null,null,null,null,null,{"$f":"P134+Q134+R134","v":0},""]
[121,null,null,null,null,null,null,null,null,5504,"капиталови трансфери за домакинствата",{"$f":"M135+N135+O135","v":0},null,null,null,null,null,null,{"$f":"P135+Q135+R135","v":0},""]
[122,null,null,null,null,null,null,null,5700,"Прираст на държавния резерв и изкупуване на земеделска продукция (включва и § 40-71)",null,{"$f":"SUM(L137:L139)","v":0},0,0,0,0,0,0,{"$f":"SUM(S137:S139)","v":0},""]
[123,null,null,null,null,null,null,null,null,5701,"плащания за попълване на държавния резерв",{"$f":"M137+N137+O137","v":0},0,0,0,0,0,0,{"$f":"P137+Q137+R137","v":0},""]
[124,null,null,null,null,null,null,null,null,5702,"плащания за изкупуване на земеделска продукция",{"$f":"M138+N138+O138","v":0},0,0,0,0,0,0,{"$f":"P138+Q138+R138","v":0},""]
[125,null,null,null,null,null,null,null,null,4071,"постъпления от продажба на държавния резерв (-)",{"$f":"M139+N139+O139","v":0},0,0,0,0,0,0,{"$f":"P139+Q139+R139","v":0},""]
[126,null,null,null,null,null,null,null,null,"Резерв за непредвидени и неотложни разходи",null,null,null,null,null,null,null,null,null,""]
[127,null,null,null,null,null,null,null,98,"Резерв за непредвидени и неотложни разходи",null,{"$f":"M141+N141+O141","v":0},null,null,null,0,0,0,{"$f":"P141+Q141+R141","v":0},""]
[128,null,null,null,null,null,null,null,null,null,null,null,null,null,null,null,null,null,null,""]
[129,null,null,null,null,null,null,null,null,null,null,null,null,null,null,null,null,null,null,""]
[130,null,null,null,null,null,null,null,null,null,null,null,null,null,null,null,null,null,null,""]
[131,null,null,null,null,null,null,null,null,"99-99",{"$f":"+I145","v":0},{"$f":"SUM(L30,L33,L39,L47,L48,L66,L70,L76,L79,L80,L81,L82,L83,L92,L98,L99,L100,L101,L108,L112,L113,L114,L115,L118,L119,L127,L130,L131,L136)+L141","v":0},0,0,0,0,0,0,0,{"$f":"(IF($E145<>0,$M$2,IF($L145<>0,$M$2,\"\")))","v":""},{"$f":"LEFT(J27,1)","v":"0"}]
[132,null,null,null,null,null,null,null,"край на дейност",null,null,null,null,null,null,null,null,null,null,{"$f":"(IF($E145<>0,$M$2,IF($L145<>0,$M$2,\"\")))","v":""}]
[169,null,null,null,null,null,null,null,null,null,null,null,null,null,null,null,null,null,null,{"$f":"(IF($E145<>0,$M$2,IF($L145<>0,$M$2,\"\")))","v":""}]
[null,null,null,null,null,null,null,null,null,null,null,null,null,null,null,null,null,null,null,{"$f":"(IF(L143<>0,$G$2,IF(S143<>0,$G$2,\"\")))","v":""}]
[null,null,null,null,null,null,null,null,null,null,null,null,null,null,null,null,null,null,null,{"$f":"(IF(L144<>0,$G$2,IF(S144<>0,$G$2,\"\")))","v":""}]
[null,null,null,null,null,null,null,null,null,null,null,null,null,null,null,null,null,null,null,{"$f":"(IF(L145<>0,$G$2,IF(S145<>0,$G$2,\"\")))","v":""}]
[null,null,null,null,null,null,null,null,null,null,null,null,null,null,null,null,null,null,null,{"$f":"(IF(L145<>0,$G$2,IF(S145<>0,$G$2,\"\")))","v":""}]
[null,null,null,null,null,null,null,null,null,null,null,null,null,null,null,null,null,null,null,{"$f":"(IF(L145<>0,$G$2,IF(S145<>0,$G$2,\"\")))","v":""}]
[null,null,null,null,null,null,null,null,null,null,null,null,null,null,null,null,null,null,null,{"$f":"(IF(L145<>0,$G$2,IF(S145<>0,$G$2,\"\")))","v":""}]
[null,null,null,null,null,null,null,null,null,null,null,null,null,null,null,null,null,null,null,{"$f":"(IF(L145<>0,$G$2,IF(S145<>0,$G$2,\"\")))","v":""}]